{"text_format":"1","workbook":"xlsx","n_sheets":12,"sheets":["Титул.лист","Кухни","Столы","Шкафы","Пеналы","Ручки","Витраж","столешницы и т.д.","доп.хар+мойки","ПЛИНТУС KORNER","Материалы","ФРЕЗЕРОВКИ"],"not_rendered":{"charts":0,"images":332,"macros":1,"external_links":0,"defined_names":2,"comments":0,"pivot_tables":0},"unopened":[],"bounds":{"document_bytes":16777216,"sheet_cells":100000,"rows_first":2000,"rows_last":500,"rows_between":2000,"halvings":0,"cell_chars":16384,"cell_head_chars":4096},"cells_cut":0,"cells_raw":0,"read":"whole","date_system":"1900"}

{"sheet":"Титул.лист","index":0,"n_rows":15,"n_cols":16,"rows_kept":15,"cut":false,"hidden":false,"merged":[[14,0,15,5],[14,9,14,14],[11,0,11,5],[11,9,11,14],[12,0,12,5],[12,9,12,14],[13,9,13,14],[13,0,13,5],[4,9,4,14],[5,9,5,14],[10,9,10,14],[7,4,7,10],[8,0,8,5],[8,9,8,14],[9,0,9,5],[9,9,9,14],[10,0,10,5]]}
[0.1,null,null,null,null,null,null,null,null,"ООО Форт г.Ульяновск",null,null,null,null,null,"Наценка"]
[null,null,null,null,null,null,null,null,null,"14 Инженерный проезд, д.7а",null,null,null,null,null,0]
[null,null,null,null,null,null,null,null,null,"тел./факс:8 (8422) 24-94-54, 24-94-41"]
[null,null,null,null,null,null,null,null,null,"www.fort-mebel.ru"]
[null,null,null,null,null,null,null,null,null,"Ваши предложения и пожелания sinerkin@yandex.ru ",null,null,null,null,null,{"$f":"P2","v":0}]
[null,null,null,null,null,null,null,null,null,"8 917-050-76-70  Линда egorova@fort-mebel.ru"]
[]
[null,null,null,null,"Базовая коплектация:"]
["♦ Каркас из ламинированного ДСП оклеенный кромкой ПВХ 0,4 мм; (Белый, белое дерево,светло серый, венге светлый,",null,null,null,null,null,null,null,null,"♦ Столешница постформинг матовая 26мм 1 кат"]
["венге линум, венге светлый, бук бавария, ноче экко,\nясень шимо-темный, ясень шимо-светлый)",null,null,null,null,null,null,null,null,"♦ Стекло фасадное 4мм. "]
["♦ Фасад",null,null,null,null,null,null,null,null,"♦ Столы рабочие по каркасу 500мм+16мм фасад, ящики глубиной на 400мм"]
["♦ Облагороженное ДВП белого цвета;",null,null,null,null,null,null,null,null,"♦ Ручки Скоба 96 мм (золото,хром) или рейлинг 96 пластик;"]
["♦ Регулируемая опора пластиковая 100 мм (цоколь ЛДСП);",null,null,null,null,null,null,null,null,"♦ Регулируемые навесы ."]
["♦ Роликовые направляющие для выкатных ящиков или \nMeтабоксы;",null,null,null,null,null,null,null,null,"♦ Шкафы навесные глубиной по каркасу 300мм+16мм фасад ."]
["♦ Антресольные шкафы( Шкафы горизонтального открывания) \nкомплектуются газлифтами;"]

{"sheet":"Кухни","index":1,"n_rows":353,"n_cols":14,"rows_kept":353,"cut":false,"hidden":false,"merged":[[8,2,11,2],[8,4,11,4],[7,0,7,1],[109,0,109,1],[231,0,231,1],[8,0,11,0],[8,1,11,1]]}
["ООО Форт г.Ульяновск"]
["14 Инженерный проезд, д.7а"]
["тел./факс:8 (8422) 24-94-54, 24-94-41"]
["www.fort-mebel.ru"]
[{"$f":"Титул.лист!J5","v":"Ваши предложения и пожелания sinerkin@yandex.ru "}]
[{"$f":"Титул.лист!J6","v":"8 917-050-76-70  Линда egorova@fort-mebel.ru"}]
[null,null,null,null,null,"Кухонные гарнитуты НИКА"]
["Кухня",null,"Длина",null,"Размеры\nпозиций","ЛДСП \nПВХ 0,45мм","ЛДСП \nПВХ 2мм","Пластик 1к\nПВХ 0,45мм","Пластик 2к\nПВХ 0,45мм","Пластик 1к\nПВХ 2мм","Пластик 2к\nПВХ 2мм","МДФ\nматовый","МДФ\nглянец","МДФ\nметаллик"]
["Ника-1",null,"1,1м",null,"500+600",5740,6120,7410,8700,7790,9070,7430,7960,8170]
[null,null,null,null,null,{"$f":"F9+F9*Титул.лист!A1","v":6314},{"$f":"G9+G9*Титул.лист!A1","v":6732},{"$f":"H9+H9*Титул.лист!A1","v":8151},{"$f":"I9+I9*Титул.лист!A1","v":9570},{"$f":"J9+J9*Титул.лист!A1","v":8569},{"$f":"K9+K9*Титул.лист!A1","v":9977},{"$f":"L9+L9*Титул.лист!A1","v":8173},{"$f":"M9+M9*Титул.лист!A1","v":8756},{"$f":"N9+N9*Титул.лист!A1","v":8987}]
[null,null,null,{"$f":"A9&\", длина: \"&C9","v":"Ника-1, длина: 1,1м"},null,{"$f":"F10+F10*Титул.лист!P2","v":6314},{"$f":"G10+G10*Титул.лист!P2","v":6732},{"$f":"H10+H10*Титул.лист!P2","v":8151},{"$f":"I10+I10*Титул.лист!P2","v":9570},{"$f":"J10+J10*Титул.лист!P2","v":8569},{"$f":"K10+K10*Титул.лист!P2","v":9977},{"$f":"L10+L10*Титул.лист!P2","v":8173},{"$f":"M10+M10*Титул.лист!P2","v":8756},{"$f":"N10+N10*Титул.лист!P2","v":8987}]
[null,null,null,null,null,{"$f":"ROUND(F11,-1)","v":6310},{"$f":"ROUND(G11,-1)","v":6730},8150,9570,8570,9980,8170,8760,8990]
[null,null,null,null,null,6890,7330,8880,10410,9320,10850,8920,9550,9800]
[null,null,null,null,null,{"$f":"F13+F13*Титул.лист!A1","v":7579},{"$f":"G13+G13*Титул.лист!A1","v":8063},{"$f":"H13+H13*Титул.лист!A1","v":9768},{"$f":"I13+I13*Титул.лист!A1","v":11451},{"$f":"J13+J13*Титул.лист!A1","v":10252},{"$f":"K13+K13*Титул.лист!A1","v":11935},{"$f":"L13+L13*Титул.лист!A1","v":9812},{"$f":"M13+M13*Титул.лист!A1","v":10505},{"$f":"N13+N13*Титул.лист!A1","v":10780}]
[null,null,null,null,null,{"$f":"F14+F14*Титул.лист!P2","v":7579},{"$f":"G14+G14*Титул.лист!P2","v":8063},{"$f":"H14+H14*Титул.лист!P2","v":9768},{"$f":"I14+I14*Титул.лист!P2","v":11451},{"$f":"J14+J14*Титул.лист!P2","v":10252},{"$f":"K14+K14*Титул.лист!P2","v":11935},{"$f":"L14+L14*Титул.лист!P2","v":9812},{"$f":"M14+M14*Титул.лист!P2","v":10505},{"$f":"N14+N14*Титул.лист!P2","v":10780}]
["Ника-2",null,"1,3м",{"$f":"A16&\", длина: \"&C16","v":"Ника-2, длина: 1,3м"},"500+800",{"$f":"ROUND(F15,-1)","v":7580},{"$f":"ROUND(G15,-1)","v":8060},9770,11450,10250,11940,9810,10510,10780]
[null,null,null,null,null,8360,8880,10630,12380,11140,12890,10710,11450,11730]
[null,null,null,null,null,{"$f":"F17+F17*Титул.лист!A1","v":9196},{"$f":"G17+G17*Титул.лист!A1","v":9768},{"$f":"H17+H17*Титул.лист!A1","v":11693},{"$f":"I17+I17*Титул.лист!A1","v":13618},{"$f":"J17+J17*Титул.лист!A1","v":12254},{"$f":"K17+K17*Титул.лист!A1","v":14179},{"$f":"L17+L17*Титул.лист!A1","v":11781},{"$f":"M17+M17*Титул.лист!A1","v":12595},{"$f":"N17+N17*Титул.лист!A1","v":12903}]
[null,null,null,null,null,{"$f":"F18+F18*Титул.лист!P2","v":9196},{"$f":"G18+G18*Титул.лист!P2","v":9768},{"$f":"H18+H18*Титул.лист!P2","v":11693},{"$f":"I18+I18*Титул.лист!P2","v":13618},{"$f":"J18+J18*Титул.лист!P2","v":12254},{"$f":"K18+K18*Титул.лист!P2","v":14179},{"$f":"L18+L18*Титул.лист!P2","v":11781},{"$f":"M18+M18*Титул.лист!P2","v":12595},{"$f":"N18+N18*Титул.лист!P2","v":12903}]
["Ника-3",null,"1,5м",{"$f":"A20&\", длина: \"&C20","v":"Ника-3, длина: 1,5м"},"500+600+400",{"$f":"ROUND(F19,-1)","v":9200},{"$f":"ROUND(G19,-1)","v":9770},11690,13620,12250,14180,11780,12600,12900]
[null,null,null,null,null,9500,10090,12090,14080.000000000002,12670,14660,12210.000000000002,13040,13350]
[null,null,null,null,null,{"$f":"F21+F21*Титул.лист!A1","v":10450},{"$f":"G21+G21*Титул.лист!A1","v":11099},{"$f":"H21+H21*Титул.лист!A1","v":13299},{"$f":"I21+I21*Титул.лист!A1","v":15488.000000000002},{"$f":"J21+J21*Титул.лист!A1","v":13937},{"$f":"K21+K21*Титул.лист!A1","v":16126},{"$f":"L21+L21*Титул.лист!A1","v":13431.000000000002},{"$f":"M21+M21*Титул.лист!A1","v":14344},{"$f":"N21+N21*Титул.лист!A1","v":14685}]
[null,null,null,null,null,{"$f":"F22+F22*Титул.лист!P2","v":10450},{"$f":"G22+G22*Титул.лист!P2","v":11099},{"$f":"H22+H22*Титул.лист!P2","v":13299},{"$f":"I22+I22*Титул.лист!P2","v":15488.000000000002},{"$f":"J22+J22*Титул.лист!P2","v":13937},{"$f":"K22+K22*Титул.лист!P2","v":16126},{"$f":"L22+L22*Титул.лист!P2","v":13431.000000000002},{"$f":"M22+M22*Титул.лист!P2","v":14344},{"$f":"N22+N22*Титул.лист!P2","v":14685}]
["Ника-4",null,"1,7м",{"$f":"A24&\", длина: \"&C24","v":"Ника-4, длина: 1,7м"},"500+800+400",{"$f":"ROUND(F23,-1)","v":10450},{"$f":"ROUND(G23,-1)","v":11100},13300,15490,13940,16130,13430,14340,14690]
[null,null,null,null,null,5960,6390,7780,9160,8200,9580,7760,8350,8590]
[null,null,null,null,null,{"$f":"F25+F25*Титул.лист!A1","v":6556},{"$f":"G25+G25*Титул.лист!A1","v":7029},{"$f":"H25+H25*Титул.лист!A1","v":8558},{"$f":"I25+I25*Титул.лист!A1","v":10076},{"$f":"J25+J25*Титул.лист!A1","v":9020},{"$f":"K25+K25*Титул.лист!A1","v":10538},{"$f":"L25+L25*Титул.лист!A1","v":8536},{"$f":"M25+M25*Титул.лист!A1","v":9185},{"$f":"N25+N25*Титул.лист!A1","v":9449}]
[null,null,null,null,null,{"$f":"F26+F26*Титул.лист!P2","v":6556},{"$f":"G26+G26*Титул.лист!P2","v":7029},{"$f":"H26+H26*Титул.лист!P2","v":8558},{"$f":"I26+I26*Титул.лист!P2","v":10076},{"$f":"J26+J26*Титул.лист!P2","v":9020},{"$f":"K26+K26*Титул.лист!P2","v":10538},{"$f":"L26+L26*Титул.лист!P2","v":8536},{"$f":"M26+M26*Титул.лист!P2","v":9185},{"$f":"N26+N26*Титул.лист!P2","v":9449}]
["Ника-5",null,"1,2м",{"$f":"A28&\", длина: \"&C28","v":"Ника-5, длина: 1,2м"},"600+600",{"$f":"ROUND(F27,-1)","v":6560},{"$f":"ROUND(G27,-1)","v":7030},8560,10080,9020,10540,8540,9190,9450]
[null,null,null,null,null,7160,7689.0000000000009,9295,10920,9810,11440.000000000002,9300,9980,10260]
[null,null,null,null,null,{"$f":"F29+F29*Титул.лист!A1","v":7876},{"$f":"G29+G29*Титул.лист!A1","v":8457.9000000000015},{"$f":"H29+H29*Титул.лист!A1","v":10224.5},{"$f":"I29+I29*Титул.лист!A1","v":12012},{"$f":"J29+J29*Титул.лист!A1","v":10791},{"$f":"K29+K29*Титул.лист!A1","v":12584.000000000002},{"$f":"L29+L29*Титул.лист!A1","v":10230},{"$f":"M29+M29*Титул.лист!A1","v":10978},{"$f":"N29+N29*Титул.лист!A1","v":11286}]
[null,null,null,null,null,{"$f":"F30+F30*Титул.лист!P2","v":7876},{"$f":"G30+G30*Титул.лист!P2","v":8457.9000000000015},{"$f":"H30+H30*Титул.лист!P2","v":10224.5},{"$f":"I30+I30*Титул.лист!P2","v":12012},{"$f":"J30+J30*Титул.лист!P2","v":10791},{"$f":"K30+K30*Титул.лист!P2","v":12584.000000000002},{"$f":"L30+L30*Титул.лист!P2","v":10230},{"$f":"M30+M30*Титул.лист!P2","v":10978},{"$f":"N30+N30*Титул.лист!P2","v":11286}]
["Ника-6",null,"1,4м",{"$f":"A32&\", длина: \"&C32","v":"Ника-6, длина: 1,4м"},"600+800",{"$f":"ROUND(F31,-1)","v":7880},{"$f":"ROUND(G31,-1)","v":8460},10220,12010,10790,12580,10230,10980,11290]
[null,null,null,null,null,8635,9240,11040,12890,11640,13490,11088,11880.000000000002,12190]
[null,null,null,null,null,{"$f":"F33+F33*Титул.лист!A1","v":9498.5},{"$f":"G33+G33*Титул.лист!A1","v":10164},{"$f":"H33+H33*Титул.лист!A1","v":12144},{"$f":"I33+I33*Титул.лист!A1","v":14179},{"$f":"J33+J33*Титул.лист!A1","v":12804},{"$f":"K33+K33*Титул.лист!A1","v":14839},{"$f":"L33+L33*Титул.лист!A1","v":12196.8},{"$f":"M33+M33*Титул.лист!A1","v":13068.000000000002},{"$f":"N33+N33*Титул.лист!A1","v":13409}]
[null,null,null,null,null,{"$f":"F34+F34*Титул.лист!P2","v":9498.5},{"$f":"G34+G34*Титул.лист!P2","v":10164},{"$f":"H34+H34*Титул.лист!P2","v":12144},{"$f":"I34+I34*Титул.лист!P2","v":14179},{"$f":"J34+J34*Титул.лист!P2","v":12804},{"$f":"K34+K34*Титул.лист!P2","v":14839},{"$f":"L34+L34*Титул.лист!P2","v":12196.8},{"$f":"M34+M34*Титул.лист!P2","v":13068.000000000002},{"$f":"N34+N34*Титул.лист!P2","v":13409}]
["Ника-7",null,"1,6м",{"$f":"A36&\", длина: \"&C36","v":"Ника-7, длина: 1,6м"},"600+600+400",{"$f":"ROUND(F35,-1)","v":9500},{"$f":"ROUND(G35,-1)","v":10160},12140,14180,12800,14840,12200,13070,13410]
[null,null,null,null,null,9779,10450,12510,14600,13170,15260,12580,13460,13820]
[null,null,null,null,null,{"$f":"F37+F37*Титул.лист!A1","v":10756.9},{"$f":"G37+G37*Титул.лист!A1","v":11495},{"$f":"H37+H37*Титул.лист!A1","v":13761},{"$f":"I37+I37*Титул.лист!A1","v":16060},{"$f":"J37+J37*Титул.лист!A1","v":14487},{"$f":"K37+K37*Титул.лист!A1","v":16786},{"$f":"L37+L37*Титул.лист!A1","v":13838},{"$f":"M37+M37*Титул.лист!A1","v":14806},{"$f":"N37+N37*Титул.лист!A1","v":15202}]
[null,null,null,null,null,{"$f":"F38+F38*Титул.лист!P2","v":10756.9},{"$f":"G38+G38*Титул.лист!P2","v":11495},{"$f":"H38+H38*Титул.лист!P2","v":13761},{"$f":"I38+I38*Титул.лист!P2","v":16060},{"$f":"J38+J38*Титул.лист!P2","v":14487},{"$f":"K38+K38*Титул.лист!P2","v":16786},{"$f":"L38+L38*Титул.лист!P2","v":13838},{"$f":"M38+M38*Титул.лист!P2","v":14806},{"$f":"N38+N38*Титул.лист!P2","v":15202}]
["Ника-8",null,"1,8м",{"$f":"A40&\", длина: \"&C40","v":"Ника-8, длина: 1,8м"},"600+800+400",{"$f":"ROUND(F39,-1)","v":10760},{"$f":"ROUND(G39,-1)","v":11500},13760,16060,14490,16790,13840,14810,15200]
[null,null,null,null,null,6358.0000000000009,6831.0000000000009,8490,10130,8960,10600,8510,9190,9480]
[null,null,null,null,null,{"$f":"F41+F41*Титул.лист!A1","v":6993.8000000000011},{"$f":"G41+G41*Титул.лист!A1","v":7514.1000000000013},{"$f":"H41+H41*Титул.лист!A1","v":9339},{"$f":"I41+I41*Титул.лист!A1","v":11143},{"$f":"J41+J41*Титул.лист!A1","v":9856},{"$f":"K41+K41*Титул.лист!A1","v":11660},{"$f":"L41+L41*Титул.лист!A1","v":9361},{"$f":"M41+M41*Титул.лист!A1","v":10109},{"$f":"N41+N41*Титул.лист!A1","v":10428}]
[null,null,null,null,null,{"$f":"F42+F42*Титул.лист!P2","v":6993.8000000000011},{"$f":"G42+G42*Титул.лист!P2","v":7514.1000000000013},{"$f":"H42+H42*Титул.лист!P2","v":9339},{"$f":"I42+I42*Титул.лист!P2","v":11143},{"$f":"J42+J42*Титул.лист!P2","v":9856},{"$f":"K42+K42*Титул.лист!P2","v":11660},{"$f":"L42+L42*Титул.лист!P2","v":9361},{"$f":"M42+M42*Титул.лист!P2","v":10109},{"$f":"N42+N42*Титул.лист!P2","v":10428}]
["Ника-9",null,"1,4м",{"$f":"A44&\", длина: \"&C44","v":"Ника-9, длина: 1,4м"},"800+600",{"$f":"ROUND(F43,-1)","v":6990},{"$f":"ROUND(G43,-1)","v":7510},9340,11140,9860,11660,9360,10110,10430]
[null,null,null,null,null,7500,8040,9950,11840,10490,12380,10010,10770,11110]
[null,null,null,null,null,{"$f":"F45+F45*Титул.лист!A1","v":8250},{"$f":"G45+G45*Титул.лист!A1","v":8844},{"$f":"H45+H45*Титул.лист!A1","v":10945},{"$f":"I45+I45*Титул.лист!A1","v":13024},{"$f":"J45+J45*Титул.лист!A1","v":11539},{"$f":"K45+K45*Титул.лист!A1","v":13618},{"$f":"L45+L45*Титул.лист!A1","v":11011},{"$f":"M45+M45*Титул.лист!A1","v":11847},{"$f":"N45+N45*Титул.лист!A1","v":12221}]
[null,null,null,null,null,{"$f":"F46+F46*Титул.лист!P2","v":8250},{"$f":"G46+G46*Титул.лист!P2","v":8844},{"$f":"H46+H46*Титул.лист!P2","v":10945},{"$f":"I46+I46*Титул.лист!P2","v":13024},{"$f":"J46+J46*Титул.лист!P2","v":11539},{"$f":"K46+K46*Титул.лист!P2","v":13618},{"$f":"L46+L46*Титул.лист!P2","v":11011},{"$f":"M46+M46*Титул.лист!P2","v":11847},{"$f":"N46+N46*Титул.лист!P2","v":12221}]
["Ника-10",null,"1,6м",{"$f":"A48&\", длина: \"&C48","v":"Ника-10, длина: 1,6м"},"800+800",{"$f":"ROUND(F47,-1)","v":8250},{"$f":"ROUND(G47,-1)","v":8840},10950,13020,11540,13620,11010,11850,12220]
[null,null,null,null,null,8900,9490,11640,13730,12230,14320,11740,12620,12970]
[null,null,null,null,null,{"$f":"F49+F49*Титул.лист!A1","v":9790},{"$f":"G49+G49*Титул.лист!A1","v":10439},{"$f":"H49+H49*Титул.лист!A1","v":12804},{"$f":"I49+I49*Титул.лист!A1","v":15103},{"$f":"J49+J49*Титул.лист!A1","v":13453},{"$f":"K49+K49*Титул.лист!A1","v":15752},{"$f":"L49+L49*Титул.лист!A1","v":12914},{"$f":"M49+M49*Титул.лист!A1","v":13882},{"$f":"N49+N49*Титул.лист!A1","v":14267}]
[null,null,null,null,null,{"$f":"F50+F50*Титул.лист!P2","v":9790},{"$f":"G50+G50*Титул.лист!P2","v":10439},{"$f":"H50+H50*Титул.лист!P2","v":12804},{"$f":"I50+I50*Титул.лист!P2","v":15103},{"$f":"J50+J50*Титул.лист!P2","v":13453},{"$f":"K50+K50*Титул.лист!P2","v":15752},{"$f":"L50+L50*Титул.лист!P2","v":12914},{"$f":"M50+M50*Титул.лист!P2","v":13882},{"$f":"N50+N50*Титул.лист!P2","v":14267}]
["Ника-11",null,"1,8м",{"$f":"A52&\", длина: \"&C52","v":"Ника-11, длина: 1,8м"},"800+600+400",{"$f":"ROUND(F51,-1)","v":9790},{"$f":"ROUND(G51,-1)","v":10440},12800,15100,13450,15750,12910,13880,14270]
[null,null,null,null,null,10120,10800,13170,15510.000000000002,13850,16190,13300,14260,14660]
[null,null,null,null,null,{"$f":"F53+F53*Титул.лист!A1","v":11132},{"$f":"G53+G53*Титул.лист!A1","v":11880},{"$f":"H53+H53*Титул.лист!A1","v":14487},{"$f":"I53+I53*Титул.лист!A1","v":17061.000000000004},{"$f":"J53+J53*Титул.лист!A1","v":15235},{"$f":"K53+K53*Титул.лист!A1","v":17809},{"$f":"L53+L53*Титул.лист!A1","v":14630},{"$f":"M53+M53*Титул.лист!A1","v":15686},{"$f":"N53+N53*Титул.лист!A1","v":16126}]
[null,null,null,null,null,{"$f":"F54+F54*Титул.лист!P2","v":11132},{"$f":"G54+G54*Титул.лист!P2","v":11880},{"$f":"H54+H54*Титул.лист!P2","v":14487},{"$f":"I54+I54*Титул.лист!P2","v":17061.000000000004},{"$f":"J54+J54*Титул.лист!P2","v":15235},{"$f":"K54+K54*Титул.лист!P2","v":17809},{"$f":"L54+L54*Титул.лист!P2","v":14630},{"$f":"M54+M54*Титул.лист!P2","v":15686},{"$f":"N54+N54*Титул.лист!P2","v":16126}]
["Ника-12",null,"2м",{"$f":"A56&\", длина: \"&C56","v":"Ника-12, длина: 2м"},"800+800+400",{"$f":"ROUND(F55,-1)","v":11130},{"$f":"ROUND(G55,-1)","v":11880},14490,17060,15240,17810,14630,15690,16130]
[null,null,null,null,null,11220,12000,14510,17040,15290.000000000002,17820,14560,15590,16040]
[null,null,null,null,null,{"$f":"F57+F57*Титул.лист!A1","v":12342},{"$f":"G57+G57*Титул.лист!A1","v":13200},{"$f":"H57+H57*Титул.лист!A1","v":15961},{"$f":"I57+I57*Титул.лист!A1","v":18744},{"$f":"J57+J57*Титул.лист!A1","v":16819.000000000004},{"$f":"K57+K57*Титул.лист!A1","v":19602},{"$f":"L57+L57*Титул.лист!A1","v":16016},{"$f":"M57+M57*Титул.лист!A1","v":17149},{"$f":"N57+N57*Титул.лист!A1","v":17644}]
[null,null,null,null,null,{"$f":"F58+F58*Титул.лист!P2","v":12342},{"$f":"G58+G58*Титул.лист!P2","v":13200},{"$f":"H58+H58*Титул.лист!P2","v":15961},{"$f":"I58+I58*Титул.лист!P2","v":18744},{"$f":"J58+J58*Титул.лист!P2","v":16819.000000000004},{"$f":"K58+K58*Титул.лист!P2","v":19602},{"$f":"L58+L58*Титул.лист!P2","v":16016},{"$f":"M58+M58*Титул.лист!P2","v":17149},{"$f":"N58+N58*Титул.лист!P2","v":17644}]
["Ника-13",null,"2м",{"$f":"A60&\", длина: \"&C60","v":"Ника-13, длина: 2м"},"800+800+400",{"$f":"ROUND(F59,-1)","v":12340},{"$f":"ROUND(G59,-1)","v":13200},15960,18740,16820,19600,16020,17150,17640]
[null,null,null,null,null,11140,11920,14450,17000,15240,17780,14450,15490,15940]
[null,null,null,null,null,{"$f":"F61+F61*Титул.лист!A1","v":12254},{"$f":"G61+G61*Титул.лист!A1","v":13112},{"$f":"H61+H61*Титул.лист!A1","v":15895},{"$f":"I61+I61*Титул.лист!A1","v":18700},{"$f":"J61+J61*Титул.лист!A1","v":16764},{"$f":"K61+K61*Титул.лист!A1","v":19558},{"$f":"L61+L61*Титул.лист!A1","v":15895},{"$f":"M61+M61*Титул.лист!A1","v":17039},{"$f":"N61+N61*Титул.лист!A1","v":17534}]
[null,null,null,null,null,{"$f":"F62+F62*Титул.лист!P2","v":12254},{"$f":"G62+G62*Титул.лист!P2","v":13112},{"$f":"H62+H62*Титул.лист!P2","v":15895},{"$f":"I62+I62*Титул.лист!P2","v":18700},{"$f":"J62+J62*Титул.лист!P2","v":16764},{"$f":"K62+K62*Титул.лист!P2","v":19558},{"$f":"L62+L62*Титул.лист!P2","v":15895},{"$f":"M62+M62*Титул.лист!P2","v":17039},{"$f":"N62+N62*Титул.лист!P2","v":17534}]
["Ника-14",null,"2м",{"$f":"A64&\", длина: \"&C64","v":"Ника-14, длина: 2м"},"800+800+400",{"$f":"ROUND(F63,-1)","v":12250},{"$f":"ROUND(G63,-1)","v":13110},15900,18700,16760,19560,15900,17040,17530]
[null,null,null,null,null,11980,12780,15660,18480,16470,19280,15810,16950,17460]
[null,null,null,null,null,{"$f":"F65+F65*Титул.лист!A1","v":13178},{"$f":"G65+G65*Титул.лист!A1","v":14058},{"$f":"H65+H65*Титул.лист!A1","v":17226},{"$f":"I65+I65*Титул.лист!A1","v":20328},{"$f":"J65+J65*Титул.лист!A1","v":18117},{"$f":"K65+K65*Титул.лист!A1","v":21208},{"$f":"L65+L65*Титул.лист!A1","v":17391},{"$f":"M65+M65*Титул.лист!A1","v":18645},{"$f":"N65+N65*Титул.лист!A1","v":19206}]
[null,null,null,null,null,{"$f":"F66+F66*Титул.лист!P2","v":13178},{"$f":"G66+G66*Титул.лист!P2","v":14058},{"$f":"H66+H66*Титул.лист!P2","v":17226},{"$f":"I66+I66*Титул.лист!P2","v":20328},{"$f":"J66+J66*Титул.лист!P2","v":18117},{"$f":"K66+K66*Титул.лист!P2","v":21208},{"$f":"L66+L66*Титул.лист!P2","v":17391},{"$f":"M66+M66*Титул.лист!P2","v":18645},{"$f":"N66+N66*Титул.лист!P2","v":19206}]
["Ника-15",null,"2,4м",{"$f":"A69&\", длина: \"&C68","v":", длина: 2,4м"},"800+800+800",{"$f":"ROUND(F67,-1)","v":13180},{"$f":"ROUND(G67,-1)","v":14060},17230,20330,18120,21210,17390,18650,19210]
[null,null,null,null,null,12740,13560,16379.000000000002,19180,17200,20010,16590,17740,18220]
[null,null,null,null,null,{"$f":"F69+F69*Титул.лист!A1","v":14014},{"$f":"G69+G69*Титул.лист!A1","v":14916},{"$f":"H69+H69*Титул.лист!A1","v":18016.900000000001},{"$f":"I69+I69*Титул.лист!A1","v":21098},{"$f":"J69+J69*Титул.лист!A1","v":18920},{"$f":"K69+K69*Титул.лист!A1","v":22011},{"$f":"L69+L69*Титул.лист!A1","v":18249},{"$f":"M69+M69*Титул.лист!A1","v":19514},{"$f":"N69+N69*Титул.лист!A1","v":20042}]
[null,null,null,null,null,{"$f":"F70+F70*Титул.лист!P2","v":14014},{"$f":"G70+G70*Титул.лист!P2","v":14916},{"$f":"H70+H70*Титул.лист!P2","v":18016.900000000001},{"$f":"I70+I70*Титул.лист!P2","v":21098},{"$f":"J70+J70*Титул.лист!P2","v":18920},{"$f":"K70+K70*Титул.лист!P2","v":22011},{"$f":"L70+L70*Титул.лист!P2","v":18249},{"$f":"M70+M70*Титул.лист!P2","v":19514},{"$f":"N70+N70*Титул.лист!P2","v":20042}]
["Ника-16",null,"2,4м",{"$f":"A72&\", длина: \"&C72","v":"Ника-16, длина: 2,4м"},"800+800+400+400",{"$f":"ROUND(F71,-1)","v":14010},{"$f":"ROUND(G71,-1)","v":14920},18020,21100,18920,22010,18250,19510,20040]
[null,null,null,null,null,13840,14760,17720,20710,18650,21640,17850,19070,19590]
[null,null,null,null,null,{"$f":"F73+F73*Титул.лист!A1","v":15224},{"$f":"G73+G73*Титул.лист!A1","v":16236},{"$f":"H73+H73*Титул.лист!A1","v":19492},{"$f":"I73+I73*Титул.лист!A1","v":22781},{"$f":"J73+J73*Титул.лист!A1","v":20515},{"$f":"K73+K73*Титул.лист!A1","v":23804},{"$f":"L73+L73*Титул.лист!A1","v":19635},{"$f":"M73+M73*Титул.лист!A1","v":20977},{"$f":"N73+N73*Титул.лист!A1","v":21549}]
[null,null,null,null,null,{"$f":"F74+F74*Титул.лист!P2","v":15224},{"$f":"G74+G74*Титул.лист!P2","v":16236},{"$f":"H74+H74*Титул.лист!P2","v":19492},{"$f":"I74+I74*Титул.лист!P2","v":22781},{"$f":"J74+J74*Титул.лист!P2","v":20515},{"$f":"K74+K74*Титул.лист!P2","v":23804},{"$f":"L74+L74*Титул.лист!P2","v":19635},{"$f":"M74+M74*Титул.лист!P2","v":20977},{"$f":"N74+N74*Титул.лист!P2","v":21549}]
["Ника-17",null,"2,4м",{"$f":"A76&\", длина: \"&C76","v":"Ника-17, длина: 2,4м"},"800+800+400+400",{"$f":"ROUND(F75,-1)","v":15220},{"$f":"ROUND(G75,-1)","v":16240},19490,22780,20520,23800,19640,20980,21550]
[null,null,null,null,null,13760,14690,17670,20670,18590,21590,17740,18975,19490]
[null,null,null,null,null,{"$f":"F77+F77*Титул.лист!A1","v":15136},{"$f":"G77+G77*Титул.лист!A1","v":16159},{"$f":"H77+H77*Титул.лист!A1","v":19437},{"$f":"I77+I77*Титул.лист!A1","v":22737},{"$f":"J77+J77*Титул.лист!A1","v":20449},{"$f":"K77+K77*Титул.лист!A1","v":23749},{"$f":"L77+L77*Титул.лист!A1","v":19514},{"$f":"M77+M77*Титул.лист!A1","v":20872.5},{"$f":"N77+N77*Титул.лист!A1","v":21439}]
[null,null,null,null,null,{"$f":"F78+F78*Титул.лист!P2","v":15136},{"$f":"G78+G78*Титул.лист!P2","v":16159},{"$f":"H78+H78*Титул.лист!P2","v":19437},{"$f":"I78+I78*Титул.лист!P2","v":22737},{"$f":"J78+J78*Титул.лист!P2","v":20449},{"$f":"K78+K78*Титул.лист!P2","v":23749},{"$f":"L78+L78*Титул.лист!P2","v":19514},{"$f":"M78+M78*Титул.лист!P2","v":20872.5},{"$f":"N78+N78*Титул.лист!P2","v":21439}]
["Ника-18",null,"2,4м",{"$f":"A80&\", длина: \"&C80","v":"Ника-18, длина: 2,4м"},"800+800+400+400",{"$f":"ROUND(F79,-1)","v":15140},{"$f":"ROUND(G79,-1)","v":16160},19440,22740,20450,23750,19510,20870,21440]
[null,null,null,null,null,9170,9830,11910,13980,12560,14630.000000000002,11920,12830,13180]
[null,null,null,null,null,{"$f":"F81+F81*Титул.лист!A1","v":10087},{"$f":"G81+G81*Титул.лист!A1","v":10813},{"$f":"H81+H81*Титул.лист!A1","v":13101},{"$f":"I81+I81*Титул.лист!A1","v":15378},{"$f":"J81+J81*Титул.лист!A1","v":13816},{"$f":"K81+K81*Титул.лист!A1","v":16093.000000000002},{"$f":"L81+L81*Титул.лист!A1","v":13112},{"$f":"M81+M81*Титул.лист!A1","v":14113},{"$f":"N81+N81*Титул.лист!A1","v":14498}]
[null,null,null,null,null,{"$f":"F82+F82*Титул.лист!P2","v":10087},{"$f":"G82+G82*Титул.лист!P2","v":10813},{"$f":"H82+H82*Титул.лист!P2","v":13101},{"$f":"I82+I82*Титул.лист!P2","v":15378},{"$f":"J82+J82*Титул.лист!P2","v":13816},{"$f":"K82+K82*Титул.лист!P2","v":16093.000000000002},{"$f":"L82+L82*Титул.лист!P2","v":13112},{"$f":"M82+M82*Титул.лист!P2","v":14113},{"$f":"N82+N82*Титул.лист!P2","v":14498}]
["Ника-19",null,"1,8м",{"$f":"A84&\", длина: \"&C84","v":"Ника-19, длина: 1,8м"},"600+600+600",{"$f":"ROUND(F83,-1)","v":10090},{"$f":"ROUND(G83,-1)","v":10810},13100,15380,13820,16090,13110,14110,14500]
[null,null,null,null,null,10160,10810,13210,15550,13860.000000000002,16203.000000000002,13330,14290,14700]
[null,null,null,null,null,{"$f":"F85+F85*Титул.лист!A1","v":11176},{"$f":"G85+G85*Титул.лист!A1","v":11891},{"$f":"H85+H85*Титул.лист!A1","v":14531},{"$f":"I85+I85*Титул.лист!A1","v":17105},{"$f":"J85+J85*Титул.лист!A1","v":15246.000000000002},{"$f":"K85+K85*Титул.лист!A1","v":17823.300000000003},{"$f":"L85+L85*Титул.лист!A1","v":14663},{"$f":"M85+M85*Титул.лист!A1","v":15719},{"$f":"N85+N85*Титул.лист!A1","v":16170}]
[null,null,null,null,null,{"$f":"F86+F86*Титул.лист!P2","v":11176},{"$f":"G86+G86*Титул.лист!P2","v":11891},{"$f":"H86+H86*Титул.лист!P2","v":14531},{"$f":"I86+I86*Титул.лист!P2","v":17105},{"$f":"J86+J86*Титул.лист!P2","v":15246.000000000002},{"$f":"K86+K86*Титул.лист!P2","v":17823.300000000003},{"$f":"L86+L86*Титул.лист!P2","v":14663},{"$f":"M86+M86*Титул.лист!P2","v":15719},{"$f":"N86+N86*Титул.лист!P2","v":16170}]
["Ника-20",null,"2м",{"$f":"A88&\", длина: \"&C88","v":"Ника-20, длина: 2м"},"800+800+400",{"$f":"ROUND(F87,-1)","v":11180},{"$f":"ROUND(G87,-1)","v":11890},14530,17110,15250,17820,14660,15720,16170]
[null,null,null,null,null,13240,13730,15320,16930,15810,17410,15400.000000000002,16080,16350]
[null,null,null,null,null,{"$f":"F89+F89*Титул.лист!A1","v":14564},{"$f":"G89+G89*Титул.лист!A1","v":15103},{"$f":"H89+H89*Титул.лист!A1","v":16852},{"$f":"I89+I89*Титул.лист!A1","v":18623},{"$f":"J89+J89*Титул.лист!A1","v":17391},{"$f":"K89+K89*Титул.лист!A1","v":19151},{"$f":"L89+L89*Титул.лист!A1","v":16940.000000000004},{"$f":"M89+M89*Титул.лист!A1","v":17688},{"$f":"N89+N89*Титул.лист!A1","v":17985}]
[null,null,null,null,null,{"$f":"F90+F90*Титул.лист!P2","v":14564},{"$f":"G90+G90*Титул.лист!P2","v":15103},{"$f":"H90+H90*Титул.лист!P2","v":16852},{"$f":"I90+I90*Титул.лист!P2","v":18623},{"$f":"J90+J90*Титул.лист!P2","v":17391},{"$f":"K90+K90*Титул.лист!P2","v":19151},{"$f":"L90+L90*Титул.лист!P2","v":16940.000000000004},{"$f":"M90+M90*Титул.лист!P2","v":17688},{"$f":"N90+N90*Титул.лист!P2","v":17985}]
["Ника-21",null,"1,5х1,4",{"$f":"A92&\", длина: \"&C92","v":"Ника-21, длина: 1,5х1,4"},"300+400+800х800+600\n(300+400+200+\n600х600+200+600)",{"$f":"ROUND(F91,-1)","v":14560},{"$f":"ROUND(G91,-1)","v":15100},16850,18620,17390,19150,16940,17690,17990]
[null,null,null,null,null,11670,12150,13750.000000000002,15360,14230,15840.000000000002,13830,14509.000000000002,14770]
[null,null,null,null,null,{"$f":"F93+F93*Титул.лист!A1","v":12837},{"$f":"G93+G93*Титул.лист!A1","v":13365},{"$f":"H93+H93*Титул.лист!A1","v":15125.000000000002},{"$f":"I93+I93*Титул.лист!A1","v":16896},{"$f":"J93+J93*Титул.лист!A1","v":15653},{"$f":"K93+K93*Титул.лист!A1","v":17424.000000000004},{"$f":"L93+L93*Титул.лист!A1","v":15213},{"$f":"M93+M93*Титул.лист!A1","v":15959.900000000001},{"$f":"N93+N93*Титул.лист!A1","v":16247}]
[null,null,null,null,null,{"$f":"F94+F94*Титул.лист!P2","v":12837},{"$f":"G94+G94*Титул.лист!P2","v":13365},{"$f":"H94+H94*Титул.лист!P2","v":15125.000000000002},{"$f":"I94+I94*Титул.лист!P2","v":16896},{"$f":"J94+J94*Титул.лист!P2","v":15653},{"$f":"K94+K94*Титул.лист!P2","v":17424.000000000004},{"$f":"L94+L94*Титул.лист!P2","v":15213},{"$f":"M94+M94*Титул.лист!P2","v":15959.900000000001},{"$f":"N94+N94*Титул.лист!P2","v":16247}]
["Ника-21/1",null,"1,2х1,4",{"$f":"A96&\", длина: \"&C96","v":"Ника-21/1, длина: 1,2х1,4"},"400+800х800+600\n(400+200+600х600\n+200+600)",{"$f":"ROUND(F95,-1)","v":12840},{"$f":"ROUND(G95,-1)","v":13370},15130,16900,15650,17420,15210,15960,16250]
[null,null,null,null,null,13680,14290,16140,18020,16740,18620,16060.000000000002,16863,17180]
[null,null,null,null,null,{"$f":"F97+F97*Титул.лист!A1","v":15048},{"$f":"G97+G97*Титул.лист!A1","v":15719},{"$f":"H97+H97*Титул.лист!A1","v":17754},{"$f":"I97+I97*Титул.лист!A1","v":19822},{"$f":"J97+J97*Титул.лист!A1","v":18414},{"$f":"K97+K97*Титул.лист!A1","v":20482},{"$f":"L97+L97*Титул.лист!A1","v":17666.000000000004},{"$f":"M97+M97*Титул.лист!A1","v":18549.3},{"$f":"N97+N97*Титул.лист!A1","v":18898}]
[null,null,null,null,null,{"$f":"F98+F98*Титул.лист!P2","v":15048},{"$f":"G98+G98*Титул.лист!P2","v":15719},{"$f":"H98+H98*Титул.лист!P2","v":17754},{"$f":"I98+I98*Титул.лист!P2","v":19822},{"$f":"J98+J98*Титул.лист!P2","v":18414},{"$f":"K98+K98*Титул.лист!P2","v":20482},{"$f":"L98+L98*Титул.лист!P2","v":17666.000000000004},{"$f":"M98+M98*Титул.лист!P2","v":18549.3},{"$f":"N98+N98*Титул.лист!P2","v":18898}]
["Ника-22",null,"1,5х1,4",{"$f":"A100&\", длина: \"&C100","v":"Ника-22, длина: 1,5х1,4"},"300+400+800х800+600\n(300+400+300+\n500х500+300+600)",{"$f":"ROUND(F99,-1)","v":15050},{"$f":"ROUND(G99,-1)","v":15720},17750,19820,18410,20480,17670,18550,18900]
[null,null,null,null,null,12110,12720,14560,16440,15170,17050,14490,15290.000000000002,15610]
[null,null,null,null,null,{"$f":"F101+F101*Титул.лист!A1","v":13321},{"$f":"G101+G101*Титул.лист!A1","v":13992},{"$f":"H101+H101*Титул.лист!A1","v":16016},{"$f":"I101+I101*Титул.лист!A1","v":18084},{"$f":"J101+J101*Титул.лист!A1","v":16687},{"$f":"K101+K101*Титул.лист!A1","v":18755},{"$f":"L101+L101*Титул.лист!A1","v":15939},{"$f":"M101+M101*Титул.лист!A1","v":16819.000000000004},{"$f":"N101+N101*Титул.лист!A1","v":17171}]
[null,null,null,null,null,{"$f":"F102+F102*Титул.лист!P2","v":13321},{"$f":"G102+G102*Титул.лист!P2","v":13992},{"$f":"H102+H102*Титул.лист!P2","v":16016},{"$f":"I102+I102*Титул.лист!P2","v":18084},{"$f":"J102+J102*Титул.лист!P2","v":16687},{"$f":"K102+K102*Титул.лист!P2","v":18755},{"$f":"L102+L102*Титул.лист!P2","v":15939},{"$f":"M102+M102*Титул.лист!P2","v":16819.000000000004},{"$f":"N102+N102*Титул.лист!P2","v":17171}]
["Ника-22/1",null,"1,2х1,4",{"$f":"A104&\", длина: \"&C104","v":"Ника-22/1, длина: 1,2х1,4"},"400+800х800+600\n(400+300+500х500+\n300+600)",{"$f":"ROUND(F103,-1)","v":13320},{"$f":"ROUND(G103,-1)","v":13990},16020,18080,16690,18760,15940,16820,17170]
[null,null,null,null,null,13590,14480,17540,20580,18440,21470,17720,18975,19500]
[null,null,null,null,null,{"$f":"F105+F105*Титул.лист!A1","v":14949},{"$f":"G105+G105*Титул.лист!A1","v":15928},{"$f":"H105+H105*Титул.лист!A1","v":19294},{"$f":"I105+I105*Титул.лист!A1","v":22638},{"$f":"J105+J105*Титул.лист!A1","v":20284},{"$f":"K105+K105*Титул.лист!A1","v":23617},{"$f":"L105+L105*Титул.лист!A1","v":19492},{"$f":"M105+M105*Титул.лист!A1","v":20872.5},{"$f":"N105+N105*Титул.лист!A1","v":21450}]
[null,null,null,null,null,{"$f":"F106+F106*Титул.лист!P2","v":14949},{"$f":"G106+G106*Титул.лист!P2","v":15928},{"$f":"H106+H106*Титул.лист!P2","v":19294},{"$f":"I106+I106*Титул.лист!P2","v":22638},{"$f":"J106+J106*Титул.лист!P2","v":20284},{"$f":"K106+K106*Титул.лист!P2","v":23617},{"$f":"L106+L106*Титул.лист!P2","v":19492},{"$f":"M106+M106*Титул.лист!P2","v":20872.5},{"$f":"N106+N106*Титул.лист!P2","v":21450}]
["Ника-26",null,"2,6м",{"$f":"A108&\", длина: \"&C108","v":"Ника-26, длина: 2,6м"},"800+800+600+400",{"$f":"ROUND(F107,-1)","v":14950},{"$f":"ROUND(G107,-1)","v":15930},19290,22640,20280,23620,19490,20870,21450]
[null,null,null,null,null,"Кухонные гарнитуры СИБЕРИЯ"]
["Кухня",null,"Длина",null,"Размеры\nпозиций","ЛДСП\nПВХ 0,45мм","ЛДСП\nПВХ 2мм","Пластик 1к\nПВХ 0,45мм","Пластик 2к\nПВХ 0,45мм","Пластик 1к\nПВХ 2мм","Пластик 2к\nПВХ 2мм","МДФ\nматовый","МДФ\nглянец","МДФ\nметаллик"]
[null,null,null,null,null,7280,7630,8950,10220,9310,10770,8910,9450,9660]
[null,null,null,null,null,{"$f":"F111+F111*Титул.лист!A1","v":8008},{"$f":"G111+G111*Титул.лист!A1","v":8393},{"$f":"H111+H111*Титул.лист!A1","v":9845},{"$f":"I111+I111*Титул.лист!A1","v":11242},{"$f":"J111+J111*Титул.лист!A1","v":10241},{"$f":"K111+K111*Титул.лист!A1","v":11847},{"$f":"L111+L111*Титул.лист!A1","v":9801},{"$f":"M111+M111*Титул.лист!A1","v":10395},{"$f":"N111+N111*Титул.лист!A1","v":10626}]
[null,null,null,null,null,{"$f":"F112+F112*Титул.лист!P2","v":8008},{"$f":"G112+G112*Титул.лист!P2","v":8393},{"$f":"H112+H112*Титул.лист!P2","v":9845},{"$f":"I112+I112*Титул.лист!P2","v":11242},{"$f":"J112+J112*Титул.лист!P2","v":10241},{"$f":"K112+K112*Титул.лист!P2","v":11847},{"$f":"L112+L112*Титул.лист!P2","v":9801},{"$f":"M112+M112*Титул.лист!P2","v":10395},{"$f":"N112+N112*Титул.лист!P2","v":10626}]
["Сиберия-101",null,"1,1м",{"$f":"A114&\", длина: \"&C114","v":"Сиберия-101, длина: 1,1м"},"500+400+200",{"$f":"ROUND(F113,-1)","v":8010},{"$f":"ROUND(G113,-1)","v":8390},9850,11240,10240,11850,9800,10400,10630]
[null,null,null,null,null,7760,8240,9600,11000,10090,11480,9610,10210,10440]
[null,null,null,null,null,{"$f":"F115+F115*Титул.лист!A1","v":8536},{"$f":"G115+G115*Титул.лист!A1","v":9064},{"$f":"H115+H115*Титул.лист!A1","v":10560},{"$f":"I115+I115*Титул.лист!A1","v":12100},{"$f":"J115+J115*Титул.лист!A1","v":11099},{"$f":"K115+K115*Титул.лист!A1","v":12628},{"$f":"L115+L115*Титул.лист!A1","v":10571},{"$f":"M115+M115*Титул.лист!A1","v":11231},{"$f":"N115+N115*Титул.лист!A1","v":11484}]
[null,null,null,null,null,{"$f":"F116+F116*Титул.лист!P2","v":8536},{"$f":"G116+G116*Титул.лист!P2","v":9064},{"$f":"H116+H116*Титул.лист!P2","v":10560},{"$f":"I116+I116*Титул.лист!P2","v":12100},{"$f":"J116+J116*Титул.лист!P2","v":11099},{"$f":"K116+K116*Титул.лист!P2","v":12628},{"$f":"L116+L116*Титул.лист!P2","v":10571},{"$f":"M116+M116*Титул.лист!P2","v":11231},{"$f":"N116+N116*Титул.лист!P2","v":11484}]
["Сиберия-102",null,"1,2м",{"$f":"A118&\", длина: \"&C118","v":"Сиберия-102, длина: 1,2м"},"500+500+200",{"$f":"ROUND(F117,-1)","v":8540},{"$f":"ROUND(G117,-1)","v":9060},10560,12100,11100,12630,10570,11230,11480]
[null,null,null,null,null,8100,8590,10080,11610,10570,12100.000000000002,10100,10740,10990]
[null,null,null,null,null,{"$f":"F119+F119*Титул.лист!A1","v":8910},{"$f":"G119+G119*Титул.лист!A1","v":9449},{"$f":"H119+H119*Титул.лист!A1","v":11088},{"$f":"I119+I119*Титул.лист!A1","v":12771},{"$f":"J119+J119*Титул.лист!A1","v":11627},{"$f":"K119+K119*Титул.лист!A1","v":13310.000000000002},{"$f":"L119+L119*Титул.лист!A1","v":11110},{"$f":"M119+M119*Титул.лист!A1","v":11814},{"$f":"N119+N119*Титул.лист!A1","v":12089}]
[null,null,null,null,null,{"$f":"F120+F120*Титул.лист!P2","v":8910},{"$f":"G120+G120*Титул.лист!P2","v":9449},{"$f":"H120+H120*Титул.лист!P2","v":11088},{"$f":"I120+I120*Титул.лист!P2","v":12771},{"$f":"J120+J120*Титул.лист!P2","v":11627},{"$f":"K120+K120*Титул.лист!P2","v":13310.000000000002},{"$f":"L120+L120*Титул.лист!P2","v":11110},{"$f":"M120+M120*Титул.лист!P2","v":11814},{"$f":"N120+N120*Титул.лист!P2","v":12089}]
["Сиберия-103",null,"1,3м",{"$f":"A122&\", длина: \"&C122","v":"Сиберия-103, длина: 1,3м"},"500+500+300",{"$f":"ROUND(F121,-1)","v":8910},{"$f":"ROUND(G121,-1)","v":9450},11090,12770,11630,13310,11110,11810,12090]
[null,null,null,null,null,8210,8720,10200,11700,10710,12220,10210,10860,11110]
[null,null,null,null,null,{"$f":"F123+F123*Титул.лист!A1","v":9031},{"$f":"G123+G123*Титул.лист!A1","v":9592},{"$f":"H123+H123*Титул.лист!A1","v":11220},{"$f":"I123+I123*Титул.лист!A1","v":12870},{"$f":"J123+J123*Титул.лист!A1","v":11781},{"$f":"K123+K123*Титул.лист!A1","v":13442},{"$f":"L123+L123*Титул.лист!A1","v":11231},{"$f":"M123+M123*Титул.лист!A1","v":11946},{"$f":"N123+N123*Титул.лист!A1","v":12221}]
[null,null,null,null,null,{"$f":"F124+F124*Титул.лист!P2","v":9031},{"$f":"G124+G124*Титул.лист!P2","v":9592},{"$f":"H124+H124*Титул.лист!P2","v":11220},{"$f":"I124+I124*Титул.лист!P2","v":12870},{"$f":"J124+J124*Титул.лист!P2","v":11781},{"$f":"K124+K124*Титул.лист!P2","v":13442},{"$f":"L124+L124*Титул.лист!P2","v":11231},{"$f":"M124+M124*Титул.лист!P2","v":11946},{"$f":"N124+N124*Титул.лист!P2","v":12221}]
["Сиберия-104",null,"1,3м",{"$f":"A126&\", длина: \"&C126","v":"Сиберия-104, длина: 1,3м"},"500+600+200",{"$f":"ROUND(F125,-1)","v":9030},{"$f":"ROUND(G125,-1)","v":9590},11220,12870,11780,13440,11230,11950,12220]
[null,null,null,null,null,8550,9080,10670,12310,11200,12840,10690,11390,11660.000000000002]
[null,null,null,null,null,{"$f":"F127+F127*Титул.лист!A1","v":9405},{"$f":"G127+G127*Титул.лист!A1","v":9988},{"$f":"H127+H127*Титул.лист!A1","v":11737},{"$f":"I127+I127*Титул.лист!A1","v":13541},{"$f":"J127+J127*Титул.лист!A1","v":12320},{"$f":"K127+K127*Титул.лист!A1","v":14124},{"$f":"L127+L127*Титул.лист!A1","v":11759},{"$f":"M127+M127*Титул.лист!A1","v":12529},{"$f":"N127+N127*Титул.лист!A1","v":12826.000000000002}]
[null,null,null,null,null,{"$f":"F128+F128*Титул.лист!P2","v":9405},{"$f":"G128+G128*Титул.лист!P2","v":9988},{"$f":"H128+H128*Титул.лист!P2","v":11737},{"$f":"I128+I128*Титул.лист!P2","v":13541},{"$f":"J128+J128*Титул.лист!P2","v":12320},{"$f":"K128+K128*Титул.лист!P2","v":14124},{"$f":"L128+L128*Титул.лист!P2","v":11759},{"$f":"M128+M128*Титул.лист!P2","v":12529},{"$f":"N128+N128*Титул.лист!P2","v":12826.000000000002}]
["Сиберия-105",null,"1,4м",{"$f":"A130&\", длина: \"&C130","v":"Сиберия-105, длина: 1,4м"},"500+600+300",{"$f":"ROUND(F129,-1)","v":9410},{"$f":"ROUND(G129,-1)","v":9990},11740,13540,12320,14120,11760,12530,12830]
[null,null,null,null,null,8840,9410,10980,12610,11540,13170,11010,11690,11980]
[null,null,null,null,null,{"$f":"F131+F131*Титул.лист!A1","v":9724},{"$f":"G131+G131*Титул.лист!A1","v":10351},{"$f":"H131+H131*Титул.лист!A1","v":12078},{"$f":"I131+I131*Титул.лист!A1","v":13871},{"$f":"J131+J131*Титул.лист!A1","v":12694},{"$f":"K131+K131*Титул.лист!A1","v":14487},{"$f":"L131+L131*Титул.лист!A1","v":12111},{"$f":"M131+M131*Титул.лист!A1","v":12859},{"$f":"N131+N131*Титул.лист!A1","v":13178}]
[null,null,null,null,null,{"$f":"F132+F132*Титул.лист!P2","v":9724},{"$f":"G132+G132*Титул.лист!P2","v":10351},{"$f":"H132+H132*Титул.лист!P2","v":12078},{"$f":"I132+I132*Титул.лист!P2","v":13871},{"$f":"J132+J132*Титул.лист!P2","v":12694},{"$f":"K132+K132*Титул.лист!P2","v":14487},{"$f":"L132+L132*Титул.лист!P2","v":12111},{"$f":"M132+M132*Титул.лист!P2","v":12859},{"$f":"N132+N132*Титул.лист!P2","v":13178}]
["Сиберия-106",null,"1,4м",{"$f":"A134&\", длина: \"&C134","v":"Сиберия-106, длина: 1,4м"},"500+700+200",{"$f":"ROUND(F133,-1)","v":9720},{"$f":"ROUND(G133,-1)","v":10350},12080,13870,12690,14490,12110,12860,13180]
[null,null,null,null,null,9190,9760,11450,13210,12020,13780,11500,12220,12530]
[null,null,null,null,null,{"$f":"F135+F135*Титул.лист!A1","v":10109},{"$f":"G135+G135*Титул.лист!A1","v":10736},{"$f":"H135+H135*Титул.лист!A1","v":12595},{"$f":"I135+I135*Титул.лист!A1","v":14531},{"$f":"J135+J135*Титул.лист!A1","v":13222},{"$f":"K135+K135*Титул.лист!A1","v":15158},{"$f":"L135+L135*Титул.лист!A1","v":12650},{"$f":"M135+M135*Титул.лист!A1","v":13442},{"$f":"N135+N135*Титул.лист!A1","v":13783}]
[null,null,null,null,null,{"$f":"F136+F136*Титул.лист!P2","v":10109},{"$f":"G136+G136*Титул.лист!P2","v":10736},{"$f":"H136+H136*Титул.лист!P2","v":12595},{"$f":"I136+I136*Титул.лист!P2","v":14531},{"$f":"J136+J136*Титул.лист!P2","v":13222},{"$f":"K136+K136*Титул.лист!P2","v":15158},{"$f":"L136+L136*Титул.лист!P2","v":12650},{"$f":"M136+M136*Титул.лист!P2","v":13442},{"$f":"N136+N136*Титул.лист!P2","v":13783}]
["Сиберия-107",null,"1,5м",{"$f":"A138&\", длина: \"&C138","v":"Сиберия-107, длина: 1,5м"},"500+700+300",{"$f":"ROUND(F137,-1)","v":10110},{"$f":"ROUND(G137,-1)","v":10740},12600,14530,13220,15160,12650,13440,13780]
[null,null,null,null,null,9300,9880,11610,13350,12190,13940,11610,12340,12640]
[null,null,null,null,null,{"$f":"F139+F139*Титул.лист!A1","v":10230},{"$f":"G139+G139*Титул.лист!A1","v":10868},{"$f":"H139+H139*Титул.лист!A1","v":12771},{"$f":"I139+I139*Титул.лист!A1","v":14685},{"$f":"J139+J139*Титул.лист!A1","v":13409},{"$f":"K139+K139*Титул.лист!A1","v":15334},{"$f":"L139+L139*Титул.лист!A1","v":12771},{"$f":"M139+M139*Титул.лист!A1","v":13574},{"$f":"N139+N139*Титул.лист!A1","v":13904}]
[null,null,null,null,null,{"$f":"F140+F140*Титул.лист!P2","v":10230},{"$f":"G140+G140*Титул.лист!P2","v":10868},{"$f":"H140+H140*Титул.лист!P2","v":12771},{"$f":"I140+I140*Титул.лист!P2","v":14685},{"$f":"J140+J140*Титул.лист!P2","v":13409},{"$f":"K140+K140*Титул.лист!P2","v":15334},{"$f":"L140+L140*Титул.лист!P2","v":12771},{"$f":"M140+M140*Титул.лист!P2","v":13574},{"$f":"N140+N140*Титул.лист!P2","v":13904}]
["Сиберия-108",null,"1,5м",{"$f":"A142&\", длина: \"&C142","v":"Сиберия-108, длина: 1,5м"},"500+800+200",{"$f":"ROUND(F141,-1)","v":10230},{"$f":"ROUND(G141,-1)","v":10870},12770,14690,13410,15330,12770,13570,13900]
[null,null,null,null,null,9640,10230,12080,13960,12670,14550,12090,12870.000000000002,13190]
[null,null,null,null,null,{"$f":"F143+F143*Титул.лист!A1","v":10604},{"$f":"G143+G143*Титул.лист!A1","v":11253},{"$f":"H143+H143*Титул.лист!A1","v":13288},{"$f":"I143+I143*Титул.лист!A1","v":15356},{"$f":"J143+J143*Титул.лист!A1","v":13937},{"$f":"K143+K143*Титул.лист!A1","v":16005},{"$f":"L143+L143*Титул.лист!A1","v":13299},{"$f":"M143+M143*Титул.лист!A1","v":14157.000000000002},{"$f":"N143+N143*Титул.лист!A1","v":14509}]
[null,null,null,null,null,{"$f":"F144+F144*Титул.лист!P2","v":10604},{"$f":"G144+G144*Титул.лист!P2","v":11253},{"$f":"H144+H144*Титул.лист!P2","v":13288},{"$f":"I144+I144*Титул.лист!P2","v":15356},{"$f":"J144+J144*Титул.лист!P2","v":13937},{"$f":"K144+K144*Титул.лист!P2","v":16005},{"$f":"L144+L144*Титул.лист!P2","v":13299},{"$f":"M144+M144*Титул.лист!P2","v":14157.000000000002},{"$f":"N144+N144*Титул.лист!P2","v":14509}]
["Сиберия-109",null,"1,6м",{"$f":"A146&\", длина: \"&C146","v":"Сиберия-109, длина: 1,6м"},"500+800+300",{"$f":"ROUND(F145,-1)","v":10600},{"$f":"ROUND(G145,-1)","v":11250},13290,15360,13940,16010,13300,14160,14510]
[null,null,null,null,null,9970,10580,12540.000000000002,14530,13160,15150,12620,13440,13760]
[null,null,null,null,null,{"$f":"F147+F147*Титул.лист!A1","v":10967},{"$f":"G147+G147*Титул.лист!A1","v":11638},{"$f":"H147+H147*Титул.лист!A1","v":13794.000000000002},{"$f":"I147+I147*Титул.лист!A1","v":15983},{"$f":"J147+J147*Титул.лист!A1","v":14476},{"$f":"K147+K147*Титул.лист!A1","v":16665},{"$f":"L147+L147*Титул.лист!A1","v":13882},{"$f":"M147+M147*Титул.лист!A1","v":14784},{"$f":"N147+N147*Титул.лист!A1","v":15136}]
[null,null,null,null,null,{"$f":"F148+F148*Титул.лист!P2","v":10967},{"$f":"G148+G148*Титул.лист!P2","v":11638},{"$f":"H148+H148*Титул.лист!P2","v":13794.000000000002},{"$f":"I148+I148*Титул.лист!P2","v":15983},{"$f":"J148+J148*Титул.лист!P2","v":14476},{"$f":"K148+K148*Титул.лист!P2","v":16665},{"$f":"L148+L148*Титул.лист!P2","v":13882},{"$f":"M148+M148*Титул.лист!P2","v":14784},{"$f":"N148+N148*Титул.лист!P2","v":15136}]
["Сиберия-110",null,"1,7м",{"$f":"A150&\", длина: \"&C150","v":"Сиберия-110, длина: 1,7м"},"500+800+400",{"$f":"ROUND(F149,-1)","v":10970},{"$f":"ROUND(G149,-1)","v":11640},13790,15980,14480,16670,13880,14780,15140]
[null,null,null,null,null,7450,7820,9270,10640,9640,11200,9200,9790,10030]
[null,null,null,null,null,{"$f":"F151+F151*Титул.лист!A1","v":8195},{"$f":"G151+G151*Титул.лист!A1","v":8602},{"$f":"H151+H151*Титул.лист!A1","v":10197},{"$f":"I151+I151*Титул.лист!A1","v":11704},{"$f":"J151+J151*Титул.лист!A1","v":10604},{"$f":"K151+K151*Титул.лист!A1","v":12320},{"$f":"L151+L151*Титул.лист!A1","v":10120},{"$f":"M151+M151*Титул.лист!A1","v":10769},{"$f":"N151+N151*Титул.лист!A1","v":11033}]
[null,null,null,null,null,{"$f":"F152+F152*Титул.лист!P2","v":8195},{"$f":"G152+G152*Титул.лист!P2","v":8602},{"$f":"H152+H152*Титул.лист!P2","v":10197},{"$f":"I152+I152*Титул.лист!P2","v":11704},{"$f":"J152+J152*Титул.лист!P2","v":10604},{"$f":"K152+K152*Титул.лист!P2","v":12320},{"$f":"L152+L152*Титул.лист!P2","v":10120},{"$f":"M152+M152*Титул.лист!P2","v":10769},{"$f":"N152+N152*Титул.лист!P2","v":11033}]
["Сиберия-111",null,"1,2м",{"$f":"A154&\", длина: \"&C154","v":"Сиберия-111, длина: 1,2м"},"600+400+200",{"$f":"ROUND(F153,-1)","v":8200},{"$f":"ROUND(G153,-1)","v":8600},10200,11700,10600,12320,10120,10770,11030]
[null,null,null,null,null,7920.0000000000009,8430,9920,11420,10420,11910,9900,10550,10810]
[null,null,null,null,null,{"$f":"F155+F155*Титул.лист!A1","v":8712.0000000000018},{"$f":"G155+G155*Титул.лист!A1","v":9273},{"$f":"H155+H155*Титул.лист!A1","v":10912},{"$f":"I155+I155*Титул.лист!A1","v":12562},{"$f":"J155+J155*Титул.лист!A1","v":11462},{"$f":"K155+K155*Титул.лист!A1","v":13101},{"$f":"L155+L155*Титул.лист!A1","v":10890},{"$f":"M155+M155*Титул.лист!A1","v":11605},{"$f":"N155+N155*Титул.лист!A1","v":11891}]
[null,null,null,null,null,{"$f":"F156+F156*Титул.лист!P2","v":8712.0000000000018},{"$f":"G156+G156*Титул.лист!P2","v":9273},{"$f":"H156+H156*Титул.лист!P2","v":10912},{"$f":"I156+I156*Титул.лист!P2","v":12562},{"$f":"J156+J156*Титул.лист!P2","v":11462},{"$f":"K156+K156*Титул.лист!P2","v":13101},{"$f":"L156+L156*Титул.лист!P2","v":10890},{"$f":"M156+M156*Титул.лист!P2","v":11605},{"$f":"N156+N156*Титул.лист!P2","v":11891}]
["Сиберия-112",null,"1,3м",{"$f":"A158&\", длина: \"&C158","v":"Сиберия-112, длина: 1,3м"},"600+500+200",{"$f":"ROUND(F157,-1)","v":8710},{"$f":"ROUND(G157,-1)","v":9270},10910,12560,11460,13100,10890,11610,11890]
[null,null,null,null,null,8260,8780,10400,12020,10900,12530,10380,11080,11360]
[null,null,null,null,null,{"$f":"F159+F159*Титул.лист!A1","v":9086},{"$f":"G159+G159*Титул.лист!A1","v":9658},{"$f":"H159+H159*Титул.лист!A1","v":11440},{"$f":"I159+I159*Титул.лист!A1","v":13222},{"$f":"J159+J159*Титул.лист!A1","v":11990},{"$f":"K159+K159*Титул.лист!A1","v":13783},{"$f":"L159+L159*Титул.лист!A1","v":11418},{"$f":"M159+M159*Титул.лист!A1","v":12188},{"$f":"N159+N159*Титул.лист!A1","v":12496}]
[null,null,null,null,null,{"$f":"F160+F160*Титул.лист!P2","v":9086},{"$f":"G160+G160*Титул.лист!P2","v":9658},{"$f":"H160+H160*Титул.лист!P2","v":11440},{"$f":"I160+I160*Титул.лист!P2","v":13222},{"$f":"J160+J160*Титул.лист!P2","v":11990},{"$f":"K160+K160*Титул.лист!P2","v":13783},{"$f":"L160+L160*Титул.лист!P2","v":11418},{"$f":"M160+M160*Титул.лист!P2","v":12188},{"$f":"N160+N160*Титул.лист!P2","v":12496}]
["Сиберия-113",null,"1,4м",{"$f":"A162&\", длина: \"&C162","v":"Сиберия-113, длина: 1,4м"},"600+500+300",{"$f":"ROUND(F161,-1)","v":9090},{"$f":"ROUND(G161,-1)","v":9660},11440,13220,11990,13780,11420,12190,12500]
[null,null,null,null,null,8370,8910,10520,12120,11040,12650.000000000002,10490,11200,11480]
[null,null,null,null,null,{"$f":"F163+F163*Титул.лист!A1","v":9207},{"$f":"G163+G163*Титул.лист!A1","v":9801},{"$f":"H163+H163*Титул.лист!A1","v":11572},{"$f":"I163+I163*Титул.лист!A1","v":13332},{"$f":"J163+J163*Титул.лист!A1","v":12144},{"$f":"K163+K163*Титул.лист!A1","v":13915.000000000002},{"$f":"L163+L163*Титул.лист!A1","v":11539},{"$f":"M163+M163*Титул.лист!A1","v":12320},{"$f":"N163+N163*Титул.лист!A1","v":12628}]
[null,null,null,null,null,{"$f":"F164+F164*Титул.лист!P2","v":9207},{"$f":"G164+G164*Титул.лист!P2","v":9801},{"$f":"H164+H164*Титул.лист!P2","v":11572},{"$f":"I164+I164*Титул.лист!P2","v":13332},{"$f":"J164+J164*Титул.лист!P2","v":12144},{"$f":"K164+K164*Титул.лист!P2","v":13915.000000000002},{"$f":"L164+L164*Титул.лист!P2","v":11539},{"$f":"M164+M164*Титул.лист!P2","v":12320},{"$f":"N164+N164*Титул.лист!P2","v":12628}]
["Сиберия-114",null,"1,4м",{"$f":"A166&\", длина: \"&C166","v":"Сиберия-114, длина: 1,4м"},"600+600+200",{"$f":"ROUND(F165,-1)","v":9210},{"$f":"ROUND(G165,-1)","v":9800},11570,13330,12140,13920,11540,12320,12630]
[null,null,null,null,null,8710,9260,10990,12730,11530,13270,10980,11730,12030]
[null,null,null,null,null,{"$f":"F167+F167*Титул.лист!A1","v":9581},{"$f":"G167+G167*Титул.лист!A1","v":10186},{"$f":"H167+H167*Титул.лист!A1","v":12089},{"$f":"I167+I167*Титул.лист!A1","v":14003},{"$f":"J167+J167*Титул.лист!A1","v":12683},{"$f":"K167+K167*Титул.лист!A1","v":14597},{"$f":"L167+L167*Титул.лист!A1","v":12078},{"$f":"M167+M167*Титул.лист!A1","v":12903},{"$f":"N167+N167*Титул.лист!A1","v":13233}]
[null,null,null,null,null,{"$f":"F168+F168*Титул.лист!P2","v":9581},{"$f":"G168+G168*Титул.лист!P2","v":10186},{"$f":"H168+H168*Титул.лист!P2","v":12089},{"$f":"I168+I168*Титул.лист!P2","v":14003},{"$f":"J168+J168*Титул.лист!P2","v":12683},{"$f":"K168+K168*Титул.лист!P2","v":14597},{"$f":"L168+L168*Титул.лист!P2","v":12078},{"$f":"M168+M168*Титул.лист!P2","v":12903},{"$f":"N168+N168*Титул.лист!P2","v":13233}]
["Сиберия-115",null,"1,5м",{"$f":"A170&\", длина: \"&C170","v":"Сиберия-115, длина: 1,5м"},"600+600+300",{"$f":"ROUND(F169,-1)","v":9580},{"$f":"ROUND(G169,-1)","v":10190},12090,14000,12680,14600,12080,12900,13230]
[null,null,null,null,null,9010,9590,11300,13020,11890,13600,11300,12030,12350]
[null,null,null,null,null,{"$f":"F171+F171*Титул.лист!A1","v":9911},{"$f":"G171+G171*Титул.лист!A1","v":10549},{"$f":"H171+H171*Титул.лист!A1","v":12430},{"$f":"I171+I171*Титул.лист!A1","v":14322},{"$f":"J171+J171*Титул.лист!A1","v":13079},{"$f":"K171+K171*Титул.лист!A1","v":14960},{"$f":"L171+L171*Титул.лист!A1","v":12430},{"$f":"M171+M171*Титул.лист!A1","v":13233},{"$f":"N171+N171*Титул.лист!A1","v":13585}]
[null,null,null,null,null,{"$f":"F172+F172*Титул.лист!P2","v":9911},{"$f":"G172+G172*Титул.лист!P2","v":10549},{"$f":"H172+H172*Титул.лист!P2","v":12430},{"$f":"I172+I172*Титул.лист!P2","v":14322},{"$f":"J172+J172*Титул.лист!P2","v":13079},{"$f":"K172+K172*Титул.лист!P2","v":14960},{"$f":"L172+L172*Титул.лист!P2","v":12430},{"$f":"M172+M172*Титул.лист!P2","v":13233},{"$f":"N172+N172*Титул.лист!P2","v":13585}]
["Сиберия-116",null,"1,5м",{"$f":"A174&\", длина: \"&C174","v":"Сиберия-116, длина: 1,5м"},"600+700+200",{"$f":"ROUND(F173,-1)","v":9910},{"$f":"ROUND(G173,-1)","v":10550},12430,14320,13080,14960,12430,13230,13590]
[null,null,null,null,null,9350,9940,11770.000000000002,13630,12350,14210,11780,12560,12900]
[null,null,null,null,null,{"$f":"F175+F175*Титул.лист!A1","v":10285},{"$f":"G175+G175*Титул.лист!A1","v":10934},{"$f":"H175+H175*Титул.лист!A1","v":12947.000000000002},{"$f":"I175+I175*Титул.лист!A1","v":14993},{"$f":"J175+J175*Титул.лист!A1","v":13585},{"$f":"K175+K175*Титул.лист!A1","v":15631},{"$f":"L175+L175*Титул.лист!A1","v":12958},{"$f":"M175+M175*Титул.лист!A1","v":13816},{"$f":"N175+N175*Титул.лист!A1","v":14190}]
[null,null,null,null,null,{"$f":"F176+F176*Титул.лист!P2","v":10285},{"$f":"G176+G176*Титул.лист!P2","v":10934},{"$f":"H176+H176*Титул.лист!P2","v":12947.000000000002},{"$f":"I176+I176*Титул.лист!P2","v":14993},{"$f":"J176+J176*Титул.лист!P2","v":13585},{"$f":"K176+K176*Титул.лист!P2","v":15631},{"$f":"L176+L176*Титул.лист!P2","v":12958},{"$f":"M176+M176*Титул.лист!P2","v":13816},{"$f":"N176+N176*Титул.лист!P2","v":14190}]
["Сиберия-117",null,"1,6м",{"$f":"A178&\", длина: \"&C178","v":"Сиберия-117, длина: 1,6м"},"600+700+300",{"$f":"ROUND(F177,-1)","v":10290},{"$f":"ROUND(G177,-1)","v":10930},12950,14990,13590,15630,12960,13820,14190]
[null,null,null,null,null,9460,10060,11920,13770,12520,14370,11890,12680,13010]
[null,null,null,null,null,{"$f":"F179+F179*Титул.лист!A1","v":10406},{"$f":"G179+G179*Титул.лист!A1","v":11066},{"$f":"H179+H179*Титул.лист!A1","v":13112},{"$f":"I179+I179*Титул.лист!A1","v":15147},{"$f":"J179+J179*Титул.лист!A1","v":13772},{"$f":"K179+K179*Титул.лист!A1","v":15807},{"$f":"L179+L179*Титул.лист!A1","v":13079},{"$f":"M179+M179*Титул.лист!A1","v":13948},{"$f":"N179+N179*Титул.лист!A1","v":14311}]
[null,null,null,null,null,{"$f":"F180+F180*Титул.лист!P2","v":10406},{"$f":"G180+G180*Титул.лист!P2","v":11066},{"$f":"H180+H180*Титул.лист!P2","v":13112},{"$f":"I180+I180*Титул.лист!P2","v":15147},{"$f":"J180+J180*Титул.лист!P2","v":13772},{"$f":"K180+K180*Титул.лист!P2","v":15807},{"$f":"L180+L180*Титул.лист!P2","v":13079},{"$f":"M180+M180*Титул.лист!P2","v":13948},{"$f":"N180+N180*Титул.лист!P2","v":14311}]
["Сиберия-118",null,"1,6м",{"$f":"A182&\", длина: \"&C182","v":"Сиберия-118, длина: 1,6м"},"600+800+200",{"$f":"ROUND(F181,-1)","v":10410},{"$f":"ROUND(G181,-1)","v":11070},13110,15150,13770,15810,13080,13950,14310]
[null,null,null,null,null,9800,10420,12400,14380,13000,14980,12370,13210,13560]
[null,null,null,null,null,{"$f":"F183+F183*Титул.лист!A1","v":10780},{"$f":"G183+G183*Титул.лист!A1","v":11462},{"$f":"H183+H183*Титул.лист!A1","v":13640},{"$f":"I183+I183*Титул.лист!A1","v":15818},{"$f":"J183+J183*Титул.лист!A1","v":14300},{"$f":"K183+K183*Титул.лист!A1","v":16478},{"$f":"L183+L183*Титул.лист!A1","v":13607},{"$f":"M183+M183*Титул.лист!A1","v":14531},{"$f":"N183+N183*Титул.лист!A1","v":14916}]
[null,null,null,null,null,{"$f":"F184+F184*Титул.лист!P2","v":10780},{"$f":"G184+G184*Титул.лист!P2","v":11462},{"$f":"H184+H184*Титул.лист!P2","v":13640},{"$f":"I184+I184*Титул.лист!P2","v":15818},{"$f":"J184+J184*Титул.лист!P2","v":14300},{"$f":"K184+K184*Титул.лист!P2","v":16478},{"$f":"L184+L184*Титул.лист!P2","v":13607},{"$f":"M184+M184*Титул.лист!P2","v":14531},{"$f":"N184+N184*Титул.лист!P2","v":14916}]
["Сиберия-119",null,"1,7м",{"$f":"A186&\", длина: \"&C186","v":"Сиберия-119, длина: 1,7м"},"600+800+300",{"$f":"ROUND(F185,-1)","v":10780},{"$f":"ROUND(G185,-1)","v":11460},13640,15820,14300,16480,13610,14530,14920]
[null,null,null,null,null,10130,10770,12860,14950,13490,15580,12900,13780,14130]
[null,null,null,null,null,{"$f":"F187+F187*Титул.лист!A1","v":11143},{"$f":"G187+G187*Титул.лист!A1","v":11847},{"$f":"H187+H187*Титул.лист!A1","v":14146},{"$f":"I187+I187*Титул.лист!A1","v":16445},{"$f":"J187+J187*Титул.лист!A1","v":14839},{"$f":"K187+K187*Титул.лист!A1","v":17138},{"$f":"L187+L187*Титул.лист!A1","v":14190},{"$f":"M187+M187*Титул.лист!A1","v":15158},{"$f":"N187+N187*Титул.лист!A1","v":15543}]
[null,null,null,null,null,{"$f":"F188+F188*Титул.лист!P2","v":11143},{"$f":"G188+G188*Титул.лист!P2","v":11847},{"$f":"H188+H188*Титул.лист!P2","v":14146},{"$f":"I188+I188*Титул.лист!P2","v":16445},{"$f":"J188+J188*Титул.лист!P2","v":14839},{"$f":"K188+K188*Титул.лист!P2","v":17138},{"$f":"L188+L188*Титул.лист!P2","v":14190},{"$f":"M188+M188*Титул.лист!P2","v":15158},{"$f":"N188+N188*Титул.лист!P2","v":15543}]
["Сиберия-120",null,"1,8м",{"$f":"A190&\", длина: \"&C190","v":"Сиберия-120, длина: 1,8м"},"600+800+400",{"$f":"ROUND(F189,-1)","v":11140},{"$f":"ROUND(G189,-1)","v":11850},14150,16450,14840,17140,14190,15160,15540]
[null,null,null,null,null,7790,8170,9930,11550.000000000002,10320,12130,9910,10580,10880]
[null,null,null,null,null,{"$f":"F191+F191*Титул.лист!A1","v":8569},{"$f":"G191+G191*Титул.лист!A1","v":8987},{"$f":"H191+H191*Титул.лист!A1","v":10923},{"$f":"I191+I191*Титул.лист!A1","v":12705.000000000002},{"$f":"J191+J191*Титул.лист!A1","v":11352},{"$f":"K191+K191*Титул.лист!A1","v":13343},{"$f":"L191+L191*Титул.лист!A1","v":10901},{"$f":"M191+M191*Титул.лист!A1","v":11638},{"$f":"N191+N191*Титул.лист!A1","v":11968}]
[null,null,null,null,null,{"$f":"F192+F192*Титул.лист!P2","v":8569},{"$f":"G192+G192*Титул.лист!P2","v":8987},{"$f":"H192+H192*Титул.лист!P2","v":10923},{"$f":"I192+I192*Титул.лист!P2","v":12705.000000000002},{"$f":"J192+J192*Титул.лист!P2","v":11352},{"$f":"K192+K192*Титул.лист!P2","v":13343},{"$f":"L192+L192*Титул.лист!P2","v":10901},{"$f":"M192+M192*Титул.лист!P2","v":11638},{"$f":"N192+N192*Титул.лист!P2","v":11968}]
["Сиберия-121",null,"1,4м",{"$f":"A194&\", длина: \"&C194","v":"Сиберия-121, длина: 1,4м"},"800+400+200",{"$f":"ROUND(F193,-1)","v":8570},{"$f":"ROUND(G193,-1)","v":8990},10920,12710,11350,13340,10900,11640,11970]
[null,null,null,null,null,8260,8780,10580,12330,11100,12850,10610,11340,11660.000000000002]
[null,null,null,null,null,{"$f":"F195+F195*Титул.лист!A1","v":9086},{"$f":"G195+G195*Титул.лист!A1","v":9658},{"$f":"H195+H195*Титул.лист!A1","v":11638},{"$f":"I195+I195*Титул.лист!A1","v":13563},{"$f":"J195+J195*Титул.лист!A1","v":12210},{"$f":"K195+K195*Титул.лист!A1","v":14135},{"$f":"L195+L195*Титул.лист!A1","v":11671},{"$f":"M195+M195*Титул.лист!A1","v":12474},{"$f":"N195+N195*Титул.лист!A1","v":12826.000000000002}]
[null,null,null,null,null,{"$f":"F196+F196*Титул.лист!P2","v":9086},{"$f":"G196+G196*Титул.лист!P2","v":9658},{"$f":"H196+H196*Титул.лист!P2","v":11638},{"$f":"I196+I196*Титул.лист!P2","v":13563},{"$f":"J196+J196*Титул.лист!P2","v":12210},{"$f":"K196+K196*Титул.лист!P2","v":14135},{"$f":"L196+L196*Титул.лист!P2","v":11671},{"$f":"M196+M196*Титул.лист!P2","v":12474},{"$f":"N196+N196*Титул.лист!P2","v":12826.000000000002}]
["Сиберия-122",null,"1,5м",{"$f":"A198&\", длина: \"&C198","v":"Сиберия-122, длина: 1,5м"},"800+500+200",{"$f":"ROUND(F197,-1)","v":9090},{"$f":"ROUND(G197,-1)","v":9660},11640,13560,12210,14140,11670,12470,12830]
[null,null,null,null,null,8600,9130,11050,12940,11580,13460,11100,11870,12210.000000000002]
[null,null,null,null,null,{"$f":"F199+F199*Титул.лист!A1","v":9460},{"$f":"G199+G199*Титул.лист!A1","v":10043},{"$f":"H199+H199*Титул.лист!A1","v":12155},{"$f":"I199+I199*Титул.лист!A1","v":14234},{"$f":"J199+J199*Титул.лист!A1","v":12738},{"$f":"K199+K199*Титул.лист!A1","v":14806},{"$f":"L199+L199*Титул.лист!A1","v":12210},{"$f":"M199+M199*Титул.лист!A1","v":13057},{"$f":"N199+N199*Титул.лист!A1","v":13431.000000000002}]
[null,null,null,null,null,{"$f":"F200+F200*Титул.лист!P2","v":9460},{"$f":"G200+G200*Титул.лист!P2","v":10043},{"$f":"H200+H200*Титул.лист!P2","v":12155},{"$f":"I200+I200*Титул.лист!P2","v":14234},{"$f":"J200+J200*Титул.лист!P2","v":12738},{"$f":"K200+K200*Титул.лист!P2","v":14806},{"$f":"L200+L200*Титул.лист!P2","v":12210},{"$f":"M200+M200*Титул.лист!P2","v":13057},{"$f":"N200+N200*Титул.лист!P2","v":13431.000000000002}]
["Сиберия-123",null,"1,6м",{"$f":"A202&\", длина: \"&C202","v":"Сиберия-123, длина: 1,6м"},"800+500+300",{"$f":"ROUND(F201,-1)","v":9460},{"$f":"ROUND(G201,-1)","v":10040},12160,14230,12740,14810,12210,13060,13430]
[null,null,null,null,null,8710,9260,11180,13030,11730,13580,11210,11990.000000000002,12330]
[null,null,null,null,null,{"$f":"F203+F203*Титул.лист!A1","v":9581},{"$f":"G203+G203*Титул.лист!A1","v":10186},{"$f":"H203+H203*Титул.лист!A1","v":12298},{"$f":"I203+I203*Титул.лист!A1","v":14333},{"$f":"J203+J203*Титул.лист!A1","v":12903},{"$f":"K203+K203*Титул.лист!A1","v":14938},{"$f":"L203+L203*Титул.лист!A1","v":12331},{"$f":"M203+M203*Титул.лист!A1","v":13189.000000000002},{"$f":"N203+N203*Титул.лист!A1","v":13563}]
[null,null,null,null,null,{"$f":"F204+F204*Титул.лист!P2","v":9581},{"$f":"G204+G204*Титул.лист!P2","v":10186},{"$f":"H204+H204*Титул.лист!P2","v":12298},{"$f":"I204+I204*Титул.лист!P2","v":14333},{"$f":"J204+J204*Титул.лист!P2","v":12903},{"$f":"K204+K204*Титул.лист!P2","v":14938},{"$f":"L204+L204*Титул.лист!P2","v":12331},{"$f":"M204+M204*Титул.лист!P2","v":13189.000000000002},{"$f":"N204+N204*Титул.лист!P2","v":13563}]
["Сиберия-124",null,"1,6м",{"$f":"A206&\", длина: \"&C206","v":"Сиберия-124, длина: 1,6м"},"800+600+200",{"$f":"ROUND(F205,-1)","v":9580},{"$f":"ROUND(G205,-1)","v":10190},12300,14330,12900,14940,12330,13190,13560]
[null,null,null,null,null,9050,9610,11650,13640.000000000002,12210.000000000002,14200,11690,12520,12880]
[null,null,null,null,null,{"$f":"F207+F207*Титул.лист!A1","v":9955},{"$f":"G207+G207*Титул.лист!A1","v":10571},{"$f":"H207+H207*Титул.лист!A1","v":12815},{"$f":"I207+I207*Титул.лист!A1","v":15004.000000000002},{"$f":"J207+J207*Титул.лист!A1","v":13431.000000000002},{"$f":"K207+K207*Титул.лист!A1","v":15620},{"$f":"L207+L207*Титул.лист!A1","v":12859},{"$f":"M207+M207*Титул.лист!A1","v":13772},{"$f":"N207+N207*Титул.лист!A1","v":14168}]
[null,null,null,null,null,{"$f":"F208+F208*Титул.лист!P2","v":9955},{"$f":"G208+G208*Титул.лист!P2","v":10571},{"$f":"H208+H208*Титул.лист!P2","v":12815},{"$f":"I208+I208*Титул.лист!P2","v":15004.000000000002},{"$f":"J208+J208*Титул.лист!P2","v":13431.000000000002},{"$f":"K208+K208*Титул.лист!P2","v":15620},{"$f":"L208+L208*Титул.лист!P2","v":12859},{"$f":"M208+M208*Титул.лист!P2","v":13772},{"$f":"N208+N208*Титул.лист!P2","v":14168}]
["Сиберия-125",null,"1,7м",{"$f":"A210&\", длина: \"&C210","v":"Сиберия-125, длина: 1,7м"},"800+600+300",{"$f":"ROUND(F209,-1)","v":9960},{"$f":"ROUND(G209,-1)","v":10570},12820,15000,13430,15620,12860,13770,14170]
[null,null,null,null,null,9350,9940,11960,13940,12550,14530,12010,12830,13200.000000000002]
[null,null,null,null,null,{"$f":"F211+F211*Титул.лист!A1","v":10285},{"$f":"G211+G211*Титул.лист!A1","v":10934},{"$f":"H211+H211*Титул.лист!A1","v":13156},{"$f":"I211+I211*Титул.лист!A1","v":15334},{"$f":"J211+J211*Титул.лист!A1","v":13805},{"$f":"K211+K211*Титул.лист!A1","v":15983},{"$f":"L211+L211*Титул.лист!A1","v":13211},{"$f":"M211+M211*Титул.лист!A1","v":14113},{"$f":"N211+N211*Титул.лист!A1","v":14520.000000000002}]
[null,null,null,null,null,{"$f":"F212+F212*Титул.лист!P2","v":10285},{"$f":"G212+G212*Титул.лист!P2","v":10934},{"$f":"H212+H212*Титул.лист!P2","v":13156},{"$f":"I212+I212*Титул.лист!P2","v":15334},{"$f":"J212+J212*Титул.лист!P2","v":13805},{"$f":"K212+K212*Титул.лист!P2","v":15983},{"$f":"L212+L212*Титул.лист!P2","v":13211},{"$f":"M212+M212*Титул.лист!P2","v":14113},{"$f":"N212+N212*Титул.лист!P2","v":14520.000000000002}]
["Сиберия-126",null,"1,7м",{"$f":"A214&\", длина: \"&C214","v":"Сиберия-126, длина: 1,7м"},"800+700+200",{"$f":"ROUND(F213,-1)","v":10290},{"$f":"ROUND(G213,-1)","v":10930},13160,15330,13810,15980,13210,14110,14520]
[null,null,null,null,null,9690,10300,12430.000000000002,14540,13030,15150,12500,13350,13750.000000000002]
[null,null,null,null,null,{"$f":"F215+F215*Титул.лист!A1","v":10659},{"$f":"G215+G215*Титул.лист!A1","v":11330},{"$f":"H215+H215*Титул.лист!A1","v":13673.000000000002},{"$f":"I215+I215*Титул.лист!A1","v":15994},{"$f":"J215+J215*Титул.лист!A1","v":14333},{"$f":"K215+K215*Титул.лист!A1","v":16665},{"$f":"L215+L215*Титул.лист!A1","v":13750},{"$f":"M215+M215*Титул.лист!A1","v":14685},{"$f":"N215+N215*Титул.лист!A1","v":15125.000000000002}]
[null,null,null,null,null,{"$f":"F216+F216*Титул.лист!P2","v":10659},{"$f":"G216+G216*Титул.лист!P2","v":11330},{"$f":"H216+H216*Титул.лист!P2","v":13673.000000000002},{"$f":"I216+I216*Титул.лист!P2","v":15994},{"$f":"J216+J216*Титул.лист!P2","v":14333},{"$f":"K216+K216*Титул.лист!P2","v":16665},{"$f":"L216+L216*Титул.лист!P2","v":13750},{"$f":"M216+M216*Титул.лист!P2","v":14685},{"$f":"N216+N216*Титул.лист!P2","v":15125.000000000002}]
["Сиберия-127",null,"1,8м",{"$f":"A218&\", длина: \"&C218","v":"Сиберия-127, длина: 1,8м"},"800+700+300",{"$f":"ROUND(F217,-1)","v":10660},{"$f":"ROUND(G217,-1)","v":11330},13670,15990,14330,16670,13750,14690,15130]
[null,null,null,null,null,9800,10420,12580,14690,13200.000000000002,15300,12610,13480,13860.000000000002]
[null,null,null,null,null,{"$f":"F219+F219*Титул.лист!A1","v":10780},{"$f":"G219+G219*Титул.лист!A1","v":11462},{"$f":"H219+H219*Титул.лист!A1","v":13838},{"$f":"I219+I219*Титул.лист!A1","v":16159},{"$f":"J219+J219*Титул.лист!A1","v":14520.000000000002},{"$f":"K219+K219*Титул.лист!A1","v":16830},{"$f":"L219+L219*Титул.лист!A1","v":13871},{"$f":"M219+M219*Титул.лист!A1","v":14828},{"$f":"N219+N219*Титул.лист!A1","v":15246.000000000002}]
[null,null,null,null,null,{"$f":"F220+F220*Титул.лист!P2","v":10780},{"$f":"G220+G220*Титул.лист!P2","v":11462},{"$f":"H220+H220*Титул.лист!P2","v":13838},{"$f":"I220+I220*Титул.лист!P2","v":16159},{"$f":"J220+J220*Титул.лист!P2","v":14520.000000000002},{"$f":"K220+K220*Титул.лист!P2","v":16830},{"$f":"L220+L220*Титул.лист!P2","v":13871},{"$f":"M220+M220*Титул.лист!P2","v":14828},{"$f":"N220+N220*Титул.лист!P2","v":15246.000000000002}]
["Сиберия-128",null,"1,8м",{"$f":"A222&\", длина: \"&C222","v":"Сиберия-128, длина: 1,8м"},"800+800+200",{"$f":"ROUND(F221,-1)","v":10780},{"$f":"ROUND(G221,-1)","v":11460},13840,16160,14520,16830,13870,14830,15250]
[null,null,null,null,null,10140,10770,13060,15290.000000000002,13680,15920,13090.000000000002,14000,14410.000000000002]
[null,null,null,null,null,{"$f":"F223+F223*Титул.лист!A1","v":11154},{"$f":"G223+G223*Титул.лист!A1","v":11847},{"$f":"H223+H223*Титул.лист!A1","v":14366},{"$f":"I223+I223*Титул.лист!A1","v":16819.000000000004},{"$f":"J223+J223*Титул.лист!A1","v":15048},{"$f":"K223+K223*Титул.лист!A1","v":17512},{"$f":"L223+L223*Титул.лист!A1","v":14399.000000000002},{"$f":"M223+M223*Титул.лист!A1","v":15400},{"$f":"N223+N223*Титул.лист!A1","v":15851.000000000002}]
[null,null,null,null,null,{"$f":"F224+F224*Титул.лист!P2","v":11154},{"$f":"G224+G224*Титул.лист!P2","v":11847},{"$f":"H224+H224*Титул.лист!P2","v":14366},{"$f":"I224+I224*Титул.лист!P2","v":16819.000000000004},{"$f":"J224+J224*Титул.лист!P2","v":15048},{"$f":"K224+K224*Титул.лист!P2","v":17512},{"$f":"L224+L224*Титул.лист!P2","v":14399.000000000002},{"$f":"M224+M224*Титул.лист!P2","v":15400},{"$f":"N224+N224*Титул.лист!P2","v":15851.000000000002}]
["Сиберия-129",null,"1,9м",{"$f":"A226&\", длина: \"&C226","v":"Сиберия-129, длина: 1,9м"},"800+800+300",{"$f":"ROUND(F225,-1)","v":11150},{"$f":"ROUND(G225,-1)","v":11850},14370,16820,15050,17510,14400,15400,15850]
[null,null,null,null,null,10470,11120,13520,15860,14170,16510,13620,14580,14980]
[null,null,null,null,null,{"$f":"F227+F227*Титул.лист!A1","v":11517},{"$f":"G227+G227*Титул.лист!A1","v":12232},{"$f":"H227+H227*Титул.лист!A1","v":14872},{"$f":"I227+I227*Титул.лист!A1","v":17446},{"$f":"J227+J227*Титул.лист!A1","v":15587},{"$f":"K227+K227*Титул.лист!A1","v":18161},{"$f":"L227+L227*Титул.лист!A1","v":14982},{"$f":"M227+M227*Титул.лист!A1","v":16038},{"$f":"N227+N227*Титул.лист!A1","v":16478}]
[null,null,null,null,null,{"$f":"F228+F228*Титул.лист!P2","v":11517},{"$f":"G228+G228*Титул.лист!P2","v":12232},{"$f":"H228+H228*Титул.лист!P2","v":14872},{"$f":"I228+I228*Титул.лист!P2","v":17446},{"$f":"J228+J228*Титул.лист!P2","v":15587},{"$f":"K228+K228*Титул.лист!P2","v":18161},{"$f":"L228+L228*Титул.лист!P2","v":14982},{"$f":"M228+M228*Титул.лист!P2","v":16038},{"$f":"N228+N228*Титул.лист!P2","v":16478}]
["Сиберия-130",null,"2,0м",{"$f":"A230&\", длина: \"&C230","v":"Сиберия-130, длина: 2,0м"},"800+800+400",{"$f":"ROUND(F229,-1)","v":11520},{"$f":"ROUND(G229,-1)","v":12230},14870,17450,15590,18160,14980,16040,16480]
[null,null,null,null,null,"Кухонные гарнитуры  НКМ"]
["Кухня",null,"Длина",null,"Размеры\nпозиций","ЛДСП\nПВХ 0,45мм","ЛДСП\nПВХ 2мм","Пластик 1к\nПВХ 0,45мм","Пластик 2к\nПВХ 0,45мм","Пластик 1к\nПВХ 2мм","Пластик 2к\nПВХ 2мм","МДФ\nматовый","МДФ\nглянец","МДФ\nметаллик"]
[null,null,null,null,null,6300,6780,8120,9500,8580,9970,8060,8660,8900]
[null,null,null,null,null,{"$f":"F233+F233*Титул.лист!A1","v":6930},{"$f":"G233+G233*Титул.лист!A1","v":7458},{"$f":"H233+H233*Титул.лист!A1","v":8932},{"$f":"I233+I233*Титул.лист!A1","v":10450},{"$f":"J233+J233*Титул.лист!A1","v":9438},{"$f":"K233+K233*Титул.лист!A1","v":10967},{"$f":"L233+L233*Титул.лист!A1","v":8866},{"$f":"M233+M233*Титул.лист!A1","v":9526},{"$f":"N233+N233*Титул.лист!A1","v":9790}]
[null,null,null,null,null,{"$f":"F234+F234*Титул.лист!P2","v":6930},{"$f":"G234+G234*Титул.лист!P2","v":7458},{"$f":"H234+H234*Титул.лист!P2","v":8932},{"$f":"I234+I234*Титул.лист!P2","v":10450},{"$f":"J234+J234*Титул.лист!P2","v":9438},{"$f":"K234+K234*Титул.лист!P2","v":10967},{"$f":"L234+L234*Титул.лист!P2","v":8866},{"$f":"M234+M234*Титул.лист!P2","v":9526},{"$f":"N234+N234*Титул.лист!P2","v":9790}]
["НКМ-1",null,"1,2м",{"$f":"A236&\", длина: \"&C236","v":"НКМ-1, длина: 1,2м"},"600+600",{"$f":"ROUND(F235,-1)","v":6930},{"$f":"ROUND(G235,-1)","v":7460},8930,10450,9440,10970,8870,9530,9790]
[null,null,null,null,null,7160,7690,9290,10920,9810,11440.000000000002,9290,9980,10260]
[null,null,null,null,null,{"$f":"F237+F237*Титул.лист!A1","v":7876},{"$f":"G237+G237*Титул.лист!A1","v":8459},{"$f":"H237+H237*Титул.лист!A1","v":10219},{"$f":"I237+I237*Титул.лист!A1","v":12012},{"$f":"J237+J237*Титул.лист!A1","v":10791},{"$f":"K237+K237*Титул.лист!A1","v":12584.000000000002},{"$f":"L237+L237*Титул.лист!A1","v":10219},{"$f":"M237+M237*Титул.лист!A1","v":10978},{"$f":"N237+N237*Титул.лист!A1","v":11286}]
[null,null,null,null,null,{"$f":"F238+F238*Титул.лист!P2","v":7876},{"$f":"G238+G238*Титул.лист!P2","v":8459},{"$f":"H238+H238*Титул.лист!P2","v":10219},{"$f":"I238+I238*Титул.лист!P2","v":12012},{"$f":"J238+J238*Титул.лист!P2","v":10791},{"$f":"K238+K238*Титул.лист!P2","v":12584.000000000002},{"$f":"L238+L238*Титул.лист!P2","v":10219},{"$f":"M238+M238*Титул.лист!P2","v":10978},{"$f":"N238+N238*Титул.лист!P2","v":11286}]
["НКМ-2",null,"1,4м",{"$f":"A240&\", длина: \"&C240","v":"НКМ-2, длина: 1,4м"},"600+800",{"$f":"ROUND(F239,-1)","v":7880},{"$f":"ROUND(G239,-1)","v":8460},10220,12010,10790,12580,10220,10980,11290]
[null,null,null,null,null,7500,8040,9950,11840,10490,12380,10010,10770,11110]
[null,null,null,null,null,{"$f":"F241+F241*Титул.лист!A1","v":8250},{"$f":"G241+G241*Титул.лист!A1","v":8844},{"$f":"H241+H241*Титул.лист!A1","v":10945},{"$f":"I241+I241*Титул.лист!A1","v":13024},{"$f":"J241+J241*Титул.лист!A1","v":11539},{"$f":"K241+K241*Титул.лист!A1","v":13618},{"$f":"L241+L241*Титул.лист!A1","v":11011},{"$f":"M241+M241*Титул.лист!A1","v":11847},{"$f":"N241+N241*Титул.лист!A1","v":12221}]
[null,null,null,null,null,{"$f":"F242+F242*Титул.лист!P2","v":8250},{"$f":"G242+G242*Титул.лист!P2","v":8844},{"$f":"H242+H242*Титул.лист!P2","v":10945},{"$f":"I242+I242*Титул.лист!P2","v":13024},{"$f":"J242+J242*Титул.лист!P2","v":11539},{"$f":"K242+K242*Титул.лист!P2","v":13618},{"$f":"L242+L242*Титул.лист!P2","v":11011},{"$f":"M242+M242*Титул.лист!P2","v":11847},{"$f":"N242+N242*Титул.лист!P2","v":12221}]
["НКМ-3",null,"1,6м",{"$f":"A244&\", длина: \"&C244","v":"НКМ-3, длина: 1,6м"},"800+800",{"$f":"ROUND(F243,-1)","v":8250},{"$f":"ROUND(G243,-1)","v":8840},10950,13020,11540,13620,11010,11850,12220]
[null,null,null,null,null,8680,9270,11090,12940,11670,13520,11110,11900,12210.000000000002]
[null,null,null,null,null,{"$f":"F245+F245*Титул.лист!A1","v":9548},{"$f":"G245+G245*Титул.лист!A1","v":10197},{"$f":"H245+H245*Титул.лист!A1","v":12199},{"$f":"I245+I245*Титул.лист!A1","v":14234},{"$f":"J245+J245*Титул.лист!A1","v":12837},{"$f":"K245+K245*Титул.лист!A1","v":14872},{"$f":"L245+L245*Титул.лист!A1","v":12221},{"$f":"M245+M245*Титул.лист!A1","v":13090},{"$f":"N245+N245*Титул.лист!A1","v":13431.000000000002}]
[null,null,null,null,null,{"$f":"F246+F246*Титул.лист!P2","v":9548},{"$f":"G246+G246*Титул.лист!P2","v":10197},{"$f":"H246+H246*Титул.лист!P2","v":12199},{"$f":"I246+I246*Титул.лист!P2","v":14234},{"$f":"J246+J246*Титул.лист!P2","v":12837},{"$f":"K246+K246*Титул.лист!P2","v":14872},{"$f":"L246+L246*Титул.лист!P2","v":12221},{"$f":"M246+M246*Титул.лист!P2","v":13090},{"$f":"N246+N246*Титул.лист!P2","v":13431.000000000002}]
["НКМ-4",null,"1,6м",{"$f":"A248&\", длина: \"&C248","v":"НКМ-4, длина: 1,6м"},"600+600+400",{"$f":"ROUND(F247,-1)","v":9550},{"$f":"ROUND(G247,-1)","v":10200},12200,14230,12840,14870,12220,13090,13430]
[null,null,null,null,null,9540,10190,12270,14350,12900,14990,12340,13220,13570]
[null,null,null,null,null,{"$f":"F249+F249*Титул.лист!A1","v":10494},{"$f":"G249+G249*Титул.лист!A1","v":11209},{"$f":"H249+H249*Титул.лист!A1","v":13497},{"$f":"I249+I249*Титул.лист!A1","v":15785},{"$f":"J249+J249*Титул.лист!A1","v":14190},{"$f":"K249+K249*Титул.лист!A1","v":16489},{"$f":"L249+L249*Титул.лист!A1","v":13574},{"$f":"M249+M249*Титул.лист!A1","v":14542},{"$f":"N249+N249*Титул.лист!A1","v":14927}]
[null,null,null,null,null,{"$f":"F250+F250*Титул.лист!P2","v":10494},{"$f":"G250+G250*Титул.лист!P2","v":11209},{"$f":"H250+H250*Титул.лист!P2","v":13497},{"$f":"I250+I250*Титул.лист!P2","v":15785},{"$f":"J250+J250*Титул.лист!P2","v":14190},{"$f":"K250+K250*Титул.лист!P2","v":16489},{"$f":"L250+L250*Титул.лист!P2","v":13574},{"$f":"M250+M250*Титул.лист!P2","v":14542},{"$f":"N250+N250*Титул.лист!P2","v":14927}]
["НКМ-5",null,"1,8м",{"$f":"A252&\", длина: \"&C252","v":"НКМ-5, длина: 1,8м"},"600+800+400",{"$f":"ROUND(F251,-1)","v":10490},{"$f":"ROUND(G251,-1)","v":11210},13500,15790,14190,16490,13570,14540,14930]
[null,null,null,null,null,9880,10540,12920,15270,13580,15930,13060,14010,14420]
[null,null,null,null,null,{"$f":"F253+F253*Титул.лист!A1","v":10868},{"$f":"G253+G253*Титул.лист!A1","v":11594},{"$f":"H253+H253*Титул.лист!A1","v":14212},{"$f":"I253+I253*Титул.лист!A1","v":16797},{"$f":"J253+J253*Титул.лист!A1","v":14938},{"$f":"K253+K253*Титул.лист!A1","v":17523},{"$f":"L253+L253*Титул.лист!A1","v":14366},{"$f":"M253+M253*Титул.лист!A1","v":15411},{"$f":"N253+N253*Титул.лист!A1","v":15862}]
[null,null,null,null,null,{"$f":"F254+F254*Титул.лист!P2","v":10868},{"$f":"G254+G254*Титул.лист!P2","v":11594},{"$f":"H254+H254*Титул.лист!P2","v":14212},{"$f":"I254+I254*Титул.лист!P2","v":16797},{"$f":"J254+J254*Титул.лист!P2","v":14938},{"$f":"K254+K254*Титул.лист!P2","v":17523},{"$f":"L254+L254*Титул.лист!P2","v":14366},{"$f":"M254+M254*Титул.лист!P2","v":15411},{"$f":"N254+N254*Титул.лист!P2","v":15862}]
["НКМ-6",null,"2,0м",{"$f":"A256&\", длина: \"&C256","v":"НКМ-6, длина: 2,0м"},"800+800+400",{"$f":"ROUND(F255,-1)","v":10870},{"$f":"ROUND(G255,-1)","v":11590},14210,16800,14940,17520,14370,15410,15860]
[null,null,null,null,null,8930,9560,11350,13180,11970,13790,11360,12150,12460]
[null,null,null,null,null,{"$f":"F257+F257*Титул.лист!A1","v":9823},{"$f":"G257+G257*Титул.лист!A1","v":10516},{"$f":"H257+H257*Титул.лист!A1","v":12485},{"$f":"I257+I257*Титул.лист!A1","v":14498},{"$f":"J257+J257*Титул.лист!A1","v":13167},{"$f":"K257+K257*Титул.лист!A1","v":15169},{"$f":"L257+L257*Титул.лист!A1","v":12496},{"$f":"M257+M257*Титул.лист!A1","v":13365},{"$f":"N257+N257*Титул.лист!A1","v":13706}]
[null,null,null,null,null,{"$f":"F258+F258*Титул.лист!P2","v":9823},{"$f":"G258+G258*Титул.лист!P2","v":10516},{"$f":"H258+H258*Титул.лист!P2","v":12485},{"$f":"I258+I258*Титул.лист!P2","v":14498},{"$f":"J258+J258*Титул.лист!P2","v":13167},{"$f":"K258+K258*Титул.лист!P2","v":15169},{"$f":"L258+L258*Титул.лист!P2","v":12496},{"$f":"M258+M258*Титул.лист!P2","v":13365},{"$f":"N258+N258*Титул.лист!P2","v":13706}]
["НКМ-7",null,"1,6м",{"$f":"A260&\", длина: \"&C260","v":"НКМ-7, длина: 1,6м"},"600+600+400",{"$f":"ROUND(F259,-1)","v":9820},{"$f":"ROUND(G259,-1)","v":10520},12490,14500,13170,15170,12500,13370,13710]
[null,null,null,null,null,9760,10410,12480,14570,13120,15210,12540.000000000002,13400,13770]
[null,null,null,null,null,{"$f":"F261+F261*Титул.лист!A1","v":10736},{"$f":"G261+G261*Титул.лист!A1","v":11451},{"$f":"H261+H261*Титул.лист!A1","v":13728},{"$f":"I261+I261*Титул.лист!A1","v":16027},{"$f":"J261+J261*Титул.лист!A1","v":14432},{"$f":"K261+K261*Титул.лист!A1","v":16731},{"$f":"L261+L261*Титул.лист!A1","v":13794.000000000002},{"$f":"M261+M261*Титул.лист!A1","v":14740},{"$f":"N261+N261*Титул.лист!A1","v":15147}]
[null,null,null,null,null,{"$f":"F262+F262*Титул.лист!P2","v":10736},{"$f":"G262+G262*Титул.лист!P2","v":11451},{"$f":"H262+H262*Титул.лист!P2","v":13728},{"$f":"I262+I262*Титул.лист!P2","v":16027},{"$f":"J262+J262*Титул.лист!P2","v":14432},{"$f":"K262+K262*Титул.лист!P2","v":16731},{"$f":"L262+L262*Титул.лист!P2","v":13794.000000000002},{"$f":"M262+M262*Титул.лист!P2","v":14740},{"$f":"N262+N262*Титул.лист!P2","v":15147}]
["НКМ-8",null,"1,8м",{"$f":"A264&\", длина: \"&C264","v":"НКМ-8, длина: 1,8м"},"600+800+400",{"$f":"ROUND(F263,-1)","v":10740},{"$f":"ROUND(G263,-1)","v":11450},13730,16030,14430,16730,13790,14740,15150]
[null,null,null,null,null,10100,10760,13140,15490,13800,16150,13250,14190.000000000002,14620]
[null,null,null,null,null,{"$f":"F265+F265*Титул.лист!A1","v":11110},{"$f":"G265+G265*Титул.лист!A1","v":11836},{"$f":"H265+H265*Титул.лист!A1","v":14454},{"$f":"I265+I265*Титул.лист!A1","v":17039},{"$f":"J265+J265*Титул.лист!A1","v":15180},{"$f":"K265+K265*Титул.лист!A1","v":17765},{"$f":"L265+L265*Титул.лист!A1","v":14575},{"$f":"M265+M265*Титул.лист!A1","v":15609.000000000002},{"$f":"N265+N265*Титул.лист!A1","v":16082}]
[null,null,null,null,null,{"$f":"F266+F266*Титул.лист!P2","v":11110},{"$f":"G266+G266*Титул.лист!P2","v":11836},{"$f":"H266+H266*Титул.лист!P2","v":14454},{"$f":"I266+I266*Титул.лист!P2","v":17039},{"$f":"J266+J266*Титул.лист!P2","v":15180},{"$f":"K266+K266*Титул.лист!P2","v":17765},{"$f":"L266+L266*Титул.лист!P2","v":14575},{"$f":"M266+M266*Титул.лист!P2","v":15609.000000000002},{"$f":"N266+N266*Титул.лист!P2","v":16082}]
["НКМ-9",null,"2,0м",{"$f":"A268&\", длина: \"&C268","v":"НКМ-9, длина: 2,0м"},"800+800+400",{"$f":"ROUND(F267,-1)","v":11110},{"$f":"ROUND(G267,-1)","v":11840},14450,17040,15180,17770,14580,15610,16080]
[null,null,null,null,null,9570,10160,12090,14050,12670,14630.000000000002,12180,13000,13330]
[null,null,null,null,null,{"$f":"F269+F269*Титул.лист!A1","v":10527},{"$f":"G269+G269*Титул.лист!A1","v":11176},{"$f":"H269+H269*Титул.лист!A1","v":13299},{"$f":"I269+I269*Титул.лист!A1","v":15455},{"$f":"J269+J269*Титул.лист!A1","v":13937},{"$f":"K269+K269*Титул.лист!A1","v":16093.000000000002},{"$f":"L269+L269*Титул.лист!A1","v":13398},{"$f":"M269+M269*Титул.лист!A1","v":14300},{"$f":"N269+N269*Титул.лист!A1","v":14663}]
[null,null,null,null,null,{"$f":"F270+F270*Титул.лист!P2","v":10527},{"$f":"G270+G270*Титул.лист!P2","v":11176},{"$f":"H270+H270*Титул.лист!P2","v":13299},{"$f":"I270+I270*Титул.лист!P2","v":15455},{"$f":"J270+J270*Титул.лист!P2","v":13937},{"$f":"K270+K270*Титул.лист!P2","v":16093.000000000002},{"$f":"L270+L270*Титул.лист!P2","v":13398},{"$f":"M270+M270*Титул.лист!P2","v":14300},{"$f":"N270+N270*Титул.лист!P2","v":14663}]
["НКМ-10",null,"1,6м",{"$f":"A272&\", длина: \"&C272","v":"НКМ-10, длина: 1,6м"},"600+600+400",{"$f":"ROUND(F271,-1)","v":10530},{"$f":"ROUND(G271,-1)","v":11180},13300,15460,13940,16090,13400,14300,14660]
[null,null,null,null,null,10680,11340,13520,15720,14170,16370,13600,14510,14880]
[null,null,null,null,null,{"$f":"F273+F273*Титул.лист!A1","v":11748},{"$f":"G273+G273*Титул.лист!A1","v":12474},{"$f":"H273+H273*Титул.лист!A1","v":14872},{"$f":"I273+I273*Титул.лист!A1","v":17292},{"$f":"J273+J273*Титул.лист!A1","v":15587},{"$f":"K273+K273*Титул.лист!A1","v":18007},{"$f":"L273+L273*Титул.лист!A1","v":14960},{"$f":"M273+M273*Титул.лист!A1","v":15961},{"$f":"N273+N273*Титул.лист!A1","v":16368}]
[null,null,null,null,null,{"$f":"F274+F274*Титул.лист!P2","v":11748},{"$f":"G274+G274*Титул.лист!P2","v":12474},{"$f":"H274+H274*Титул.лист!P2","v":14872},{"$f":"I274+I274*Титул.лист!P2","v":17292},{"$f":"J274+J274*Титул.лист!P2","v":15587},{"$f":"K274+K274*Титул.лист!P2","v":18007},{"$f":"L274+L274*Титул.лист!P2","v":14960},{"$f":"M274+M274*Титул.лист!P2","v":15961},{"$f":"N274+N274*Титул.лист!P2","v":16368}]
["НКМ-11",null,"1,8м",{"$f":"A276&\", длина: \"&C276","v":"НКМ-11, длина: 1,8м"},"600+800+400",{"$f":"ROUND(F275,-1)","v":11750},{"$f":"ROUND(G275,-1)","v":12470},14870,17290,15590,18010,14960,15960,16370]
[null,null,null,null,null,11100,11780,14300.000000000002,16764,14982.000000000002,17450,14420,15440,15862.000000000002]
[null,null,null,null,null,{"$f":"F277+F277*Титул.лист!A1","v":12210},{"$f":"G277+G277*Титул.лист!A1","v":12958},{"$f":"H277+H277*Титул.лист!A1","v":15730.000000000002},{"$f":"I277+I277*Титул.лист!A1","v":18440.400000000001},{"$f":"J277+J277*Титул.лист!A1","v":16480.2},{"$f":"K277+K277*Титул.лист!A1","v":19195},{"$f":"L277+L277*Титул.лист!A1","v":15862},{"$f":"M277+M277*Титул.лист!A1","v":16984},{"$f":"N277+N277*Титул.лист!A1","v":17448.2}]
[null,null,null,null,null,{"$f":"F278+F278*Титул.лист!P2","v":12210},{"$f":"G278+G278*Титул.лист!P2","v":12958},{"$f":"H278+H278*Титул.лист!P2","v":15730.000000000002},{"$f":"I278+I278*Титул.лист!P2","v":18440.400000000001},{"$f":"J278+J278*Титул.лист!P2","v":16480.2},{"$f":"K278+K278*Титул.лист!P2","v":19195},{"$f":"L278+L278*Титул.лист!P2","v":15862},{"$f":"M278+M278*Титул.лист!P2","v":16984},{"$f":"N278+N278*Титул.лист!P2","v":17448.2}]
["НКМ-12",null,"2,0м",{"$f":"A280&\", длина: \"&C280","v":"НКМ-12, длина: 2,0м"},"800+800+400",{"$f":"ROUND(F279,-1)","v":12210},{"$f":"ROUND(G279,-1)","v":12960},15730,18440,16480,19200,15860,16980,17450]
[null,null,null,null,null,11250,11970,14150,16370,14850.000000000002,17070,14270,15220,15576.000000000002]
[null,null,null,null,null,{"$f":"F281+F281*Титул.лист!A1","v":12375},{"$f":"G281+G281*Титул.лист!A1","v":13167},{"$f":"H281+H281*Титул.лист!A1","v":15565},{"$f":"I281+I281*Титул.лист!A1","v":18007},{"$f":"J281+J281*Титул.лист!A1","v":16335.000000000002},{"$f":"K281+K281*Титул.лист!A1","v":18777},{"$f":"L281+L281*Титул.лист!A1","v":15697},{"$f":"M281+M281*Титул.лист!A1","v":16742},{"$f":"N281+N281*Титул.лист!A1","v":17133.600000000002}]
[null,null,null,null,null,{"$f":"F282+F282*Титул.лист!P2","v":12375},{"$f":"G282+G282*Титул.лист!P2","v":13167},{"$f":"H282+H282*Титул.лист!P2","v":15565},{"$f":"I282+I282*Титул.лист!P2","v":18007},{"$f":"J282+J282*Титул.лист!P2","v":16335.000000000002},{"$f":"K282+K282*Титул.лист!P2","v":18777},{"$f":"L282+L282*Титул.лист!P2","v":15697},{"$f":"M282+M282*Титул.лист!P2","v":16742},{"$f":"N282+N282*Титул.лист!P2","v":17133.600000000002}]
["НКМ-13",null,"2,0м",{"$f":"A284&\", длина: \"&C284","v":"НКМ-13, длина: 2,0м"},"600+400+600+400",{"$f":"ROUND(F283,-1)","v":12380},{"$f":"ROUND(G283,-1)","v":13170},15570,18010,16340,18780,15700,16740,17130]
[null,null,null,null,null,12000,12720,15170,17600,15870,18300,15300,16330,16730]
[null,null,null,null,null,{"$f":"F285+F285*Титул.лист!A1","v":13200},{"$f":"G285+G285*Титул.лист!A1","v":13992},{"$f":"H285+H285*Титул.лист!A1","v":16687},{"$f":"I285+I285*Титул.лист!A1","v":19360},{"$f":"J285+J285*Титул.лист!A1","v":17457},{"$f":"K285+K285*Титул.лист!A1","v":20130},{"$f":"L285+L285*Титул.лист!A1","v":16830},{"$f":"M285+M285*Титул.лист!A1","v":17963},{"$f":"N285+N285*Титул.лист!A1","v":18403}]
[null,null,null,null,null,{"$f":"F286+F286*Титул.лист!P2","v":13200},{"$f":"G286+G286*Титул.лист!P2","v":13992},{"$f":"H286+H286*Титул.лист!P2","v":16687},{"$f":"I286+I286*Титул.лист!P2","v":19360},{"$f":"J286+J286*Титул.лист!P2","v":17457},{"$f":"K286+K286*Титул.лист!P2","v":20130},{"$f":"L286+L286*Титул.лист!P2","v":16830},{"$f":"M286+M286*Титул.лист!P2","v":17963},{"$f":"N286+N286*Титул.лист!P2","v":18403}]
["НКМ-14",null,"2,2м",{"$f":"A288&\", длина: \"&C288","v":"НКМ-14, длина: 2,2м"},"600+400+800+400",{"$f":"ROUND(F287,-1)","v":13200},{"$f":"ROUND(G287,-1)","v":13990},16690,19360,17460,20130,16830,17960,18400]
[null,null,null,null,null,12340,13070,15830,18510,16550,19240,16020,17130,17580]
[null,null,null,null,null,{"$f":"F289+F289*Титул.лист!A1","v":13574},{"$f":"G289+G289*Титул.лист!A1","v":14377},{"$f":"H289+H289*Титул.лист!A1","v":17413},{"$f":"I289+I289*Титул.лист!A1","v":20361},{"$f":"J289+J289*Титул.лист!A1","v":18205},{"$f":"K289+K289*Титул.лист!A1","v":21164},{"$f":"L289+L289*Титул.лист!A1","v":17622},{"$f":"M289+M289*Титул.лист!A1","v":18843},{"$f":"N289+N289*Титул.лист!A1","v":19338}]
[null,null,null,null,null,{"$f":"F290+F290*Титул.лист!P2","v":13574},{"$f":"G290+G290*Титул.лист!P2","v":14377},{"$f":"H290+H290*Титул.лист!P2","v":17413},{"$f":"I290+I290*Титул.лист!P2","v":20361},{"$f":"J290+J290*Титул.лист!P2","v":18205},{"$f":"K290+K290*Титул.лист!P2","v":21164},{"$f":"L290+L290*Титул.лист!P2","v":17622},{"$f":"M290+M290*Титул.лист!P2","v":18843},{"$f":"N290+N290*Титул.лист!P2","v":19338}]
["НКМ-15",null,"2,4м",{"$f":"A292&\", длина: \"&C292","v":"НКМ-15, длина: 2,4м"},"800+400+800+400",{"$f":"ROUND(F291,-1)","v":13570},{"$f":"ROUND(G291,-1)","v":14380},17410,20360,18210,21160,17620,18840,19340]
[null,null,null,null,null,11250,11770.000000000002,13390,15030,13900,15540,13460,14160,14430]
[null,null,null,null,null,{"$f":"F293+F293*Титул.лист!A1","v":12375},{"$f":"G293+G293*Титул.лист!A1","v":12947.000000000002},{"$f":"H293+H293*Титул.лист!A1","v":14729},{"$f":"I293+I293*Титул.лист!A1","v":16533},{"$f":"J293+J293*Титул.лист!A1","v":15290},{"$f":"K293+K293*Титул.лист!A1","v":17094},{"$f":"L293+L293*Титул.лист!A1","v":14806},{"$f":"M293+M293*Титул.лист!A1","v":15576},{"$f":"N293+N293*Титул.лист!A1","v":15873}]
[null,null,null,null,null,{"$f":"F294+F294*Титул.лист!P2","v":12375},{"$f":"G294+G294*Титул.лист!P2","v":12947.000000000002},{"$f":"H294+H294*Титул.лист!P2","v":14729},{"$f":"I294+I294*Титул.лист!P2","v":16533},{"$f":"J294+J294*Титул.лист!P2","v":15290},{"$f":"K294+K294*Титул.лист!P2","v":17094},{"$f":"L294+L294*Титул.лист!P2","v":14806},{"$f":"M294+M294*Титул.лист!P2","v":15576},{"$f":"N294+N294*Титул.лист!P2","v":15873}]
["НКМ-16",null,"1,2х1,2",{"$f":"A296&\", длина: \"&C296","v":"НКМ-16, длина: 1,2х1,2"},"400+800х800+400\n(400+300+500х500+\n300+400)",{"$f":"ROUND(F295,-1)","v":12380},{"$f":"ROUND(G295,-1)","v":12950},14730,16530,15290,17090,14810,15580,15870]
[null,null,null,null,null,12010,12610,14480,16330,15070.000000000002,16930,14520.000000000002,15320,15640]
[null,null,null,null,null,{"$f":"F297+F297*Титул.лист!A1","v":13211},{"$f":"G297+G297*Титул.лист!A1","v":13871},{"$f":"H297+H297*Титул.лист!A1","v":15928},{"$f":"I297+I297*Титул.лист!A1","v":17963},{"$f":"J297+J297*Титул.лист!A1","v":16577.000000000004},{"$f":"K297+K297*Титул.лист!A1","v":18623},{"$f":"L297+L297*Титул.лист!A1","v":15972.000000000002},{"$f":"M297+M297*Титул.лист!A1","v":16852},{"$f":"N297+N297*Титул.лист!A1","v":17204}]
[null,null,null,null,null,{"$f":"F298+F298*Титул.лист!P2","v":13211},{"$f":"G298+G298*Титул.лист!P2","v":13871},{"$f":"H298+H298*Титул.лист!P2","v":15928},{"$f":"I298+I298*Титул.лист!P2","v":17963},{"$f":"J298+J298*Титул.лист!P2","v":16577.000000000004},{"$f":"K298+K298*Титул.лист!P2","v":18623},{"$f":"L298+L298*Титул.лист!P2","v":15972.000000000002},{"$f":"M298+M298*Титул.лист!P2","v":16852},{"$f":"N298+N298*Титул.лист!P2","v":17204}]
["НКМ-17",null,"1,2х1,4",{"$f":"A300&\", длина: \"&C300","v":"НКМ-17, длина: 1,2х1,4"},"400+800х800+600\n(400+300+500х500+\n300+600)",{"$f":"ROUND(F299,-1)","v":13210},{"$f":"ROUND(G299,-1)","v":13870},15930,17960,16580,18620,15970,16850,17200]
[null,null,null,null,null,12660,13250,15430,17560,16030,18150,15520,16390,16770]
[null,null,null,null,null,{"$f":"F301+F301*Титул.лист!A1","v":13926},{"$f":"G301+G301*Титул.лист!A1","v":14575},{"$f":"H301+H301*Титул.лист!A1","v":16973},{"$f":"I301+I301*Титул.лист!A1","v":19316},{"$f":"J301+J301*Титул.лист!A1","v":17633},{"$f":"K301+K301*Титул.лист!A1","v":19965},{"$f":"L301+L301*Титул.лист!A1","v":17072},{"$f":"M301+M301*Титул.лист!A1","v":18029},{"$f":"N301+N301*Титул.лист!A1","v":18447}]
[null,null,null,null,null,{"$f":"F302+F302*Титул.лист!P2","v":13926},{"$f":"G302+G302*Титул.лист!P2","v":14575},{"$f":"H302+H302*Титул.лист!P2","v":16973},{"$f":"I302+I302*Титул.лист!P2","v":19316},{"$f":"J302+J302*Титул.лист!P2","v":17633},{"$f":"K302+K302*Титул.лист!P2","v":19965},{"$f":"L302+L302*Титул.лист!P2","v":17072},{"$f":"M302+M302*Титул.лист!P2","v":18029},{"$f":"N302+N302*Титул.лист!P2","v":18447}]
["НКМ-18",null,"1,2х1,6",{"$f":"A304&\", длина: \"&C304","v":"НКМ-18, длина: 1,2х1,6"},"400+800х800+800\n(400+300+500х500+\n300+800)",{"$f":"ROUND(F303,-1)","v":13930},{"$f":"ROUND(G303,-1)","v":14580},16970,19320,17630,19970,17070,18030,18450]
[null,null,null,null,null,"Кухонные гарнитуты Фортуна(каталог)"]
[null,null,null,null,null,8820,9420,11240,13070,11820,13650,11310,12100.000000000002,12410]
[null,null,null,null,null,{"$f":"F306+F306*Титул.лист!A1","v":9702},{"$f":"G306+G306*Титул.лист!A1","v":10362},{"$f":"H306+H306*Титул.лист!A1","v":12364},{"$f":"I306+I306*Титул.лист!A1","v":14377},{"$f":"J306+J306*Титул.лист!A1","v":13002},{"$f":"K306+K306*Титул.лист!A1","v":15015},{"$f":"L306+L306*Титул.лист!A1","v":12441},{"$f":"M306+M306*Титул.лист!A1","v":13310.000000000002},{"$f":"N306+N306*Титул.лист!A1","v":13651}]
[null,null,null,null,null,{"$f":"F307+F307*Титул.лист!P2","v":9702},{"$f":"G307+G307*Титул.лист!P2","v":10362},{"$f":"H307+H307*Титул.лист!P2","v":12364},{"$f":"I307+I307*Титул.лист!P2","v":14377},{"$f":"J307+J307*Титул.лист!P2","v":13002},{"$f":"K307+K307*Титул.лист!P2","v":15015},{"$f":"L307+L307*Титул.лист!P2","v":12441},{"$f":"M307+M307*Титул.лист!P2","v":13310.000000000002},{"$f":"N307+N307*Титул.лист!P2","v":13651}]
["Фортуна-1",null,"1,6м",{"$f":"A309&\", длина: \"&C309","v":"Фортуна-1, длина: 1,6м"},"600+400+600",{"$f":"ROUND(F308,-1)","v":9700},{"$f":"ROUND(G308,-1)","v":10360},12360,14380,13000,15020,12440,13310,13650]
[null,null,null,null,null,10090,10660,12980.000000000002,15220,13550,15800,13120,14050,14420]
[null,null,null,null,null,{"$f":"F310+F310*Титул.лист!A1","v":11099},{"$f":"G310+G310*Титул.лист!A1","v":11726},{"$f":"H310+H310*Титул.лист!A1","v":14278.000000000002},{"$f":"I310+I310*Титул.лист!A1","v":16742},{"$f":"J310+J310*Титул.лист!A1","v":14905},{"$f":"K310+K310*Титул.лист!A1","v":17380},{"$f":"L310+L310*Титул.лист!A1","v":14432},{"$f":"M310+M310*Титул.лист!A1","v":15455},{"$f":"N310+N310*Титул.лист!A1","v":15862}]
[null,null,null,null,null,{"$f":"F311+F311*Титул.лист!P2","v":11099},{"$f":"G311+G311*Титул.лист!P2","v":11726},{"$f":"H311+H311*Титул.лист!P2","v":14278.000000000002},{"$f":"I311+I311*Титул.лист!P2","v":16742},{"$f":"J311+J311*Титул.лист!P2","v":14905},{"$f":"K311+K311*Титул.лист!P2","v":17380},{"$f":"L311+L311*Титул.лист!P2","v":14432},{"$f":"M311+M311*Титул.лист!P2","v":15455},{"$f":"N311+N311*Титул.лист!P2","v":15862}]
["Фортуна-2",null,"1,8м",{"$f":"A313&\", длина: \"&C313","v":"Фортуна-2, длина: 1,8м"},"600+500+500",{"$f":"ROUND(F312,-1)","v":11100},{"$f":"ROUND(G312,-1)","v":11730},14280,16740,14910,17380,14430,15460,15860]
[null,null,null,null,null,11030,11630,13800,15910,14400,16500,13900,14780,15170]
[null,null,null,null,null,{"$f":"F314+F314*Титул.лист!A1","v":12133},{"$f":"G314+G314*Титул.лист!A1","v":12793},{"$f":"H314+H314*Титул.лист!A1","v":15180},{"$f":"I314+I314*Титул.лист!A1","v":17501},{"$f":"J314+J314*Титул.лист!A1","v":15840},{"$f":"K314+K314*Титул.лист!A1","v":18150},{"$f":"L314+L314*Титул.лист!A1","v":15290},{"$f":"M314+M314*Титул.лист!A1","v":16258},{"$f":"N314+N314*Титул.лист!A1","v":16687}]
[null,null,null,null,null,{"$f":"F315+F315*Титул.лист!P2","v":12133},{"$f":"G315+G315*Титул.лист!P2","v":12793},{"$f":"H315+H315*Титул.лист!P2","v":15180},{"$f":"I315+I315*Титул.лист!P2","v":17501},{"$f":"J315+J315*Титул.лист!P2","v":15840},{"$f":"K315+K315*Титул.лист!P2","v":18150},{"$f":"L315+L315*Титул.лист!P2","v":15290},{"$f":"M315+M315*Титул.лист!P2","v":16258},{"$f":"N315+N315*Титул.лист!P2","v":16687}]
["Фортуна-3",null,"2,2м",{"$f":"A317&\", длина: \"&C317","v":"Фортуна-3, длина: 2,2м"},"800+600+600+200",{"$f":"ROUND(F316,-1)","v":12130},{"$f":"ROUND(G316,-1)","v":12790},15180,17500,15840,18150,15290,16260,16690]
[null,null,null,null,null,9930,10450,12210.000000000002,13950,12720,14450,12260,13010,13320]
[null,null,null,null,null,{"$f":"F318+F318*Титул.лист!A1","v":10923},{"$f":"G318+G318*Титул.лист!A1","v":11495},{"$f":"H318+H318*Титул.лист!A1","v":13431.000000000002},{"$f":"I318+I318*Титул.лист!A1","v":15345},{"$f":"J318+J318*Титул.лист!A1","v":13992},{"$f":"K318+K318*Титул.лист!A1","v":15895},{"$f":"L318+L318*Титул.лист!A1","v":13486},{"$f":"M318+M318*Титул.лист!A1","v":14311},{"$f":"N318+N318*Титул.лист!A1","v":14652}]
[null,null,null,null,null,{"$f":"F319+F319*Титул.лист!P2","v":10923},{"$f":"G319+G319*Титул.лист!P2","v":11495},{"$f":"H319+H319*Титул.лист!P2","v":13431.000000000002},{"$f":"I319+I319*Титул.лист!P2","v":15345},{"$f":"J319+J319*Титул.лист!P2","v":13992},{"$f":"K319+K319*Титул.лист!P2","v":15895},{"$f":"L319+L319*Титул.лист!P2","v":13486},{"$f":"M319+M319*Титул.лист!P2","v":14311},{"$f":"N319+N319*Титул.лист!P2","v":14652}]
["Фортуна-4",null,"1,8м",{"$f":"A321&\", длина: \"&C321","v":"Фортуна-4, длина: 1,8м"},"600+600+600",{"$f":"ROUND(F320,-1)","v":10920},{"$f":"ROUND(G320,-1)","v":11500},13430,15350,13990,15900,13490,14310,14650]
[null,null,null,null,null,10360,10910,13060,15170,13610,15720,13250,14130,14440]
[null,null,null,null,null,{"$f":"F322+F322*Титул.лист!A1","v":11396},{"$f":"G322+G322*Титул.лист!A1","v":12001},{"$f":"H322+H322*Титул.лист!A1","v":14366},{"$f":"I322+I322*Титул.лист!A1","v":16687},{"$f":"J322+J322*Титул.лист!A1","v":14971},{"$f":"K322+K322*Титул.лист!A1","v":17292},{"$f":"L322+L322*Титул.лист!A1","v":14575},{"$f":"M322+M322*Титул.лист!A1","v":15543},{"$f":"N322+N322*Титул.лист!A1","v":15884}]
[null,null,null,null,null,{"$f":"F323+F323*Титул.лист!P2","v":11396},{"$f":"G323+G323*Титул.лист!P2","v":12001},{"$f":"H323+H323*Титул.лист!P2","v":14366},{"$f":"I323+I323*Титул.лист!P2","v":16687},{"$f":"J323+J323*Титул.лист!P2","v":14971},{"$f":"K323+K323*Титул.лист!P2","v":17292},{"$f":"L323+L323*Титул.лист!P2","v":14575},{"$f":"M323+M323*Титул.лист!P2","v":15543},{"$f":"N323+N323*Титул.лист!P2","v":15884}]
["Фортуна-5",null,"1,8м",{"$f":"A325&\", длина: \"&C325","v":"Фортуна-5, длина: 1,8м"},"500+400+400+500",{"$f":"ROUND(F324,-1)","v":11400},{"$f":"ROUND(G324,-1)","v":12000},14370,16690,14970,17290,14580,15540,15880]
[null,null,null,null,null,10410,11050,13470,15790,14120,16430,13440,14430,14830]
[null,null,null,null,null,{"$f":"F326+F326*Титул.лист!A1","v":11451},{"$f":"G326+G326*Титул.лист!A1","v":12155},{"$f":"H326+H326*Титул.лист!A1","v":14817},{"$f":"I326+I326*Титул.лист!A1","v":17369},{"$f":"J326+J326*Титул.лист!A1","v":15532},{"$f":"K326+K326*Титул.лист!A1","v":18073},{"$f":"L326+L326*Титул.лист!A1","v":14784},{"$f":"M326+M326*Титул.лист!A1","v":15873},{"$f":"N326+N326*Титул.лист!A1","v":16313}]
[null,null,null,null,null,{"$f":"F327+F327*Титул.лист!P2","v":11451},{"$f":"G327+G327*Титул.лист!P2","v":12155},{"$f":"H327+H327*Титул.лист!P2","v":14817},{"$f":"I327+I327*Титул.лист!P2","v":17369},{"$f":"J327+J327*Титул.лист!P2","v":15532},{"$f":"K327+K327*Титул.лист!P2","v":18073},{"$f":"L327+L327*Титул.лист!P2","v":14784},{"$f":"M327+M327*Титул.лист!P2","v":15873},{"$f":"N327+N327*Титул.лист!P2","v":16313}]
["Фортуна-6",null,"1,8м",{"$f":"A329&\", длина: \"&C329","v":"Фортуна-6, длина: 1,8м"},"600+600+800",{"$f":"ROUND(F328,-1)","v":11450},{"$f":"ROUND(G328,-1)","v":12160},14820,17370,15530,18070,14780,15870,16310]
[null,null,null,null,null,15140,15910,18600,21220,19370,21990,18770,19900,20330]
[null,null,null,null,null,{"$f":"F330+F330*Титул.лист!A1","v":16654},{"$f":"G330+G330*Титул.лист!A1","v":17501},{"$f":"H330+H330*Титул.лист!A1","v":20460},{"$f":"I330+I330*Титул.лист!A1","v":23342},{"$f":"J330+J330*Титул.лист!A1","v":21307},{"$f":"K330+K330*Титул.лист!A1","v":24189},{"$f":"L330+L330*Титул.лист!A1","v":20647},{"$f":"M330+M330*Титул.лист!A1","v":21890},{"$f":"N330+N330*Титул.лист!A1","v":22363}]
[null,null,null,null,null,{"$f":"F331+F331*Титул.лист!P2","v":16654},{"$f":"G331+G331*Титул.лист!P2","v":17501},{"$f":"H331+H331*Титул.лист!P2","v":20460},{"$f":"I331+I331*Титул.лист!P2","v":23342},{"$f":"J331+J331*Титул.лист!P2","v":21307},{"$f":"K331+K331*Титул.лист!P2","v":24189},{"$f":"L331+L331*Титул.лист!P2","v":20647},{"$f":"M331+M331*Титул.лист!P2","v":21890},{"$f":"N331+N331*Титул.лист!P2","v":22363}]
["Фортуна-7",null,"2,1м",{"$f":"A333&\", длина: \"&C333","v":"Фортуна-7, длина: 2,1м"},"400+400+200+\n200+400+500",{"$f":"ROUND(F332,-1)","v":16650},{"$f":"ROUND(G332,-1)","v":17500},20460,23340,21310,24190,20650,21890,22360]
[null,null,null,null,null,8920,9380,11300,13160,11760,13620,11410,12170,12450]
[null,null,null,null,null,{"$f":"F334+F334*Титул.лист!A1","v":9812},{"$f":"G334+G334*Титул.лист!A1","v":10318},{"$f":"H334+H334*Титул.лист!A1","v":12430},{"$f":"I334+I334*Титул.лист!A1","v":14476},{"$f":"J334+J334*Титул.лист!A1","v":12936},{"$f":"K334+K334*Титул.лист!A1","v":14982},{"$f":"L334+L334*Титул.лист!A1","v":12551},{"$f":"M334+M334*Титул.лист!A1","v":13387},{"$f":"N334+N334*Титул.лист!A1","v":13695}]
[null,null,null,null,null,{"$f":"F335+F335*Титул.лист!P2","v":9812},{"$f":"G335+G335*Титул.лист!P2","v":10318},{"$f":"H335+H335*Титул.лист!P2","v":12430},{"$f":"I335+I335*Титул.лист!P2","v":14476},{"$f":"J335+J335*Титул.лист!P2","v":12936},{"$f":"K335+K335*Титул.лист!P2","v":14982},{"$f":"L335+L335*Титул.лист!P2","v":12551},{"$f":"M335+M335*Титул.лист!P2","v":13387},{"$f":"N335+N335*Титул.лист!P2","v":13695}]
["Фортуна-8",null,"1,5м",{"$f":"A337&\", длина: \"&C337","v":"Фортуна-8, длина: 1,5м"},"500+500+500",{"$f":"ROUND(F336,-1)","v":9810},{"$f":"ROUND(G336,-1)","v":10320},12430,14480,12940,14980,12550,13390,13700]
[null,null,null,null,null,7500,8040,9950,11840,10490,12380,10010,10770,11110]
[null,null,null,null,null,{"$f":"F338+F338*Титул.лист!A1","v":8250},{"$f":"G338+G338*Титул.лист!A1","v":8844},{"$f":"H338+H338*Титул.лист!A1","v":10945},{"$f":"I338+I338*Титул.лист!A1","v":13024},{"$f":"J338+J338*Титул.лист!A1","v":11539},{"$f":"K338+K338*Титул.лист!A1","v":13618},{"$f":"L338+L338*Титул.лист!A1","v":11011},{"$f":"M338+M338*Титул.лист!A1","v":11847},{"$f":"N338+N338*Титул.лист!A1","v":12221}]
[null,null,null,null,null,{"$f":"F339+F339*Титул.лист!P2","v":8250},{"$f":"G339+G339*Титул.лист!P2","v":8844},{"$f":"H339+H339*Титул.лист!P2","v":10945},{"$f":"I339+I339*Титул.лист!P2","v":13024},{"$f":"J339+J339*Титул.лист!P2","v":11539},{"$f":"K339+K339*Титул.лист!P2","v":13618},{"$f":"L339+L339*Титул.лист!P2","v":11011},{"$f":"M339+M339*Титул.лист!P2","v":11847},{"$f":"N339+N339*Титул.лист!P2","v":12221}]
["Фортуна-9",null,"1,6м",{"$f":"A341&\", длина: \"&C341","v":"Фортуна-9, длина: 1,6м"},"800+800",{"$f":"ROUND(F340,-1)","v":8250},{"$f":"ROUND(G340,-1)","v":8840},10950,13020,11540,13620,11010,11850,12220]
[null,null,null,null,null,9130,9660,11710,13730,12240,14260,11760,12580,12900]
[null,null,null,null,null,{"$f":"F342+F342*Титул.лист!A1","v":10043},{"$f":"G342+G342*Титул.лист!A1","v":10626},{"$f":"H342+H342*Титул.лист!A1","v":12881},{"$f":"I342+I342*Титул.лист!A1","v":15103},{"$f":"J342+J342*Титул.лист!A1","v":13464},{"$f":"K342+K342*Титул.лист!A1","v":15686},{"$f":"L342+L342*Титул.лист!A1","v":12936},{"$f":"M342+M342*Титул.лист!A1","v":13838},{"$f":"N342+N342*Титул.лист!A1","v":14190}]
[null,null,null,null,null,{"$f":"F343+F343*Титул.лист!P2","v":10043},{"$f":"G343+G343*Титул.лист!P2","v":10626},{"$f":"H343+H343*Титул.лист!P2","v":12881},{"$f":"I343+I343*Титул.лист!P2","v":15103},{"$f":"J343+J343*Титул.лист!P2","v":13464},{"$f":"K343+K343*Титул.лист!P2","v":15686},{"$f":"L343+L343*Титул.лист!P2","v":12936},{"$f":"M343+M343*Титул.лист!P2","v":13838},{"$f":"N343+N343*Титул.лист!P2","v":14190}]
["Фортуна-10",null,"1,5м",{"$f":"A345&\", длина: \"&C345","v":"Фортуна-10, длина: 1,5м"},"500+500+500",{"$f":"ROUND(F344,-1)","v":10040},{"$f":"ROUND(G344,-1)","v":10630},12880,15100,13460,15690,12940,13840,14190]
[null,null,null,null,null,10090,10720,12830,14890,13450,15520,12860,13760,14110]
[null,null,null,null,null,{"$f":"F346+F346*Титул.лист!A1","v":11099},{"$f":"G346+G346*Титул.лист!A1","v":11792},{"$f":"H346+H346*Титул.лист!A1","v":14113},{"$f":"I346+I346*Титул.лист!A1","v":16379},{"$f":"J346+J346*Титул.лист!A1","v":14795},{"$f":"K346+K346*Титул.лист!A1","v":17072},{"$f":"L346+L346*Титул.лист!A1","v":14146},{"$f":"M346+M346*Титул.лист!A1","v":15136},{"$f":"N346+N346*Титул.лист!A1","v":15521}]
[null,null,null,null,null,{"$f":"F347+F347*Титул.лист!P2","v":11099},{"$f":"G347+G347*Титул.лист!P2","v":11792},{"$f":"H347+H347*Титул.лист!P2","v":14113},{"$f":"I347+I347*Титул.лист!P2","v":16379},{"$f":"J347+J347*Титул.лист!P2","v":14795},{"$f":"K347+K347*Титул.лист!P2","v":17072},{"$f":"L347+L347*Титул.лист!P2","v":14146},{"$f":"M347+M347*Титул.лист!P2","v":15136},{"$f":"N347+N347*Титул.лист!P2","v":15521}]
["Фортуна-11",null,"1,8м",{"$f":"A349&\", длина: \"&C349","v":"Фортуна-11, длина: 1,8м"},"600+600+600",{"$f":"ROUND(F348,-1)","v":11100},{"$f":"ROUND(G348,-1)","v":11790},14110,16380,14800,17070,14150,15140,15520]
[null,null,null,null,null,11870,12340,14330,16190,14810,16860,14300.000000000002,15100,15420]
[null,null,null,null,null,{"$f":"F350+F350*Титул.лист!A1","v":13057},{"$f":"G350+G350*Титул.лист!A1","v":13574},{"$f":"H350+H350*Титул.лист!A1","v":15763},{"$f":"I350+I350*Титул.лист!A1","v":17809},{"$f":"J350+J350*Титул.лист!A1","v":16291},{"$f":"K350+K350*Титул.лист!A1","v":18546},{"$f":"L350+L350*Титул.лист!A1","v":15730.000000000002},{"$f":"M350+M350*Титул.лист!A1","v":16610},{"$f":"N350+N350*Титул.лист!A1","v":16962}]
[null,null,null,null,null,{"$f":"F351+F351*Титул.лист!P2","v":13057},{"$f":"G351+G351*Титул.лист!P2","v":13574},{"$f":"H351+H351*Титул.лист!P2","v":15763},{"$f":"I351+I351*Титул.лист!P2","v":17809},{"$f":"J351+J351*Титул.лист!P2","v":16291},{"$f":"K351+K351*Титул.лист!P2","v":18546},{"$f":"L351+L351*Титул.лист!P2","v":15730.000000000002},{"$f":"M351+M351*Титул.лист!P2","v":16610},{"$f":"N351+N351*Титул.лист!P2","v":16962}]
["Фортуна-12",null,"1,2х1,4",{"$f":"A353&\", длина: \"&C353","v":"Фортуна-12, длина: 1,2х1,4"},"400+800х800+600\n(400+300+500х500+\n300+600)",{"$f":"ROUND(F352,-1)","v":13060},{"$f":"ROUND(G352,-1)","v":13570},15760,17810,16290,18550,15730,16610,16960]

{"sheet":"Столы","index":2,"n_rows":212,"n_cols":60,"rows_kept":212,"cut":false,"hidden":false,"merged":[[57,1,60,1],[0,36,0,39],[35,1,40,1],[41,1,46,1],[47,1,52,1],[53,1,56,1],[0,4,0,7],[0,20,0,23],[19,1,20,1],[0,24,0,27],[0,28,0,31],[0,32,0,35],[30,1,34,1],[0,8,0,11],[0,12,0,15],[0,16,0,19],[35,0,40,0],[41,0,46,0],[47,0,52,0],[53,0,56,0],[18,0,20,0],[1,0,1,59],[21,0,21,59],[22,0,29,0],[22,1,29,1],[30,0,34,0],[2,0,3,0],[4,0,6,0],[7,0,8,0],[9,0,13,0],[2,1,3,1],[4,1,6,1],[7,1,8,1],[9,1,13,1],[144,1,145,1],[81,1,88,1],[127,1,134,1],[135,1,142,1],[65,1,72,1],[61,1,64,1],[95,1,97,1],[92,1,94,1],[105,1,111,1],[112,1,118,1],[73,1,80,1],[98,1,104,1],[0,40,0,43],[0,44,0,47],[0,48,0,51],[0,52,0,55],[0,56,0,59],[57,0,60,0],[61,0,64,0],[65,0,72,0],[73,0,80,0],[81,0,88,0],[89,0,91,0],[92,0,94,0],[95,0,97,0],[98,0,104,0],[105,0,111,0],[112,0,118,0],[119,0,126,0],[127,0,134,0],[135,0,142,0],[143,0,143,59],[119,1,126,1],[152,0,152,59],[157,0,158,0],[166,0,166,59],[160,0,160,59],[161,0,162,0],[153,0,155,0],[153,1,155,1],[157,1,158,1],[163,0,164,0],[198,0,205,0],[206,0,206,59],[167,0,175,0],[176,0,180,0],[181,0,182,0],[184,0,190,0],[191,0,197,0],[198,1,205,1],[167,1,175,1],[176,1,180,1],[181,1,182,1],[184,1,190,1],[191,1,197,1]]}
[null,null,"Размер","Код изделия","ЛДСП \nПВХ 0,45 мм",null,null,null,"ЛДСП \nПВХ 2мм",null,null,null,"Пластик 1к\nПВХ 0,45мм",null,null,null,"Пластик 1к\nПВХ 2мм",null,null,null,"Пластик 2к\nПВХ 0,45мм",null,null,null,"Пластик 2к\nПВХ 2мм",null,null,null,"МДФ\nмат.",null,null,null,"МДФ\nглян.",null,null,null,"МДФ\nметалл.",null,null,null,"МДФ + ПАТИНА",null,null,null,"БАГЕТНАЯ",null,null,null,"БОСТОН ПВХ/фот.печ.",null,null,null,"БОСТОН ЛАК",null,null,null,"БОСТОН ЭМАЛЬ"]
["Столы под мойку"]
[null,"Стол под мойку 1дв.",500,"1101-50",1070,{"$f":"E3+E3*Титул.лист!$A$1","v":1177},{"$f":"F3+F3*Титул.лист!$P$2","v":1177},{"$f":"ROUND(G3,-1)","v":1180},1120,{"$f":"I3+I3*Титул.лист!$A$1","v":1232},{"$f":"J3+J3*Титул.лист!$P$2","v":1232},{"$f":"ROUND(K3,-1)","v":1230},1120,{"$f":"M3+M3*Титул.лист!$A$1","v":1232},{"$f":"N3+N3*Титул.лист!$P$2","v":1232},{"$f":"ROUND(O3,-1)","v":1230},1510,{"$f":"Q3+Q3*Титул.лист!$A$1","v":1661},{"$f":"R3+R3*Титул.лист!$P$2","v":1661},{"$f":"ROUND(S3,-1)","v":1660},1750,{"$f":"U3+U3*Титул.лист!$A$1","v":1925},{"$f":"V3+V3*Титул.лист!$P$2","v":1925},{"$f":"ROUND(W3,-1)","v":1930},1800,{"$f":"Y3+Y3*Титул.лист!$A$1","v":1980},{"$f":"Z3+Z3*Титул.лист!$P$2","v":1980},{"$f":"ROUND(AA3,-1)","v":1980},1500,{"$f":"AC3+AC3*Титул.лист!$A$1","v":1650},{"$f":"AD3+AD3*Титул.лист!$P$2","v":1650},{"$f":"ROUND(AE3,-1)","v":1650},1620,{"$f":"AG3+AG3*Титул.лист!$A$1","v":1782},{"$f":"AH3+AH3*Титул.лист!$P$2","v":1782},{"$f":"ROUND(AI3,-1)","v":1780},1660,{"$f":"AK3+AK3*Титул.лист!$A$1","v":1826},{"$f":"AL3+AL3*Титул.лист!$P$2","v":1826},{"$f":"ROUND(AM3,-1)","v":1830},2899.7799999999997,{"$f":"AO3+AO3*Титул.лист!$A$1","v":3189.7579999999998},{"$f":"AP3+AP3*Титул.лист!$P$2","v":3189.7579999999998},{"$f":"ROUND(AQ3,-1)","v":3190},3293.58,{"$f":"AS3+AS3*Титул.лист!$A$1","v":3622.9380000000001},{"$f":"AT3+AT3*Титул.лист!$P$2","v":3622.9380000000001},{"$f":"ROUND(AU3,-1)","v":3620},2620.54,{"$f":"AW3+AW3*Титул.лист!$A$1","v":2882.5940000000001},{"$f":"AX3+AX3*Титул.лист!$P$2","v":2882.5940000000001},{"$f":"ROUND(AY3,-1)","v":2880},3339.6000000000004,{"$f":"BA3+BA3*Титул.лист!$A$1","v":3673.5600000000004},{"$f":"BB3+BB3*Титул.лист!$P$2","v":3673.5600000000004},{"$f":"ROUND(BC3,-1)","v":3670},4707.6000000000004,{"$f":"BE3+BE3*Титул.лист!$A$1","v":5178.3600000000006},{"$f":"BF3+BF3*Титул.лист!$P$2","v":5178.3600000000006},{"$f":"ROUND(BG3,-1)","v":5180}]
[null,null,600,"1101-60",1150,{"$f":"E4+E4*Титул.лист!$A$1","v":1265},{"$f":"F4+F4*Титул.лист!$P$2","v":1265},{"$f":"ROUND(G4,-1)","v":1270},1220,{"$f":"I4+I4*Титул.лист!$A$1","v":1342},{"$f":"J4+J4*Титул.лист!$P$2","v":1342},{"$f":"ROUND(K4,-1)","v":1340},1590,{"$f":"M4+M4*Титул.лист!$A$1","v":1749},{"$f":"N4+N4*Титул.лист!$P$2","v":1749},{"$f":"ROUND(O4,-1)","v":1750},1650.0000000000002,{"$f":"Q4+Q4*Титул.лист!$A$1","v":1815.0000000000002},{"$f":"R4+R4*Титул.лист!$P$2","v":1815.0000000000002},{"$f":"ROUND(S4,-1)","v":1820},1950,{"$f":"U4+U4*Титул.лист!$A$1","v":2145},{"$f":"V4+V4*Титул.лист!$P$2","v":2145},{"$f":"ROUND(W4,-1)","v":2150},2000,{"$f":"Y4+Y4*Титул.лист!$A$1","v":2200},{"$f":"Z4+Z4*Титул.лист!$P$2","v":2200},{"$f":"ROUND(AA4,-1)","v":2200},1590,{"$f":"AC4+AC4*Титул.лист!$A$1","v":1749},{"$f":"AD4+AD4*Титул.лист!$P$2","v":1749},{"$f":"ROUND(AE4,-1)","v":1750},1740,{"$f":"AG4+AG4*Титул.лист!$A$1","v":1914},{"$f":"AH4+AH4*Титул.лист!$P$2","v":1914},{"$f":"ROUND(AI4,-1)","v":1910},1800,{"$f":"AK4+AK4*Титул.лист!$A$1","v":1980},{"$f":"AL4+AL4*Титул.лист!$P$2","v":1980},{"$f":"ROUND(AM4,-1)","v":1980},3269.7359999999999,{"$f":"AO4+AO4*Титул.лист!$A$1","v":3596.7096000000001},{"$f":"AP4+AP4*Титул.лист!$P$2","v":3596.7096000000001},{"$f":"ROUND(AQ4,-1)","v":3600},3742.2959999999998,{"$f":"AS4+AS4*Титул.лист!$A$1","v":4116.5255999999999},{"$f":"AT4+AT4*Титул.лист!$P$2","v":4116.5255999999999},{"$f":"ROUND(AU4,-1)","v":4120},2934.6480000000001,{"$f":"AW4+AW4*Титул.лист!$A$1","v":3228.1128000000003},{"$f":"AX4+AX4*Титул.лист!$P$2","v":3228.1128000000003},{"$f":"ROUND(AY4,-1)","v":3230},3797.5200000000004,{"$f":"BA4+BA4*Титул.лист!$A$1","v":4177.2720000000008},{"$f":"BB4+BB4*Титул.лист!$P$2","v":4177.2720000000008},{"$f":"ROUND(BC4,-1)","v":4180},5439.1200000000008,{"$f":"BE4+BE4*Титул.лист!$A$1","v":5983.0320000000011},{"$f":"BF4+BF4*Титул.лист!$P$2","v":5983.0320000000011},{"$f":"ROUND(BG4,-1)","v":5980}]
[null,"Стол под мойку 2дв.",500,"1102-50",1120,{"$f":"E5+E5*Титул.лист!$A$1","v":1232},{"$f":"F5+F5*Титул.лист!$P$2","v":1232},1230,1210,{"$f":"I5+I5*Титул.лист!$A$1","v":1331},{"$f":"J5+J5*Титул.лист!$P$2","v":1331},1330,1500,{"$f":"M5+M5*Титул.лист!$A$1","v":1650},{"$f":"N5+N5*Титул.лист!$P$2","v":1650},1650,1580,{"$f":"Q5+Q5*Титул.лист!$A$1","v":1738},{"$f":"R5+R5*Титул.лист!$P$2","v":1738},1740,1790,{"$f":"U5+U5*Титул.лист!$A$1","v":1969},{"$f":"V5+V5*Титул.лист!$P$2","v":1969},1970,1880,{"$f":"Y5+Y5*Титул.лист!$A$1","v":2068},{"$f":"Z5+Z5*Титул.лист!$P$2","v":2068},2070,1540.0000000000002,{"$f":"AC5+AC5*Титул.лист!$A$1","v":1694.0000000000002},{"$f":"AD5+AD5*Титул.лист!$P$2","v":1694.0000000000002},1690,1660,{"$f":"AG5+AG5*Титул.лист!$A$1","v":1826},{"$f":"AH5+AH5*Титул.лист!$P$2","v":1826},1830,1700,{"$f":"AK5+AK5*Титул.лист!$A$1","v":1870},{"$f":"AL5+AL5*Титул.лист!$P$2","v":1870},1870,2939.78,{"$f":"AO5+AO5*Титул.лист!$A$1","v":3233.7580000000003},{"$f":"AP5+AP5*Титул.лист!$P$2","v":3233.7580000000003},3230,3333.58,{"$f":"AS5+AS5*Титул.лист!$A$1","v":3666.9380000000001},{"$f":"AT5+AT5*Титул.лист!$P$2","v":3666.9380000000001},3670,2660.54,{"$f":"AW5+AW5*Титул.лист!$A$1","v":2926.5940000000001},{"$f":"AX5+AX5*Титул.лист!$P$2","v":2926.5940000000001},2930,3379.6000000000004,{"$f":"BA5+BA5*Титул.лист!$A$1","v":3717.5600000000004},{"$f":"BB5+BB5*Титул.лист!$P$2","v":3717.5600000000004},3720,4747.6000000000004,{"$f":"BE5+BE5*Титул.лист!$A$1","v":5222.3600000000006},{"$f":"BF5+BF5*Титул.лист!$P$2","v":5222.3600000000006},5220]
[null,null,600,"1102-60",1210,{"$f":"E6+E6*Титул.лист!$A$1","v":1331},{"$f":"F6+F6*Титул.лист!$P$2","v":1331},1330,1310,{"$f":"I6+I6*Титул.лист!$A$1","v":1441},{"$f":"J6+J6*Титул.лист!$P$2","v":1441},1440,1650.0000000000002,{"$f":"M6+M6*Титул.лист!$A$1","v":1815.0000000000002},{"$f":"N6+N6*Титул.лист!$P$2","v":1815.0000000000002},1820,1740,{"$f":"Q6+Q6*Титул.лист!$A$1","v":1914},{"$f":"R6+R6*Титул.лист!$P$2","v":1914},1910,2000,{"$f":"U6+U6*Титул.лист!$A$1","v":2200},{"$f":"V6+V6*Титул.лист!$P$2","v":2200},2200,2090,{"$f":"Y6+Y6*Титул.лист!$A$1","v":2299},{"$f":"Z6+Z6*Титул.лист!$P$2","v":2299},2300,1670,{"$f":"AC6+AC6*Титул.лист!$A$1","v":1837},{"$f":"AD6+AD6*Титул.лист!$P$2","v":1837},1840,1810,{"$f":"AG6+AG6*Титул.лист!$A$1","v":1991},{"$f":"AH6+AH6*Титул.лист!$P$2","v":1991},1990,1880,{"$f":"AK6+AK6*Титул.лист!$A$1","v":2068},{"$f":"AL6+AL6*Титул.лист!$P$2","v":2068},2070,3349.7359999999999,{"$f":"AO6+AO6*Титул.лист!$A$1","v":3684.7096000000001},{"$f":"AP6+AP6*Титул.лист!$P$2","v":3684.7096000000001},3680,3822.2959999999998,{"$f":"AS6+AS6*Титул.лист!$A$1","v":4204.5255999999999},{"$f":"AT6+AT6*Титул.лист!$P$2","v":4204.5255999999999},4200,3014.6480000000001,{"$f":"AW6+AW6*Титул.лист!$A$1","v":3316.1128000000003},{"$f":"AX6+AX6*Титул.лист!$P$2","v":3316.1128000000003},3320,3877.5200000000004,{"$f":"BA6+BA6*Титул.лист!$A$1","v":4265.2720000000008},{"$f":"BB6+BB6*Титул.лист!$P$2","v":4265.2720000000008},4270,5519.1200000000008,{"$f":"BE6+BE6*Титул.лист!$A$1","v":6071.0320000000011},{"$f":"BF6+BF6*Титул.лист!$P$2","v":6071.0320000000011},6070]
[null,null,800,"1102-80",1375,{"$f":"E7+E7*Титул.лист!$A$1","v":1512.5},{"$f":"F7+F7*Титул.лист!$P$2","v":1512.5},1510,1480,{"$f":"I7+I7*Титул.лист!$A$1","v":1628},{"$f":"J7+J7*Титул.лист!$P$2","v":1628},1630,1980.0000000000002,{"$f":"M7+M7*Титул.лист!$A$1","v":2178.0000000000005},{"$f":"N7+N7*Титул.лист!$P$2","v":2178.0000000000005},2180,2090,{"$f":"Q7+Q7*Титул.лист!$A$1","v":2299},{"$f":"R7+R7*Титул.лист!$P$2","v":2299},2300,2450,{"$f":"U7+U7*Титул.лист!$A$1","v":2695},{"$f":"V7+V7*Титул.лист!$P$2","v":2695},2700,2560,{"$f":"Y7+Y7*Титул.лист!$A$1","v":2816},{"$f":"Z7+Z7*Титул.лист!$P$2","v":2816},2820,2030,{"$f":"AC7+AC7*Титул.лист!$A$1","v":2233},{"$f":"AD7+AD7*Титул.лист!$P$2","v":2233},2230,2220,{"$f":"AG7+AG7*Титул.лист!$A$1","v":2442},{"$f":"AH7+AH7*Титул.лист!$P$2","v":2442},2440,2310,{"$f":"AK7+AK7*Титул.лист!$A$1","v":2541},{"$f":"AL7+AL7*Титул.лист!$P$2","v":2541},2540,4269.6479999999992,{"$f":"AO7+AO7*Титул.лист!$A$1","v":4696.612799999999},{"$f":"AP7+AP7*Титул.лист!$P$2","v":4696.612799999999},4700,4899.7280000000001,{"$f":"AS7+AS7*Титул.лист!$A$1","v":5389.7008000000005},{"$f":"AT7+AT7*Титул.лист!$P$2","v":5389.7008000000005},5390,3822.864,{"$f":"AW7+AW7*Титул.лист!$A$1","v":4205.1504000000004},{"$f":"AX7+AX7*Титул.лист!$P$2","v":4205.1504000000004},4210,4973.3600000000006,{"$f":"BA7+BA7*Титул.лист!$A$1","v":5470.6960000000008},{"$f":"BB7+BB7*Титул.лист!$P$2","v":5470.6960000000008},5470,7162.1600000000008,{"$f":"BE7+BE7*Титул.лист!$A$1","v":7878.3760000000011},{"$f":"BF7+BF7*Титул.лист!$P$2","v":7878.3760000000011},7880]
[null,"Стол под врезную мойку 1дв.",500,"1105-50",1800,{"$f":"E8+E8*Титул.лист!$A$1","v":1980},{"$f":"F8+F8*Титул.лист!$P$2","v":1980},1980,1880,{"$f":"I8+I8*Титул.лист!$A$1","v":2068},{"$f":"J8+J8*Титул.лист!$P$2","v":2068},2070,2260,{"$f":"M8+M8*Титул.лист!$A$1","v":2486},{"$f":"N8+N8*Титул.лист!$P$2","v":2486},2490,2350,{"$f":"Q8+Q8*Титул.лист!$A$1","v":2585},{"$f":"R8+R8*Титул.лист!$P$2","v":2585},2590,2600,{"$f":"U8+U8*Титул.лист!$A$1","v":2860},{"$f":"V8+V8*Титул.лист!$P$2","v":2860},2860,2690,{"$f":"Y8+Y8*Титул.лист!$A$1","v":2959},{"$f":"Z8+Z8*Титул.лист!$P$2","v":2959},2960,2270,{"$f":"AC8+AC8*Титул.лист!$A$1","v":2497},{"$f":"AD8+AD8*Титул.лист!$P$2","v":2497},2500,2400,{"$f":"AG8+AG8*Титул.лист!$A$1","v":2640},{"$f":"AH8+AH8*Титул.лист!$P$2","v":2640},2640,2480,{"$f":"AK8+AK8*Титул.лист!$A$1","v":2728},{"$f":"AL8+AL8*Титул.лист!$P$2","v":2728},2730,3669.7799999999997,{"$f":"AO8+AO8*Титул.лист!$A$1","v":4036.7579999999998},{"$f":"AP8+AP8*Титул.лист!$P$2","v":4036.7579999999998},4040,4063.58,{"$f":"AS8+AS8*Титул.лист!$A$1","v":4469.9380000000001},{"$f":"AT8+AT8*Титул.лист!$P$2","v":4469.9380000000001},4470,3390.54,{"$f":"AW8+AW8*Титул.лист!$A$1","v":3729.5940000000001},{"$f":"AX8+AX8*Титул.лист!$P$2","v":3729.5940000000001},3730,4109.6000000000004,{"$f":"BA8+BA8*Титул.лист!$A$1","v":4520.5600000000004},{"$f":"BB8+BB8*Титул.лист!$P$2","v":4520.5600000000004},4520,5477.6,{"$f":"BE8+BE8*Титул.лист!$A$1","v":6025.3600000000006},{"$f":"BF8+BF8*Титул.лист!$P$2","v":6025.3600000000006},6030]
[null,null,600,"1105-60",1820,{"$f":"E9+E9*Титул.лист!$A$1","v":2002},{"$f":"F9+F9*Титул.лист!$P$2","v":2002},2000,1900,{"$f":"I9+I9*Титул.лист!$A$1","v":2090},{"$f":"J9+J9*Титул.лист!$P$2","v":2090},2090,2280,{"$f":"M9+M9*Титул.лист!$A$1","v":2508},{"$f":"N9+N9*Титул.лист!$P$2","v":2508},2510,2370,{"$f":"Q9+Q9*Титул.лист!$A$1","v":2607},{"$f":"R9+R9*Титул.лист!$P$2","v":2607},2610,2620,{"$f":"U9+U9*Титул.лист!$A$1","v":2882},{"$f":"V9+V9*Титул.лист!$P$2","v":2882},2880,2710,{"$f":"Y9+Y9*Титул.лист!$A$1","v":2981},{"$f":"Z9+Z9*Титул.лист!$P$2","v":2981},2980,2290,{"$f":"AC9+AC9*Титул.лист!$A$1","v":2519},{"$f":"AD9+AD9*Титул.лист!$P$2","v":2519},2520,2420,{"$f":"AG9+AG9*Титул.лист!$A$1","v":2662},{"$f":"AH9+AH9*Титул.лист!$P$2","v":2662},2660,2500,{"$f":"AK9+AK9*Титул.лист!$A$1","v":2750},{"$f":"AL9+AL9*Титул.лист!$P$2","v":2750},2750,3969.7359999999999,{"$f":"AO9+AO9*Титул.лист!$A$1","v":4366.7096000000001},{"$f":"AP9+AP9*Титул.лист!$P$2","v":4366.7096000000001},4370,4442.2960000000003,{"$f":"AS9+AS9*Титул.лист!$A$1","v":4886.5255999999999},{"$f":"AT9+AT9*Титул.лист!$P$2","v":4886.5255999999999},4890,3634.6480000000001,{"$f":"AW9+AW9*Титул.лист!$A$1","v":3998.1128000000003},{"$f":"AX9+AX9*Титул.лист!$P$2","v":3998.1128000000003},4000,4497.5200000000004,{"$f":"BA9+BA9*Титул.лист!$A$1","v":4947.2720000000008},{"$f":"BB9+BB9*Титул.лист!$P$2","v":4947.2720000000008},4950,6139.1200000000008,{"$f":"BE9+BE9*Титул.лист!$A$1","v":6753.0320000000011},{"$f":"BF9+BF9*Титул.лист!$P$2","v":6753.0320000000011},6750]
[null,"Стол под врезную мойку 2дв.",600,"1106-60",1826.0000000000002,{"$f":"E10+E10*Титул.лист!$A$1","v":2008.6000000000004},{"$f":"F10+F10*Титул.лист!$P$2","v":2008.6000000000004},2010,1920,{"$f":"I10+I10*Титул.лист!$A$1","v":2112},{"$f":"J10+J10*Титул.лист!$P$2","v":2112},2110,2300,{"$f":"M10+M10*Титул.лист!$A$1","v":2530},{"$f":"N10+N10*Титул.лист!$P$2","v":2530},2530,2390,{"$f":"Q10+Q10*Титул.лист!$A$1","v":2629},{"$f":"R10+R10*Титул.лист!$P$2","v":2629},2630,2640,{"$f":"U10+U10*Титул.лист!$A$1","v":2904},{"$f":"V10+V10*Титул.лист!$P$2","v":2904},2900,2730,{"$f":"Y10+Y10*Титул.лист!$A$1","v":3003},{"$f":"Z10+Z10*Титул.лист!$P$2","v":3003},3000,2310,{"$f":"AC10+AC10*Титул.лист!$A$1","v":2541},{"$f":"AD10+AD10*Титул.лист!$P$2","v":2541},2540,2460,{"$f":"AG10+AG10*Титул.лист!$A$1","v":2706},{"$f":"AH10+AH10*Титул.лист!$P$2","v":2706},2710,2520,{"$f":"AK10+AK10*Титул.лист!$A$1","v":2772},{"$f":"AL10+AL10*Титул.лист!$P$2","v":2772},2770,3989.7359999999999,{"$f":"AO10+AO10*Титул.лист!$A$1","v":4388.7096000000001},{"$f":"AP10+AP10*Титул.лист!$P$2","v":4388.7096000000001},4390,4462.2960000000003,{"$f":"AS10+AS10*Титул.лист!$A$1","v":4908.5255999999999},{"$f":"AT10+AT10*Титул.лист!$P$2","v":4908.5255999999999},4910,3654.6480000000001,{"$f":"AW10+AW10*Титул.лист!$A$1","v":4020.1128000000003},{"$f":"AX10+AX10*Титул.лист!$P$2","v":4020.1128000000003},4020,4517.5200000000004,{"$f":"BA10+BA10*Титул.лист!$A$1","v":4969.2720000000008},{"$f":"BB10+BB10*Титул.лист!$P$2","v":4969.2720000000008},4970,6159.1200000000008,{"$f":"BE10+BE10*Титул.лист!$A$1","v":6775.0320000000011},{"$f":"BF10+BF10*Титул.лист!$P$2","v":6775.0320000000011},6780]
[null,null,700,"1106-70",2024.0000000000002,{"$f":"E11+E11*Титул.лист!$A$1","v":2226.4},{"$f":"F11+F11*Титул.лист!$P$2","v":2226.4},2230,2130,{"$f":"I11+I11*Титул.лист!$A$1","v":2343},{"$f":"J11+J11*Титул.лист!$P$2","v":2343},2340,2550,{"$f":"M11+M11*Титул.лист!$A$1","v":2805},{"$f":"N11+N11*Титул.лист!$P$2","v":2805},2810,2660,{"$f":"Q11+Q11*Титул.лист!$A$1","v":2926},{"$f":"R11+R11*Титул.лист!$P$2","v":2926},2930,2960,{"$f":"U11+U11*Титул.лист!$A$1","v":3256},{"$f":"V11+V11*Титул.лист!$P$2","v":3256},3260,3070,{"$f":"Y11+Y11*Титул.лист!$A$1","v":3377},{"$f":"Z11+Z11*Титул.лист!$P$2","v":3377},3380,2607,{"$f":"AC11+AC11*Титул.лист!$A$1","v":2867.7},{"$f":"AD11+AD11*Титул.лист!$P$2","v":2867.7},2870,2770,{"$f":"AG11+AG11*Титул.лист!$A$1","v":3047},{"$f":"AH11+AH11*Титул.лист!$P$2","v":3047},3050,2850,{"$f":"AK11+AK11*Титул.лист!$A$1","v":3135},{"$f":"AL11+AL11*Титул.лист!$P$2","v":3135},3140,4566.692,{"$f":"AO11+AO11*Титул.лист!$A$1","v":5023.3612000000003},{"$f":"AP11+AP11*Титул.лист!$P$2","v":5023.3612000000003},5020,5118.0119999999997,{"$f":"AS11+AS11*Титул.лист!$A$1","v":5629.8131999999996},{"$f":"AT11+AT11*Титул.лист!$P$2","v":5629.8131999999996},5630,4175.7559999999994,{"$f":"AW11+AW11*Титул.лист!$A$1","v":4593.3315999999995},{"$f":"AX11+AX11*Титул.лист!$P$2","v":4593.3315999999995},4590,5182.4400000000005,{"$f":"BA11+BA11*Титул.лист!$A$1","v":5700.6840000000002},{"$f":"BB11+BB11*Титул.лист!$P$2","v":5700.6840000000002},5700,7097.64,{"$f":"BE11+BE11*Титул.лист!$A$1","v":7807.4040000000005},{"$f":"BF11+BF11*Титул.лист!$P$2","v":7807.4040000000005},7810]
[null,null,800,"1106-80",2200,{"$f":"E12+E12*Титул.лист!$A$1","v":2420},{"$f":"F12+F12*Титул.лист!$P$2","v":2420},2420,2310,{"$f":"I12+I12*Титул.лист!$A$1","v":2541},{"$f":"J12+J12*Титул.лист!$P$2","v":2541},2540,2830,{"$f":"M12+M12*Титул.лист!$A$1","v":3113},{"$f":"N12+N12*Титул.лист!$P$2","v":3113},3110,2930,{"$f":"Q12+Q12*Титул.лист!$A$1","v":3223},{"$f":"R12+R12*Титул.лист!$P$2","v":3223},3220,3300.0000000000005,{"$f":"U12+U12*Титул.лист!$A$1","v":3630.0000000000005},{"$f":"V12+V12*Титул.лист!$P$2","v":3630.0000000000005},3630,3400,{"$f":"Y12+Y12*Титул.лист!$A$1","v":3740},{"$f":"Z12+Z12*Титул.лист!$P$2","v":3740},3740,2870,{"$f":"AC12+AC12*Титул.лист!$A$1","v":3157},{"$f":"AD12+AD12*Титул.лист!$P$2","v":3157},3160,3060,{"$f":"AG12+AG12*Титул.лист!$A$1","v":3366},{"$f":"AH12+AH12*Титул.лист!$P$2","v":3366},3370,3150,{"$f":"AK12+AK12*Титул.лист!$A$1","v":3465},{"$f":"AL12+AL12*Титул.лист!$P$2","v":3465},3470,5109.6479999999992,{"$f":"AO12+AO12*Титул.лист!$A$1","v":5620.612799999999},{"$f":"AP12+AP12*Титул.лист!$P$2","v":5620.612799999999},5620,5739.7280000000001,{"$f":"AS12+AS12*Титул.лист!$A$1","v":6313.7008000000005},{"$f":"AT12+AT12*Титул.лист!$P$2","v":6313.7008000000005},6310,4662.8639999999996,{"$f":"AW12+AW12*Титул.лист!$A$1","v":5129.1503999999995},{"$f":"AX12+AX12*Титул.лист!$P$2","v":5129.1503999999995},5130,5813.3600000000006,{"$f":"BA12+BA12*Титул.лист!$A$1","v":6394.6960000000008},{"$f":"BB12+BB12*Титул.лист!$P$2","v":6394.6960000000008},6390,8002.1600000000008,{"$f":"BE12+BE12*Титул.лист!$A$1","v":8802.3760000000002},{"$f":"BF12+BF12*Титул.лист!$P$2","v":8802.3760000000002},8800]
[null,null,900,"1106-90",2398,{"$f":"E13+E13*Титул.лист!$A$1","v":2637.8},{"$f":"F13+F13*Титул.лист!$P$2","v":2637.8},2640,2510,{"$f":"I13+I13*Титул.лист!$A$1","v":2761},{"$f":"J13+J13*Титул.лист!$P$2","v":2761},2760,3080.0000000000005,{"$f":"M13+M13*Титул.лист!$A$1","v":3388.0000000000005},{"$f":"N13+N13*Титул.лист!$P$2","v":3388.0000000000005},3390,3200,{"$f":"Q13+Q13*Титул.лист!$A$1","v":3520},{"$f":"R13+R13*Титул.лист!$P$2","v":3520},3520,3610,{"$f":"U13+U13*Титул.лист!$A$1","v":3971},{"$f":"V13+V13*Титул.лист!$P$2","v":3971},3970,3730,{"$f":"Y13+Y13*Титул.лист!$A$1","v":4103},{"$f":"Z13+Z13*Титул.лист!$P$2","v":4103},4100,3150,{"$f":"AC13+AC13*Титул.лист!$A$1","v":3465},{"$f":"AD13+AD13*Титул.лист!$P$2","v":3465},3470,3370,{"$f":"AG13+AG13*Титул.лист!$A$1","v":3707},{"$f":"AH13+AH13*Титул.лист!$P$2","v":3707},3710,3460,{"$f":"AK13+AK13*Титул.лист!$A$1","v":3806},{"$f":"AL13+AL13*Титул.лист!$P$2","v":3806},3810,5669.6039999999994,{"$f":"AO13+AO13*Титул.лист!$A$1","v":6236.5643999999993},{"$f":"AP13+AP13*Титул.лист!$P$2","v":6236.5643999999993},6240,6378.4439999999995,{"$f":"AS13+AS13*Титул.лист!$A$1","v":7016.2883999999995},{"$f":"AT13+AT13*Титул.лист!$P$2","v":7016.2883999999995},7020,5166.9719999999998,{"$f":"AW13+AW13*Титул.лист!$A$1","v":5683.6691999999994},{"$f":"AX13+AX13*Титул.лист!$P$2","v":5683.6691999999994},5680,6461.2800000000007,{"$f":"BA13+BA13*Титул.лист!$A$1","v":7107.4080000000013},{"$f":"BB13+BB13*Титул.лист!$P$2","v":7107.4080000000013},7110,8923.68,{"$f":"BE13+BE13*Титул.лист!$A$1","v":9816.0480000000007},{"$f":"BF13+BF13*Титул.лист!$P$2","v":9816.0480000000007},9820]
[null,null,1000,"1106-100",2596,{"$f":"E14+E14*Титул.лист!$A$1","v":2855.6},{"$f":"F14+F14*Титул.лист!$P$2","v":2855.6},2860,2710,{"$f":"I14+I14*Титул.лист!$A$1","v":2981},{"$f":"J14+J14*Титул.лист!$P$2","v":2981},2980,3350,{"$f":"M14+M14*Титул.лист!$A$1","v":3685},{"$f":"N14+N14*Титул.лист!$P$2","v":3685},3690,3460,{"$f":"Q14+Q14*Титул.лист!$A$1","v":3806},{"$f":"R14+R14*Титул.лист!$P$2","v":3806},3810,3940,{"$f":"U14+U14*Титул.лист!$A$1","v":4334},{"$f":"V14+V14*Титул.лист!$P$2","v":4334},4330,4050,{"$f":"Y14+Y14*Титул.лист!$A$1","v":4455},{"$f":"Z14+Z14*Титул.лист!$P$2","v":4455},4460,3420,{"$f":"AC14+AC14*Титул.лист!$A$1","v":3762},{"$f":"AD14+AD14*Титул.лист!$P$2","v":3762},3760,3670,{"$f":"AG14+AG14*Титул.лист!$A$1","v":4037},{"$f":"AH14+AH14*Титул.лист!$P$2","v":4037},4040,3770,{"$f":"AK14+AK14*Титул.лист!$A$1","v":4147},{"$f":"AL14+AL14*Титул.лист!$P$2","v":4147},4150,6219.5599999999995,{"$f":"AO14+AO14*Титул.лист!$A$1","v":6841.5159999999996},{"$f":"AP14+AP14*Титул.лист!$P$2","v":6841.5159999999996},6840,7007.16,{"$f":"AS14+AS14*Титул.лист!$A$1","v":7707.8760000000002},{"$f":"AT14+AT14*Титул.лист!$P$2","v":7707.8760000000002},7710,5661.08,{"$f":"AW14+AW14*Титул.лист!$A$1","v":6227.1880000000001},{"$f":"AX14+AX14*Титул.лист!$P$2","v":6227.1880000000001},6230,7099.2000000000007,{"$f":"BA14+BA14*Титул.лист!$A$1","v":7809.1200000000008},{"$f":"BB14+BB14*Титул.лист!$P$2","v":7809.1200000000008},7810,9835.2000000000007,{"$f":"BE14+BE14*Титул.лист!$A$1","v":10818.720000000001},{"$f":"BF14+BF14*Титул.лист!$P$2","v":10818.720000000001},10820]
[null,"Стол угловой под мойку врезную 1дв.","800х800","1109-80",4060,{"$f":"E15+E15*Титул.лист!$A$1","v":4466},{"$f":"F15+F15*Титул.лист!$P$2","v":4466},4470,4120,{"$f":"I15+I15*Титул.лист!$A$1","v":4532},{"$f":"J15+J15*Титул.лист!$P$2","v":4532},4530,4320,{"$f":"M15+M15*Титул.лист!$A$1","v":4752},{"$f":"N15+N15*Титул.лист!$P$2","v":4752},4750,4370,{"$f":"Q15+Q15*Титул.лист!$A$1","v":4807},{"$f":"R15+R15*Титул.лист!$P$2","v":4807},4810,4520,{"$f":"U15+U15*Титул.лист!$A$1","v":4972},{"$f":"V15+V15*Титул.лист!$P$2","v":4972},4970,4600,{"$f":"Y15+Y15*Титул.лист!$A$1","v":5060},{"$f":"Z15+Z15*Титул.лист!$P$2","v":5060},5060,4300,{"$f":"AC15+AC15*Титул.лист!$A$1","v":4730},{"$f":"AD15+AD15*Титул.лист!$P$2","v":4730},4730,4400,{"$f":"AG15+AG15*Титул.лист!$A$1","v":4840},{"$f":"AH15+AH15*Титул.лист!$P$2","v":4840},4840,4450,{"$f":"AK15+AK15*Титул.лист!$A$1","v":4895},{"$f":"AL15+AL15*Титул.лист!$P$2","v":4895},4900,5230,{"$f":"AO15+AO15*Титул.лист!$A$1","v":5753},{"$f":"AP15+AP15*Титул.лист!$P$2","v":5753},5750,5490,{"$f":"AS15+AS15*Титул.лист!$A$1","v":6039},{"$f":"AT15+AT15*Титул.лист!$P$2","v":6039},6040,5051.2,{"$f":"AW15+AW15*Титул.лист!$A$1","v":5556.32},{"$f":"AX15+AX15*Титул.лист!$P$2","v":5556.32},5560,5526.4,{"$f":"BA15+BA15*Титул.лист!$A$1","v":6079.04},{"$f":"BB15+BB15*Титул.лист!$P$2","v":6079.04},6080,6438.4,{"$f":"BE15+BE15*Титул.лист!$A$1","v":7082.24},{"$f":"BF15+BF15*Титул.лист!$P$2","v":7082.24},7080]
[null,"Стол под мойку врез угл трапеция Л/ПР","L=600х800*(глубина)","1112-80",3780,{"$f":"E16+E16*Титул.лист!$A$1","v":4158},{"$f":"F16+F16*Титул.лист!$P$2","v":4158},4160,3840,{"$f":"I16+I16*Титул.лист!$A$1","v":4224},{"$f":"J16+J16*Титул.лист!$P$2","v":4224},4220,4040,{"$f":"M16+M16*Титул.лист!$A$1","v":4444},{"$f":"N16+N16*Титул.лист!$P$2","v":4444},4440,4090,{"$f":"Q16+Q16*Титул.лист!$A$1","v":4499},{"$f":"R16+R16*Титул.лист!$P$2","v":4499},4500,4240,{"$f":"U16+U16*Титул.лист!$A$1","v":4664},{"$f":"V16+V16*Титул.лист!$P$2","v":4664},4660,4320,{"$f":"Y16+Y16*Титул.лист!$A$1","v":4752},{"$f":"Z16+Z16*Титул.лист!$P$2","v":4752},4750,4020,{"$f":"AC16+AC16*Титул.лист!$A$1","v":4422},{"$f":"AD16+AD16*Титул.лист!$P$2","v":4422},4420,4120,{"$f":"AG16+AG16*Титул.лист!$A$1","v":4532},{"$f":"AH16+AH16*Титул.лист!$P$2","v":4532},4530,4170,{"$f":"AK16+AK16*Титул.лист!$A$1","v":4587},{"$f":"AL16+AL16*Титул.лист!$P$2","v":4587},4590,4950,{"$f":"AO16+AO16*Титул.лист!$A$1","v":5445},{"$f":"AP16+AP16*Титул.лист!$P$2","v":5445},5450,5200,{"$f":"AS16+AS16*Титул.лист!$A$1","v":5720},{"$f":"AT16+AT16*Титул.лист!$P$2","v":5720},5720,4771.2,{"$f":"AW16+AW16*Титул.лист!$A$1","v":5248.32},{"$f":"AX16+AX16*Титул.лист!$P$2","v":5248.32},5250,5246.4,{"$f":"BA16+BA16*Титул.лист!$A$1","v":5771.04},{"$f":"BB16+BB16*Титул.лист!$P$2","v":5771.04},5770,6158.4,{"$f":"BE16+BE16*Титул.лист!$A$1","v":6774.24},{"$f":"BF16+BF16*Титул.лист!$P$2","v":6774.24},6770]
[null,"Стол под мойку врез угл трапеция радиусный Л/ПР","L=800х800*(глубина)","1114-80",null,{"$f":"E17+E17*Титул.лист!$A$1","v":0},{"$f":"F17+F17*Титул.лист!$P$2","v":0},0,null,{"$f":"I17+I17*Титул.лист!$A$1","v":0},{"$f":"J17+J17*Титул.лист!$P$2","v":0},0,null,{"$f":"M17+M17*Титул.лист!$A$1","v":0},{"$f":"N17+N17*Титул.лист!$P$2","v":0},0,null,{"$f":"Q17+Q17*Титул.лист!$A$1","v":0},{"$f":"R17+R17*Титул.лист!$P$2","v":0},0,null,{"$f":"U17+U17*Титул.лист!$A$1","v":0},{"$f":"V17+V17*Титул.лист!$P$2","v":0},0,null,{"$f":"Y17+Y17*Титул.лист!$A$1","v":0},{"$f":"Z17+Z17*Титул.лист!$P$2","v":0},0,4300,{"$f":"AC17+AC17*Титул.лист!$A$1","v":4730},{"$f":"AD17+AD17*Титул.лист!$P$2","v":4730},4730,4400,{"$f":"AG17+AG17*Титул.лист!$A$1","v":4840},{"$f":"AH17+AH17*Титул.лист!$P$2","v":4840},4840,4450,{"$f":"AK17+AK17*Титул.лист!$A$1","v":4895},{"$f":"AL17+AL17*Титул.лист!$P$2","v":4895},4900,8800,{"$f":"AO17+AO17*Титул.лист!$A$1","v":9680},{"$f":"AP17+AP17*Титул.лист!$P$2","v":9680},9680,8900,{"$f":"AS17+AS17*Титул.лист!$A$1","v":9790},{"$f":"AT17+AT17*Титул.лист!$P$2","v":9790},9790,"нет",{"$f":"AW17+AW17*Титул.лист!$A$1","v":{"$error":"#VALUE!"}},{"$f":"AX17+AX17*Титул.лист!$P$2","v":{"$error":"#VALUE!"}},null,"нет",{"$f":"BA17+BA17*Титул.лист!$A$1","v":{"$error":"#VALUE!"}},{"$f":"BB17+BB17*Титул.лист!$P$2","v":{"$error":"#VALUE!"}},null,12100,{"$f":"BE17+BE17*Титул.лист!$A$1","v":13310},{"$f":"BF17+BF17*Титул.лист!$P$2","v":13310},13310]
[null,"Стол под мойку врез угл трапеция радиусный Л/ПР","L=800х600*(глубина)","1115-80(60)",null,{"$f":"E18+E18*Титул.лист!$A$1","v":0},{"$f":"F18+F18*Титул.лист!$P$2","v":0},0,null,{"$f":"I18+I18*Титул.лист!$A$1","v":0},{"$f":"J18+J18*Титул.лист!$P$2","v":0},0,null,{"$f":"M18+M18*Титул.лист!$A$1","v":0},{"$f":"N18+N18*Титул.лист!$P$2","v":0},0,null,{"$f":"Q18+Q18*Титул.лист!$A$1","v":0},{"$f":"R18+R18*Титул.лист!$P$2","v":0},0,null,{"$f":"U18+U18*Титул.лист!$A$1","v":0},{"$f":"V18+V18*Титул.лист!$P$2","v":0},0,null,{"$f":"Y18+Y18*Титул.лист!$A$1","v":0},{"$f":"Z18+Z18*Титул.лист!$P$2","v":0},0,4020,{"$f":"AC18+AC18*Титул.лист!$A$1","v":4422},{"$f":"AD18+AD18*Титул.лист!$P$2","v":4422},4420,4120,{"$f":"AG18+AG18*Титул.лист!$A$1","v":4532},{"$f":"AH18+AH18*Титул.лист!$P$2","v":4532},4530,4170,{"$f":"AK18+AK18*Титул.лист!$A$1","v":4587},{"$f":"AL18+AL18*Титул.лист!$P$2","v":4587},4590,8600,{"$f":"AO18+AO18*Титул.лист!$A$1","v":9460},{"$f":"AP18+AP18*Титул.лист!$P$2","v":9460},9460,8700,{"$f":"AS18+AS18*Титул.лист!$A$1","v":9570},{"$f":"AT18+AT18*Титул.лист!$P$2","v":9570},9570,"нет",{"$f":"AW18+AW18*Титул.лист!$A$1","v":{"$error":"#VALUE!"}},{"$f":"AX18+AX18*Титул.лист!$P$2","v":{"$error":"#VALUE!"}},null,"нет",{"$f":"BA18+BA18*Титул.лист!$A$1","v":{"$error":"#VALUE!"}},{"$f":"BB18+BB18*Титул.лист!$P$2","v":{"$error":"#VALUE!"}},null,11800,{"$f":"BE18+BE18*Титул.лист!$A$1","v":12980},{"$f":"BF18+BF18*Титул.лист!$P$2","v":12980},12980]
[null,"Стол под мойку прямой уг 1дв.(гл.400)",800,"1113-80",2244,{"$f":"E19+E19*Титул.лист!$A$1","v":2468.4},{"$f":"F19+F19*Титул.лист!$P$2","v":2468.4},2470,2290,{"$f":"I19+I19*Титул.лист!$A$1","v":2519},{"$f":"J19+J19*Титул.лист!$P$2","v":2519},2520,2490,{"$f":"M19+M19*Титул.лист!$A$1","v":2739},{"$f":"N19+N19*Титул.лист!$P$2","v":2739},2740,2530,{"$f":"Q19+Q19*Титул.лист!$A$1","v":2783},{"$f":"R19+R19*Титул.лист!$P$2","v":2783},2780,2660,{"$f":"U19+U19*Титул.лист!$A$1","v":2926},{"$f":"V19+V19*Титул.лист!$P$2","v":2926},2930,2710,{"$f":"Y19+Y19*Титул.лист!$A$1","v":2981},{"$f":"Z19+Z19*Титул.лист!$P$2","v":2981},2980,2490,{"$f":"AC19+AC19*Титул.лист!$A$1","v":2739},{"$f":"AD19+AD19*Титул.лист!$P$2","v":2739},2740,2560,{"$f":"AG19+AG19*Титул.лист!$A$1","v":2816},{"$f":"AH19+AH19*Титул.лист!$P$2","v":2816},2820,2600,{"$f":"AK19+AK19*Титул.лист!$A$1","v":2860},{"$f":"AL19+AL19*Титул.лист!$P$2","v":2860},2860,3609.8239999999996,{"$f":"AO19+AO19*Титул.лист!$A$1","v":3970.8063999999995},{"$f":"AP19+AP19*Титул.лист!$P$2","v":3970.8063999999995},3970,3924.864,{"$f":"AS19+AS19*Титул.лист!$A$1","v":4317.3504000000003},{"$f":"AT19+AT19*Титул.лист!$P$2","v":4317.3504000000003},4320,3050,{"$f":"AW19+AW19*Титул.лист!$A$1","v":3355},{"$f":"AX19+AX19*Титул.лист!$P$2","v":3355},3360,3961.6800000000003,{"$f":"BA19+BA19*Титул.лист!$A$1","v":4357.848},{"$f":"BB19+BB19*Титул.лист!$P$2","v":4357.848},4360,5056.08,{"$f":"BE19+BE19*Титул.лист!$A$1","v":5561.6880000000001},{"$f":"BF19+BF19*Титул.лист!$P$2","v":5561.6880000000001},5560]
[null,"Стол под мойку прямой угл. прямой",900,"1110-90",2431,{"$f":"E20+E20*Титул.лист!$A$1","v":2674.1},{"$f":"F20+F20*Титул.лист!$P$2","v":2674.1},2670,2490,{"$f":"I20+I20*Титул.лист!$A$1","v":2739},{"$f":"J20+J20*Титул.лист!$P$2","v":2739},2740,2660,{"$f":"M20+M20*Титул.лист!$A$1","v":2926},{"$f":"N20+N20*Титул.лист!$P$2","v":2926},2930,2720,{"$f":"Q20+Q20*Титул.лист!$A$1","v":2992},{"$f":"R20+R20*Титул.лист!$P$2","v":2992},2990,2840,{"$f":"U20+U20*Титул.лист!$A$1","v":3124},{"$f":"V20+V20*Титул.лист!$P$2","v":3124},3120,2890,{"$f":"Y20+Y20*Титул.лист!$A$1","v":3179},{"$f":"Z20+Z20*Титул.лист!$P$2","v":3179},3180,2670,{"$f":"AC20+AC20*Титул.лист!$A$1","v":2937},{"$f":"AD20+AD20*Титул.лист!$P$2","v":2937},2940,2750,{"$f":"AG20+AG20*Титул.лист!$A$1","v":3025},{"$f":"AH20+AH20*Титул.лист!$P$2","v":3025},3030,2780,{"$f":"AK20+AK20*Титул.лист!$A$1","v":3058},{"$f":"AL20+AL20*Титул.лист!$P$2","v":3058},3060,3509.8679999999999,{"$f":"AO20+AO20*Титул.лист!$A$1","v":3860.8548000000001},{"$f":"AP20+AP20*Титул.лист!$P$2","v":3860.8548000000001},3860,4100,{"$f":"AS20+AS20*Титул.лист!$A$1","v":4510},{"$f":"AT20+AT20*Титул.лист!$P$2","v":4510},4510,3300,{"$f":"AW20+AW20*Титул.лист!$A$1","v":3630},{"$f":"AX20+AX20*Титул.лист!$P$2","v":3630},3630,3773.76,{"$f":"BA20+BA20*Титул.лист!$A$1","v":4151.1360000000004},{"$f":"BB20+BB20*Титул.лист!$P$2","v":4151.1360000000004},4150,4594.5600000000004,{"$f":"BE20+BE20*Титул.лист!$A$1","v":5054.0160000000005},{"$f":"BF20+BF20*Титул.лист!$P$2","v":5054.0160000000005},5050]
[null,null,1000,"1110-100",2629,{"$f":"E21+E21*Титул.лист!$A$1","v":2891.9},{"$f":"F21+F21*Титул.лист!$P$2","v":2891.9},2890,2680,{"$f":"I21+I21*Титул.лист!$A$1","v":2948},{"$f":"J21+J21*Титул.лист!$P$2","v":2948},2950,2930,{"$f":"M21+M21*Титул.лист!$A$1","v":3223},{"$f":"N21+N21*Титул.лист!$P$2","v":3223},3220,2980,{"$f":"Q21+Q21*Титул.лист!$A$1","v":3278},{"$f":"R21+R21*Титул.лист!$P$2","v":3278},3280,3160,{"$f":"U21+U21*Титул.лист!$A$1","v":3476},{"$f":"V21+V21*Титул.лист!$P$2","v":3476},3480,3210,{"$f":"Y21+Y21*Титул.лист!$A$1","v":3531},{"$f":"Z21+Z21*Титул.лист!$P$2","v":3531},3530,2960,{"$f":"AC21+AC21*Титул.лист!$A$1","v":3256},{"$f":"AD21+AD21*Титул.лист!$P$2","v":3256},3260,3060,{"$f":"AG21+AG21*Титул.лист!$A$1","v":3366},{"$f":"AH21+AH21*Титул.лист!$P$2","v":3366},3370,3090,{"$f":"AK21+AK21*Титул.лист!$A$1","v":3399},{"$f":"AL21+AL21*Титул.лист!$P$2","v":3399},3400,4359.78,{"$f":"AO21+AO21*Титул.лист!$A$1","v":4795.7579999999998},{"$f":"AP21+AP21*Титул.лист!$P$2","v":4795.7579999999998},4800,4394.8639999999996,{"$f":"AS21+AS21*Титул.лист!$A$1","v":4834.3503999999994},{"$f":"AT21+AT21*Титул.лист!$P$2","v":4834.3503999999994},4830,3700,{"$f":"AW21+AW21*Титул.лист!$A$1","v":4070},{"$f":"AX21+AX21*Титул.лист!$P$2","v":4070},4070,4063.76,{"$f":"BA21+BA21*Титул.лист!$A$1","v":4470.1360000000004},{"$f":"BB21+BB21*Титул.лист!$P$2","v":4470.1360000000004},4470,4884.5600000000004,{"$f":"BE21+BE21*Титул.лист!$A$1","v":5373.0160000000005},{"$f":"BF21+BF21*Титул.лист!$P$2","v":5373.0160000000005},5370]
["Столы рабочие"]
[null,"Стол 1дв.",150,"1001-15",1030,{"$f":"E23+E23*Титул.лист!$A$1","v":1133},{"$f":"F23+F23*Титул.лист!$P$2","v":1133},1130,1100,{"$f":"I23+I23*Титул.лист!$A$1","v":1210},{"$f":"J23+J23*Титул.лист!$P$2","v":1210},1210,1110,{"$f":"M23+M23*Титул.лист!$A$1","v":1221},{"$f":"N23+N23*Титул.лист!$P$2","v":1221},1220,1240,{"$f":"Q23+Q23*Титул.лист!$A$1","v":1364},{"$f":"R23+R23*Титул.лист!$P$2","v":1364},1360,1300,{"$f":"U23+U23*Титул.лист!$A$1","v":1430},{"$f":"V23+V23*Титул.лист!$P$2","v":1430},1430,1370,{"$f":"Y23+Y23*Титул.лист!$A$1","v":1507},{"$f":"Z23+Z23*Титул.лист!$P$2","v":1507},1510,1200,{"$f":"AC23+AC23*Титул.лист!$A$1","v":1320},{"$f":"AD23+AD23*Титул.лист!$P$2","v":1320},1320,1250,{"$f":"AG23+AG23*Титул.лист!$A$1","v":1375},{"$f":"AH23+AH23*Титул.лист!$P$2","v":1375},1380,1290,{"$f":"AK23+AK23*Титул.лист!$A$1","v":1419},{"$f":"AL23+AL23*Титул.лист!$P$2","v":1419},1420,1619.934,{"$f":"AO23+AO23*Титул.лист!$A$1","v":1781.9274},{"$f":"AP23+AP23*Титул.лист!$P$2","v":1781.9274},1780,1738.0740000000001,{"$f":"AS23+AS23*Титул.лист!$A$1","v":1911.8814000000002},{"$f":"AT23+AT23*Титул.лист!$P$2","v":1911.8814000000002},1910,1536.162,{"$f":"AW23+AW23*Титул.лист!$A$1","v":1689.7782},{"$f":"AX23+AX23*Титул.лист!$P$2","v":1689.7782},1690,1751.88,{"$f":"BA23+BA23*Титул.лист!$A$1","v":1927.0680000000002},{"$f":"BB23+BB23*Титул.лист!$P$2","v":1927.0680000000002},1930,2162.2800000000002,{"$f":"BE23+BE23*Титул.лист!$A$1","v":2378.5080000000003},{"$f":"BF23+BF23*Титул.лист!$P$2","v":2378.5080000000003},2380]
[null,null,200,"1001-20",1090,{"$f":"E24+E24*Титул.лист!$A$1","v":1199},{"$f":"F24+F24*Титул.лист!$P$2","v":1199},1200,1130,{"$f":"I24+I24*Титул.лист!$A$1","v":1243},{"$f":"J24+J24*Титул.лист!$P$2","v":1243},1240,1250,{"$f":"M24+M24*Титул.лист!$A$1","v":1375},{"$f":"N24+N24*Титул.лист!$P$2","v":1375},1380,1300,{"$f":"Q24+Q24*Титул.лист!$A$1","v":1430},{"$f":"R24+R24*Титул.лист!$P$2","v":1430},1430,1360,{"$f":"U24+U24*Титул.лист!$A$1","v":1496},{"$f":"V24+V24*Титул.лист!$P$2","v":1496},1500,1410,{"$f":"Y24+Y24*Титул.лист!$A$1","v":1551},{"$f":"Z24+Z24*Титул.лист!$P$2","v":1551},1550,1250,{"$f":"AC24+AC24*Титул.лист!$A$1","v":1375},{"$f":"AD24+AD24*Титул.лист!$P$2","v":1375},1380,1310,{"$f":"AG24+AG24*Титул.лист!$A$1","v":1441},{"$f":"AH24+AH24*Титул.лист!$P$2","v":1441},1440,1330,{"$f":"AK24+AK24*Титул.лист!$A$1","v":1463},{"$f":"AL24+AL24*Титул.лист!$P$2","v":1463},1460,1809.9119999999998,{"$f":"AO24+AO24*Титул.лист!$A$1","v":1990.9031999999997},{"$f":"AP24+AP24*Титул.лист!$P$2","v":1990.9031999999997},1990,1967.432,{"$f":"AS24+AS24*Титул.лист!$A$1","v":2164.1752000000001},{"$f":"AT24+AT24*Титул.лист!$P$2","v":2164.1752000000001},2160,1698.2159999999999,{"$f":"AW24+AW24*Титул.лист!$A$1","v":1868.0375999999999},{"$f":"AX24+AX24*Титул.лист!$P$2","v":1868.0375999999999},1870,1985.8400000000001,{"$f":"BA24+BA24*Титул.лист!$A$1","v":2184.424},{"$f":"BB24+BB24*Титул.лист!$P$2","v":2184.424},2180,2533.04,{"$f":"BE24+BE24*Титул.лист!$A$1","v":2786.3440000000001},{"$f":"BF24+BF24*Титул.лист!$P$2","v":2786.3440000000001},2790]
[null,null,300,"1001-30",1320,{"$f":"E25+E25*Титул.лист!$A$1","v":1452},{"$f":"F25+F25*Титул.лист!$P$2","v":1452},1450,1370,{"$f":"I25+I25*Титул.лист!$A$1","v":1507},{"$f":"J25+J25*Титул.лист!$P$2","v":1507},1510,1550,{"$f":"M25+M25*Титул.лист!$A$1","v":1705},{"$f":"N25+N25*Титул.лист!$P$2","v":1705},1710,1610,{"$f":"Q25+Q25*Титул.лист!$A$1","v":1771},{"$f":"R25+R25*Титул.лист!$P$2","v":1771},1770,1730,{"$f":"U25+U25*Титул.лист!$A$1","v":1903},{"$f":"V25+V25*Титул.лист!$P$2","v":1903},1900,1780,{"$f":"Y25+Y25*Титул.лист!$A$1","v":1958},{"$f":"Z25+Z25*Титул.лист!$P$2","v":1958},1960,1560,{"$f":"AC25+AC25*Титул.лист!$A$1","v":1716},{"$f":"AD25+AD25*Титул.лист!$P$2","v":1716},1720,1640,{"$f":"AG25+AG25*Титул.лист!$A$1","v":1804},{"$f":"AH25+AH25*Титул.лист!$P$2","v":1804},1800,1670,{"$f":"AK25+AK25*Титул.лист!$A$1","v":1837},{"$f":"AL25+AL25*Титул.лист!$P$2","v":1837},1840,2399.8679999999999,{"$f":"AO25+AO25*Титул.лист!$A$1","v":2639.8548000000001},{"$f":"AP25+AP25*Титул.лист!$P$2","v":2639.8548000000001},2640,2636.1480000000001,{"$f":"AS25+AS25*Титул.лист!$A$1","v":2899.7628},{"$f":"AT25+AT25*Титул.лист!$P$2","v":2899.7628},2900,2232.3240000000001,{"$f":"AW25+AW25*Титул.лист!$A$1","v":2455.5563999999999},{"$f":"AX25+AX25*Титул.лист!$P$2","v":2455.5563999999999},2460,2663.76,{"$f":"BA25+BA25*Титул.лист!$A$1","v":2930.1360000000004},{"$f":"BB25+BB25*Титул.лист!$P$2","v":2930.1360000000004},2930,3484.5600000000004,{"$f":"BE25+BE25*Титул.лист!$A$1","v":3833.0160000000005},{"$f":"BF25+BF25*Титул.лист!$P$2","v":3833.0160000000005},3830]
[null,null,350,"1001-35",1440,{"$f":"E26+E26*Титул.лист!$A$1","v":1584},{"$f":"F26+F26*Титул.лист!$P$2","v":1584},1580,1480,{"$f":"I26+I26*Титул.лист!$A$1","v":1628},{"$f":"J26+J26*Титул.лист!$P$2","v":1628},1630,1700,{"$f":"M26+M26*Титул.лист!$A$1","v":1870},{"$f":"N26+N26*Титул.лист!$P$2","v":1870},1870,1750,{"$f":"Q26+Q26*Титул.лист!$A$1","v":1925},{"$f":"R26+R26*Титул.лист!$P$2","v":1925},1930,1910,{"$f":"U26+U26*Титул.лист!$A$1","v":2101},{"$f":"V26+V26*Титул.лист!$P$2","v":2101},2100,1960,{"$f":"Y26+Y26*Титул.лист!$A$1","v":2156},{"$f":"Z26+Z26*Титул.лист!$P$2","v":2156},2160,1730,{"$f":"AC26+AC26*Титул.лист!$A$1","v":1903},{"$f":"AD26+AD26*Титул.лист!$P$2","v":1903},1900,1800,{"$f":"AG26+AG26*Титул.лист!$A$1","v":1980},{"$f":"AH26+AH26*Титул.лист!$P$2","v":1980},1980,1850,{"$f":"AK26+AK26*Титул.лист!$A$1","v":2035},{"$f":"AL26+AL26*Титул.лист!$P$2","v":2035},2040,2709.846,{"$f":"AO26+AO26*Титул.лист!$A$1","v":2980.8306000000002},{"$f":"AP26+AP26*Титул.лист!$P$2","v":2980.8306000000002},2980,2985.5059999999999,{"$f":"AS26+AS26*Титул.лист!$A$1","v":3284.0565999999999},{"$f":"AT26+AT26*Титул.лист!$P$2","v":3284.0565999999999},3280,2514.3779999999997,{"$f":"AW26+AW26*Титул.лист!$A$1","v":2765.8157999999999},{"$f":"AX26+AX26*Титул.лист!$P$2","v":2765.8157999999999},2770,3017.7200000000003,{"$f":"BA26+BA26*Титул.лист!$A$1","v":3319.4920000000002},{"$f":"BB26+BB26*Титул.лист!$P$2","v":3319.4920000000002},3320,3975.32,{"$f":"BE26+BE26*Титул.лист!$A$1","v":4372.8519999999999},{"$f":"BF26+BF26*Титул.лист!$P$2","v":4372.8519999999999},4370]
[null,null,400,"1001-40",1550,{"$f":"E27+E27*Титул.лист!$A$1","v":1705},{"$f":"F27+F27*Титул.лист!$P$2","v":1705},1710,1610,{"$f":"I27+I27*Титул.лист!$A$1","v":1771},{"$f":"J27+J27*Титул.лист!$P$2","v":1771},1770,1850,{"$f":"M27+M27*Титул.лист!$A$1","v":2035},{"$f":"N27+N27*Титул.лист!$P$2","v":2035},2040,1900,{"$f":"Q27+Q27*Титул.лист!$A$1","v":2090},{"$f":"R27+R27*Титул.лист!$P$2","v":2090},2090,2080,{"$f":"U27+U27*Титул.лист!$A$1","v":2288},{"$f":"V27+V27*Титул.лист!$P$2","v":2288},2290,2130,{"$f":"Y27+Y27*Титул.лист!$A$1","v":2343},{"$f":"Z27+Z27*Титул.лист!$P$2","v":2343},2340,1880,{"$f":"AC27+AC27*Титул.лист!$A$1","v":2068},{"$f":"AD27+AD27*Титул.лист!$P$2","v":2068},2070,1980.0000000000002,{"$f":"AG27+AG27*Титул.лист!$A$1","v":2178.0000000000005},{"$f":"AH27+AH27*Титул.лист!$P$2","v":2178.0000000000005},2180,2010,{"$f":"AK27+AK27*Титул.лист!$A$1","v":2211},{"$f":"AL27+AL27*Титул.лист!$P$2","v":2211},2210,2999.8239999999996,{"$f":"AO27+AO27*Титул.лист!$A$1","v":3299.8063999999995},{"$f":"AP27+AP27*Титул.лист!$P$2","v":3299.8063999999995},3300,3314.864,{"$f":"AS27+AS27*Титул.лист!$A$1","v":3646.3504000000003},{"$f":"AT27+AT27*Титул.лист!$P$2","v":3646.3504000000003},3650,2776.4319999999998,{"$f":"AW27+AW27*Титул.лист!$A$1","v":3054.0751999999998},{"$f":"AX27+AX27*Титул.лист!$P$2","v":3054.0751999999998},3050,3351.6800000000003,{"$f":"BA27+BA27*Титул.лист!$A$1","v":3686.8480000000004},{"$f":"BB27+BB27*Титул.лист!$P$2","v":3686.8480000000004},3690,4446.08,{"$f":"BE27+BE27*Титул.лист!$A$1","v":4890.6880000000001},{"$f":"BF27+BF27*Титул.лист!$P$2","v":4890.6880000000001},4890]
[null,null,450,"1001-45",1670,{"$f":"E28+E28*Титул.лист!$A$1","v":1837},{"$f":"F28+F28*Титул.лист!$P$2","v":1837},1840,1730,{"$f":"I28+I28*Титул.лист!$A$1","v":1903},{"$f":"J28+J28*Титул.лист!$P$2","v":1903},1900,2010,{"$f":"M28+M28*Титул.лист!$A$1","v":2211},{"$f":"N28+N28*Титул.лист!$P$2","v":2211},2210,2070,{"$f":"Q28+Q28*Титул.лист!$A$1","v":2277},{"$f":"R28+R28*Титул.лист!$P$2","v":2277},2280,2280,{"$f":"U28+U28*Титул.лист!$A$1","v":2508},{"$f":"V28+V28*Титул.лист!$P$2","v":2508},2510,2330,{"$f":"Y28+Y28*Титул.лист!$A$1","v":2563},{"$f":"Z28+Z28*Титул.лист!$P$2","v":2563},2560,2050,{"$f":"AC28+AC28*Титул.лист!$A$1","v":2255},{"$f":"AD28+AD28*Титул.лист!$P$2","v":2255},2260,2160,{"$f":"AG28+AG28*Титул.лист!$A$1","v":2376},{"$f":"AH28+AH28*Титул.лист!$P$2","v":2376},2380,2210,{"$f":"AK28+AK28*Титул.лист!$A$1","v":2431},{"$f":"AL28+AL28*Титул.лист!$P$2","v":2431},2430,3309.8019999999997,{"$f":"AO28+AO28*Титул.лист!$A$1","v":3640.7821999999996},{"$f":"AP28+AP28*Титул.лист!$P$2","v":3640.7821999999996},3640,3664.2219999999998,{"$f":"AS28+AS28*Титул.лист!$A$1","v":4030.6441999999997},{"$f":"AT28+AT28*Титул.лист!$P$2","v":4030.6441999999997},4030,3058.4859999999999,{"$f":"AW28+AW28*Титул.лист!$A$1","v":3364.3345999999997},{"$f":"AX28+AX28*Титул.лист!$P$2","v":3364.3345999999997},3360,3705.6400000000003,{"$f":"BA28+BA28*Титул.лист!$A$1","v":4076.2040000000006},{"$f":"BB28+BB28*Титул.лист!$P$2","v":4076.2040000000006},4080,4936.84,{"$f":"BE28+BE28*Титул.лист!$A$1","v":5430.5240000000003},{"$f":"BF28+BF28*Титул.лист!$P$2","v":5430.5240000000003},5430]
[null,null,500,"1001-50",1790,{"$f":"E29+E29*Титул.лист!$A$1","v":1969},{"$f":"F29+F29*Титул.лист!$P$2","v":1969},1970,1850,{"$f":"I29+I29*Титул.лист!$A$1","v":2035},{"$f":"J29+J29*Титул.лист!$P$2","v":2035},2040,2170,{"$f":"M29+M29*Титул.лист!$A$1","v":2387},{"$f":"N29+N29*Титул.лист!$P$2","v":2387},2390,2220,{"$f":"Q29+Q29*Титул.лист!$A$1","v":2442},{"$f":"R29+R29*Титул.лист!$P$2","v":2442},2440,2460,{"$f":"U29+U29*Титул.лист!$A$1","v":2706},{"$f":"V29+V29*Титул.лист!$P$2","v":2706},2710,2520,{"$f":"Y29+Y29*Титул.лист!$A$1","v":2772},{"$f":"Z29+Z29*Титул.лист!$P$2","v":2772},2770,2210,{"$f":"AC29+AC29*Титул.лист!$A$1","v":2431},{"$f":"AD29+AD29*Титул.лист!$P$2","v":2431},2430,2330,{"$f":"AG29+AG29*Титул.лист!$A$1","v":2563},{"$f":"AH29+AH29*Титул.лист!$P$2","v":2563},2560,2380,{"$f":"AK29+AK29*Титул.лист!$A$1","v":2618},{"$f":"AL29+AL29*Титул.лист!$P$2","v":2618},2620,3609.7799999999997,{"$f":"AO29+AO29*Титул.лист!$A$1","v":3970.7579999999998},{"$f":"AP29+AP29*Титул.лист!$P$2","v":3970.7579999999998},3970,4003.58,{"$f":"AS29+AS29*Титул.лист!$A$1","v":4403.9380000000001},{"$f":"AT29+AT29*Титул.лист!$P$2","v":4403.9380000000001},4400,3330.54,{"$f":"AW29+AW29*Титул.лист!$A$1","v":3663.5940000000001},{"$f":"AX29+AX29*Титул.лист!$P$2","v":3663.5940000000001},3660,4049.6000000000004,{"$f":"BA29+BA29*Титул.лист!$A$1","v":4454.5600000000004},{"$f":"BB29+BB29*Титул.лист!$P$2","v":4454.5600000000004},4450,5417.6,{"$f":"BE29+BE29*Титул.лист!$A$1","v":5959.3600000000006},{"$f":"BF29+BF29*Титул.лист!$P$2","v":5959.3600000000006},5960]
[null,null,600,"1001-60",2020,{"$f":"E30+E30*Титул.лист!$A$1","v":2222},{"$f":"F30+F30*Титул.лист!$P$2","v":2222},2220,2090,{"$f":"I30+I30*Титул.лист!$A$1","v":2299},{"$f":"J30+J30*Титул.лист!$P$2","v":2299},2300,2490,{"$f":"M30+M30*Титул.лист!$A$1","v":2739},{"$f":"N30+N30*Титул.лист!$P$2","v":2739},2740,2552,{"$f":"Q30+Q30*Титул.лист!$A$1","v":2807.2},{"$f":"R30+R30*Титул.лист!$P$2","v":2807.2},2810,2830,{"$f":"U30+U30*Титул.лист!$A$1","v":3113},{"$f":"V30+V30*Титул.лист!$P$2","v":3113},3110,2890,{"$f":"Y30+Y30*Титул.лист!$A$1","v":3179},{"$f":"Z30+Z30*Титул.лист!$P$2","v":3179},3180,2520,{"$f":"AC30+AC30*Титул.лист!$A$1","v":2772},{"$f":"AD30+AD30*Титул.лист!$P$2","v":2772},2770,2670,{"$f":"AG30+AG30*Титул.лист!$A$1","v":2937},{"$f":"AH30+AH30*Титул.лист!$P$2","v":2937},2940,2730,{"$f":"AK30+AK30*Титул.лист!$A$1","v":3003},{"$f":"AL30+AL30*Титул.лист!$P$2","v":3003},3000,4199.7359999999999,{"$f":"AO30+AO30*Титул.лист!$A$1","v":4619.7096000000001},{"$f":"AP30+AP30*Титул.лист!$P$2","v":4619.7096000000001},4620,4672.2960000000003,{"$f":"AS30+AS30*Титул.лист!$A$1","v":5139.5255999999999},{"$f":"AT30+AT30*Титул.лист!$P$2","v":5139.5255999999999},5140,3864.6480000000001,{"$f":"AW30+AW30*Титул.лист!$A$1","v":4251.1127999999999},{"$f":"AX30+AX30*Титул.лист!$P$2","v":4251.1127999999999},4250,4727.5200000000004,{"$f":"BA30+BA30*Титул.лист!$A$1","v":5200.2720000000008},{"$f":"BB30+BB30*Титул.лист!$P$2","v":5200.2720000000008},5200,6369.1200000000008,{"$f":"BE30+BE30*Титул.лист!$A$1","v":7006.0320000000011},{"$f":"BF30+BF30*Титул.лист!$P$2","v":7006.0320000000011},7010]
[null,"Стол 2дв ",500,"1002-50",1830,{"$f":"E31+E31*Титул.лист!$A$1","v":2013},{"$f":"F31+F31*Титул.лист!$P$2","v":2013},2010,1920,{"$f":"I31+I31*Титул.лист!$A$1","v":2112},{"$f":"J31+J31*Титул.лист!$P$2","v":2112},2110,2210,{"$f":"M31+M31*Титул.лист!$A$1","v":2431},{"$f":"N31+N31*Титул.лист!$P$2","v":2431},2430,2310,{"$f":"Q31+Q31*Титул.лист!$A$1","v":2541},{"$f":"R31+R31*Титул.лист!$P$2","v":2541},2540,2510,{"$f":"U31+U31*Титул.лист!$A$1","v":2761},{"$f":"V31+V31*Титул.лист!$P$2","v":2761},2760,2610,{"$f":"Y31+Y31*Титул.лист!$A$1","v":2871},{"$f":"Z31+Z31*Титул.лист!$P$2","v":2871},2870,2240,{"$f":"AC31+AC31*Титул.лист!$A$1","v":2464},{"$f":"AD31+AD31*Титул.лист!$P$2","v":2464},2460,2360,{"$f":"AG31+AG31*Титул.лист!$A$1","v":2596},{"$f":"AH31+AH31*Титул.лист!$P$2","v":2596},2600,2410,{"$f":"AK31+AK31*Титул.лист!$A$1","v":2651},{"$f":"AL31+AL31*Титул.лист!$P$2","v":2651},2650,3639.7799999999997,{"$f":"AO31+AO31*Титул.лист!$A$1","v":4003.7579999999998},{"$f":"AP31+AP31*Титул.лист!$P$2","v":4003.7579999999998},4000,4033.58,{"$f":"AS31+AS31*Титул.лист!$A$1","v":4436.9380000000001},{"$f":"AT31+AT31*Титул.лист!$P$2","v":4436.9380000000001},4440,3360.54,{"$f":"AW31+AW31*Титул.лист!$A$1","v":3696.5940000000001},{"$f":"AX31+AX31*Титул.лист!$P$2","v":3696.5940000000001},3700,4079.6000000000004,{"$f":"BA31+BA31*Титул.лист!$A$1","v":4487.5600000000004},{"$f":"BB31+BB31*Титул.лист!$P$2","v":4487.5600000000004},4490,5447.6,{"$f":"BE31+BE31*Титул.лист!$A$1","v":5992.3600000000006},{"$f":"BF31+BF31*Титул.лист!$P$2","v":5992.3600000000006},5990]
[null,null,600,"1002-60",2080,{"$f":"E32+E32*Титул.лист!$A$1","v":2288},{"$f":"F32+F32*Титул.лист!$P$2","v":2288},2290,2180,{"$f":"I32+I32*Титул.лист!$A$1","v":2398},{"$f":"J32+J32*Титул.лист!$P$2","v":2398},2400,2540,{"$f":"M32+M32*Титул.лист!$A$1","v":2794},{"$f":"N32+N32*Титул.лист!$P$2","v":2794},2790,2640,{"$f":"Q32+Q32*Титул.лист!$A$1","v":2904},{"$f":"R32+R32*Титул.лист!$P$2","v":2904},2900,2880,{"$f":"U32+U32*Титул.лист!$A$1","v":3168},{"$f":"V32+V32*Титул.лист!$P$2","v":3168},3170,2980,{"$f":"Y32+Y32*Титул.лист!$A$1","v":3278},{"$f":"Z32+Z32*Титул.лист!$P$2","v":3278},3280,2560,{"$f":"AC32+AC32*Титул.лист!$A$1","v":2816},{"$f":"AD32+AD32*Титул.лист!$P$2","v":2816},2820,2720,{"$f":"AG32+AG32*Титул.лист!$A$1","v":2992},{"$f":"AH32+AH32*Титул.лист!$P$2","v":2992},2990,2770,{"$f":"AK32+AK32*Титул.лист!$A$1","v":3047},{"$f":"AL32+AL32*Титул.лист!$P$2","v":3047},3050,4239.7359999999999,{"$f":"AO32+AO32*Титул.лист!$A$1","v":4663.7096000000001},{"$f":"AP32+AP32*Титул.лист!$P$2","v":4663.7096000000001},4660,4712.2960000000003,{"$f":"AS32+AS32*Титул.лист!$A$1","v":5183.5255999999999},{"$f":"AT32+AT32*Титул.лист!$P$2","v":5183.5255999999999},5180,3904.6480000000001,{"$f":"AW32+AW32*Титул.лист!$A$1","v":4295.1127999999999},{"$f":"AX32+AX32*Титул.лист!$P$2","v":4295.1127999999999},4300,4767.5200000000004,{"$f":"BA32+BA32*Титул.лист!$A$1","v":5244.2720000000008},{"$f":"BB32+BB32*Титул.лист!$P$2","v":5244.2720000000008},5240,6409.1200000000008,{"$f":"BE32+BE32*Титул.лист!$A$1","v":7050.0320000000011},{"$f":"BF32+BF32*Титул.лист!$P$2","v":7050.0320000000011},7050]
[null,null,700,"1002-70",2330,{"$f":"E33+E33*Титул.лист!$A$1","v":2563},{"$f":"F33+F33*Титул.лист!$P$2","v":2563},2560,2440,{"$f":"I33+I33*Титул.лист!$A$1","v":2684},{"$f":"J33+J33*Титул.лист!$P$2","v":2684},2680,2860.0000000000005,{"$f":"M33+M33*Титул.лист!$A$1","v":3146.0000000000005},{"$f":"N33+N33*Титул.лист!$P$2","v":3146.0000000000005},3150,2970.0000000000005,{"$f":"Q33+Q33*Титул.лист!$A$1","v":3267.0000000000005},{"$f":"R33+R33*Титул.лист!$P$2","v":3267.0000000000005},3270,3270,{"$f":"U33+U33*Титул.лист!$A$1","v":3597},{"$f":"V33+V33*Титул.лист!$P$2","v":3597},3600,3380,{"$f":"Y33+Y33*Титул.лист!$A$1","v":3718},{"$f":"Z33+Z33*Титул.лист!$P$2","v":3718},3720,2910,{"$f":"AC33+AC33*Титул.лист!$A$1","v":3201},{"$f":"AD33+AD33*Титул.лист!$P$2","v":3201},3200,3080.0000000000005,{"$f":"AG33+AG33*Титул.лист!$A$1","v":3388.0000000000005},{"$f":"AH33+AH33*Титул.лист!$P$2","v":3388.0000000000005},3390,3160,{"$f":"AK33+AK33*Титул.лист!$A$1","v":3476},{"$f":"AL33+AL33*Титул.лист!$P$2","v":3476},3480,4869.692,{"$f":"AO33+AO33*Титул.лист!$A$1","v":5356.6612000000005},{"$f":"AP33+AP33*Титул.лист!$P$2","v":5356.6612000000005},5360,5421.0119999999997,{"$f":"AS33+AS33*Титул.лист!$A$1","v":5963.1131999999998},{"$f":"AT33+AT33*Титул.лист!$P$2","v":5963.1131999999998},5960,4478.7559999999994,{"$f":"AW33+AW33*Титул.лист!$A$1","v":4926.6315999999997},{"$f":"AX33+AX33*Титул.лист!$P$2","v":4926.6315999999997},4930,5485.4400000000005,{"$f":"BA33+BA33*Титул.лист!$A$1","v":6033.9840000000004},{"$f":"BB33+BB33*Титул.лист!$P$2","v":6033.9840000000004},6030,7400.64,{"$f":"BE33+BE33*Титул.лист!$A$1","v":8140.7040000000006},{"$f":"BF33+BF33*Титул.лист!$P$2","v":8140.7040000000006},8140]
[null,null,800,"1002-80",2550,{"$f":"E34+E34*Титул.лист!$A$1","v":2805},{"$f":"F34+F34*Титул.лист!$P$2","v":2805},2810,2650,{"$f":"I34+I34*Титул.лист!$A$1","v":2915},{"$f":"J34+J34*Титул.лист!$P$2","v":2915},2920,3170,{"$f":"M34+M34*Титул.лист!$A$1","v":3487},{"$f":"N34+N34*Титул.лист!$P$2","v":3487},3490,3270,{"$f":"Q34+Q34*Титул.лист!$A$1","v":3597},{"$f":"R34+R34*Титул.лист!$P$2","v":3597},3600,3640,{"$f":"U34+U34*Титул.лист!$A$1","v":4004},{"$f":"V34+V34*Титул.лист!$P$2","v":4004},4000,3740.0000000000005,{"$f":"Y34+Y34*Титул.лист!$A$1","v":4114.0000000000009},{"$f":"Z34+Z34*Титул.лист!$P$2","v":4114.0000000000009},4110,3210,{"$f":"AC34+AC34*Титул.лист!$A$1","v":3531},{"$f":"AD34+AD34*Титул.лист!$P$2","v":3531},3530,3400,{"$f":"AG34+AG34*Титул.лист!$A$1","v":3740},{"$f":"AH34+AH34*Титул.лист!$P$2","v":3740},3740,3490,{"$f":"AK34+AK34*Титул.лист!$A$1","v":3839},{"$f":"AL34+AL34*Титул.лист!$P$2","v":3839},3840,5449.6479999999992,{"$f":"AO34+AO34*Титул.лист!$A$1","v":5994.612799999999},{"$f":"AP34+AP34*Титул.лист!$P$2","v":5994.612799999999},5990,6079.7280000000001,{"$f":"AS34+AS34*Титул.лист!$A$1","v":6687.7008000000005},{"$f":"AT34+AT34*Титул.лист!$P$2","v":6687.7008000000005},6690,5002.8639999999996,{"$f":"AW34+AW34*Титул.лист!$A$1","v":5503.1503999999995},{"$f":"AX34+AX34*Титул.лист!$P$2","v":5503.1503999999995},5500,6153.3600000000006,{"$f":"BA34+BA34*Титул.лист!$A$1","v":6768.6960000000008},{"$f":"BB34+BB34*Титул.лист!$P$2","v":6768.6960000000008},6770,8342.16,{"$f":"BE34+BE34*Титул.лист!$A$1","v":9176.3760000000002},{"$f":"BF34+BF34*Титул.лист!$P$2","v":9176.3760000000002},9180]
[null,null,900,"1002-90",2800,{"$f":"E35+E35*Титул.лист!$A$1","v":3080},{"$f":"F35+F35*Титул.лист!$P$2","v":3080},3080,2910,{"$f":"I35+I35*Титул.лист!$A$1","v":3201},{"$f":"J35+J35*Титул.лист!$P$2","v":3201},3200,3490,{"$f":"M35+M35*Титул.лист!$A$1","v":3839},{"$f":"N35+N35*Титул.лист!$P$2","v":3839},3840,3600,{"$f":"Q35+Q35*Титул.лист!$A$1","v":3960},{"$f":"R35+R35*Титул.лист!$P$2","v":3960},3960,4010,{"$f":"U35+U35*Титул.лист!$A$1","v":4411},{"$f":"V35+V35*Титул.лист!$P$2","v":4411},4410,4120,{"$f":"Y35+Y35*Титул.лист!$A$1","v":4532},{"$f":"Z35+Z35*Титул.лист!$P$2","v":4532},4530,3540,{"$f":"AC35+AC35*Титул.лист!$A$1","v":3894},{"$f":"AD35+AD35*Титул.лист!$P$2","v":3894},3890,3760,{"$f":"AG35+AG35*Титул.лист!$A$1","v":4136},{"$f":"AH35+AH35*Титул.лист!$P$2","v":4136},4140,3860,{"$f":"AK35+AK35*Титул.лист!$A$1","v":4246},{"$f":"AL35+AL35*Титул.лист!$P$2","v":4246},4250,6059.6039999999994,{"$f":"AO35+AO35*Титул.лист!$A$1","v":6665.5643999999993},{"$f":"AP35+AP35*Титул.лист!$P$2","v":6665.5643999999993},6670,6768.4439999999995,{"$f":"AS35+AS35*Титул.лист!$A$1","v":7445.2883999999995},{"$f":"AT35+AT35*Титул.лист!$P$2","v":7445.2883999999995},7450,5556.9719999999998,{"$f":"AW35+AW35*Титул.лист!$A$1","v":6112.6691999999994},{"$f":"AX35+AX35*Титул.лист!$P$2","v":6112.6691999999994},6110,6851.2800000000007,{"$f":"BA35+BA35*Титул.лист!$A$1","v":7536.4080000000013},{"$f":"BB35+BB35*Титул.лист!$P$2","v":7536.4080000000013},7540,9313.68,{"$f":"BE35+BE35*Титул.лист!$A$1","v":10245.048000000001},{"$f":"BF35+BF35*Титул.лист!$P$2","v":10245.048000000001},10250]
[null,"Стол 1ящ 1дв ",300,"1003-30",1550,{"$f":"E36+E36*Титул.лист!$A$1","v":1705},{"$f":"F36+F36*Титул.лист!$P$2","v":1705},1710,1620,{"$f":"I36+I36*Титул.лист!$A$1","v":1782},{"$f":"J36+J36*Титул.лист!$P$2","v":1782},1780,1780,{"$f":"M36+M36*Титул.лист!$A$1","v":1958},{"$f":"N36+N36*Титул.лист!$P$2","v":1958},1960,1850,{"$f":"Q36+Q36*Титул.лист!$A$1","v":2035},{"$f":"R36+R36*Титул.лист!$P$2","v":2035},2040,1960,{"$f":"U36+U36*Титул.лист!$A$1","v":2156},{"$f":"V36+V36*Титул.лист!$P$2","v":2156},2160,2020,{"$f":"Y36+Y36*Титул.лист!$A$1","v":2222},{"$f":"Z36+Z36*Титул.лист!$P$2","v":2222},2220,1780,{"$f":"AC36+AC36*Титул.лист!$A$1","v":1958},{"$f":"AD36+AD36*Титул.лист!$P$2","v":1958},1960,1860,{"$f":"AG36+AG36*Титул.лист!$A$1","v":2046},{"$f":"AH36+AH36*Титул.лист!$P$2","v":2046},2050,1890,{"$f":"AK36+AK36*Титул.лист!$A$1","v":2079},{"$f":"AL36+AL36*Титул.лист!$P$2","v":2079},2080,2619.8679999999999,{"$f":"AO36+AO36*Титул.лист!$A$1","v":2881.8548000000001},{"$f":"AP36+AP36*Титул.лист!$P$2","v":2881.8548000000001},2880,2856.1480000000001,{"$f":"AS36+AS36*Титул.лист!$A$1","v":3141.7628},{"$f":"AT36+AT36*Титул.лист!$P$2","v":3141.7628},3140,2452.3240000000001,{"$f":"AW36+AW36*Титул.лист!$A$1","v":2697.5563999999999},{"$f":"AX36+AX36*Титул.лист!$P$2","v":2697.5563999999999},2700,2883.76,{"$f":"BA36+BA36*Титул.лист!$A$1","v":3172.1360000000004},{"$f":"BB36+BB36*Титул.лист!$P$2","v":3172.1360000000004},3170,3704.5600000000004,{"$f":"BE36+BE36*Титул.лист!$A$1","v":4075.0160000000005},{"$f":"BF36+BF36*Титул.лист!$P$2","v":4075.0160000000005},4080]
[null,null,350,"1003-35",1670,{"$f":"E37+E37*Титул.лист!$A$1","v":1837},{"$f":"F37+F37*Титул.лист!$P$2","v":1837},1840,1730,{"$f":"I37+I37*Титул.лист!$A$1","v":1903},{"$f":"J37+J37*Титул.лист!$P$2","v":1903},1900,1940,{"$f":"M37+M37*Титул.лист!$A$1","v":2134},{"$f":"N37+N37*Титул.лист!$P$2","v":2134},2130,1990,{"$f":"Q37+Q37*Титул.лист!$A$1","v":2189},{"$f":"R37+R37*Титул.лист!$P$2","v":2189},2190,2130,{"$f":"U37+U37*Титул.лист!$A$1","v":2343},{"$f":"V37+V37*Титул.лист!$P$2","v":2343},2340,2190,{"$f":"Y37+Y37*Титул.лист!$A$1","v":2409},{"$f":"Z37+Z37*Титул.лист!$P$2","v":2409},2410,1940,{"$f":"AC37+AC37*Титул.лист!$A$1","v":2134},{"$f":"AD37+AD37*Титул.лист!$P$2","v":2134},2130,2020,{"$f":"AG37+AG37*Титул.лист!$A$1","v":2222},{"$f":"AH37+AH37*Титул.лист!$P$2","v":2222},2220,2060,{"$f":"AK37+AK37*Титул.лист!$A$1","v":2266},{"$f":"AL37+AL37*Титул.лист!$P$2","v":2266},2270,2919.846,{"$f":"AO37+AO37*Титул.лист!$A$1","v":3211.8306000000002},{"$f":"AP37+AP37*Титул.лист!$P$2","v":3211.8306000000002},3210,3195.5059999999999,{"$f":"AS37+AS37*Титул.лист!$A$1","v":3515.0565999999999},{"$f":"AT37+AT37*Титул.лист!$P$2","v":3515.0565999999999},3520,2724.3779999999997,{"$f":"AW37+AW37*Титул.лист!$A$1","v":2996.8157999999999},{"$f":"AX37+AX37*Титул.лист!$P$2","v":2996.8157999999999},3000,3227.7200000000003,{"$f":"BA37+BA37*Титул.лист!$A$1","v":3550.4920000000002},{"$f":"BB37+BB37*Титул.лист!$P$2","v":3550.4920000000002},3550,4185.32,{"$f":"BE37+BE37*Титул.лист!$A$1","v":4603.8519999999999},{"$f":"BF37+BF37*Титул.лист!$P$2","v":4603.8519999999999},4600]
[null,null,400,"1003-40",1790,{"$f":"E38+E38*Титул.лист!$A$1","v":1969},{"$f":"F38+F38*Титул.лист!$P$2","v":1969},1970,1870.0000000000002,{"$f":"I38+I38*Титул.лист!$A$1","v":2057.0000000000005},{"$f":"J38+J38*Титул.лист!$P$2","v":2057.0000000000005},2060,2090,{"$f":"M38+M38*Титул.лист!$A$1","v":2299},{"$f":"N38+N38*Титул.лист!$P$2","v":2299},2300,2170,{"$f":"Q38+Q38*Титул.лист!$A$1","v":2387},{"$f":"R38+R38*Титул.лист!$P$2","v":2387},2390,2320,{"$f":"U38+U38*Титул.лист!$A$1","v":2552},{"$f":"V38+V38*Титул.лист!$P$2","v":2552},2550,2400,{"$f":"Y38+Y38*Титул.лист!$A$1","v":2640},{"$f":"Z38+Z38*Титул.лист!$P$2","v":2640},2640,2120,{"$f":"AC38+AC38*Титул.лист!$A$1","v":2332},{"$f":"AD38+AD38*Титул.лист!$P$2","v":2332},2330,2220,{"$f":"AG38+AG38*Титул.лист!$A$1","v":2442},{"$f":"AH38+AH38*Титул.лист!$P$2","v":2442},2440,2250,{"$f":"AK38+AK38*Титул.лист!$A$1","v":2475},{"$f":"AL38+AL38*Титул.лист!$P$2","v":2475},2480,3239.8239999999996,{"$f":"AO38+AO38*Титул.лист!$A$1","v":3563.8063999999995},{"$f":"AP38+AP38*Титул.лист!$P$2","v":3563.8063999999995},3560,3554.864,{"$f":"AS38+AS38*Титул.лист!$A$1","v":3910.3504000000003},{"$f":"AT38+AT38*Титул.лист!$P$2","v":3910.3504000000003},3910,3016.4319999999998,{"$f":"AW38+AW38*Титул.лист!$A$1","v":3318.0751999999998},{"$f":"AX38+AX38*Титул.лист!$P$2","v":3318.0751999999998},3320,3591.6800000000003,{"$f":"BA38+BA38*Титул.лист!$A$1","v":3950.8480000000004},{"$f":"BB38+BB38*Титул.лист!$P$2","v":3950.8480000000004},3950,4686.08,{"$f":"BE38+BE38*Титул.лист!$A$1","v":5154.6880000000001},{"$f":"BF38+BF38*Титул.лист!$P$2","v":5154.6880000000001},5150]
[null,null,450,"1003-45",1920,{"$f":"E39+E39*Титул.лист!$A$1","v":2112},{"$f":"F39+F39*Титул.лист!$P$2","v":2112},2110,2000,{"$f":"I39+I39*Титул.лист!$A$1","v":2200},{"$f":"J39+J39*Титул.лист!$P$2","v":2200},2200,2270,{"$f":"M39+M39*Титул.лист!$A$1","v":2497},{"$f":"N39+N39*Титул.лист!$P$2","v":2497},2500,2343,{"$f":"Q39+Q39*Титул.лист!$A$1","v":2577.3000000000002},{"$f":"R39+R39*Титул.лист!$P$2","v":2577.3000000000002},2580,2530,{"$f":"U39+U39*Титул.лист!$A$1","v":2783},{"$f":"V39+V39*Титул.лист!$P$2","v":2783},2780,2610,{"$f":"Y39+Y39*Титул.лист!$A$1","v":2871},{"$f":"Z39+Z39*Титул.лист!$P$2","v":2871},2870,2290,{"$f":"AC39+AC39*Титул.лист!$A$1","v":2519},{"$f":"AD39+AD39*Титул.лист!$P$2","v":2519},2520,2400,{"$f":"AG39+AG39*Титул.лист!$A$1","v":2640},{"$f":"AH39+AH39*Титул.лист!$P$2","v":2640},2640,2440,{"$f":"AK39+AK39*Титул.лист!$A$1","v":2684},{"$f":"AL39+AL39*Титул.лист!$P$2","v":2684},2680,3549.8019999999997,{"$f":"AO39+AO39*Титул.лист!$A$1","v":3904.7821999999996},{"$f":"AP39+AP39*Титул.лист!$P$2","v":3904.7821999999996},3900,3904.2219999999998,{"$f":"AS39+AS39*Титул.лист!$A$1","v":4294.6441999999997},{"$f":"AT39+AT39*Титул.лист!$P$2","v":4294.6441999999997},4290,3298.4859999999999,{"$f":"AW39+AW39*Титул.лист!$A$1","v":3628.3346000000001},{"$f":"AX39+AX39*Титул.лист!$P$2","v":3628.3346000000001},3630,3945.6400000000003,{"$f":"BA39+BA39*Титул.лист!$A$1","v":4340.2040000000006},{"$f":"BB39+BB39*Титул.лист!$P$2","v":4340.2040000000006},4340,5176.84,{"$f":"BE39+BE39*Титул.лист!$A$1","v":5694.5240000000003},{"$f":"BF39+BF39*Титул.лист!$P$2","v":5694.5240000000003},5690]
[null,null,500,"1003-50",2060,{"$f":"E40+E40*Титул.лист!$A$1","v":2266},{"$f":"F40+F40*Титул.лист!$P$2","v":2266},2270,2140,{"$f":"I40+I40*Титул.лист!$A$1","v":2354},{"$f":"J40+J40*Титул.лист!$P$2","v":2354},2350,2440,{"$f":"M40+M40*Титул.лист!$A$1","v":2684},{"$f":"N40+N40*Титул.лист!$P$2","v":2684},2680,2530,{"$f":"Q40+Q40*Титул.лист!$A$1","v":2783},{"$f":"R40+R40*Титул.лист!$P$2","v":2783},2780,2740,{"$f":"U40+U40*Титул.лист!$A$1","v":3014},{"$f":"V40+V40*Титул.лист!$P$2","v":3014},3010,2830,{"$f":"Y40+Y40*Титул.лист!$A$1","v":3113},{"$f":"Z40+Z40*Титул.лист!$P$2","v":3113},3110,2480,{"$f":"AC40+AC40*Титул.лист!$A$1","v":2728},{"$f":"AD40+AD40*Титул.лист!$P$2","v":2728},2730,2600,{"$f":"AG40+AG40*Титул.лист!$A$1","v":2860},{"$f":"AH40+AH40*Титул.лист!$P$2","v":2860},2860,2640,{"$f":"AK40+AK40*Титул.лист!$A$1","v":2904},{"$f":"AL40+AL40*Титул.лист!$P$2","v":2904},2900,3879.7799999999997,{"$f":"AO40+AO40*Титул.лист!$A$1","v":4267.7579999999998},{"$f":"AP40+AP40*Титул.лист!$P$2","v":4267.7579999999998},4270,4273.58,{"$f":"AS40+AS40*Титул.лист!$A$1","v":4700.9380000000001},{"$f":"AT40+AT40*Титул.лист!$P$2","v":4700.9380000000001},4700,3600.54,{"$f":"AW40+AW40*Титул.лист!$A$1","v":3960.5940000000001},{"$f":"AX40+AX40*Титул.лист!$P$2","v":3960.5940000000001},3960,4319.6000000000004,{"$f":"BA40+BA40*Титул.лист!$A$1","v":4751.5600000000004},{"$f":"BB40+BB40*Титул.лист!$P$2","v":4751.5600000000004},4750,5687.6,{"$f":"BE40+BE40*Титул.лист!$A$1","v":6256.3600000000006},{"$f":"BF40+BF40*Титул.лист!$P$2","v":6256.3600000000006},6260]
[null,null,600,"1003-60",2310,{"$f":"E41+E41*Титул.лист!$A$1","v":2541},{"$f":"F41+F41*Титул.лист!$P$2","v":2541},2540,2400,{"$f":"I41+I41*Титул.лист!$A$1","v":2640},{"$f":"J41+J41*Титул.лист!$P$2","v":2640},2640,2770,{"$f":"M41+M41*Титул.лист!$A$1","v":3047},{"$f":"N41+N41*Титул.лист!$P$2","v":3047},3050,2860.0000000000005,{"$f":"Q41+Q41*Титул.лист!$A$1","v":3146.0000000000005},{"$f":"R41+R41*Титул.лист!$P$2","v":3146.0000000000005},3150,3110,{"$f":"U41+U41*Титул.лист!$A$1","v":3421},{"$f":"V41+V41*Титул.лист!$P$2","v":3421},3420,3200,{"$f":"Y41+Y41*Титул.лист!$A$1","v":3520},{"$f":"Z41+Z41*Титул.лист!$P$2","v":3520},3520,2790,{"$f":"AC41+AC41*Титул.лист!$A$1","v":3069},{"$f":"AD41+AD41*Титул.лист!$P$2","v":3069},3070,2950,{"$f":"AG41+AG41*Титул.лист!$A$1","v":3245},{"$f":"AH41+AH41*Титул.лист!$P$2","v":3245},3250,3000,{"$f":"AK41+AK41*Титул.лист!$A$1","v":3300},{"$f":"AL41+AL41*Титул.лист!$P$2","v":3300},3300,4469.7359999999999,{"$f":"AO41+AO41*Титул.лист!$A$1","v":4916.7096000000001},{"$f":"AP41+AP41*Титул.лист!$P$2","v":4916.7096000000001},4920,4942.2960000000003,{"$f":"AS41+AS41*Титул.лист!$A$1","v":5436.5255999999999},{"$f":"AT41+AT41*Титул.лист!$P$2","v":5436.5255999999999},5440,4134.6480000000001,{"$f":"AW41+AW41*Титул.лист!$A$1","v":4548.1127999999999},{"$f":"AX41+AX41*Титул.лист!$P$2","v":4548.1127999999999},4550,4997.5200000000004,{"$f":"BA41+BA41*Титул.лист!$A$1","v":5497.2720000000008},{"$f":"BB41+BB41*Титул.лист!$P$2","v":5497.2720000000008},5500,6639.1200000000008,{"$f":"BE41+BE41*Титул.лист!$A$1","v":7303.0320000000011},{"$f":"BF41+BF41*Титул.лист!$P$2","v":7303.0320000000011},7300]
[null,"Стол 1ящ 1дв. Метабокс",300,"1003-30м",{"$f":"E36+250","v":1800},{"$f":"E42+E42*Титул.лист!$A$1","v":1980},{"$f":"F42+F42*Титул.лист!$P$2","v":1980},1980,{"$f":"I36+250","v":1870},{"$f":"I42+I42*Титул.лист!$A$1","v":2057},{"$f":"J42+J42*Титул.лист!$P$2","v":2057},2060,{"$f":"M36+250","v":2030},{"$f":"M42+M42*Титул.лист!$A$1","v":2233},{"$f":"N42+N42*Титул.лист!$P$2","v":2233},2230,{"$f":"Q36+250","v":2100},{"$f":"Q42+Q42*Титул.лист!$A$1","v":2310},{"$f":"R42+R42*Титул.лист!$P$2","v":2310},2310,{"$f":"U36+250","v":2210},{"$f":"U42+U42*Титул.лист!$A$1","v":2431},{"$f":"V42+V42*Титул.лист!$P$2","v":2431},2430,{"$f":"Y36+250","v":2270},{"$f":"Y42+Y42*Титул.лист!$A$1","v":2497},{"$f":"Z42+Z42*Титул.лист!$P$2","v":2497},2500,{"$f":"AC36+250","v":2030},{"$f":"AC42+AC42*Титул.лист!$A$1","v":2233},{"$f":"AD42+AD42*Титул.лист!$P$2","v":2233},2230,{"$f":"AG36+250","v":2110},{"$f":"AG42+AG42*Титул.лист!$A$1","v":2321},{"$f":"AH42+AH42*Титул.лист!$P$2","v":2321},2320,{"$f":"AK36+250","v":2140},{"$f":"AK42+AK42*Титул.лист!$A$1","v":2354},{"$f":"AL42+AL42*Титул.лист!$P$2","v":2354},2350,2869.8679999999999,{"$f":"AO42+AO42*Титул.лист!$A$1","v":3156.8548000000001},{"$f":"AP42+AP42*Титул.лист!$P$2","v":3156.8548000000001},3160,3106.1480000000001,{"$f":"AS42+AS42*Титул.лист!$A$1","v":3416.7628000000004},{"$f":"AT42+AT42*Титул.лист!$P$2","v":3416.7628000000004},3420,2702.3240000000001,{"$f":"AW42+AW42*Титул.лист!$A$1","v":2972.5563999999999},{"$f":"AX42+AX42*Титул.лист!$P$2","v":2972.5563999999999},2970,3133.76,{"$f":"BA42+BA42*Титул.лист!$A$1","v":3447.1360000000004},{"$f":"BB42+BB42*Титул.лист!$P$2","v":3447.1360000000004},3450,3954.5600000000004,{"$f":"BE42+BE42*Титул.лист!$A$1","v":4350.0160000000005},{"$f":"BF42+BF42*Титул.лист!$P$2","v":4350.0160000000005},4350]
[null,null,350,"1003-35м",1920,{"$f":"E43+E43*Титул.лист!$A$1","v":2112},{"$f":"F43+F43*Титул.лист!$P$2","v":2112},2110,1980,{"$f":"I43+I43*Титул.лист!$A$1","v":2178},{"$f":"J43+J43*Титул.лист!$P$2","v":2178},2180,2190,{"$f":"M43+M43*Титул.лист!$A$1","v":2409},{"$f":"N43+N43*Титул.лист!$P$2","v":2409},2410,2240,{"$f":"Q43+Q43*Титул.лист!$A$1","v":2464},{"$f":"R43+R43*Титул.лист!$P$2","v":2464},2460,2380,{"$f":"U43+U43*Титул.лист!$A$1","v":2618},{"$f":"V43+V43*Титул.лист!$P$2","v":2618},2620,2440,{"$f":"Y43+Y43*Титул.лист!$A$1","v":2684},{"$f":"Z43+Z43*Титул.лист!$P$2","v":2684},2680,2190,{"$f":"AC43+AC43*Титул.лист!$A$1","v":2409},{"$f":"AD43+AD43*Титул.лист!$P$2","v":2409},2410,2270,{"$f":"AG43+AG43*Титул.лист!$A$1","v":2497},{"$f":"AH43+AH43*Титул.лист!$P$2","v":2497},2500,2310,{"$f":"AK43+AK43*Титул.лист!$A$1","v":2541},{"$f":"AL43+AL43*Титул.лист!$P$2","v":2541},2540,3169.846,{"$f":"AO43+AO43*Титул.лист!$A$1","v":3486.8306000000002},{"$f":"AP43+AP43*Титул.лист!$P$2","v":3486.8306000000002},3490,3445.5059999999999,{"$f":"AS43+AS43*Титул.лист!$A$1","v":3790.0565999999999},{"$f":"AT43+AT43*Титул.лист!$P$2","v":3790.0565999999999},3790,2974.3779999999997,{"$f":"AW43+AW43*Титул.лист!$A$1","v":3271.8157999999999},{"$f":"AX43+AX43*Титул.лист!$P$2","v":3271.8157999999999},3270,3477.7200000000003,{"$f":"BA43+BA43*Титул.лист!$A$1","v":3825.4920000000002},{"$f":"BB43+BB43*Титул.лист!$P$2","v":3825.4920000000002},3830,4435.32,{"$f":"BE43+BE43*Титул.лист!$A$1","v":4878.8519999999999},{"$f":"BF43+BF43*Титул.лист!$P$2","v":4878.8519999999999},4880]
[null,null,400,"1003-40м",2040,{"$f":"E44+E44*Титул.лист!$A$1","v":2244},{"$f":"F44+F44*Титул.лист!$P$2","v":2244},2240,2120,{"$f":"I44+I44*Титул.лист!$A$1","v":2332},{"$f":"J44+J44*Титул.лист!$P$2","v":2332},2330,2340,{"$f":"M44+M44*Титул.лист!$A$1","v":2574},{"$f":"N44+N44*Титул.лист!$P$2","v":2574},2570,2420,{"$f":"Q44+Q44*Титул.лист!$A$1","v":2662},{"$f":"R44+R44*Титул.лист!$P$2","v":2662},2660,2570,{"$f":"U44+U44*Титул.лист!$A$1","v":2827},{"$f":"V44+V44*Титул.лист!$P$2","v":2827},2830,2650,{"$f":"Y44+Y44*Титул.лист!$A$1","v":2915},{"$f":"Z44+Z44*Титул.лист!$P$2","v":2915},2920,2370,{"$f":"AC44+AC44*Титул.лист!$A$1","v":2607},{"$f":"AD44+AD44*Титул.лист!$P$2","v":2607},2610,2470,{"$f":"AG44+AG44*Титул.лист!$A$1","v":2717},{"$f":"AH44+AH44*Титул.лист!$P$2","v":2717},2720,2500,{"$f":"AK44+AK44*Титул.лист!$A$1","v":2750},{"$f":"AL44+AL44*Титул.лист!$P$2","v":2750},2750,3489.8239999999996,{"$f":"AO44+AO44*Титул.лист!$A$1","v":3838.8063999999995},{"$f":"AP44+AP44*Титул.лист!$P$2","v":3838.8063999999995},3840,3804.864,{"$f":"AS44+AS44*Титул.лист!$A$1","v":4185.3504000000003},{"$f":"AT44+AT44*Титул.лист!$P$2","v":4185.3504000000003},4190,3266.4319999999998,{"$f":"AW44+AW44*Титул.лист!$A$1","v":3593.0751999999998},{"$f":"AX44+AX44*Титул.лист!$P$2","v":3593.0751999999998},3590,3841.6800000000003,{"$f":"BA44+BA44*Титул.лист!$A$1","v":4225.848},{"$f":"BB44+BB44*Титул.лист!$P$2","v":4225.848},4230,4936.08,{"$f":"BE44+BE44*Титул.лист!$A$1","v":5429.6880000000001},{"$f":"BF44+BF44*Титул.лист!$P$2","v":5429.6880000000001},5430]
[null,null,450,"1003-45м",2170,{"$f":"E45+E45*Титул.лист!$A$1","v":2387},{"$f":"F45+F45*Титул.лист!$P$2","v":2387},2390,2250,{"$f":"I45+I45*Титул.лист!$A$1","v":2475},{"$f":"J45+J45*Титул.лист!$P$2","v":2475},2480,2520,{"$f":"M45+M45*Титул.лист!$A$1","v":2772},{"$f":"N45+N45*Титул.лист!$P$2","v":2772},2770,2593,{"$f":"Q45+Q45*Титул.лист!$A$1","v":2852.3},{"$f":"R45+R45*Титул.лист!$P$2","v":2852.3},2850,2780,{"$f":"U45+U45*Титул.лист!$A$1","v":3058},{"$f":"V45+V45*Титул.лист!$P$2","v":3058},3060,2860,{"$f":"Y45+Y45*Титул.лист!$A$1","v":3146},{"$f":"Z45+Z45*Титул.лист!$P$2","v":3146},3150,2540,{"$f":"AC45+AC45*Титул.лист!$A$1","v":2794},{"$f":"AD45+AD45*Титул.лист!$P$2","v":2794},2790,2650,{"$f":"AG45+AG45*Титул.лист!$A$1","v":2915},{"$f":"AH45+AH45*Титул.лист!$P$2","v":2915},2920,2690,{"$f":"AK45+AK45*Титул.лист!$A$1","v":2959},{"$f":"AL45+AL45*Титул.лист!$P$2","v":2959},2960,3799.8019999999997,{"$f":"AO45+AO45*Титул.лист!$A$1","v":4179.7821999999996},{"$f":"AP45+AP45*Титул.лист!$P$2","v":4179.7821999999996},4180,4154.2219999999998,{"$f":"AS45+AS45*Титул.лист!$A$1","v":4569.6441999999997},{"$f":"AT45+AT45*Титул.лист!$P$2","v":4569.6441999999997},4570,3548.4859999999999,{"$f":"AW45+AW45*Титул.лист!$A$1","v":3903.3346000000001},{"$f":"AX45+AX45*Титул.лист!$P$2","v":3903.3346000000001},3900,4195.6400000000003,{"$f":"BA45+BA45*Титул.лист!$A$1","v":4615.2040000000006},{"$f":"BB45+BB45*Титул.лист!$P$2","v":4615.2040000000006},4620,5426.84,{"$f":"BE45+BE45*Титул.лист!$A$1","v":5969.5240000000003},{"$f":"BF45+BF45*Титул.лист!$P$2","v":5969.5240000000003},5970]
[null,null,500,"1003-50м",2310,{"$f":"E46+E46*Титул.лист!$A$1","v":2541},{"$f":"F46+F46*Титул.лист!$P$2","v":2541},2540,2390,{"$f":"I46+I46*Титул.лист!$A$1","v":2629},{"$f":"J46+J46*Титул.лист!$P$2","v":2629},2630,2690,{"$f":"M46+M46*Титул.лист!$A$1","v":2959},{"$f":"N46+N46*Титул.лист!$P$2","v":2959},2960,2780,{"$f":"Q46+Q46*Титул.лист!$A$1","v":3058},{"$f":"R46+R46*Титул.лист!$P$2","v":3058},3060,2990,{"$f":"U46+U46*Титул.лист!$A$1","v":3289},{"$f":"V46+V46*Титул.лист!$P$2","v":3289},3290,3080,{"$f":"Y46+Y46*Титул.лист!$A$1","v":3388},{"$f":"Z46+Z46*Титул.лист!$P$2","v":3388},3390,2730,{"$f":"AC46+AC46*Титул.лист!$A$1","v":3003},{"$f":"AD46+AD46*Титул.лист!$P$2","v":3003},3000,2850,{"$f":"AG46+AG46*Титул.лист!$A$1","v":3135},{"$f":"AH46+AH46*Титул.лист!$P$2","v":3135},3140,2890,{"$f":"AK46+AK46*Титул.лист!$A$1","v":3179},{"$f":"AL46+AL46*Титул.лист!$P$2","v":3179},3180,4129.78,{"$f":"AO46+AO46*Титул.лист!$A$1","v":4542.7579999999998},{"$f":"AP46+AP46*Титул.лист!$P$2","v":4542.7579999999998},4540,4523.58,{"$f":"AS46+AS46*Титул.лист!$A$1","v":4975.9380000000001},{"$f":"AT46+AT46*Титул.лист!$P$2","v":4975.9380000000001},4980,3850.54,{"$f":"AW46+AW46*Титул.лист!$A$1","v":4235.5940000000001},{"$f":"AX46+AX46*Титул.лист!$P$2","v":4235.5940000000001},4240,4569.6000000000004,{"$f":"BA46+BA46*Титул.лист!$A$1","v":5026.5600000000004},{"$f":"BB46+BB46*Титул.лист!$P$2","v":5026.5600000000004},5030,5937.6,{"$f":"BE46+BE46*Титул.лист!$A$1","v":6531.3600000000006},{"$f":"BF46+BF46*Титул.лист!$P$2","v":6531.3600000000006},6530]
[null,null,600,"1003-60м",2560,{"$f":"E47+E47*Титул.лист!$A$1","v":2816},{"$f":"F47+F47*Титул.лист!$P$2","v":2816},2820,2650,{"$f":"I47+I47*Титул.лист!$A$1","v":2915},{"$f":"J47+J47*Титул.лист!$P$2","v":2915},2920,3020,{"$f":"M47+M47*Титул.лист!$A$1","v":3322},{"$f":"N47+N47*Титул.лист!$P$2","v":3322},3320,3110.0000000000005,{"$f":"Q47+Q47*Титул.лист!$A$1","v":3421.0000000000005},{"$f":"R47+R47*Титул.лист!$P$2","v":3421.0000000000005},3420,3360,{"$f":"U47+U47*Титул.лист!$A$1","v":3696},{"$f":"V47+V47*Титул.лист!$P$2","v":3696},3700,3450,{"$f":"Y47+Y47*Титул.лист!$A$1","v":3795},{"$f":"Z47+Z47*Титул.лист!$P$2","v":3795},3800,3040,{"$f":"AC47+AC47*Титул.лист!$A$1","v":3344},{"$f":"AD47+AD47*Титул.лист!$P$2","v":3344},3340,3200,{"$f":"AG47+AG47*Титул.лист!$A$1","v":3520},{"$f":"AH47+AH47*Титул.лист!$P$2","v":3520},3520,3250,{"$f":"AK47+AK47*Титул.лист!$A$1","v":3575},{"$f":"AL47+AL47*Титул.лист!$P$2","v":3575},3580,4719.7359999999999,{"$f":"AO47+AO47*Титул.лист!$A$1","v":5191.7096000000001},{"$f":"AP47+AP47*Титул.лист!$P$2","v":5191.7096000000001},5190,5192.2960000000003,{"$f":"AS47+AS47*Титул.лист!$A$1","v":5711.5255999999999},{"$f":"AT47+AT47*Титул.лист!$P$2","v":5711.5255999999999},5710,4384.6480000000001,{"$f":"AW47+AW47*Титул.лист!$A$1","v":4823.1127999999999},{"$f":"AX47+AX47*Титул.лист!$P$2","v":4823.1127999999999},4820,5247.52,{"$f":"BA47+BA47*Титул.лист!$A$1","v":5772.2720000000008},{"$f":"BB47+BB47*Титул.лист!$P$2","v":5772.2720000000008},5770,6889.1200000000008,{"$f":"BE47+BE47*Титул.лист!$A$1","v":7578.0320000000011},{"$f":"BF47+BF47*Титул.лист!$P$2","v":7578.0320000000011},7580]
[null,"Стол 1ящ 1дв. Тандембокс",300,"1003-30т",3800,{"$f":"E48+E48*Титул.лист!$A$1","v":4180},{"$f":"F48+F48*Титул.лист!$P$2","v":4180},4180,3870,{"$f":"I48+I48*Титул.лист!$A$1","v":4257},{"$f":"J48+J48*Титул.лист!$P$2","v":4257},4260,4030,{"$f":"M48+M48*Титул.лист!$A$1","v":4433},{"$f":"N48+N48*Титул.лист!$P$2","v":4433},4430,4100,{"$f":"Q48+Q48*Титул.лист!$A$1","v":4510},{"$f":"R48+R48*Титул.лист!$P$2","v":4510},4510,4210,{"$f":"U48+U48*Титул.лист!$A$1","v":4631},{"$f":"V48+V48*Титул.лист!$P$2","v":4631},4630,4270,{"$f":"Y48+Y48*Титул.лист!$A$1","v":4697},{"$f":"Z48+Z48*Титул.лист!$P$2","v":4697},4700,4030,{"$f":"AC48+AC48*Титул.лист!$A$1","v":4433},{"$f":"AD48+AD48*Титул.лист!$P$2","v":4433},4430,4110,{"$f":"AG48+AG48*Титул.лист!$A$1","v":4521},{"$f":"AH48+AH48*Титул.лист!$P$2","v":4521},4520,4140,{"$f":"AK48+AK48*Титул.лист!$A$1","v":4554},{"$f":"AL48+AL48*Титул.лист!$P$2","v":4554},4550,4869.8680000000004,{"$f":"AO48+AO48*Титул.лист!$A$1","v":5356.8548000000001},{"$f":"AP48+AP48*Титул.лист!$P$2","v":5356.8548000000001},5360,5106.1480000000001,{"$f":"AS48+AS48*Титул.лист!$A$1","v":5616.7628000000004},{"$f":"AT48+AT48*Титул.лист!$P$2","v":5616.7628000000004},5620,4702.3239999999996,{"$f":"AW48+AW48*Титул.лист!$A$1","v":5172.5563999999995},{"$f":"AX48+AX48*Титул.лист!$P$2","v":5172.5563999999995},5170,5133.76,{"$f":"BA48+BA48*Титул.лист!$A$1","v":5647.1360000000004},{"$f":"BB48+BB48*Титул.лист!$P$2","v":5647.1360000000004},5650,5954.56,{"$f":"BE48+BE48*Титул.лист!$A$1","v":6550.0160000000005},{"$f":"BF48+BF48*Титул.лист!$P$2","v":6550.0160000000005},6550]
[null,null,350,"1003-35т",3920,{"$f":"E49+E49*Титул.лист!$A$1","v":4312},{"$f":"F49+F49*Титул.лист!$P$2","v":4312},4310,3980,{"$f":"I49+I49*Титул.лист!$A$1","v":4378},{"$f":"J49+J49*Титул.лист!$P$2","v":4378},4380,4190,{"$f":"M49+M49*Титул.лист!$A$1","v":4609},{"$f":"N49+N49*Титул.лист!$P$2","v":4609},4610,4240,{"$f":"Q49+Q49*Титул.лист!$A$1","v":4664},{"$f":"R49+R49*Титул.лист!$P$2","v":4664},4660,4380,{"$f":"U49+U49*Титул.лист!$A$1","v":4818},{"$f":"V49+V49*Титул.лист!$P$2","v":4818},4820,4440,{"$f":"Y49+Y49*Титул.лист!$A$1","v":4884},{"$f":"Z49+Z49*Титул.лист!$P$2","v":4884},4880,4190,{"$f":"AC49+AC49*Титул.лист!$A$1","v":4609},{"$f":"AD49+AD49*Титул.лист!$P$2","v":4609},4610,4270,{"$f":"AG49+AG49*Титул.лист!$A$1","v":4697},{"$f":"AH49+AH49*Титул.лист!$P$2","v":4697},4700,4310,{"$f":"AK49+AK49*Титул.лист!$A$1","v":4741},{"$f":"AL49+AL49*Титул.лист!$P$2","v":4741},4740,5169.8459999999995,{"$f":"AO49+AO49*Титул.лист!$A$1","v":5686.8305999999993},{"$f":"AP49+AP49*Титул.лист!$P$2","v":5686.8305999999993},5690,5445.5059999999994,{"$f":"AS49+AS49*Титул.лист!$A$1","v":5990.056599999999},{"$f":"AT49+AT49*Титул.лист!$P$2","v":5990.056599999999},5990,4974.3779999999997,{"$f":"AW49+AW49*Титул.лист!$A$1","v":5471.8157999999994},{"$f":"AX49+AX49*Титул.лист!$P$2","v":5471.8157999999994},5470,5477.72,{"$f":"BA49+BA49*Титул.лист!$A$1","v":6025.4920000000002},{"$f":"BB49+BB49*Титул.лист!$P$2","v":6025.4920000000002},6030,6435.32,{"$f":"BE49+BE49*Титул.лист!$A$1","v":7078.8519999999999},{"$f":"BF49+BF49*Титул.лист!$P$2","v":7078.8519999999999},7080]
[null,null,400,"1003-40т",4040,{"$f":"E50+E50*Титул.лист!$A$1","v":4444},{"$f":"F50+F50*Титул.лист!$P$2","v":4444},4440,4120,{"$f":"I50+I50*Титул.лист!$A$1","v":4532},{"$f":"J50+J50*Титул.лист!$P$2","v":4532},4530,4340,{"$f":"M50+M50*Титул.лист!$A$1","v":4774},{"$f":"N50+N50*Титул.лист!$P$2","v":4774},4770,4420,{"$f":"Q50+Q50*Титул.лист!$A$1","v":4862},{"$f":"R50+R50*Титул.лист!$P$2","v":4862},4860,4570,{"$f":"U50+U50*Титул.лист!$A$1","v":5027},{"$f":"V50+V50*Титул.лист!$P$2","v":5027},5030,4650,{"$f":"Y50+Y50*Титул.лист!$A$1","v":5115},{"$f":"Z50+Z50*Титул.лист!$P$2","v":5115},5120,4370,{"$f":"AC50+AC50*Титул.лист!$A$1","v":4807},{"$f":"AD50+AD50*Титул.лист!$P$2","v":4807},4810,4470,{"$f":"AG50+AG50*Титул.лист!$A$1","v":4917},{"$f":"AH50+AH50*Титул.лист!$P$2","v":4917},4920,4500,{"$f":"AK50+AK50*Титул.лист!$A$1","v":4950},{"$f":"AL50+AL50*Титул.лист!$P$2","v":4950},4950,5489.8239999999996,{"$f":"AO50+AO50*Титул.лист!$A$1","v":6038.8063999999995},{"$f":"AP50+AP50*Титул.лист!$P$2","v":6038.8063999999995},6040,5804.8639999999996,{"$f":"AS50+AS50*Титул.лист!$A$1","v":6385.3503999999994},{"$f":"AT50+AT50*Титул.лист!$P$2","v":6385.3503999999994},6390,5266.4319999999998,{"$f":"AW50+AW50*Титул.лист!$A$1","v":5793.0751999999993},{"$f":"AX50+AX50*Титул.лист!$P$2","v":5793.0751999999993},5790,5841.68,{"$f":"BA50+BA50*Титул.лист!$A$1","v":6425.848},{"$f":"BB50+BB50*Титул.лист!$P$2","v":6425.848},6430,6936.08,{"$f":"BE50+BE50*Титул.лист!$A$1","v":7629.6880000000001},{"$f":"BF50+BF50*Титул.лист!$P$2","v":7629.6880000000001},7630]
[null,null,450,"1003-45т",4170,{"$f":"E51+E51*Титул.лист!$A$1","v":4587},{"$f":"F51+F51*Титул.лист!$P$2","v":4587},4590,4250,{"$f":"I51+I51*Титул.лист!$A$1","v":4675},{"$f":"J51+J51*Титул.лист!$P$2","v":4675},4680,4520,{"$f":"M51+M51*Титул.лист!$A$1","v":4972},{"$f":"N51+N51*Титул.лист!$P$2","v":4972},4970,4593,{"$f":"Q51+Q51*Титул.лист!$A$1","v":5052.3},{"$f":"R51+R51*Титул.лист!$P$2","v":5052.3},5050,4780,{"$f":"U51+U51*Титул.лист!$A$1","v":5258},{"$f":"V51+V51*Титул.лист!$P$2","v":5258},5260,4860,{"$f":"Y51+Y51*Титул.лист!$A$1","v":5346},{"$f":"Z51+Z51*Титул.лист!$P$2","v":5346},5350,4540,{"$f":"AC51+AC51*Титул.лист!$A$1","v":4994},{"$f":"AD51+AD51*Титул.лист!$P$2","v":4994},4990,4650,{"$f":"AG51+AG51*Титул.лист!$A$1","v":5115},{"$f":"AH51+AH51*Титул.лист!$P$2","v":5115},5120,4690,{"$f":"AK51+AK51*Титул.лист!$A$1","v":5159},{"$f":"AL51+AL51*Титул.лист!$P$2","v":5159},5160,5799.8019999999997,{"$f":"AO51+AO51*Титул.лист!$A$1","v":6379.7821999999996},{"$f":"AP51+AP51*Титул.лист!$P$2","v":6379.7821999999996},6380,6154.2219999999998,{"$f":"AS51+AS51*Титул.лист!$A$1","v":6769.6441999999997},{"$f":"AT51+AT51*Титул.лист!$P$2","v":6769.6441999999997},6770,5548.4859999999999,{"$f":"AW51+AW51*Титул.лист!$A$1","v":6103.3346000000001},{"$f":"AX51+AX51*Титул.лист!$P$2","v":6103.3346000000001},6100,6195.64,{"$f":"BA51+BA51*Титул.лист!$A$1","v":6815.2040000000006},{"$f":"BB51+BB51*Титул.лист!$P$2","v":6815.2040000000006},6820,7426.84,{"$f":"BE51+BE51*Титул.лист!$A$1","v":8169.5240000000003},{"$f":"BF51+BF51*Титул.лист!$P$2","v":8169.5240000000003},8170]
[null,null,500,"1003-50т",4310,{"$f":"E52+E52*Титул.лист!$A$1","v":4741},{"$f":"F52+F52*Титул.лист!$P$2","v":4741},4740,4390,{"$f":"I52+I52*Титул.лист!$A$1","v":4829},{"$f":"J52+J52*Титул.лист!$P$2","v":4829},4830,4690,{"$f":"M52+M52*Титул.лист!$A$1","v":5159},{"$f":"N52+N52*Титул.лист!$P$2","v":5159},5160,4780,{"$f":"Q52+Q52*Титул.лист!$A$1","v":5258},{"$f":"R52+R52*Титул.лист!$P$2","v":5258},5260,4990,{"$f":"U52+U52*Титул.лист!$A$1","v":5489},{"$f":"V52+V52*Титул.лист!$P$2","v":5489},5490,5080,{"$f":"Y52+Y52*Титул.лист!$A$1","v":5588},{"$f":"Z52+Z52*Титул.лист!$P$2","v":5588},5590,4730,{"$f":"AC52+AC52*Титул.лист!$A$1","v":5203},{"$f":"AD52+AD52*Титул.лист!$P$2","v":5203},5200,4850,{"$f":"AG52+AG52*Титул.лист!$A$1","v":5335},{"$f":"AH52+AH52*Титул.лист!$P$2","v":5335},5340,4890,{"$f":"AK52+AK52*Титул.лист!$A$1","v":5379},{"$f":"AL52+AL52*Титул.лист!$P$2","v":5379},5380,6129.78,{"$f":"AO52+AO52*Титул.лист!$A$1","v":6742.7579999999998},{"$f":"AP52+AP52*Титул.лист!$P$2","v":6742.7579999999998},6740,6523.58,{"$f":"AS52+AS52*Титул.лист!$A$1","v":7175.9380000000001},{"$f":"AT52+AT52*Титул.лист!$P$2","v":7175.9380000000001},7180,5850.54,{"$f":"AW52+AW52*Титул.лист!$A$1","v":6435.5940000000001},{"$f":"AX52+AX52*Титул.лист!$P$2","v":6435.5940000000001},6440,6569.6,{"$f":"BA52+BA52*Титул.лист!$A$1","v":7226.56},{"$f":"BB52+BB52*Титул.лист!$P$2","v":7226.56},7230,7937.6,{"$f":"BE52+BE52*Титул.лист!$A$1","v":8731.36},{"$f":"BF52+BF52*Титул.лист!$P$2","v":8731.36},8730]
[null,null,600,"1003-60т",4560,{"$f":"E53+E53*Титул.лист!$A$1","v":5016},{"$f":"F53+F53*Титул.лист!$P$2","v":5016},5020,4650,{"$f":"I53+I53*Титул.лист!$A$1","v":5115},{"$f":"J53+J53*Титул.лист!$P$2","v":5115},5120,5020,{"$f":"M53+M53*Титул.лист!$A$1","v":5522},{"$f":"N53+N53*Титул.лист!$P$2","v":5522},5520,5110,{"$f":"Q53+Q53*Титул.лист!$A$1","v":5621},{"$f":"R53+R53*Титул.лист!$P$2","v":5621},5620,5360,{"$f":"U53+U53*Титул.лист!$A$1","v":5896},{"$f":"V53+V53*Титул.лист!$P$2","v":5896},5900,5450,{"$f":"Y53+Y53*Титул.лист!$A$1","v":5995},{"$f":"Z53+Z53*Титул.лист!$P$2","v":5995},6000,5040,{"$f":"AC53+AC53*Титул.лист!$A$1","v":5544},{"$f":"AD53+AD53*Титул.лист!$P$2","v":5544},5540,5200,{"$f":"AG53+AG53*Титул.лист!$A$1","v":5720},{"$f":"AH53+AH53*Титул.лист!$P$2","v":5720},5720,5250,{"$f":"AK53+AK53*Титул.лист!$A$1","v":5775},{"$f":"AL53+AL53*Титул.лист!$P$2","v":5775},5780,6719.7359999999999,{"$f":"AO53+AO53*Титул.лист!$A$1","v":7391.7096000000001},{"$f":"AP53+AP53*Титул.лист!$P$2","v":7391.7096000000001},7390,7192.2960000000003,{"$f":"AS53+AS53*Титул.лист!$A$1","v":7911.5256000000008},{"$f":"AT53+AT53*Титул.лист!$P$2","v":7911.5256000000008},7910,6384.6480000000001,{"$f":"AW53+AW53*Титул.лист!$A$1","v":7023.1127999999999},{"$f":"AX53+AX53*Титул.лист!$P$2","v":7023.1127999999999},7020,7247.52,{"$f":"BA53+BA53*Титул.лист!$A$1","v":7972.2720000000008},{"$f":"BB53+BB53*Титул.лист!$P$2","v":7972.2720000000008},7970,8889.1200000000008,{"$f":"BE53+BE53*Титул.лист!$A$1","v":9778.0320000000011},{"$f":"BF53+BF53*Титул.лист!$P$2","v":9778.0320000000011},9780]
[null,"Стол 1ящ 2дв",500,"1004-50",2120,{"$f":"E54+E54*Титул.лист!$A$1","v":2332},{"$f":"F54+F54*Титул.лист!$P$2","v":2332},2330,2230,{"$f":"I54+I54*Титул.лист!$A$1","v":2453},{"$f":"J54+J54*Титул.лист!$P$2","v":2453},2450,2510,{"$f":"M54+M54*Титул.лист!$A$1","v":2761},{"$f":"N54+N54*Титул.лист!$P$2","v":2761},2760,2620,{"$f":"Q54+Q54*Титул.лист!$A$1","v":2882},{"$f":"R54+R54*Титул.лист!$P$2","v":2882},2880,2790,{"$f":"U54+U54*Титул.лист!$A$1","v":3069},{"$f":"V54+V54*Титул.лист!$P$2","v":3069},3070,2900,{"$f":"Y54+Y54*Титул.лист!$A$1","v":3190},{"$f":"Z54+Z54*Титул.лист!$P$2","v":3190},3190,2520,{"$f":"AC54+AC54*Титул.лист!$A$1","v":2772},{"$f":"AD54+AD54*Титул.лист!$P$2","v":2772},2770,2640,{"$f":"AG54+AG54*Титул.лист!$A$1","v":2904},{"$f":"AH54+AH54*Титул.лист!$P$2","v":2904},2900,2690,{"$f":"AK54+AK54*Титул.лист!$A$1","v":2959},{"$f":"AL54+AL54*Титул.лист!$P$2","v":2959},2960,3919.7799999999997,{"$f":"AO54+AO54*Титул.лист!$A$1","v":4311.7579999999998},{"$f":"AP54+AP54*Титул.лист!$P$2","v":4311.7579999999998},4310,4313.58,{"$f":"AS54+AS54*Титул.лист!$A$1","v":4744.9380000000001},{"$f":"AT54+AT54*Титул.лист!$P$2","v":4744.9380000000001},4740,3640.54,{"$f":"AW54+AW54*Титул.лист!$A$1","v":4004.5940000000001},{"$f":"AX54+AX54*Титул.лист!$P$2","v":4004.5940000000001},4000,4359.6000000000004,{"$f":"BA54+BA54*Титул.лист!$A$1","v":4795.5600000000004},{"$f":"BB54+BB54*Титул.лист!$P$2","v":4795.5600000000004},4800,5727.6,{"$f":"BE54+BE54*Титул.лист!$A$1","v":6300.3600000000006},{"$f":"BF54+BF54*Титул.лист!$P$2","v":6300.3600000000006},6300]
[null,null,600,"1004-60",2390,{"$f":"E55+E55*Титул.лист!$A$1","v":2629},{"$f":"F55+F55*Титул.лист!$P$2","v":2629},2630,2500,{"$f":"I55+I55*Титул.лист!$A$1","v":2750},{"$f":"J55+J55*Титул.лист!$P$2","v":2750},2750,2840,{"$f":"M55+M55*Титул.лист!$A$1","v":3124},{"$f":"N55+N55*Титул.лист!$P$2","v":3124},3120,2950,{"$f":"Q55+Q55*Титул.лист!$A$1","v":3245},{"$f":"R55+R55*Титул.лист!$P$2","v":3245},3250,3190.0000000000005,{"$f":"U55+U55*Титул.лист!$A$1","v":3509.0000000000005},{"$f":"V55+V55*Титул.лист!$P$2","v":3509.0000000000005},3510,3300.0000000000005,{"$f":"Y55+Y55*Титул.лист!$A$1","v":3630.0000000000005},{"$f":"Z55+Z55*Титул.лист!$P$2","v":3630.0000000000005},3630,2860.0000000000005,{"$f":"AC55+AC55*Титул.лист!$A$1","v":3146.0000000000005},{"$f":"AD55+AD55*Титул.лист!$P$2","v":3146.0000000000005},3150,3000,{"$f":"AG55+AG55*Титул.лист!$A$1","v":3300},{"$f":"AH55+AH55*Титул.лист!$P$2","v":3300},3300,3070,{"$f":"AK55+AK55*Титул.лист!$A$1","v":3377},{"$f":"AL55+AL55*Титул.лист!$P$2","v":3377},3380,4539.7360000000008,{"$f":"AO55+AO55*Титул.лист!$A$1","v":4993.709600000001},{"$f":"AP55+AP55*Титул.лист!$P$2","v":4993.709600000001},4990,5012.2960000000003,{"$f":"AS55+AS55*Титул.лист!$A$1","v":5513.5255999999999},{"$f":"AT55+AT55*Титул.лист!$P$2","v":5513.5255999999999},5510,4204.6480000000001,{"$f":"AW55+AW55*Титул.лист!$A$1","v":4625.1127999999999},{"$f":"AX55+AX55*Титул.лист!$P$2","v":4625.1127999999999},4630,5067.5200000000004,{"$f":"BA55+BA55*Титул.лист!$A$1","v":5574.2720000000008},{"$f":"BB55+BB55*Титул.лист!$P$2","v":5574.2720000000008},5570,6709.1200000000008,{"$f":"BE55+BE55*Титул.лист!$A$1","v":7380.0320000000011},{"$f":"BF55+BF55*Титул.лист!$P$2","v":7380.0320000000011},7380]
[null,null,700,"1004-70",2650,{"$f":"E56+E56*Титул.лист!$A$1","v":2915},{"$f":"F56+F56*Титул.лист!$P$2","v":2915},2920,2780,{"$f":"I56+I56*Титул.лист!$A$1","v":3058},{"$f":"J56+J56*Титул.лист!$P$2","v":3058},3060,3180,{"$f":"M56+M56*Титул.лист!$A$1","v":3498},{"$f":"N56+N56*Титул.лист!$P$2","v":3498},3500,3310,{"$f":"Q56+Q56*Титул.лист!$A$1","v":3641},{"$f":"R56+R56*Титул.лист!$P$2","v":3641},3640,3590,{"$f":"U56+U56*Титул.лист!$A$1","v":3949},{"$f":"V56+V56*Титул.лист!$P$2","v":3949},3950,3720,{"$f":"Y56+Y56*Титул.лист!$A$1","v":4092},{"$f":"Z56+Z56*Титул.лист!$P$2","v":4092},4090,3220,{"$f":"AC56+AC56*Титул.лист!$A$1","v":3542},{"$f":"AD56+AD56*Титул.лист!$P$2","v":3542},3540,3390,{"$f":"AG56+AG56*Титул.лист!$A$1","v":3729},{"$f":"AH56+AH56*Титул.лист!$P$2","v":3729},3730,3460,{"$f":"AK56+AK56*Титул.лист!$A$1","v":3806},{"$f":"AL56+AL56*Титул.лист!$P$2","v":3806},3810,5179.692,{"$f":"AO56+AO56*Титул.лист!$A$1","v":5697.6612000000005},{"$f":"AP56+AP56*Титул.лист!$P$2","v":5697.6612000000005},5700,5731.0119999999997,{"$f":"AS56+AS56*Титул.лист!$A$1","v":6304.1131999999998},{"$f":"AT56+AT56*Титул.лист!$P$2","v":6304.1131999999998},6300,4788.7559999999994,{"$f":"AW56+AW56*Титул.лист!$A$1","v":5267.6315999999997},{"$f":"AX56+AX56*Титул.лист!$P$2","v":5267.6315999999997},5270,5795.4400000000005,{"$f":"BA56+BA56*Титул.лист!$A$1","v":6374.9840000000004},{"$f":"BB56+BB56*Титул.лист!$P$2","v":6374.9840000000004},6370,7710.64,{"$f":"BE56+BE56*Титул.лист!$A$1","v":8481.7039999999997},{"$f":"BF56+BF56*Титул.лист!$P$2","v":8481.7039999999997},8480]
[null,null,800,"1004-80",2900,{"$f":"E57+E57*Титул.лист!$A$1","v":3190},{"$f":"F57+F57*Титул.лист!$P$2","v":3190},3190,3030,{"$f":"I57+I57*Титул.лист!$A$1","v":3333},{"$f":"J57+J57*Титул.лист!$P$2","v":3333},3330,3520.0000000000005,{"$f":"M57+M57*Титул.лист!$A$1","v":3872.0000000000005},{"$f":"N57+N57*Титул.лист!$P$2","v":3872.0000000000005},3870,3650,{"$f":"Q57+Q57*Титул.лист!$A$1","v":4015},{"$f":"R57+R57*Титул.лист!$P$2","v":4015},4020,3990,{"$f":"U57+U57*Титул.лист!$A$1","v":4389},{"$f":"V57+V57*Титул.лист!$P$2","v":4389},4390,4120,{"$f":"Y57+Y57*Титул.лист!$A$1","v":4532},{"$f":"Z57+Z57*Титул.лист!$P$2","v":4532},4530,3550,{"$f":"AC57+AC57*Титул.лист!$A$1","v":3905},{"$f":"AD57+AD57*Титул.лист!$P$2","v":3905},3910,3740.0000000000005,{"$f":"AG57+AG57*Титул.лист!$A$1","v":4114.0000000000009},{"$f":"AH57+AH57*Титул.лист!$P$2","v":4114.0000000000009},4110,3830,{"$f":"AK57+AK57*Титул.лист!$A$1","v":4213},{"$f":"AL57+AL57*Титул.лист!$P$2","v":4213},4210,5789.6479999999992,{"$f":"AO57+AO57*Титул.лист!$A$1","v":6368.612799999999},{"$f":"AP57+AP57*Титул.лист!$P$2","v":6368.612799999999},6370,6419.7280000000001,{"$f":"AS57+AS57*Титул.лист!$A$1","v":7061.7008000000005},{"$f":"AT57+AT57*Титул.лист!$P$2","v":7061.7008000000005},7060,5342.8639999999996,{"$f":"AW57+AW57*Титул.лист!$A$1","v":5877.1503999999995},{"$f":"AX57+AX57*Титул.лист!$P$2","v":5877.1503999999995},5880,6493.3600000000006,{"$f":"BA57+BA57*Титул.лист!$A$1","v":7142.6960000000008},{"$f":"BB57+BB57*Титул.лист!$P$2","v":7142.6960000000008},7140,8682.16,{"$f":"BE57+BE57*Титул.лист!$A$1","v":9550.3760000000002},{"$f":"BF57+BF57*Титул.лист!$P$2","v":9550.3760000000002},9550]
[null,"Стол 1ящ 2дв метабокс",500,"1004-50м",{"$f":"E54+250","v":2370},{"$f":"E58+E58*Титул.лист!$A$1","v":2607},{"$f":"F58+F58*Титул.лист!$P$2","v":2607},2610,{"$f":"I54+250","v":2480},{"$f":"I58+I58*Титул.лист!$A$1","v":2728},{"$f":"J58+J58*Титул.лист!$P$2","v":2728},2730,{"$f":"M54+250","v":2760},{"$f":"M58+M58*Титул.лист!$A$1","v":3036},{"$f":"N58+N58*Титул.лист!$P$2","v":3036},3040,{"$f":"Q54+250","v":2870},{"$f":"Q58+Q58*Титул.лист!$A$1","v":3157},{"$f":"R58+R58*Титул.лист!$P$2","v":3157},3160,{"$f":"U54+250","v":3040},{"$f":"U58+U58*Титул.лист!$A$1","v":3344},{"$f":"V58+V58*Титул.лист!$P$2","v":3344},3340,{"$f":"Y54+250","v":3150},{"$f":"Y58+Y58*Титул.лист!$A$1","v":3465},{"$f":"Z58+Z58*Титул.лист!$P$2","v":3465},3470,{"$f":"AC54+250","v":2770},{"$f":"AC58+AC58*Титул.лист!$A$1","v":3047},{"$f":"AD58+AD58*Титул.лист!$P$2","v":3047},3050,{"$f":"AG54+250","v":2890},{"$f":"AG58+AG58*Титул.лист!$A$1","v":3179},{"$f":"AH58+AH58*Титул.лист!$P$2","v":3179},3180,{"$f":"AK54+250","v":2940},{"$f":"AK58+AK58*Титул.лист!$A$1","v":3234},{"$f":"AL58+AL58*Титул.лист!$P$2","v":3234},3230,4169.78,{"$f":"AO58+AO58*Титул.лист!$A$1","v":4586.7579999999998},{"$f":"AP58+AP58*Титул.лист!$P$2","v":4586.7579999999998},4590,4563.58,{"$f":"AS58+AS58*Титул.лист!$A$1","v":5019.9380000000001},{"$f":"AT58+AT58*Титул.лист!$P$2","v":5019.9380000000001},5020,3890.54,{"$f":"AW58+AW58*Титул.лист!$A$1","v":4279.5940000000001},{"$f":"AX58+AX58*Титул.лист!$P$2","v":4279.5940000000001},4280,4609.6000000000004,{"$f":"BA58+BA58*Титул.лист!$A$1","v":5070.5600000000004},{"$f":"BB58+BB58*Титул.лист!$P$2","v":5070.5600000000004},5070,5977.6,{"$f":"BE58+BE58*Титул.лист!$A$1","v":6575.3600000000006},{"$f":"BF58+BF58*Титул.лист!$P$2","v":6575.3600000000006},6580]
[null,null,600,"1004-60м",{"$f":"E55+250","v":2640},{"$f":"E59+E59*Титул.лист!$A$1","v":2904},{"$f":"F59+F59*Титул.лист!$P$2","v":2904},2900,{"$f":"I55+250","v":2750},{"$f":"I59+I59*Титул.лист!$A$1","v":3025},{"$f":"J59+J59*Титул.лист!$P$2","v":3025},3030,{"$f":"M55+250","v":3090},{"$f":"M59+M59*Титул.лист!$A$1","v":3399},{"$f":"N59+N59*Титул.лист!$P$2","v":3399},3400,{"$f":"Q55+250","v":3200},{"$f":"Q59+Q59*Титул.лист!$A$1","v":3520},{"$f":"R59+R59*Титул.лист!$P$2","v":3520},3520,{"$f":"U55+250","v":3440.0000000000005},{"$f":"U59+U59*Титул.лист!$A$1","v":3784.0000000000005},{"$f":"V59+V59*Титул.лист!$P$2","v":3784.0000000000005},3780,{"$f":"Y55+250","v":3550.0000000000005},{"$f":"Y59+Y59*Титул.лист!$A$1","v":3905.0000000000005},{"$f":"Z59+Z59*Титул.лист!$P$2","v":3905.0000000000005},3910,{"$f":"AC55+250","v":3110.0000000000005},{"$f":"AC59+AC59*Титул.лист!$A$1","v":3421.0000000000005},{"$f":"AD59+AD59*Титул.лист!$P$2","v":3421.0000000000005},3420,{"$f":"AG55+250","v":3250},{"$f":"AG59+AG59*Титул.лист!$A$1","v":3575},{"$f":"AH59+AH59*Титул.лист!$P$2","v":3575},3580,{"$f":"AK55+250","v":3320},{"$f":"AK59+AK59*Титул.лист!$A$1","v":3652},{"$f":"AL59+AL59*Титул.лист!$P$2","v":3652},3650,4789.7360000000008,{"$f":"AO59+AO59*Титул.лист!$A$1","v":5268.709600000001},{"$f":"AP59+AP59*Титул.лист!$P$2","v":5268.709600000001},5270,5262.2960000000003,{"$f":"AS59+AS59*Титул.лист!$A$1","v":5788.5255999999999},{"$f":"AT59+AT59*Титул.лист!$P$2","v":5788.5255999999999},5790,4454.6480000000001,{"$f":"AW59+AW59*Титул.лист!$A$1","v":4900.1127999999999},{"$f":"AX59+AX59*Титул.лист!$P$2","v":4900.1127999999999},4900,5317.52,{"$f":"BA59+BA59*Титул.лист!$A$1","v":5849.2720000000008},{"$f":"BB59+BB59*Титул.лист!$P$2","v":5849.2720000000008},5850,6959.1200000000008,{"$f":"BE59+BE59*Титул.лист!$A$1","v":7655.0320000000011},{"$f":"BF59+BF59*Титул.лист!$P$2","v":7655.0320000000011},7660]
[null,null,700,"1004-70м",{"$f":"E56+250","v":2900},{"$f":"E60+E60*Титул.лист!$A$1","v":3190},{"$f":"F60+F60*Титул.лист!$P$2","v":3190},3190,{"$f":"I56+250","v":3030},{"$f":"I60+I60*Титул.лист!$A$1","v":3333},{"$f":"J60+J60*Титул.лист!$P$2","v":3333},3330,{"$f":"M56+250","v":3430},{"$f":"M60+M60*Титул.лист!$A$1","v":3773},{"$f":"N60+N60*Титул.лист!$P$2","v":3773},3770,{"$f":"Q56+250","v":3560},{"$f":"Q60+Q60*Титул.лист!$A$1","v":3916},{"$f":"R60+R60*Титул.лист!$P$2","v":3916},3920,{"$f":"U56+250","v":3840},{"$f":"U60+U60*Титул.лист!$A$1","v":4224},{"$f":"V60+V60*Титул.лист!$P$2","v":4224},4220,{"$f":"Y56+250","v":3970},{"$f":"Y60+Y60*Титул.лист!$A$1","v":4367},{"$f":"Z60+Z60*Титул.лист!$P$2","v":4367},4370,{"$f":"AC56+250","v":3470},{"$f":"AC60+AC60*Титул.лист!$A$1","v":3817},{"$f":"AD60+AD60*Титул.лист!$P$2","v":3817},3820,{"$f":"AG56+250","v":3640},{"$f":"AG60+AG60*Титул.лист!$A$1","v":4004},{"$f":"AH60+AH60*Титул.лист!$P$2","v":4004},4000,{"$f":"AK56+250","v":3710},{"$f":"AK60+AK60*Титул.лист!$A$1","v":4081},{"$f":"AL60+AL60*Титул.лист!$P$2","v":4081},4080,5429.692,{"$f":"AO60+AO60*Титул.лист!$A$1","v":5972.6612000000005},{"$f":"AP60+AP60*Титул.лист!$P$2","v":5972.6612000000005},5970,5981.0119999999997,{"$f":"AS60+AS60*Титул.лист!$A$1","v":6579.1131999999998},{"$f":"AT60+AT60*Титул.лист!$P$2","v":6579.1131999999998},6580,5038.7559999999994,{"$f":"AW60+AW60*Титул.лист!$A$1","v":5542.6315999999997},{"$f":"AX60+AX60*Титул.лист!$P$2","v":5542.6315999999997},5540,6045.4400000000005,{"$f":"BA60+BA60*Титул.лист!$A$1","v":6649.9840000000004},{"$f":"BB60+BB60*Титул.лист!$P$2","v":6649.9840000000004},6650,7960.64,{"$f":"BE60+BE60*Титул.лист!$A$1","v":8756.7039999999997},{"$f":"BF60+BF60*Титул.лист!$P$2","v":8756.7039999999997},8760]
[null,null,800,"1004-80м",{"$f":"E57+250","v":3150},{"$f":"E61+E61*Титул.лист!$A$1","v":3465},{"$f":"F61+F61*Титул.лист!$P$2","v":3465},3470,{"$f":"I57+250","v":3280},{"$f":"I61+I61*Титул.лист!$A$1","v":3608},{"$f":"J61+J61*Титул.лист!$P$2","v":3608},3610,{"$f":"M57+250","v":3770.0000000000005},{"$f":"M61+M61*Титул.лист!$A$1","v":4147.0000000000009},{"$f":"N61+N61*Титул.лист!$P$2","v":4147.0000000000009},4150,{"$f":"Q57+250","v":3900},{"$f":"Q61+Q61*Титул.лист!$A$1","v":4290},{"$f":"R61+R61*Титул.лист!$P$2","v":4290},4290,{"$f":"U57+250","v":4240},{"$f":"U61+U61*Титул.лист!$A$1","v":4664},{"$f":"V61+V61*Титул.лист!$P$2","v":4664},4660,{"$f":"Y57+250","v":4370},{"$f":"Y61+Y61*Титул.лист!$A$1","v":4807},{"$f":"Z61+Z61*Титул.лист!$P$2","v":4807},4810,{"$f":"AC57+250","v":3800},{"$f":"AC61+AC61*Титул.лист!$A$1","v":4180},{"$f":"AD61+AD61*Титул.лист!$P$2","v":4180},4180,{"$f":"AG57+250","v":3990.0000000000005},{"$f":"AG61+AG61*Титул.лист!$A$1","v":4389.0000000000009},{"$f":"AH61+AH61*Титул.лист!$P$2","v":4389.0000000000009},4390,{"$f":"AK57+250","v":4080},{"$f":"AK61+AK61*Титул.лист!$A$1","v":4488},{"$f":"AL61+AL61*Титул.лист!$P$2","v":4488},4490,6039.6479999999992,{"$f":"AO61+AO61*Титул.лист!$A$1","v":6643.612799999999},{"$f":"AP61+AP61*Титул.лист!$P$2","v":6643.612799999999},6640,6669.7280000000001,{"$f":"AS61+AS61*Титул.лист!$A$1","v":7336.7008000000005},{"$f":"AT61+AT61*Титул.лист!$P$2","v":7336.7008000000005},7340,5592.8639999999996,{"$f":"AW61+AW61*Титул.лист!$A$1","v":6152.1503999999995},{"$f":"AX61+AX61*Титул.лист!$P$2","v":6152.1503999999995},6150,6743.3600000000006,{"$f":"BA61+BA61*Титул.лист!$A$1","v":7417.6960000000008},{"$f":"BB61+BB61*Титул.лист!$P$2","v":7417.6960000000008},7420,8932.16,{"$f":"BE61+BE61*Титул.лист!$A$1","v":9825.3760000000002},{"$f":"BF61+BF61*Титул.лист!$P$2","v":9825.3760000000002},9830]
[null,"Стол 1ящ 2дв тандембокс",500,"1004-50т",4370,{"$f":"E62+E62*Титул.лист!$A$1","v":4807},{"$f":"F62+F62*Титул.лист!$P$2","v":4807},4810,4480,{"$f":"I62+I62*Титул.лист!$A$1","v":4928},{"$f":"J62+J62*Титул.лист!$P$2","v":4928},4930,4760,{"$f":"M62+M62*Титул.лист!$A$1","v":5236},{"$f":"N62+N62*Титул.лист!$P$2","v":5236},5240,4870,{"$f":"Q62+Q62*Титул.лист!$A$1","v":5357},{"$f":"R62+R62*Титул.лист!$P$2","v":5357},5360,5040,{"$f":"U62+U62*Титул.лист!$A$1","v":5544},{"$f":"V62+V62*Титул.лист!$P$2","v":5544},5540,5150,{"$f":"Y62+Y62*Титул.лист!$A$1","v":5665},{"$f":"Z62+Z62*Титул.лист!$P$2","v":5665},5670,4770,{"$f":"AC62+AC62*Титул.лист!$A$1","v":5247},{"$f":"AD62+AD62*Титул.лист!$P$2","v":5247},5250,4890,{"$f":"AG62+AG62*Титул.лист!$A$1","v":5379},{"$f":"AH62+AH62*Титул.лист!$P$2","v":5379},5380,4940,{"$f":"AK62+AK62*Титул.лист!$A$1","v":5434},{"$f":"AL62+AL62*Титул.лист!$P$2","v":5434},5430,6169.78,{"$f":"AO62+AO62*Титул.лист!$A$1","v":6786.7579999999998},{"$f":"AP62+AP62*Титул.лист!$P$2","v":6786.7579999999998},6790,6563.58,{"$f":"AS62+AS62*Титул.лист!$A$1","v":7219.9380000000001},{"$f":"AT62+AT62*Титул.лист!$P$2","v":7219.9380000000001},7220,5890.54,{"$f":"AW62+AW62*Титул.лист!$A$1","v":6479.5940000000001},{"$f":"AX62+AX62*Титул.лист!$P$2","v":6479.5940000000001},6480,6609.6,{"$f":"BA62+BA62*Титул.лист!$A$1","v":7270.56},{"$f":"BB62+BB62*Титул.лист!$P$2","v":7270.56},7270,7977.6,{"$f":"BE62+BE62*Титул.лист!$A$1","v":8775.36},{"$f":"BF62+BF62*Титул.лист!$P$2","v":8775.36},8780]
[null,null,600,"1004-60т",4640,{"$f":"E63+E63*Титул.лист!$A$1","v":5104},{"$f":"F63+F63*Титул.лист!$P$2","v":5104},5100,4750,{"$f":"I63+I63*Титул.лист!$A$1","v":5225},{"$f":"J63+J63*Титул.лист!$P$2","v":5225},5230,5090,{"$f":"M63+M63*Титул.лист!$A$1","v":5599},{"$f":"N63+N63*Титул.лист!$P$2","v":5599},5600,5200,{"$f":"Q63+Q63*Титул.лист!$A$1","v":5720},{"$f":"R63+R63*Титул.лист!$P$2","v":5720},5720,5440,{"$f":"U63+U63*Титул.лист!$A$1","v":5984},{"$f":"V63+V63*Титул.лист!$P$2","v":5984},5980,5550,{"$f":"Y63+Y63*Титул.лист!$A$1","v":6105},{"$f":"Z63+Z63*Титул.лист!$P$2","v":6105},6110,5110,{"$f":"AC63+AC63*Титул.лист!$A$1","v":5621},{"$f":"AD63+AD63*Титул.лист!$P$2","v":5621},5620,5250,{"$f":"AG63+AG63*Титул.лист!$A$1","v":5775},{"$f":"AH63+AH63*Титул.лист!$P$2","v":5775},5780,5320,{"$f":"AK63+AK63*Титул.лист!$A$1","v":5852},{"$f":"AL63+AL63*Титул.лист!$P$2","v":5852},5850,6789.7359999999999,{"$f":"AO63+AO63*Титул.лист!$A$1","v":7468.7096000000001},{"$f":"AP63+AP63*Титул.лист!$P$2","v":7468.7096000000001},7470,7262.2960000000003,{"$f":"AS63+AS63*Титул.лист!$A$1","v":7988.5256000000008},{"$f":"AT63+AT63*Титул.лист!$P$2","v":7988.5256000000008},7990,6454.6480000000001,{"$f":"AW63+AW63*Титул.лист!$A$1","v":7100.1127999999999},{"$f":"AX63+AX63*Титул.лист!$P$2","v":7100.1127999999999},7100,7317.52,{"$f":"BA63+BA63*Титул.лист!$A$1","v":8049.2720000000008},{"$f":"BB63+BB63*Титул.лист!$P$2","v":8049.2720000000008},8050,8959.1200000000008,{"$f":"BE63+BE63*Титул.лист!$A$1","v":9855.0320000000011},{"$f":"BF63+BF63*Титул.лист!$P$2","v":9855.0320000000011},9860]
[null,null,700,"1004-70т",4900,{"$f":"E64+E64*Титул.лист!$A$1","v":5390},{"$f":"F64+F64*Титул.лист!$P$2","v":5390},5390,5030,{"$f":"I64+I64*Титул.лист!$A$1","v":5533},{"$f":"J64+J64*Титул.лист!$P$2","v":5533},5530,5430,{"$f":"M64+M64*Титул.лист!$A$1","v":5973},{"$f":"N64+N64*Титул.лист!$P$2","v":5973},5970,5560,{"$f":"Q64+Q64*Титул.лист!$A$1","v":6116},{"$f":"R64+R64*Титул.лист!$P$2","v":6116},6120,5840,{"$f":"U64+U64*Титул.лист!$A$1","v":6424},{"$f":"V64+V64*Титул.лист!$P$2","v":6424},6420,5970,{"$f":"Y64+Y64*Титул.лист!$A$1","v":6567},{"$f":"Z64+Z64*Титул.лист!$P$2","v":6567},6570,5470,{"$f":"AC64+AC64*Титул.лист!$A$1","v":6017},{"$f":"AD64+AD64*Титул.лист!$P$2","v":6017},6020,5640,{"$f":"AG64+AG64*Титул.лист!$A$1","v":6204},{"$f":"AH64+AH64*Титул.лист!$P$2","v":6204},6200,5710,{"$f":"AK64+AK64*Титул.лист!$A$1","v":6281},{"$f":"AL64+AL64*Титул.лист!$P$2","v":6281},6280,7429.692,{"$f":"AO64+AO64*Титул.лист!$A$1","v":8172.6612000000005},{"$f":"AP64+AP64*Титул.лист!$P$2","v":8172.6612000000005},8170,7981.0119999999997,{"$f":"AS64+AS64*Титул.лист!$A$1","v":8779.1131999999998},{"$f":"AT64+AT64*Титул.лист!$P$2","v":8779.1131999999998},8780,7038.7559999999994,{"$f":"AW64+AW64*Титул.лист!$A$1","v":7742.6315999999997},{"$f":"AX64+AX64*Титул.лист!$P$2","v":7742.6315999999997},7740,8045.4400000000005,{"$f":"BA64+BA64*Титул.лист!$A$1","v":8849.9840000000004},{"$f":"BB64+BB64*Титул.лист!$P$2","v":8849.9840000000004},8850,9960.64,{"$f":"BE64+BE64*Титул.лист!$A$1","v":10956.704},{"$f":"BF64+BF64*Титул.лист!$P$2","v":10956.704},10960]
[null,null,800,"1004-80т",5150,{"$f":"E65+E65*Титул.лист!$A$1","v":5665},{"$f":"F65+F65*Титул.лист!$P$2","v":5665},5670,5280,{"$f":"I65+I65*Титул.лист!$A$1","v":5808},{"$f":"J65+J65*Титул.лист!$P$2","v":5808},5810,5770,{"$f":"M65+M65*Титул.лист!$A$1","v":6347},{"$f":"N65+N65*Титул.лист!$P$2","v":6347},6350,5900,{"$f":"Q65+Q65*Титул.лист!$A$1","v":6490},{"$f":"R65+R65*Титул.лист!$P$2","v":6490},6490,6240,{"$f":"U65+U65*Титул.лист!$A$1","v":6864},{"$f":"V65+V65*Титул.лист!$P$2","v":6864},6860,6370,{"$f":"Y65+Y65*Титул.лист!$A$1","v":7007},{"$f":"Z65+Z65*Титул.лист!$P$2","v":7007},7010,5800,{"$f":"AC65+AC65*Титул.лист!$A$1","v":6380},{"$f":"AD65+AD65*Титул.лист!$P$2","v":6380},6380,5990,{"$f":"AG65+AG65*Титул.лист!$A$1","v":6589},{"$f":"AH65+AH65*Титул.лист!$P$2","v":6589},6590,6080,{"$f":"AK65+AK65*Титул.лист!$A$1","v":6688},{"$f":"AL65+AL65*Титул.лист!$P$2","v":6688},6690,8039.6479999999992,{"$f":"AO65+AO65*Титул.лист!$A$1","v":8843.612799999999},{"$f":"AP65+AP65*Титул.лист!$P$2","v":8843.612799999999},8840,8669.7279999999992,{"$f":"AS65+AS65*Титул.лист!$A$1","v":9536.7007999999987},{"$f":"AT65+AT65*Титул.лист!$P$2","v":9536.7007999999987},9540,7592.8639999999996,{"$f":"AW65+AW65*Титул.лист!$A$1","v":8352.1503999999986},{"$f":"AX65+AX65*Титул.лист!$P$2","v":8352.1503999999986},8350,8743.36,{"$f":"BA65+BA65*Титул.лист!$A$1","v":9617.6959999999999},{"$f":"BB65+BB65*Титул.лист!$P$2","v":9617.6959999999999},9620,10932.16,{"$f":"BE65+BE65*Титул.лист!$A$1","v":12025.376},{"$f":"BF65+BF65*Титул.лист!$P$2","v":12025.376},12030]
[null,"Стол 2ящ",300,"1006-30",2100,{"$f":"E66+E66*Титул.лист!$A$1","v":2310},{"$f":"F66+F66*Титул.лист!$P$2","v":2310},2310,2200,{"$f":"I66+I66*Титул.лист!$A$1","v":2420},{"$f":"J66+J66*Титул.лист!$P$2","v":2420},2420,2400,{"$f":"M66+M66*Титул.лист!$A$1","v":2640},{"$f":"N66+N66*Титул.лист!$P$2","v":2640},2640,2500,{"$f":"Q66+Q66*Титул.лист!$A$1","v":2750},{"$f":"R66+R66*Титул.лист!$P$2","v":2750},2750,2600,{"$f":"U66+U66*Титул.лист!$A$1","v":2860},{"$f":"V66+V66*Титул.лист!$P$2","v":2860},2860,2700,{"$f":"Y66+Y66*Титул.лист!$A$1","v":2970},{"$f":"Z66+Z66*Титул.лист!$P$2","v":2970},2970,2450,{"$f":"AC66+AC66*Титул.лист!$A$1","v":2695},{"$f":"AD66+AD66*Титул.лист!$P$2","v":2695},2700,2550,{"$f":"AG66+AG66*Титул.лист!$A$1","v":2805},{"$f":"AH66+AH66*Титул.лист!$P$2","v":2805},2810,2600,{"$f":"AK66+AK66*Титул.лист!$A$1","v":2860},{"$f":"AL66+AL66*Титул.лист!$P$2","v":2860},2860,3289.8679999999999,{"$f":"AO66+AO66*Титул.лист!$A$1","v":3618.8548000000001},{"$f":"AP66+AP66*Титул.лист!$P$2","v":3618.8548000000001},3620,3526.1480000000001,{"$f":"AS66+AS66*Титул.лист!$A$1","v":3878.7628000000004},{"$f":"AT66+AT66*Титул.лист!$P$2","v":3878.7628000000004},3880,3122.3240000000001,{"$f":"AW66+AW66*Титул.лист!$A$1","v":3434.5563999999999},{"$f":"AX66+AX66*Титул.лист!$P$2","v":3434.5563999999999},3430,3553.76,{"$f":"BA66+BA66*Титул.лист!$A$1","v":3909.1360000000004},{"$f":"BB66+BB66*Титул.лист!$P$2","v":3909.1360000000004},3910,4374.5600000000004,{"$f":"BE66+BE66*Титул.лист!$A$1","v":4812.0160000000005},{"$f":"BF66+BF66*Титул.лист!$P$2","v":4812.0160000000005},4810]
[null,null,400,"1006-40",2140,{"$f":"E67+E67*Титул.лист!$A$1","v":2354},{"$f":"F67+F67*Титул.лист!$P$2","v":2354},2350,2220,{"$f":"I67+I67*Титул.лист!$A$1","v":2442},{"$f":"J67+J67*Титул.лист!$P$2","v":2442},2440,2440,{"$f":"M67+M67*Титул.лист!$A$1","v":2684},{"$f":"N67+N67*Титул.лист!$P$2","v":2684},2680,2520,{"$f":"Q67+Q67*Титул.лист!$A$1","v":2772},{"$f":"R67+R67*Титул.лист!$P$2","v":2772},2770,2670,{"$f":"U67+U67*Титул.лист!$A$1","v":2937},{"$f":"V67+V67*Титул.лист!$P$2","v":2937},2940,2750,{"$f":"Y67+Y67*Титул.лист!$A$1","v":3025},{"$f":"Z67+Z67*Титул.лист!$P$2","v":3025},3030,2490,{"$f":"AC67+AC67*Титул.лист!$A$1","v":2739},{"$f":"AD67+AD67*Титул.лист!$P$2","v":2739},2740,2590,{"$f":"AG67+AG67*Титул.лист!$A$1","v":2849},{"$f":"AH67+AH67*Титул.лист!$P$2","v":2849},2850,2620,{"$f":"AK67+AK67*Титул.лист!$A$1","v":2882},{"$f":"AL67+AL67*Титул.лист!$P$2","v":2882},2880,3609.8239999999996,{"$f":"AO67+AO67*Титул.лист!$A$1","v":3970.8063999999995},{"$f":"AP67+AP67*Титул.лист!$P$2","v":3970.8063999999995},3970,3924.864,{"$f":"AS67+AS67*Титул.лист!$A$1","v":4317.3504000000003},{"$f":"AT67+AT67*Титул.лист!$P$2","v":4317.3504000000003},4320,3386.4319999999998,{"$f":"AW67+AW67*Титул.лист!$A$1","v":3725.0751999999998},{"$f":"AX67+AX67*Титул.лист!$P$2","v":3725.0751999999998},3730,3961.6800000000003,{"$f":"BA67+BA67*Титул.лист!$A$1","v":4357.848},{"$f":"BB67+BB67*Титул.лист!$P$2","v":4357.848},4360,5056.08,{"$f":"BE67+BE67*Титул.лист!$A$1","v":5561.6880000000001},{"$f":"BF67+BF67*Титул.лист!$P$2","v":5561.6880000000001},5560]
[null,null,450,"1006-45",2300,{"$f":"E68+E68*Титул.лист!$A$1","v":2530},{"$f":"F68+F68*Титул.лист!$P$2","v":2530},{"$f":"ROUND(G68,-1)","v":2530},2400,{"$f":"I68+I68*Титул.лист!$A$1","v":2640},{"$f":"J68+J68*Титул.лист!$P$2","v":2640},{"$f":"ROUND(K68,-1)","v":2640},2650,{"$f":"M68+M68*Титул.лист!$A$1","v":2915},{"$f":"N68+N68*Титул.лист!$P$2","v":2915},{"$f":"ROUND(O68,-1)","v":2920},2700,{"$f":"Q68+Q68*Титул.лист!$A$1","v":2970},{"$f":"R68+R68*Титул.лист!$P$2","v":2970},{"$f":"ROUND(S68,-1)","v":2970},3050,{"$f":"U68+U68*Титул.лист!$A$1","v":3355},{"$f":"V68+V68*Титул.лист!$P$2","v":3355},{"$f":"ROUND(W68,-1)","v":3360},3000,{"$f":"Y68+Y68*Титул.лист!$A$1","v":3300},{"$f":"Z68+Z68*Титул.лист!$P$2","v":3300},{"$f":"ROUND(AA68,-1)","v":3300},2700,{"$f":"AC68+AC68*Титул.лист!$A$1","v":2970},{"$f":"AD68+AD68*Титул.лист!$P$2","v":2970},{"$f":"ROUND(AE68,-1)","v":2970},2860,{"$f":"AG68+AG68*Титул.лист!$A$1","v":3146},{"$f":"AH68+AH68*Титул.лист!$P$2","v":3146},{"$f":"ROUND(AI68,-1)","v":3150},2900,{"$f":"AK68+AK68*Титул.лист!$A$1","v":3190},{"$f":"AL68+AL68*Титул.лист!$P$2","v":3190},{"$f":"ROUND(AM68,-1)","v":3190},3959.8019999999997,{"$f":"AO68+AO68*Титул.лист!$A$1","v":4355.7821999999996},{"$f":"AP68+AP68*Титул.лист!$P$2","v":4355.7821999999996},{"$f":"ROUND(AQ68,-1)","v":4360},4314.2219999999998,{"$f":"AS68+AS68*Титул.лист!$A$1","v":4745.6441999999997},{"$f":"AT68+AT68*Титул.лист!$P$2","v":4745.6441999999997},{"$f":"ROUND(AU68,-1)","v":4750},3708.4859999999999,{"$f":"AW68+AW68*Титул.лист!$A$1","v":4079.3346000000001},{"$f":"AX68+AX68*Титул.лист!$P$2","v":4079.3346000000001},{"$f":"ROUND(AY68,-1)","v":4080},4355.6400000000003,{"$f":"BA68+BA68*Титул.лист!$A$1","v":4791.2040000000006},{"$f":"BB68+BB68*Титул.лист!$P$2","v":4791.2040000000006},{"$f":"ROUND(BC68,-1)","v":4790},5586.84,{"$f":"BE68+BE68*Титул.лист!$A$1","v":6145.5240000000003},{"$f":"BF68+BF68*Титул.лист!$P$2","v":6145.5240000000003},{"$f":"ROUND(BG68,-1)","v":6150}]
[null,null,500,"1006-50",2430,{"$f":"E69+E69*Титул.лист!$A$1","v":2673},{"$f":"F69+F69*Титул.лист!$P$2","v":2673},2670,2510,{"$f":"I69+I69*Титул.лист!$A$1","v":2761},{"$f":"J69+J69*Титул.лист!$P$2","v":2761},2760,2820,{"$f":"M69+M69*Титул.лист!$A$1","v":3102},{"$f":"N69+N69*Титул.лист!$P$2","v":3102},3100,2890,{"$f":"Q69+Q69*Титул.лист!$A$1","v":3179},{"$f":"R69+R69*Титул.лист!$P$2","v":3179},3180,3110,{"$f":"U69+U69*Титул.лист!$A$1","v":3421},{"$f":"V69+V69*Титул.лист!$P$2","v":3421},3420,3190.0000000000005,{"$f":"Y69+Y69*Титул.лист!$A$1","v":3509.0000000000005},{"$f":"Z69+Z69*Титул.лист!$P$2","v":3509.0000000000005},3510,2840,{"$f":"AC69+AC69*Титул.лист!$A$1","v":3124},{"$f":"AD69+AD69*Титул.лист!$P$2","v":3124},3120,2960,{"$f":"AG69+AG69*Титул.лист!$A$1","v":3256},{"$f":"AH69+AH69*Титул.лист!$P$2","v":3256},3260,3000,{"$f":"AK69+AK69*Титул.лист!$A$1","v":3300},{"$f":"AL69+AL69*Титул.лист!$P$2","v":3300},3300,4239.78,{"$f":"AO69+AO69*Титул.лист!$A$1","v":4663.7579999999998},{"$f":"AP69+AP69*Титул.лист!$P$2","v":4663.7579999999998},4660,4633.58,{"$f":"AS69+AS69*Титул.лист!$A$1","v":5096.9380000000001},{"$f":"AT69+AT69*Титул.лист!$P$2","v":5096.9380000000001},5100,3960.54,{"$f":"AW69+AW69*Титул.лист!$A$1","v":4356.5940000000001},{"$f":"AX69+AX69*Титул.лист!$P$2","v":4356.5940000000001},4360,4679.6000000000004,{"$f":"BA69+BA69*Титул.лист!$A$1","v":5147.5600000000004},{"$f":"BB69+BB69*Титул.лист!$P$2","v":5147.5600000000004},5150,6047.6,{"$f":"BE69+BE69*Титул.лист!$A$1","v":6652.3600000000006},{"$f":"BF69+BF69*Титул.лист!$P$2","v":6652.3600000000006},6650]
[null,null,550,"1006-55",2600,{"$f":"E70+E70*Титул.лист!$A$1","v":2860},{"$f":"F70+F70*Титул.лист!$P$2","v":2860},2860,2700,{"$f":"I70+I70*Титул.лист!$A$1","v":2970},{"$f":"J70+J70*Титул.лист!$P$2","v":2970},2970,3100,{"$f":"M70+M70*Титул.лист!$A$1","v":3410},{"$f":"N70+N70*Титул.лист!$P$2","v":3410},3410,3200,{"$f":"Q70+Q70*Титул.лист!$A$1","v":3520},{"$f":"R70+R70*Титул.лист!$P$2","v":3520},3520,3400,{"$f":"U70+U70*Титул.лист!$A$1","v":3740},{"$f":"V70+V70*Титул.лист!$P$2","v":3740},3740,3550,{"$f":"Y70+Y70*Титул.лист!$A$1","v":3905},{"$f":"Z70+Z70*Титул.лист!$P$2","v":3905},3910,3100,{"$f":"AC70+AC70*Титул.лист!$A$1","v":3410},{"$f":"AD70+AD70*Титул.лист!$P$2","v":3410},3410,3250,{"$f":"AG70+AG70*Титул.лист!$A$1","v":3575},{"$f":"AH70+AH70*Титул.лист!$P$2","v":3575},3580,3300,{"$f":"AK70+AK70*Титул.лист!$A$1","v":3630},{"$f":"AL70+AL70*Титул.лист!$P$2","v":3630},3630,4639.7579999999998,{"$f":"AO70+AO70*Титул.лист!$A$1","v":5103.7338},{"$f":"AP70+AP70*Титул.лист!$P$2","v":5103.7338},5100,5072.9380000000001,{"$f":"AS70+AS70*Титул.лист!$A$1","v":5580.2318000000005},{"$f":"AT70+AT70*Титул.лист!$P$2","v":5580.2318000000005},5580,4332.5940000000001,{"$f":"AW70+AW70*Титул.лист!$A$1","v":4765.8534},{"$f":"AX70+AX70*Титул.лист!$P$2","v":4765.8534},4770,5123.5600000000004,{"$f":"BA70+BA70*Титул.лист!$A$1","v":5635.9160000000002},{"$f":"BB70+BB70*Титул.лист!$P$2","v":5635.9160000000002},5640,6628.3600000000006,{"$f":"BE70+BE70*Титул.лист!$A$1","v":7291.1960000000008},{"$f":"BF70+BF70*Титул.лист!$P$2","v":7291.1960000000008},7290]
[null,null,600,"1006-60",2720,{"$f":"E71+E71*Титул.лист!$A$1","v":2992},{"$f":"F71+F71*Титул.лист!$P$2","v":2992},2990,2800,{"$f":"I71+I71*Титул.лист!$A$1","v":3080},{"$f":"J71+J71*Титул.лист!$P$2","v":3080},3080,3180,{"$f":"M71+M71*Титул.лист!$A$1","v":3498},{"$f":"N71+N71*Титул.лист!$P$2","v":3498},3500,3270,{"$f":"Q71+Q71*Титул.лист!$A$1","v":3597},{"$f":"R71+R71*Титул.лист!$P$2","v":3597},3600,3520.0000000000005,{"$f":"U71+U71*Титул.лист!$A$1","v":3872.0000000000005},{"$f":"V71+V71*Титул.лист!$P$2","v":3872.0000000000005},3870,3610,{"$f":"Y71+Y71*Титул.лист!$A$1","v":3971},{"$f":"Z71+Z71*Титул.лист!$P$2","v":3971},3970,3200,{"$f":"AC71+AC71*Титул.лист!$A$1","v":3520},{"$f":"AD71+AD71*Титул.лист!$P$2","v":3520},3520,3350,{"$f":"AG71+AG71*Титул.лист!$A$1","v":3685},{"$f":"AH71+AH71*Титул.лист!$P$2","v":3685},3690,3410.0000000000005,{"$f":"AK71+AK71*Титул.лист!$A$1","v":3751.0000000000005},{"$f":"AL71+AL71*Титул.лист!$P$2","v":3751.0000000000005},3750,4879.7359999999999,{"$f":"AO71+AO71*Титул.лист!$A$1","v":5367.7096000000001},{"$f":"AP71+AP71*Титул.лист!$P$2","v":5367.7096000000001},5370,5352.2960000000003,{"$f":"AS71+AS71*Титул.лист!$A$1","v":5887.5255999999999},{"$f":"AT71+AT71*Титул.лист!$P$2","v":5887.5255999999999},5890,4544.6480000000001,{"$f":"AW71+AW71*Титул.лист!$A$1","v":4999.1127999999999},{"$f":"AX71+AX71*Титул.лист!$P$2","v":4999.1127999999999},5000,5407.52,{"$f":"BA71+BA71*Титул.лист!$A$1","v":5948.2720000000008},{"$f":"BB71+BB71*Титул.лист!$P$2","v":5948.2720000000008},5950,7049.1200000000008,{"$f":"BE71+BE71*Титул.лист!$A$1","v":7754.0320000000011},{"$f":"BF71+BF71*Титул.лист!$P$2","v":7754.0320000000011},7750]
[null,null,700,"1006-70",3010,{"$f":"E72+E72*Титул.лист!$A$1","v":3311},{"$f":"F72+F72*Титул.лист!$P$2","v":3311},3310,3120,{"$f":"I72+I72*Титул.лист!$A$1","v":3432},{"$f":"J72+J72*Титул.лист!$P$2","v":3432},3430,3540,{"$f":"M72+M72*Титул.лист!$A$1","v":3894},{"$f":"N72+N72*Титул.лист!$P$2","v":3894},3890,3650,{"$f":"Q72+Q72*Титул.лист!$A$1","v":4015},{"$f":"R72+R72*Титул.лист!$P$2","v":4015},4020,3950,{"$f":"U72+U72*Титул.лист!$A$1","v":4345},{"$f":"V72+V72*Титул.лист!$P$2","v":4345},4350,4060,{"$f":"Y72+Y72*Титул.лист!$A$1","v":4466},{"$f":"Z72+Z72*Титул.лист!$P$2","v":4466},4470,3600,{"$f":"AC72+AC72*Титул.лист!$A$1","v":3960},{"$f":"AD72+AD72*Титул.лист!$P$2","v":3960},3960,3760,{"$f":"AG72+AG72*Титул.лист!$A$1","v":4136},{"$f":"AH72+AH72*Титул.лист!$P$2","v":4136},4140,3840,{"$f":"AK72+AK72*Титул.лист!$A$1","v":4224},{"$f":"AL72+AL72*Титул.лист!$P$2","v":4224},4220,5559.692,{"$f":"AO72+AO72*Титул.лист!$A$1","v":6115.6612000000005},{"$f":"AP72+AP72*Титул.лист!$P$2","v":6115.6612000000005},6120,6111.0119999999997,{"$f":"AS72+AS72*Титул.лист!$A$1","v":6722.1131999999998},{"$f":"AT72+AT72*Титул.лист!$P$2","v":6722.1131999999998},6720,5168.7559999999994,{"$f":"AW72+AW72*Титул.лист!$A$1","v":5685.6315999999997},{"$f":"AX72+AX72*Титул.лист!$P$2","v":5685.6315999999997},5690,6175.4400000000005,{"$f":"BA72+BA72*Титул.лист!$A$1","v":6792.9840000000004},{"$f":"BB72+BB72*Титул.лист!$P$2","v":6792.9840000000004},6790,8090.64,{"$f":"BE72+BE72*Титул.лист!$A$1","v":8899.7039999999997},{"$f":"BF72+BF72*Титул.лист!$P$2","v":8899.7039999999997},8900]
[null,null,800,"1006-80",3290,{"$f":"E73+E73*Титул.лист!$A$1","v":3619},{"$f":"F73+F73*Титул.лист!$P$2","v":3619},3620,3400,{"$f":"I73+I73*Титул.лист!$A$1","v":3740},{"$f":"J73+J73*Титул.лист!$P$2","v":3740},3740,3900,{"$f":"M73+M73*Титул.лист!$A$1","v":4290},{"$f":"N73+N73*Титул.лист!$P$2","v":4290},4290,4010,{"$f":"Q73+Q73*Титул.лист!$A$1","v":4411},{"$f":"R73+R73*Титул.лист!$P$2","v":4411},4410,4380,{"$f":"U73+U73*Титул.лист!$A$1","v":4818},{"$f":"V73+V73*Титул.лист!$P$2","v":4818},4820,4490,{"$f":"Y73+Y73*Титул.лист!$A$1","v":4939},{"$f":"Z73+Z73*Титул.лист!$P$2","v":4939},4940,3950,{"$f":"AC73+AC73*Титул.лист!$A$1","v":4345},{"$f":"AD73+AD73*Титул.лист!$P$2","v":4345},4350,4140,{"$f":"AG73+AG73*Титул.лист!$A$1","v":4554},{"$f":"AH73+AH73*Титул.лист!$P$2","v":4554},4550,4220,{"$f":"AK73+AK73*Титул.лист!$A$1","v":4642},{"$f":"AL73+AL73*Титул.лист!$P$2","v":4642},4640,6189.6479999999992,{"$f":"AO73+AO73*Титул.лист!$A$1","v":6808.612799999999},{"$f":"AP73+AP73*Титул.лист!$P$2","v":6808.612799999999},6810,6819.7280000000001,{"$f":"AS73+AS73*Титул.лист!$A$1","v":7501.7008000000005},{"$f":"AT73+AT73*Титул.лист!$P$2","v":7501.7008000000005},7500,5742.8639999999996,{"$f":"AW73+AW73*Титул.лист!$A$1","v":6317.1503999999995},{"$f":"AX73+AX73*Титул.лист!$P$2","v":6317.1503999999995},6320,6893.3600000000006,{"$f":"BA73+BA73*Титул.лист!$A$1","v":7582.6960000000008},{"$f":"BB73+BB73*Титул.лист!$P$2","v":7582.6960000000008},7580,9082.16,{"$f":"BE73+BE73*Титул.лист!$A$1","v":9990.3760000000002},{"$f":"BF73+BF73*Титул.лист!$P$2","v":9990.3760000000002},9990]
[null,"Стол 2ящ метабокс",300,"1006-30м",{"$f":"E66+700","v":2800},{"$f":"E74+E74*Титул.лист!$A$1","v":3080},{"$f":"F74+F74*Титул.лист!$P$2","v":3080},3080,{"$f":"I66+700","v":2900},{"$f":"I74+I74*Титул.лист!$A$1","v":3190},{"$f":"J74+J74*Титул.лист!$P$2","v":3190},3190,{"$f":"M66+700","v":3100},{"$f":"M74+M74*Титул.лист!$A$1","v":3410},{"$f":"N74+N74*Титул.лист!$P$2","v":3410},3410,{"$f":"Q66+700","v":3200},{"$f":"Q74+Q74*Титул.лист!$A$1","v":3520},{"$f":"R74+R74*Титул.лист!$P$2","v":3520},3520,{"$f":"U66+700","v":3300},{"$f":"U74+U74*Титул.лист!$A$1","v":3630},{"$f":"V74+V74*Титул.лист!$P$2","v":3630},3630,{"$f":"Y66+700","v":3400},{"$f":"Y74+Y74*Титул.лист!$A$1","v":3740},{"$f":"Z74+Z74*Титул.лист!$P$2","v":3740},3740,{"$f":"AC66+700","v":3150},{"$f":"AC74+AC74*Титул.лист!$A$1","v":3465},{"$f":"AD74+AD74*Титул.лист!$P$2","v":3465},3470,{"$f":"AG66+700","v":3250},{"$f":"AG74+AG74*Титул.лист!$A$1","v":3575},{"$f":"AH74+AH74*Титул.лист!$P$2","v":3575},3580,{"$f":"AK66+700","v":3300},{"$f":"AK74+AK74*Титул.лист!$A$1","v":3630},{"$f":"AL74+AL74*Титул.лист!$P$2","v":3630},3630,3989.8679999999999,{"$f":"AO74+AO74*Титул.лист!$A$1","v":4388.8548000000001},{"$f":"AP74+AP74*Титул.лист!$P$2","v":4388.8548000000001},4390,4226.1480000000001,{"$f":"AS74+AS74*Титул.лист!$A$1","v":4648.7628000000004},{"$f":"AT74+AT74*Титул.лист!$P$2","v":4648.7628000000004},4650,3822.3240000000001,{"$f":"AW74+AW74*Титул.лист!$A$1","v":4204.5564000000004},{"$f":"AX74+AX74*Титул.лист!$P$2","v":4204.5564000000004},4200,4253.76,{"$f":"BA74+BA74*Титул.лист!$A$1","v":4679.1360000000004},{"$f":"BB74+BB74*Титул.лист!$P$2","v":4679.1360000000004},4680,5074.5600000000004,{"$f":"BE74+BE74*Титул.лист!$A$1","v":5582.0160000000005},{"$f":"BF74+BF74*Титул.лист!$P$2","v":5582.0160000000005},5580]
[null,null,400,"1006-40м",2840,{"$f":"E75+E75*Титул.лист!$A$1","v":3124},{"$f":"F75+F75*Титул.лист!$P$2","v":3124},3120,2920,{"$f":"I75+I75*Титул.лист!$A$1","v":3212},{"$f":"J75+J75*Титул.лист!$P$2","v":3212},3210,3140,{"$f":"M75+M75*Титул.лист!$A$1","v":3454},{"$f":"N75+N75*Титул.лист!$P$2","v":3454},3450,3220,{"$f":"Q75+Q75*Титул.лист!$A$1","v":3542},{"$f":"R75+R75*Титул.лист!$P$2","v":3542},3540,3370,{"$f":"U75+U75*Титул.лист!$A$1","v":3707},{"$f":"V75+V75*Титул.лист!$P$2","v":3707},3710,3450,{"$f":"Y75+Y75*Титул.лист!$A$1","v":3795},{"$f":"Z75+Z75*Титул.лист!$P$2","v":3795},3800,3190,{"$f":"AC75+AC75*Титул.лист!$A$1","v":3509},{"$f":"AD75+AD75*Титул.лист!$P$2","v":3509},3510,3290,{"$f":"AG75+AG75*Титул.лист!$A$1","v":3619},{"$f":"AH75+AH75*Титул.лист!$P$2","v":3619},3620,3320,{"$f":"AK75+AK75*Титул.лист!$A$1","v":3652},{"$f":"AL75+AL75*Титул.лист!$P$2","v":3652},3650,4309.8239999999996,{"$f":"AO75+AO75*Титул.лист!$A$1","v":4740.8063999999995},{"$f":"AP75+AP75*Титул.лист!$P$2","v":4740.8063999999995},4740,4624.8639999999996,{"$f":"AS75+AS75*Титул.лист!$A$1","v":5087.3503999999994},{"$f":"AT75+AT75*Титул.лист!$P$2","v":5087.3503999999994},5090,4086.4319999999998,{"$f":"AW75+AW75*Титул.лист!$A$1","v":4495.0751999999993},{"$f":"AX75+AX75*Титул.лист!$P$2","v":4495.0751999999993},4500,4661.68,{"$f":"BA75+BA75*Титул.лист!$A$1","v":5127.848},{"$f":"BB75+BB75*Титул.лист!$P$2","v":5127.848},5130,5756.08,{"$f":"BE75+BE75*Титул.лист!$A$1","v":6331.6880000000001},{"$f":"BF75+BF75*Титул.лист!$P$2","v":6331.6880000000001},6330]
[null,null,450,"1006-45м",3000,{"$f":"E76+E76*Титул.лист!$A$1","v":3300},{"$f":"F76+F76*Титул.лист!$P$2","v":3300},3300,3100,{"$f":"I76+I76*Титул.лист!$A$1","v":3410},{"$f":"J76+J76*Титул.лист!$P$2","v":3410},3410,3350,{"$f":"M76+M76*Титул.лист!$A$1","v":3685},{"$f":"N76+N76*Титул.лист!$P$2","v":3685},3690,3400,{"$f":"Q76+Q76*Титул.лист!$A$1","v":3740},{"$f":"R76+R76*Титул.лист!$P$2","v":3740},3740,3750,{"$f":"U76+U76*Титул.лист!$A$1","v":4125},{"$f":"V76+V76*Титул.лист!$P$2","v":4125},4130,3700,{"$f":"Y76+Y76*Титул.лист!$A$1","v":4070},{"$f":"Z76+Z76*Титул.лист!$P$2","v":4070},4070,3400,{"$f":"AC76+AC76*Титул.лист!$A$1","v":3740},{"$f":"AD76+AD76*Титул.лист!$P$2","v":3740},3740,3560,{"$f":"AG76+AG76*Титул.лист!$A$1","v":3916},{"$f":"AH76+AH76*Титул.лист!$P$2","v":3916},3920,3600,{"$f":"AK76+AK76*Титул.лист!$A$1","v":3960},{"$f":"AL76+AL76*Титул.лист!$P$2","v":3960},3960,4659.8019999999997,{"$f":"AO76+AO76*Титул.лист!$A$1","v":5125.7821999999996},{"$f":"AP76+AP76*Титул.лист!$P$2","v":5125.7821999999996},5130,5014.2219999999998,{"$f":"AS76+AS76*Титул.лист!$A$1","v":5515.6441999999997},{"$f":"AT76+AT76*Титул.лист!$P$2","v":5515.6441999999997},5520,4408.4859999999999,{"$f":"AW76+AW76*Титул.лист!$A$1","v":4849.3346000000001},{"$f":"AX76+AX76*Титул.лист!$P$2","v":4849.3346000000001},4850,5055.6400000000003,{"$f":"BA76+BA76*Титул.лист!$A$1","v":5561.2040000000006},{"$f":"BB76+BB76*Титул.лист!$P$2","v":5561.2040000000006},5560,6286.84,{"$f":"BE76+BE76*Титул.лист!$A$1","v":6915.5240000000003},{"$f":"BF76+BF76*Титул.лист!$P$2","v":6915.5240000000003},6920]
[null,null,500,"1006-50м",3130,{"$f":"E77+E77*Титул.лист!$A$1","v":3443},{"$f":"F77+F77*Титул.лист!$P$2","v":3443},3440,3210,{"$f":"I77+I77*Титул.лист!$A$1","v":3531},{"$f":"J77+J77*Титул.лист!$P$2","v":3531},3530,3520,{"$f":"M77+M77*Титул.лист!$A$1","v":3872},{"$f":"N77+N77*Титул.лист!$P$2","v":3872},3870,3590,{"$f":"Q77+Q77*Титул.лист!$A$1","v":3949},{"$f":"R77+R77*Титул.лист!$P$2","v":3949},3950,3810,{"$f":"U77+U77*Титул.лист!$A$1","v":4191},{"$f":"V77+V77*Титул.лист!$P$2","v":4191},4190,3890.0000000000005,{"$f":"Y77+Y77*Титул.лист!$A$1","v":4279.0000000000009},{"$f":"Z77+Z77*Титул.лист!$P$2","v":4279.0000000000009},4280,3540,{"$f":"AC77+AC77*Титул.лист!$A$1","v":3894},{"$f":"AD77+AD77*Титул.лист!$P$2","v":3894},3890,3660,{"$f":"AG77+AG77*Титул.лист!$A$1","v":4026},{"$f":"AH77+AH77*Титул.лист!$P$2","v":4026},4030,3700,{"$f":"AK77+AK77*Титул.лист!$A$1","v":4070},{"$f":"AL77+AL77*Титул.лист!$P$2","v":4070},4070,4939.78,{"$f":"AO77+AO77*Титул.лист!$A$1","v":5433.7579999999998},{"$f":"AP77+AP77*Титул.лист!$P$2","v":5433.7579999999998},5430,5333.58,{"$f":"AS77+AS77*Титул.лист!$A$1","v":5866.9380000000001},{"$f":"AT77+AT77*Титул.лист!$P$2","v":5866.9380000000001},5870,4660.54,{"$f":"AW77+AW77*Титул.лист!$A$1","v":5126.5940000000001},{"$f":"AX77+AX77*Титул.лист!$P$2","v":5126.5940000000001},5130,5379.6,{"$f":"BA77+BA77*Титул.лист!$A$1","v":5917.56},{"$f":"BB77+BB77*Титул.лист!$P$2","v":5917.56},5920,6747.6,{"$f":"BE77+BE77*Титул.лист!$A$1","v":7422.3600000000006},{"$f":"BF77+BF77*Титул.лист!$P$2","v":7422.3600000000006},7420]
[null,null,550,"1006-55м",3300,{"$f":"E78+E78*Титул.лист!$A$1","v":3630},{"$f":"F78+F78*Титул.лист!$P$2","v":3630},3630,3400,{"$f":"I78+I78*Титул.лист!$A$1","v":3740},{"$f":"J78+J78*Титул.лист!$P$2","v":3740},3740,3800,{"$f":"M78+M78*Титул.лист!$A$1","v":4180},{"$f":"N78+N78*Титул.лист!$P$2","v":4180},4180,3900,{"$f":"Q78+Q78*Титул.лист!$A$1","v":4290},{"$f":"R78+R78*Титул.лист!$P$2","v":4290},4290,4100,{"$f":"U78+U78*Титул.лист!$A$1","v":4510},{"$f":"V78+V78*Титул.лист!$P$2","v":4510},4510,4250,{"$f":"Y78+Y78*Титул.лист!$A$1","v":4675},{"$f":"Z78+Z78*Титул.лист!$P$2","v":4675},4680,3800,{"$f":"AC78+AC78*Титул.лист!$A$1","v":4180},{"$f":"AD78+AD78*Титул.лист!$P$2","v":4180},4180,3950,{"$f":"AG78+AG78*Титул.лист!$A$1","v":4345},{"$f":"AH78+AH78*Титул.лист!$P$2","v":4345},4350,4000,{"$f":"AK78+AK78*Титул.лист!$A$1","v":4400},{"$f":"AL78+AL78*Титул.лист!$P$2","v":4400},4400,5339.7579999999998,{"$f":"AO78+AO78*Титул.лист!$A$1","v":5873.7338},{"$f":"AP78+AP78*Титул.лист!$P$2","v":5873.7338},5870,5772.9380000000001,{"$f":"AS78+AS78*Титул.лист!$A$1","v":6350.2318000000005},{"$f":"AT78+AT78*Титул.лист!$P$2","v":6350.2318000000005},6350,5032.5940000000001,{"$f":"AW78+AW78*Титул.лист!$A$1","v":5535.8534},{"$f":"AX78+AX78*Титул.лист!$P$2","v":5535.8534},5540,5823.56,{"$f":"BA78+BA78*Титул.лист!$A$1","v":6405.9160000000002},{"$f":"BB78+BB78*Титул.лист!$P$2","v":6405.9160000000002},6410,7328.3600000000006,{"$f":"BE78+BE78*Титул.лист!$A$1","v":8061.1960000000008},{"$f":"BF78+BF78*Титул.лист!$P$2","v":8061.1960000000008},8060]
[null,null,600,"1006-60м",3420,{"$f":"E79+E79*Титул.лист!$A$1","v":3762},{"$f":"F79+F79*Титул.лист!$P$2","v":3762},3760,3500,{"$f":"I79+I79*Титул.лист!$A$1","v":3850},{"$f":"J79+J79*Титул.лист!$P$2","v":3850},3850,3880,{"$f":"M79+M79*Титул.лист!$A$1","v":4268},{"$f":"N79+N79*Титул.лист!$P$2","v":4268},4270,3970,{"$f":"Q79+Q79*Титул.лист!$A$1","v":4367},{"$f":"R79+R79*Титул.лист!$P$2","v":4367},4370,4220,{"$f":"U79+U79*Титул.лист!$A$1","v":4642},{"$f":"V79+V79*Титул.лист!$P$2","v":4642},4640,4310,{"$f":"Y79+Y79*Титул.лист!$A$1","v":4741},{"$f":"Z79+Z79*Титул.лист!$P$2","v":4741},4740,3900,{"$f":"AC79+AC79*Титул.лист!$A$1","v":4290},{"$f":"AD79+AD79*Титул.лист!$P$2","v":4290},4290,4050,{"$f":"AG79+AG79*Титул.лист!$A$1","v":4455},{"$f":"AH79+AH79*Титул.лист!$P$2","v":4455},4460,4110,{"$f":"AK79+AK79*Титул.лист!$A$1","v":4521},{"$f":"AL79+AL79*Титул.лист!$P$2","v":4521},4520,5579.7359999999999,{"$f":"AO79+AO79*Титул.лист!$A$1","v":6137.7096000000001},{"$f":"AP79+AP79*Титул.лист!$P$2","v":6137.7096000000001},6140,6052.2960000000003,{"$f":"AS79+AS79*Титул.лист!$A$1","v":6657.5255999999999},{"$f":"AT79+AT79*Титул.лист!$P$2","v":6657.5255999999999},6660,5244.6480000000001,{"$f":"AW79+AW79*Титул.лист!$A$1","v":5769.1127999999999},{"$f":"AX79+AX79*Титул.лист!$P$2","v":5769.1127999999999},5770,6107.52,{"$f":"BA79+BA79*Титул.лист!$A$1","v":6718.2720000000008},{"$f":"BB79+BB79*Титул.лист!$P$2","v":6718.2720000000008},6720,7749.1200000000008,{"$f":"BE79+BE79*Титул.лист!$A$1","v":8524.0320000000011},{"$f":"BF79+BF79*Титул.лист!$P$2","v":8524.0320000000011},8520]
[null,null,700,"1006-70м",3710,{"$f":"E80+E80*Титул.лист!$A$1","v":4081},{"$f":"F80+F80*Титул.лист!$P$2","v":4081},4080,3820,{"$f":"I80+I80*Титул.лист!$A$1","v":4202},{"$f":"J80+J80*Титул.лист!$P$2","v":4202},4200,4240,{"$f":"M80+M80*Титул.лист!$A$1","v":4664},{"$f":"N80+N80*Титул.лист!$P$2","v":4664},4660,4350,{"$f":"Q80+Q80*Титул.лист!$A$1","v":4785},{"$f":"R80+R80*Титул.лист!$P$2","v":4785},4790,4650,{"$f":"U80+U80*Титул.лист!$A$1","v":5115},{"$f":"V80+V80*Титул.лист!$P$2","v":5115},5120,4760,{"$f":"Y80+Y80*Титул.лист!$A$1","v":5236},{"$f":"Z80+Z80*Титул.лист!$P$2","v":5236},5240,4300,{"$f":"AC80+AC80*Титул.лист!$A$1","v":4730},{"$f":"AD80+AD80*Титул.лист!$P$2","v":4730},4730,4460,{"$f":"AG80+AG80*Титул.лист!$A$1","v":4906},{"$f":"AH80+AH80*Титул.лист!$P$2","v":4906},4910,4540,{"$f":"AK80+AK80*Титул.лист!$A$1","v":4994},{"$f":"AL80+AL80*Титул.лист!$P$2","v":4994},4990,6259.692,{"$f":"AO80+AO80*Титул.лист!$A$1","v":6885.6612000000005},{"$f":"AP80+AP80*Титул.лист!$P$2","v":6885.6612000000005},6890,6811.0119999999997,{"$f":"AS80+AS80*Титул.лист!$A$1","v":7492.1131999999998},{"$f":"AT80+AT80*Титул.лист!$P$2","v":7492.1131999999998},7490,5868.7559999999994,{"$f":"AW80+AW80*Титул.лист!$A$1","v":6455.6315999999997},{"$f":"AX80+AX80*Титул.лист!$P$2","v":6455.6315999999997},6460,6875.4400000000005,{"$f":"BA80+BA80*Титул.лист!$A$1","v":7562.9840000000004},{"$f":"BB80+BB80*Титул.лист!$P$2","v":7562.9840000000004},7560,8790.64,{"$f":"BE80+BE80*Титул.лист!$A$1","v":9669.7039999999997},{"$f":"BF80+BF80*Титул.лист!$P$2","v":9669.7039999999997},9670]
[null,null,800,"1006-80м",3990,{"$f":"E81+E81*Титул.лист!$A$1","v":4389},{"$f":"F81+F81*Титул.лист!$P$2","v":4389},4390,4100,{"$f":"I81+I81*Титул.лист!$A$1","v":4510},{"$f":"J81+J81*Титул.лист!$P$2","v":4510},4510,4600,{"$f":"M81+M81*Титул.лист!$A$1","v":5060},{"$f":"N81+N81*Титул.лист!$P$2","v":5060},5060,4710,{"$f":"Q81+Q81*Титул.лист!$A$1","v":5181},{"$f":"R81+R81*Титул.лист!$P$2","v":5181},5180,5080,{"$f":"U81+U81*Титул.лист!$A$1","v":5588},{"$f":"V81+V81*Титул.лист!$P$2","v":5588},5590,5190,{"$f":"Y81+Y81*Титул.лист!$A$1","v":5709},{"$f":"Z81+Z81*Титул.лист!$P$2","v":5709},5710,4650,{"$f":"AC81+AC81*Титул.лист!$A$1","v":5115},{"$f":"AD81+AD81*Титул.лист!$P$2","v":5115},5120,4840,{"$f":"AG81+AG81*Титул.лист!$A$1","v":5324},{"$f":"AH81+AH81*Титул.лист!$P$2","v":5324},5320,4920,{"$f":"AK81+AK81*Титул.лист!$A$1","v":5412},{"$f":"AL81+AL81*Титул.лист!$P$2","v":5412},5410,6889.6479999999992,{"$f":"AO81+AO81*Титул.лист!$A$1","v":7578.612799999999},{"$f":"AP81+AP81*Титул.лист!$P$2","v":7578.612799999999},7580,7519.7280000000001,{"$f":"AS81+AS81*Титул.лист!$A$1","v":8271.7008000000005},{"$f":"AT81+AT81*Титул.лист!$P$2","v":8271.7008000000005},8270,6442.8639999999996,{"$f":"AW81+AW81*Титул.лист!$A$1","v":7087.1503999999995},{"$f":"AX81+AX81*Титул.лист!$P$2","v":7087.1503999999995},7090,7593.3600000000006,{"$f":"BA81+BA81*Титул.лист!$A$1","v":8352.6959999999999},{"$f":"BB81+BB81*Титул.лист!$P$2","v":8352.6959999999999},8350,9782.16,{"$f":"BE81+BE81*Титул.лист!$A$1","v":10760.376},{"$f":"BF81+BF81*Титул.лист!$P$2","v":10760.376},10760]
[null,"Стол 2ящ тандембокс",300,"1006-30т",6700,{"$f":"E82+E82*Титул.лист!$A$1","v":7370},{"$f":"F82+F82*Титул.лист!$P$2","v":7370},7370,6800,{"$f":"I82+I82*Титул.лист!$A$1","v":7480},{"$f":"J82+J82*Титул.лист!$P$2","v":7480},7480,7000,{"$f":"M82+M82*Титул.лист!$A$1","v":7700},{"$f":"N82+N82*Титул.лист!$P$2","v":7700},7700,7100,{"$f":"Q82+Q82*Титул.лист!$A$1","v":7810},{"$f":"R82+R82*Титул.лист!$P$2","v":7810},7810,7200,{"$f":"U82+U82*Титул.лист!$A$1","v":7920},{"$f":"V82+V82*Титул.лист!$P$2","v":7920},7920,7300,{"$f":"Y82+Y82*Титул.лист!$A$1","v":8030},{"$f":"Z82+Z82*Титул.лист!$P$2","v":8030},8030,7050,{"$f":"AC82+AC82*Титул.лист!$A$1","v":7755},{"$f":"AD82+AD82*Титул.лист!$P$2","v":7755},7760,7150,{"$f":"AG82+AG82*Титул.лист!$A$1","v":7865},{"$f":"AH82+AH82*Титул.лист!$P$2","v":7865},7870,7200,{"$f":"AK82+AK82*Титул.лист!$A$1","v":7920},{"$f":"AL82+AL82*Титул.лист!$P$2","v":7920},7920,7889.8680000000004,{"$f":"AO82+AO82*Титул.лист!$A$1","v":8678.854800000001},{"$f":"AP82+AP82*Титул.лист!$P$2","v":8678.854800000001},8680,8126.1480000000001,{"$f":"AS82+AS82*Титул.лист!$A$1","v":8938.7628000000004},{"$f":"AT82+AT82*Титул.лист!$P$2","v":8938.7628000000004},8940,7722.3239999999996,{"$f":"AW82+AW82*Титул.лист!$A$1","v":8494.5563999999995},{"$f":"AX82+AX82*Титул.лист!$P$2","v":8494.5563999999995},8490,8153.76,{"$f":"BA82+BA82*Титул.лист!$A$1","v":8969.1360000000004},{"$f":"BB82+BB82*Титул.лист!$P$2","v":8969.1360000000004},8970,8974.56,{"$f":"BE82+BE82*Титул.лист!$A$1","v":9872.0159999999996},{"$f":"BF82+BF82*Титул.лист!$P$2","v":9872.0159999999996},9870]
[null,null,400,"1006-40т",6740,{"$f":"E83+E83*Титул.лист!$A$1","v":7414},{"$f":"F83+F83*Титул.лист!$P$2","v":7414},7410,6820,{"$f":"I83+I83*Титул.лист!$A$1","v":7502},{"$f":"J83+J83*Титул.лист!$P$2","v":7502},7500,7040,{"$f":"M83+M83*Титул.лист!$A$1","v":7744},{"$f":"N83+N83*Титул.лист!$P$2","v":7744},7740,7120,{"$f":"Q83+Q83*Титул.лист!$A$1","v":7832},{"$f":"R83+R83*Титул.лист!$P$2","v":7832},7830,7270,{"$f":"U83+U83*Титул.лист!$A$1","v":7997},{"$f":"V83+V83*Титул.лист!$P$2","v":7997},8000,7350,{"$f":"Y83+Y83*Титул.лист!$A$1","v":8085},{"$f":"Z83+Z83*Титул.лист!$P$2","v":8085},8090,7090,{"$f":"AC83+AC83*Титул.лист!$A$1","v":7799},{"$f":"AD83+AD83*Титул.лист!$P$2","v":7799},7800,7190,{"$f":"AG83+AG83*Титул.лист!$A$1","v":7909},{"$f":"AH83+AH83*Титул.лист!$P$2","v":7909},7910,7220,{"$f":"AK83+AK83*Титул.лист!$A$1","v":7942},{"$f":"AL83+AL83*Титул.лист!$P$2","v":7942},7940,8209.8240000000005,{"$f":"AO83+AO83*Титул.лист!$A$1","v":9030.8064000000013},{"$f":"AP83+AP83*Титул.лист!$P$2","v":9030.8064000000013},9030,8524.8639999999996,{"$f":"AS83+AS83*Титул.лист!$A$1","v":9377.3503999999994},{"$f":"AT83+AT83*Титул.лист!$P$2","v":9377.3503999999994},9380,7986.4319999999998,{"$f":"AW83+AW83*Титул.лист!$A$1","v":8785.0751999999993},{"$f":"AX83+AX83*Титул.лист!$P$2","v":8785.0751999999993},8790,8561.68,{"$f":"BA83+BA83*Титул.лист!$A$1","v":9417.848},{"$f":"BB83+BB83*Титул.лист!$P$2","v":9417.848},9420,9656.08,{"$f":"BE83+BE83*Титул.лист!$A$1","v":10621.688},{"$f":"BF83+BF83*Титул.лист!$P$2","v":10621.688},10620]
[null,null,450,"1006-45т",6900,{"$f":"E84+E84*Титул.лист!$A$1","v":7590},{"$f":"F84+F84*Титул.лист!$P$2","v":7590},7590,7000,{"$f":"I84+I84*Титул.лист!$A$1","v":7700},{"$f":"J84+J84*Титул.лист!$P$2","v":7700},7700,7250,{"$f":"M84+M84*Титул.лист!$A$1","v":7975},{"$f":"N84+N84*Титул.лист!$P$2","v":7975},7980,7300,{"$f":"Q84+Q84*Титул.лист!$A$1","v":8030},{"$f":"R84+R84*Титул.лист!$P$2","v":8030},8030,7650,{"$f":"U84+U84*Титул.лист!$A$1","v":8415},{"$f":"V84+V84*Титул.лист!$P$2","v":8415},8420,7600,{"$f":"Y84+Y84*Титул.лист!$A$1","v":8360},{"$f":"Z84+Z84*Титул.лист!$P$2","v":8360},8360,7300,{"$f":"AC84+AC84*Титул.лист!$A$1","v":8030},{"$f":"AD84+AD84*Титул.лист!$P$2","v":8030},8030,7460,{"$f":"AG84+AG84*Титул.лист!$A$1","v":8206},{"$f":"AH84+AH84*Титул.лист!$P$2","v":8206},8210,7500,{"$f":"AK84+AK84*Титул.лист!$A$1","v":8250},{"$f":"AL84+AL84*Титул.лист!$P$2","v":8250},8250,8559.8019999999997,{"$f":"AO84+AO84*Титул.лист!$A$1","v":9415.7821999999996},{"$f":"AP84+AP84*Титул.лист!$P$2","v":9415.7821999999996},9420,8914.2219999999998,{"$f":"AS84+AS84*Титул.лист!$A$1","v":9805.6441999999988},{"$f":"AT84+AT84*Титул.лист!$P$2","v":9805.6441999999988},9810,8308.4860000000008,{"$f":"AW84+AW84*Титул.лист!$A$1","v":9139.3346000000001},{"$f":"AX84+AX84*Титул.лист!$P$2","v":9139.3346000000001},9140,8955.64,{"$f":"BA84+BA84*Титул.лист!$A$1","v":9851.2039999999997},{"$f":"BB84+BB84*Титул.лист!$P$2","v":9851.2039999999997},9850,10186.84,{"$f":"BE84+BE84*Титул.лист!$A$1","v":11205.523999999999},{"$f":"BF84+BF84*Титул.лист!$P$2","v":11205.523999999999},11210]
[null,null,500,"1006-50т",7030,{"$f":"E85+E85*Титул.лист!$A$1","v":7733},{"$f":"F85+F85*Титул.лист!$P$2","v":7733},7730,7110,{"$f":"I85+I85*Титул.лист!$A$1","v":7821},{"$f":"J85+J85*Титул.лист!$P$2","v":7821},7820,7420,{"$f":"M85+M85*Титул.лист!$A$1","v":8162},{"$f":"N85+N85*Титул.лист!$P$2","v":8162},8160,7490,{"$f":"Q85+Q85*Титул.лист!$A$1","v":8239},{"$f":"R85+R85*Титул.лист!$P$2","v":8239},8240,7710,{"$f":"U85+U85*Титул.лист!$A$1","v":8481},{"$f":"V85+V85*Титул.лист!$P$2","v":8481},8480,7790,{"$f":"Y85+Y85*Титул.лист!$A$1","v":8569},{"$f":"Z85+Z85*Титул.лист!$P$2","v":8569},8570,7440,{"$f":"AC85+AC85*Титул.лист!$A$1","v":8184},{"$f":"AD85+AD85*Титул.лист!$P$2","v":8184},8180,7560,{"$f":"AG85+AG85*Титул.лист!$A$1","v":8316},{"$f":"AH85+AH85*Титул.лист!$P$2","v":8316},8320,7600,{"$f":"AK85+AK85*Титул.лист!$A$1","v":8360},{"$f":"AL85+AL85*Титул.лист!$P$2","v":8360},8360,8839.7800000000007,{"$f":"AO85+AO85*Титул.лист!$A$1","v":9723.7580000000016},{"$f":"AP85+AP85*Титул.лист!$P$2","v":9723.7580000000016},9720,9233.58,{"$f":"AS85+AS85*Титул.лист!$A$1","v":10156.938},{"$f":"AT85+AT85*Титул.лист!$P$2","v":10156.938},10160,8560.5400000000009,{"$f":"AW85+AW85*Титул.лист!$A$1","v":9416.594000000001},{"$f":"AX85+AX85*Титул.лист!$P$2","v":9416.594000000001},9420,9279.6,{"$f":"BA85+BA85*Титул.лист!$A$1","v":10207.560000000001},{"$f":"BB85+BB85*Титул.лист!$P$2","v":10207.560000000001},10210,10647.6,{"$f":"BE85+BE85*Титул.лист!$A$1","v":11712.36},{"$f":"BF85+BF85*Титул.лист!$P$2","v":11712.36},11710]
[null,null,550,"1006-55т",7200,{"$f":"E86+E86*Титул.лист!$A$1","v":7920},{"$f":"F86+F86*Титул.лист!$P$2","v":7920},7920,7300,{"$f":"I86+I86*Титул.лист!$A$1","v":8030},{"$f":"J86+J86*Титул.лист!$P$2","v":8030},8030,7700,{"$f":"M86+M86*Титул.лист!$A$1","v":8470},{"$f":"N86+N86*Титул.лист!$P$2","v":8470},8470,7800,{"$f":"Q86+Q86*Титул.лист!$A$1","v":8580},{"$f":"R86+R86*Титул.лист!$P$2","v":8580},8580,8000,{"$f":"U86+U86*Титул.лист!$A$1","v":8800},{"$f":"V86+V86*Титул.лист!$P$2","v":8800},8800,8150,{"$f":"Y86+Y86*Титул.лист!$A$1","v":8965},{"$f":"Z86+Z86*Титул.лист!$P$2","v":8965},8970,7700,{"$f":"AC86+AC86*Титул.лист!$A$1","v":8470},{"$f":"AD86+AD86*Титул.лист!$P$2","v":8470},8470,7850,{"$f":"AG86+AG86*Титул.лист!$A$1","v":8635},{"$f":"AH86+AH86*Титул.лист!$P$2","v":8635},8640,7900,{"$f":"AK86+AK86*Титул.лист!$A$1","v":8690},{"$f":"AL86+AL86*Титул.лист!$P$2","v":8690},8690,9239.7579999999998,{"$f":"AO86+AO86*Титул.лист!$A$1","v":10163.7338},{"$f":"AP86+AP86*Титул.лист!$P$2","v":10163.7338},10160,9672.9380000000001,{"$f":"AS86+AS86*Титул.лист!$A$1","v":10640.2318},{"$f":"AT86+AT86*Титул.лист!$P$2","v":10640.2318},10640,8932.594000000001,{"$f":"AW86+AW86*Титул.лист!$A$1","v":9825.8534000000018},{"$f":"AX86+AX86*Титул.лист!$P$2","v":9825.8534000000018},9830,9723.56,{"$f":"BA86+BA86*Титул.лист!$A$1","v":10695.915999999999},{"$f":"BB86+BB86*Титул.лист!$P$2","v":10695.915999999999},10700,11228.36,{"$f":"BE86+BE86*Титул.лист!$A$1","v":12351.196},{"$f":"BF86+BF86*Титул.лист!$P$2","v":12351.196},12350]
[null,null,600,"1006-60т",7320,{"$f":"E87+E87*Титул.лист!$A$1","v":8052},{"$f":"F87+F87*Титул.лист!$P$2","v":8052},8050,7400,{"$f":"I87+I87*Титул.лист!$A$1","v":8140},{"$f":"J87+J87*Титул.лист!$P$2","v":8140},8140,7780,{"$f":"M87+M87*Титул.лист!$A$1","v":8558},{"$f":"N87+N87*Титул.лист!$P$2","v":8558},8560,7870,{"$f":"Q87+Q87*Титул.лист!$A$1","v":8657},{"$f":"R87+R87*Титул.лист!$P$2","v":8657},8660,8120,{"$f":"U87+U87*Титул.лист!$A$1","v":8932},{"$f":"V87+V87*Титул.лист!$P$2","v":8932},8930,8210,{"$f":"Y87+Y87*Титул.лист!$A$1","v":9031},{"$f":"Z87+Z87*Титул.лист!$P$2","v":9031},9030,7800,{"$f":"AC87+AC87*Титул.лист!$A$1","v":8580},{"$f":"AD87+AD87*Титул.лист!$P$2","v":8580},8580,7950,{"$f":"AG87+AG87*Титул.лист!$A$1","v":8745},{"$f":"AH87+AH87*Титул.лист!$P$2","v":8745},8750,8010,{"$f":"AK87+AK87*Титул.лист!$A$1","v":8811},{"$f":"AL87+AL87*Титул.лист!$P$2","v":8811},8810,9479.7360000000008,{"$f":"AO87+AO87*Титул.лист!$A$1","v":10427.7096},{"$f":"AP87+AP87*Титул.лист!$P$2","v":10427.7096},10430,9952.2960000000003,{"$f":"AS87+AS87*Титул.лист!$A$1","v":10947.525600000001},{"$f":"AT87+AT87*Титул.лист!$P$2","v":10947.525600000001},10950,9144.6479999999992,{"$f":"AW87+AW87*Титул.лист!$A$1","v":10059.112799999999},{"$f":"AX87+AX87*Титул.лист!$P$2","v":10059.112799999999},10060,10007.52,{"$f":"BA87+BA87*Титул.лист!$A$1","v":11008.272000000001},{"$f":"BB87+BB87*Титул.лист!$P$2","v":11008.272000000001},11010,11649.12,{"$f":"BE87+BE87*Титул.лист!$A$1","v":12814.032000000001},{"$f":"BF87+BF87*Титул.лист!$P$2","v":12814.032000000001},12810]
[null,null,700,"1006-70т",7610,{"$f":"E88+E88*Титул.лист!$A$1","v":8371},{"$f":"F88+F88*Титул.лист!$P$2","v":8371},8370,7720,{"$f":"I88+I88*Титул.лист!$A$1","v":8492},{"$f":"J88+J88*Титул.лист!$P$2","v":8492},8490,8140,{"$f":"M88+M88*Титул.лист!$A$1","v":8954},{"$f":"N88+N88*Титул.лист!$P$2","v":8954},8950,8250,{"$f":"Q88+Q88*Титул.лист!$A$1","v":9075},{"$f":"R88+R88*Титул.лист!$P$2","v":9075},9080,8550,{"$f":"U88+U88*Титул.лист!$A$1","v":9405},{"$f":"V88+V88*Титул.лист!$P$2","v":9405},9410,8660,{"$f":"Y88+Y88*Титул.лист!$A$1","v":9526},{"$f":"Z88+Z88*Титул.лист!$P$2","v":9526},9530,8200,{"$f":"AC88+AC88*Титул.лист!$A$1","v":9020},{"$f":"AD88+AD88*Титул.лист!$P$2","v":9020},9020,8360,{"$f":"AG88+AG88*Титул.лист!$A$1","v":9196},{"$f":"AH88+AH88*Титул.лист!$P$2","v":9196},9200,8440,{"$f":"AK88+AK88*Титул.лист!$A$1","v":9284},{"$f":"AL88+AL88*Титул.лист!$P$2","v":9284},9280,10159.691999999999,{"$f":"AO88+AO88*Титул.лист!$A$1","v":11175.661199999999},{"$f":"AP88+AP88*Титул.лист!$P$2","v":11175.661199999999},11180,10711.011999999999,{"$f":"AS88+AS88*Титул.лист!$A$1","v":11782.113199999998},{"$f":"AT88+AT88*Титул.лист!$P$2","v":11782.113199999998},11780,9768.7559999999994,{"$f":"AW88+AW88*Титул.лист!$A$1","v":10745.631599999999},{"$f":"AX88+AX88*Титул.лист!$P$2","v":10745.631599999999},10750,10775.44,{"$f":"BA88+BA88*Титул.лист!$A$1","v":11852.984},{"$f":"BB88+BB88*Титул.лист!$P$2","v":11852.984},11850,12690.64,{"$f":"BE88+BE88*Титул.лист!$A$1","v":13959.704},{"$f":"BF88+BF88*Титул.лист!$P$2","v":13959.704},13960]
[null,null,800,"1006-80т",7890,{"$f":"E89+E89*Титул.лист!$A$1","v":8679},{"$f":"F89+F89*Титул.лист!$P$2","v":8679},8680,8000,{"$f":"I89+I89*Титул.лист!$A$1","v":8800},{"$f":"J89+J89*Титул.лист!$P$2","v":8800},8800,8500,{"$f":"M89+M89*Титул.лист!$A$1","v":9350},{"$f":"N89+N89*Титул.лист!$P$2","v":9350},9350,8610,{"$f":"Q89+Q89*Титул.лист!$A$1","v":9471},{"$f":"R89+R89*Титул.лист!$P$2","v":9471},9470,8980,{"$f":"U89+U89*Титул.лист!$A$1","v":9878},{"$f":"V89+V89*Титул.лист!$P$2","v":9878},9880,9090,{"$f":"Y89+Y89*Титул.лист!$A$1","v":9999},{"$f":"Z89+Z89*Титул.лист!$P$2","v":9999},10000,8550,{"$f":"AC89+AC89*Титул.лист!$A$1","v":9405},{"$f":"AD89+AD89*Титул.лист!$P$2","v":9405},9410,8740,{"$f":"AG89+AG89*Титул.лист!$A$1","v":9614},{"$f":"AH89+AH89*Титул.лист!$P$2","v":9614},9610,8820,{"$f":"AK89+AK89*Титул.лист!$A$1","v":9702},{"$f":"AL89+AL89*Титул.лист!$P$2","v":9702},9700,10789.647999999999,{"$f":"AO89+AO89*Титул.лист!$A$1","v":11868.612799999999},{"$f":"AP89+AP89*Титул.лист!$P$2","v":11868.612799999999},11870,11419.727999999999,{"$f":"AS89+AS89*Титул.лист!$A$1","v":12561.700799999999},{"$f":"AT89+AT89*Титул.лист!$P$2","v":12561.700799999999},12560,10342.864,{"$f":"AW89+AW89*Титул.лист!$A$1","v":11377.150399999999},{"$f":"AX89+AX89*Титул.лист!$P$2","v":11377.150399999999},11380,11493.36,{"$f":"BA89+BA89*Титул.лист!$A$1","v":12642.696},{"$f":"BB89+BB89*Титул.лист!$P$2","v":12642.696},12640,13682.16,{"$f":"BE89+BE89*Титул.лист!$A$1","v":15050.376},{"$f":"BF89+BF89*Титул.лист!$P$2","v":15050.376},15050]
[null,null,600,"1005-60",2670,{"$f":"E90+E90*Титул.лист!$A$1","v":2937},{"$f":"F90+F90*Титул.лист!$P$2","v":2937},2940,2790,{"$f":"I90+I90*Титул.лист!$A$1","v":3069},{"$f":"J90+J90*Титул.лист!$P$2","v":3069},3070,3120,{"$f":"M90+M90*Титул.лист!$A$1","v":3432},{"$f":"N90+N90*Титул.лист!$P$2","v":3432},3430,3240,{"$f":"Q90+Q90*Титул.лист!$A$1","v":3564},{"$f":"R90+R90*Титул.лист!$P$2","v":3564},3560,3480,{"$f":"U90+U90*Титул.лист!$A$1","v":3828},{"$f":"V90+V90*Титул.лист!$P$2","v":3828},3830,3600,{"$f":"Y90+Y90*Титул.лист!$A$1","v":3960},{"$f":"Z90+Z90*Титул.лист!$P$2","v":3960},3960,3120,{"$f":"AC90+AC90*Титул.лист!$A$1","v":3432},{"$f":"AD90+AD90*Титул.лист!$P$2","v":3432},3430,3270,{"$f":"AG90+AG90*Титул.лист!$A$1","v":3597},{"$f":"AH90+AH90*Титул.лист!$P$2","v":3597},3600,3330,{"$f":"AK90+AK90*Титул.лист!$A$1","v":3663},{"$f":"AL90+AL90*Титул.лист!$P$2","v":3663},3660,4799.7359999999999,{"$f":"AO90+AO90*Титул.лист!$A$1","v":5279.7096000000001},{"$f":"AP90+AP90*Титул.лист!$P$2","v":5279.7096000000001},5280,5272.2960000000003,{"$f":"AS90+AS90*Титул.лист!$A$1","v":5799.5255999999999},{"$f":"AT90+AT90*Титул.лист!$P$2","v":5799.5255999999999},5800,4464.6480000000001,{"$f":"AW90+AW90*Титул.лист!$A$1","v":4911.1127999999999},{"$f":"AX90+AX90*Титул.лист!$P$2","v":4911.1127999999999},4910,5327.52,{"$f":"BA90+BA90*Титул.лист!$A$1","v":5860.2720000000008},{"$f":"BB90+BB90*Титул.лист!$P$2","v":5860.2720000000008},5860,6969.1200000000008,{"$f":"BE90+BE90*Титул.лист!$A$1","v":7666.0320000000011},{"$f":"BF90+BF90*Титул.лист!$P$2","v":7666.0320000000011},7670]
[null,"Стол 2ящ 2дв ",700,"1005-70",2930,{"$f":"E91+E91*Титул.лист!$A$1","v":3223},{"$f":"F91+F91*Титул.лист!$P$2","v":3223},3220,3070,{"$f":"I91+I91*Титул.лист!$A$1","v":3377},{"$f":"J91+J91*Титул.лист!$P$2","v":3377},3380,3450,{"$f":"M91+M91*Титул.лист!$A$1","v":3795},{"$f":"N91+N91*Титул.лист!$P$2","v":3795},3800,3600,{"$f":"Q91+Q91*Титул.лист!$A$1","v":3960},{"$f":"R91+R91*Титул.лист!$P$2","v":3960},3960,3860,{"$f":"U91+U91*Титул.лист!$A$1","v":4246},{"$f":"V91+V91*Титул.лист!$P$2","v":4246},4250,4000,{"$f":"Y91+Y91*Титул.лист!$A$1","v":4400},{"$f":"Z91+Z91*Титул.лист!$P$2","v":4400},4400,3500,{"$f":"AC91+AC91*Титул.лист!$A$1","v":3850},{"$f":"AD91+AD91*Титул.лист!$P$2","v":3850},3850,3660,{"$f":"AG91+AG91*Титул.лист!$A$1","v":4026},{"$f":"AH91+AH91*Титул.лист!$P$2","v":4026},4030,3740.0000000000005,{"$f":"AK91+AK91*Титул.лист!$A$1","v":4114.0000000000009},{"$f":"AL91+AL91*Титул.лист!$P$2","v":4114.0000000000009},4110,5459.692,{"$f":"AO91+AO91*Титул.лист!$A$1","v":6005.6612000000005},{"$f":"AP91+AP91*Титул.лист!$P$2","v":6005.6612000000005},6010,6011.0119999999997,{"$f":"AS91+AS91*Титул.лист!$A$1","v":6612.1131999999998},{"$f":"AT91+AT91*Титул.лист!$P$2","v":6612.1131999999998},6610,5068.7559999999994,{"$f":"AW91+AW91*Титул.лист!$A$1","v":5575.6315999999997},{"$f":"AX91+AX91*Титул.лист!$P$2","v":5575.6315999999997},5580,6075.4400000000005,{"$f":"BA91+BA91*Титул.лист!$A$1","v":6682.9840000000004},{"$f":"BB91+BB91*Титул.лист!$P$2","v":6682.9840000000004},6680,7990.64,{"$f":"BE91+BE91*Титул.лист!$A$1","v":8789.7039999999997},{"$f":"BF91+BF91*Титул.лист!$P$2","v":8789.7039999999997},8790]
[null,null,800,"1005-80",3180,{"$f":"E92+E92*Титул.лист!$A$1","v":3498},{"$f":"F92+F92*Титул.лист!$P$2","v":3498},3500,3330,{"$f":"I92+I92*Титул.лист!$A$1","v":3663},{"$f":"J92+J92*Титул.лист!$P$2","v":3663},3660,3790,{"$f":"M92+M92*Титул.лист!$A$1","v":4169},{"$f":"N92+N92*Титул.лист!$P$2","v":4169},4170,3950,{"$f":"Q92+Q92*Титул.лист!$A$1","v":4345},{"$f":"R92+R92*Титул.лист!$P$2","v":4345},4350,4260,{"$f":"U92+U92*Титул.лист!$A$1","v":4686},{"$f":"V92+V92*Титул.лист!$P$2","v":4686},4690,4410,{"$f":"Y92+Y92*Титул.лист!$A$1","v":4851},{"$f":"Z92+Z92*Титул.лист!$P$2","v":4851},4850,3830,{"$f":"AC92+AC92*Титул.лист!$A$1","v":4213},{"$f":"AD92+AD92*Титул.лист!$P$2","v":4213},4210,4030,{"$f":"AG92+AG92*Титул.лист!$A$1","v":4433},{"$f":"AH92+AH92*Титул.лист!$P$2","v":4433},4430,4100,{"$f":"AK92+AK92*Титул.лист!$A$1","v":4510},{"$f":"AL92+AL92*Титул.лист!$P$2","v":4510},4510,6069.6479999999992,{"$f":"AO92+AO92*Титул.лист!$A$1","v":6676.612799999999},{"$f":"AP92+AP92*Титул.лист!$P$2","v":6676.612799999999},6680,6699.7280000000001,{"$f":"AS92+AS92*Титул.лист!$A$1","v":7369.7008000000005},{"$f":"AT92+AT92*Титул.лист!$P$2","v":7369.7008000000005},7370,5622.8639999999996,{"$f":"AW92+AW92*Титул.лист!$A$1","v":6185.1503999999995},{"$f":"AX92+AX92*Титул.лист!$P$2","v":6185.1503999999995},6190,6773.3600000000006,{"$f":"BA92+BA92*Титул.лист!$A$1","v":7450.6960000000008},{"$f":"BB92+BB92*Титул.лист!$P$2","v":7450.6960000000008},7450,8962.16,{"$f":"BE92+BE92*Титул.лист!$A$1","v":9858.3760000000002},{"$f":"BF92+BF92*Титул.лист!$P$2","v":9858.3760000000002},9860]
[null,"Стол 2 ящ.2 дв. метабокс",600,"1005-60м",{"$f":"E90+500","v":3170},{"$f":"E93+E93*Титул.лист!$A$1","v":3487},{"$f":"F93+F93*Титул.лист!$P$2","v":3487},3490,{"$f":"I90+500","v":3290},{"$f":"I93+I93*Титул.лист!$A$1","v":3619},{"$f":"J93+J93*Титул.лист!$P$2","v":3619},3620,{"$f":"M90+500","v":3620},{"$f":"M93+M93*Титул.лист!$A$1","v":3982},{"$f":"N93+N93*Титул.лист!$P$2","v":3982},3980,{"$f":"Q90+500","v":3740},{"$f":"Q93+Q93*Титул.лист!$A$1","v":4114},{"$f":"R93+R93*Титул.лист!$P$2","v":4114},4110,{"$f":"U90+500","v":3980},{"$f":"U93+U93*Титул.лист!$A$1","v":4378},{"$f":"V93+V93*Титул.лист!$P$2","v":4378},4380,{"$f":"Y90+500","v":4100},{"$f":"Y93+Y93*Титул.лист!$A$1","v":4510},{"$f":"Z93+Z93*Титул.лист!$P$2","v":4510},4510,{"$f":"AC90+500","v":3620},{"$f":"AC93+AC93*Титул.лист!$A$1","v":3982},{"$f":"AD93+AD93*Титул.лист!$P$2","v":3982},3980,{"$f":"AG90+500","v":3770},{"$f":"AG93+AG93*Титул.лист!$A$1","v":4147},{"$f":"AH93+AH93*Титул.лист!$P$2","v":4147},4150,{"$f":"AK90+500","v":3830},{"$f":"AK93+AK93*Титул.лист!$A$1","v":4213},{"$f":"AL93+AL93*Титул.лист!$P$2","v":4213},4210,5299.7359999999999,{"$f":"AO93+AO93*Титул.лист!$A$1","v":5829.7096000000001},{"$f":"AP93+AP93*Титул.лист!$P$2","v":5829.7096000000001},5830,5772.2960000000003,{"$f":"AS93+AS93*Титул.лист!$A$1","v":6349.5255999999999},{"$f":"AT93+AT93*Титул.лист!$P$2","v":6349.5255999999999},6350,4964.6480000000001,{"$f":"AW93+AW93*Титул.лист!$A$1","v":5461.1127999999999},{"$f":"AX93+AX93*Титул.лист!$P$2","v":5461.1127999999999},5460,5827.52,{"$f":"BA93+BA93*Титул.лист!$A$1","v":6410.2720000000008},{"$f":"BB93+BB93*Титул.лист!$P$2","v":6410.2720000000008},6410,7469.1200000000008,{"$f":"BE93+BE93*Титул.лист!$A$1","v":8216.0320000000011},{"$f":"BF93+BF93*Титул.лист!$P$2","v":8216.0320000000011},8220]
[null,null,700,"1005-70м",{"$f":"E91+500","v":3430},{"$f":"E94+E94*Титул.лист!$A$1","v":3773},{"$f":"F94+F94*Титул.лист!$P$2","v":3773},3770,{"$f":"I91+500","v":3570},{"$f":"I94+I94*Титул.лист!$A$1","v":3927},{"$f":"J94+J94*Титул.лист!$P$2","v":3927},3930,{"$f":"M91+500","v":3950},{"$f":"M94+M94*Титул.лист!$A$1","v":4345},{"$f":"N94+N94*Титул.лист!$P$2","v":4345},4350,{"$f":"Q91+500","v":4100},{"$f":"Q94+Q94*Титул.лист!$A$1","v":4510},{"$f":"R94+R94*Титул.лист!$P$2","v":4510},4510,{"$f":"U91+500","v":4360},{"$f":"U94+U94*Титул.лист!$A$1","v":4796},{"$f":"V94+V94*Титул.лист!$P$2","v":4796},4800,{"$f":"Y91+500","v":4500},{"$f":"Y94+Y94*Титул.лист!$A$1","v":4950},{"$f":"Z94+Z94*Титул.лист!$P$2","v":4950},4950,{"$f":"AC91+500","v":4000},{"$f":"AC94+AC94*Титул.лист!$A$1","v":4400},{"$f":"AD94+AD94*Титул.лист!$P$2","v":4400},4400,{"$f":"AG91+500","v":4160},{"$f":"AG94+AG94*Титул.лист!$A$1","v":4576},{"$f":"AH94+AH94*Титул.лист!$P$2","v":4576},4580,{"$f":"AK91+500","v":4240},{"$f":"AK94+AK94*Титул.лист!$A$1","v":4664},{"$f":"AL94+AL94*Титул.лист!$P$2","v":4664},4660,5959.692,{"$f":"AO94+AO94*Титул.лист!$A$1","v":6555.6612000000005},{"$f":"AP94+AP94*Титул.лист!$P$2","v":6555.6612000000005},6560,6511.0119999999997,{"$f":"AS94+AS94*Титул.лист!$A$1","v":7162.1131999999998},{"$f":"AT94+AT94*Титул.лист!$P$2","v":7162.1131999999998},7160,5568.7559999999994,{"$f":"AW94+AW94*Титул.лист!$A$1","v":6125.6315999999997},{"$f":"AX94+AX94*Титул.лист!$P$2","v":6125.6315999999997},6130,6575.4400000000005,{"$f":"BA94+BA94*Титул.лист!$A$1","v":7232.9840000000004},{"$f":"BB94+BB94*Титул.лист!$P$2","v":7232.9840000000004},7230,8490.64,{"$f":"BE94+BE94*Титул.лист!$A$1","v":9339.7039999999997},{"$f":"BF94+BF94*Титул.лист!$P$2","v":9339.7039999999997},9340]
[null,null,800,"1005-80м",{"$f":"E92+500","v":3680},{"$f":"E95+E95*Титул.лист!$A$1","v":4048},{"$f":"F95+F95*Титул.лист!$P$2","v":4048},4050,{"$f":"I92+500","v":3830},{"$f":"I95+I95*Титул.лист!$A$1","v":4213},{"$f":"J95+J95*Титул.лист!$P$2","v":4213},4210,{"$f":"M92+500","v":4290},{"$f":"M95+M95*Титул.лист!$A$1","v":4719},{"$f":"N95+N95*Титул.лист!$P$2","v":4719},4720,{"$f":"Q92+500","v":4450},{"$f":"Q95+Q95*Титул.лист!$A$1","v":4895},{"$f":"R95+R95*Титул.лист!$P$2","v":4895},4900,{"$f":"U92+500","v":4760},{"$f":"U95+U95*Титул.лист!$A$1","v":5236},{"$f":"V95+V95*Титул.лист!$P$2","v":5236},5240,{"$f":"Y92+500","v":4910},{"$f":"Y95+Y95*Титул.лист!$A$1","v":5401},{"$f":"Z95+Z95*Титул.лист!$P$2","v":5401},5400,{"$f":"AC92+500","v":4330},{"$f":"AC95+AC95*Титул.лист!$A$1","v":4763},{"$f":"AD95+AD95*Титул.лист!$P$2","v":4763},4760,{"$f":"AG92+500","v":4530},{"$f":"AG95+AG95*Титул.лист!$A$1","v":4983},{"$f":"AH95+AH95*Титул.лист!$P$2","v":4983},4980,{"$f":"AK92+500","v":4600},{"$f":"AK95+AK95*Титул.лист!$A$1","v":5060},{"$f":"AL95+AL95*Титул.лист!$P$2","v":5060},5060,6569.6479999999992,{"$f":"AO95+AO95*Титул.лист!$A$1","v":7226.612799999999},{"$f":"AP95+AP95*Титул.лист!$P$2","v":7226.612799999999},7230,7199.7280000000001,{"$f":"AS95+AS95*Титул.лист!$A$1","v":7919.7008000000005},{"$f":"AT95+AT95*Титул.лист!$P$2","v":7919.7008000000005},7920,6122.8639999999996,{"$f":"AW95+AW95*Титул.лист!$A$1","v":6735.1503999999995},{"$f":"AX95+AX95*Титул.лист!$P$2","v":6735.1503999999995},6740,7273.3600000000006,{"$f":"BA95+BA95*Титул.лист!$A$1","v":8000.6960000000008},{"$f":"BB95+BB95*Титул.лист!$P$2","v":8000.6960000000008},8000,9462.16,{"$f":"BE95+BE95*Титул.лист!$A$1","v":10408.376},{"$f":"BF95+BF95*Титул.лист!$P$2","v":10408.376},10410]
[null,"Стол 2 ящ.2 дв. тандембокс",600,"1005-60т",7270,{"$f":"E96+E96*Титул.лист!$A$1","v":7997},{"$f":"F96+F96*Титул.лист!$P$2","v":7997},8000,7390,{"$f":"I96+I96*Титул.лист!$A$1","v":8129},{"$f":"J96+J96*Титул.лист!$P$2","v":8129},8130,7720,{"$f":"M96+M96*Титул.лист!$A$1","v":8492},{"$f":"N96+N96*Титул.лист!$P$2","v":8492},8490,7840,{"$f":"Q96+Q96*Титул.лист!$A$1","v":8624},{"$f":"R96+R96*Титул.лист!$P$2","v":8624},8620,8080,{"$f":"U96+U96*Титул.лист!$A$1","v":8888},{"$f":"V96+V96*Титул.лист!$P$2","v":8888},8890,8200,{"$f":"Y96+Y96*Титул.лист!$A$1","v":9020},{"$f":"Z96+Z96*Титул.лист!$P$2","v":9020},9020,7720,{"$f":"AC96+AC96*Титул.лист!$A$1","v":8492},{"$f":"AD96+AD96*Титул.лист!$P$2","v":8492},8490,7870,{"$f":"AG96+AG96*Титул.лист!$A$1","v":8657},{"$f":"AH96+AH96*Титул.лист!$P$2","v":8657},8660,7930,{"$f":"AK96+AK96*Титул.лист!$A$1","v":8723},{"$f":"AL96+AL96*Титул.лист!$P$2","v":8723},8720,9399.7360000000008,{"$f":"AO96+AO96*Титул.лист!$A$1","v":10339.7096},{"$f":"AP96+AP96*Титул.лист!$P$2","v":10339.7096},10340,9872.2960000000003,{"$f":"AS96+AS96*Титул.лист!$A$1","v":10859.525600000001},{"$f":"AT96+AT96*Титул.лист!$P$2","v":10859.525600000001},10860,9064.6479999999992,{"$f":"AW96+AW96*Титул.лист!$A$1","v":9971.112799999999},{"$f":"AX96+AX96*Титул.лист!$P$2","v":9971.112799999999},9970,9927.52,{"$f":"BA96+BA96*Титул.лист!$A$1","v":10920.272000000001},{"$f":"BB96+BB96*Титул.лист!$P$2","v":10920.272000000001},10920,11569.12,{"$f":"BE96+BE96*Титул.лист!$A$1","v":12726.032000000001},{"$f":"BF96+BF96*Титул.лист!$P$2","v":12726.032000000001},12730]
[null,null,700,"1005-70т",7530,{"$f":"E97+E97*Титул.лист!$A$1","v":8283},{"$f":"F97+F97*Титул.лист!$P$2","v":8283},8280,7670,{"$f":"I97+I97*Титул.лист!$A$1","v":8437},{"$f":"J97+J97*Титул.лист!$P$2","v":8437},8440,8050,{"$f":"M97+M97*Титул.лист!$A$1","v":8855},{"$f":"N97+N97*Титул.лист!$P$2","v":8855},8860,8200,{"$f":"Q97+Q97*Титул.лист!$A$1","v":9020},{"$f":"R97+R97*Титул.лист!$P$2","v":9020},9020,8460,{"$f":"U97+U97*Титул.лист!$A$1","v":9306},{"$f":"V97+V97*Титул.лист!$P$2","v":9306},9310,8600,{"$f":"Y97+Y97*Титул.лист!$A$1","v":9460},{"$f":"Z97+Z97*Титул.лист!$P$2","v":9460},9460,8100,{"$f":"AC97+AC97*Титул.лист!$A$1","v":8910},{"$f":"AD97+AD97*Титул.лист!$P$2","v":8910},8910,8260,{"$f":"AG97+AG97*Титул.лист!$A$1","v":9086},{"$f":"AH97+AH97*Титул.лист!$P$2","v":9086},9090,8340,{"$f":"AK97+AK97*Титул.лист!$A$1","v":9174},{"$f":"AL97+AL97*Титул.лист!$P$2","v":9174},9170,10059.691999999999,{"$f":"AO97+AO97*Титул.лист!$A$1","v":11065.661199999999},{"$f":"AP97+AP97*Титул.лист!$P$2","v":11065.661199999999},11070,10611.011999999999,{"$f":"AS97+AS97*Титул.лист!$A$1","v":11672.113199999998},{"$f":"AT97+AT97*Титул.лист!$P$2","v":11672.113199999998},11670,9668.7559999999994,{"$f":"AW97+AW97*Титул.лист!$A$1","v":10635.631599999999},{"$f":"AX97+AX97*Титул.лист!$P$2","v":10635.631599999999},10640,10675.44,{"$f":"BA97+BA97*Титул.лист!$A$1","v":11742.984},{"$f":"BB97+BB97*Титул.лист!$P$2","v":11742.984},11740,12590.64,{"$f":"BE97+BE97*Титул.лист!$A$1","v":13849.704},{"$f":"BF97+BF97*Титул.лист!$P$2","v":13849.704},13850]
[null,null,800,"1005-80т",7780,{"$f":"E98+E98*Титул.лист!$A$1","v":8558},{"$f":"F98+F98*Титул.лист!$P$2","v":8558},8560,7930,{"$f":"I98+I98*Титул.лист!$A$1","v":8723},{"$f":"J98+J98*Титул.лист!$P$2","v":8723},8720,8390,{"$f":"M98+M98*Титул.лист!$A$1","v":9229},{"$f":"N98+N98*Титул.лист!$P$2","v":9229},9230,8550,{"$f":"Q98+Q98*Титул.лист!$A$1","v":9405},{"$f":"R98+R98*Титул.лист!$P$2","v":9405},9410,8860,{"$f":"U98+U98*Титул.лист!$A$1","v":9746},{"$f":"V98+V98*Титул.лист!$P$2","v":9746},9750,9010,{"$f":"Y98+Y98*Титул.лист!$A$1","v":9911},{"$f":"Z98+Z98*Титул.лист!$P$2","v":9911},9910,8430,{"$f":"AC98+AC98*Титул.лист!$A$1","v":9273},{"$f":"AD98+AD98*Титул.лист!$P$2","v":9273},9270,8630,{"$f":"AG98+AG98*Титул.лист!$A$1","v":9493},{"$f":"AH98+AH98*Титул.лист!$P$2","v":9493},9490,8700,{"$f":"AK98+AK98*Титул.лист!$A$1","v":9570},{"$f":"AL98+AL98*Титул.лист!$P$2","v":9570},9570,10669.647999999999,{"$f":"AO98+AO98*Титул.лист!$A$1","v":11736.612799999999},{"$f":"AP98+AP98*Титул.лист!$P$2","v":11736.612799999999},11740,11299.727999999999,{"$f":"AS98+AS98*Титул.лист!$A$1","v":12429.700799999999},{"$f":"AT98+AT98*Титул.лист!$P$2","v":12429.700799999999},12430,10222.864,{"$f":"AW98+AW98*Титул.лист!$A$1","v":11245.150399999999},{"$f":"AX98+AX98*Титул.лист!$P$2","v":11245.150399999999},11250,11373.36,{"$f":"BA98+BA98*Титул.лист!$A$1","v":12510.696},{"$f":"BB98+BB98*Титул.лист!$P$2","v":12510.696},12510,13562.16,{"$f":"BE98+BE98*Титул.лист!$A$1","v":14918.376},{"$f":"BF98+BF98*Титул.лист!$P$2","v":14918.376},14920]
[null,"Стол 3ящ. 2 мал, 1 бол.",300,"1007-30",1970,{"$f":"E99+E99*Титул.лист!$A$1","v":2167},{"$f":"F99+F99*Титул.лист!$P$2","v":2167},2170,2030,{"$f":"I99+I99*Титул.лист!$A$1","v":2233},{"$f":"J99+J99*Титул.лист!$P$2","v":2233},2230,2190,{"$f":"M99+M99*Титул.лист!$A$1","v":2409},{"$f":"N99+N99*Титул.лист!$P$2","v":2409},2410,2250,{"$f":"Q99+Q99*Титул.лист!$A$1","v":2475},{"$f":"R99+R99*Титул.лист!$P$2","v":2475},2480,2360,{"$f":"U99+U99*Титул.лист!$A$1","v":2596},{"$f":"V99+V99*Титул.лист!$P$2","v":2596},2600,2430,{"$f":"Y99+Y99*Титул.лист!$A$1","v":2673},{"$f":"Z99+Z99*Титул.лист!$P$2","v":2673},2670,2190,{"$f":"AC99+AC99*Титул.лист!$A$1","v":2409},{"$f":"AD99+AD99*Титул.лист!$P$2","v":2409},2410,2250,{"$f":"AG99+AG99*Титул.лист!$A$1","v":2475},{"$f":"AH99+AH99*Титул.лист!$P$2","v":2475},2480,2290,{"$f":"AK99+AK99*Титул.лист!$A$1","v":2519},{"$f":"AL99+AL99*Титул.лист!$P$2","v":2519},2520,3029.8679999999999,{"$f":"AO99+AO99*Титул.лист!$A$1","v":3332.8548000000001},{"$f":"AP99+AP99*Титул.лист!$P$2","v":3332.8548000000001},3330,3266.1480000000001,{"$f":"AS99+AS99*Титул.лист!$A$1","v":3592.7628000000004},{"$f":"AT99+AT99*Титул.лист!$P$2","v":3592.7628000000004},3590,2862.3240000000001,{"$f":"AW99+AW99*Титул.лист!$A$1","v":3148.5563999999999},{"$f":"AX99+AX99*Титул.лист!$P$2","v":3148.5563999999999},3150,3293.76,{"$f":"BA99+BA99*Титул.лист!$A$1","v":3623.1360000000004},{"$f":"BB99+BB99*Титул.лист!$P$2","v":3623.1360000000004},3620,4114.5600000000004,{"$f":"BE99+BE99*Титул.лист!$A$1","v":4526.0160000000005},{"$f":"BF99+BF99*Титул.лист!$P$2","v":4526.0160000000005},4530]
[null,null,400,"1007-40",2250,{"$f":"E100+E100*Титул.лист!$A$1","v":2475},{"$f":"F100+F100*Титул.лист!$P$2","v":2475},2480,2240,{"$f":"I100+I100*Титул.лист!$A$1","v":2464},{"$f":"J100+J100*Титул.лист!$P$2","v":2464},2460,2550,{"$f":"M100+M100*Титул.лист!$A$1","v":2805},{"$f":"N100+N100*Титул.лист!$P$2","v":2805},2810,2540,{"$f":"Q100+Q100*Титул.лист!$A$1","v":2794},{"$f":"R100+R100*Титул.лист!$P$2","v":2794},2790,2770,{"$f":"U100+U100*Титул.лист!$A$1","v":3047},{"$f":"V100+V100*Титул.лист!$P$2","v":3047},3050,2960,{"$f":"Y100+Y100*Титул.лист!$A$1","v":3256},{"$f":"Z100+Z100*Титул.лист!$P$2","v":3256},3260,2480,{"$f":"AC100+AC100*Титул.лист!$A$1","v":2728},{"$f":"AD100+AD100*Титул.лист!$P$2","v":2728},2730,2560,{"$f":"AG100+AG100*Титул.лист!$A$1","v":2816},{"$f":"AH100+AH100*Титул.лист!$P$2","v":2816},2820,2610,{"$f":"AK100+AK100*Титул.лист!$A$1","v":2871},{"$f":"AL100+AL100*Титул.лист!$P$2","v":2871},2870,3599.8239999999996,{"$f":"AO100+AO100*Титул.лист!$A$1","v":3959.8063999999995},{"$f":"AP100+AP100*Титул.лист!$P$2","v":3959.8063999999995},3960,3914.864,{"$f":"AS100+AS100*Титул.лист!$A$1","v":4306.3504000000003},{"$f":"AT100+AT100*Титул.лист!$P$2","v":4306.3504000000003},4310,3376.4319999999998,{"$f":"AW100+AW100*Титул.лист!$A$1","v":3714.0751999999998},{"$f":"AX100+AX100*Титул.лист!$P$2","v":3714.0751999999998},3710,3951.6800000000003,{"$f":"BA100+BA100*Титул.лист!$A$1","v":4346.848},{"$f":"BB100+BB100*Титул.лист!$P$2","v":4346.848},4350,5046.08,{"$f":"BE100+BE100*Титул.лист!$A$1","v":5550.6880000000001},{"$f":"BF100+BF100*Титул.лист!$P$2","v":5550.6880000000001},5550]
[null,null,450,"1007-45",2400,{"$f":"E101+E101*Титул.лист!$A$1","v":2640},{"$f":"F101+F101*Титул.лист!$P$2","v":2640},2640,2500,{"$f":"I101+I101*Титул.лист!$A$1","v":2750},{"$f":"J101+J101*Титул.лист!$P$2","v":2750},2750,2800,{"$f":"M101+M101*Титул.лист!$A$1","v":3080},{"$f":"N101+N101*Титул.лист!$P$2","v":3080},3080,2950,{"$f":"Q101+Q101*Титул.лист!$A$1","v":3245},{"$f":"R101+R101*Титул.лист!$P$2","v":3245},3250,3100,{"$f":"U101+U101*Титул.лист!$A$1","v":3410},{"$f":"V101+V101*Титул.лист!$P$2","v":3410},3410,3200,{"$f":"Y101+Y101*Титул.лист!$A$1","v":3520},{"$f":"Z101+Z101*Титул.лист!$P$2","v":3520},3520,2800,{"$f":"AC101+AC101*Титул.лист!$A$1","v":3080},{"$f":"AD101+AD101*Титул.лист!$P$2","v":3080},3080,2900,{"$f":"AG101+AG101*Титул.лист!$A$1","v":3190},{"$f":"AH101+AH101*Титул.лист!$P$2","v":3190},3190,3020,{"$f":"AK101+AK101*Титул.лист!$A$1","v":3322},{"$f":"AL101+AL101*Титул.лист!$P$2","v":3322},3320,4059.8019999999997,{"$f":"AO101+AO101*Титул.лист!$A$1","v":4465.7821999999996},{"$f":"AP101+AP101*Титул.лист!$P$2","v":4465.7821999999996},4470,4414.2219999999998,{"$f":"AS101+AS101*Титул.лист!$A$1","v":4855.6441999999997},{"$f":"AT101+AT101*Титул.лист!$P$2","v":4855.6441999999997},4860,3808.4859999999999,{"$f":"AW101+AW101*Титул.лист!$A$1","v":4189.3346000000001},{"$f":"AX101+AX101*Титул.лист!$P$2","v":4189.3346000000001},4190,4455.6400000000003,{"$f":"BA101+BA101*Титул.лист!$A$1","v":4901.2040000000006},{"$f":"BB101+BB101*Титул.лист!$P$2","v":4901.2040000000006},4900,5686.84,{"$f":"BE101+BE101*Титул.лист!$A$1","v":6255.5240000000003},{"$f":"BF101+BF101*Титул.лист!$P$2","v":6255.5240000000003},6260]
[null,null,500,"1007-50",2560,{"$f":"E102+E102*Титул.лист!$A$1","v":2816},{"$f":"F102+F102*Титул.лист!$P$2","v":2816},2820,2660,{"$f":"I102+I102*Титул.лист!$A$1","v":2926},{"$f":"J102+J102*Титул.лист!$P$2","v":2926},2930,2950,{"$f":"M102+M102*Титул.лист!$A$1","v":3245},{"$f":"N102+N102*Титул.лист!$P$2","v":3245},3250,3050,{"$f":"Q102+Q102*Титул.лист!$A$1","v":3355},{"$f":"R102+R102*Титул.лист!$P$2","v":3355},3360,3230,{"$f":"U102+U102*Титул.лист!$A$1","v":3553},{"$f":"V102+V102*Титул.лист!$P$2","v":3553},3550,3330,{"$f":"Y102+Y102*Титул.лист!$A$1","v":3663},{"$f":"Z102+Z102*Титул.лист!$P$2","v":3663},3660,2950,{"$f":"AC102+AC102*Титул.лист!$A$1","v":3245},{"$f":"AD102+AD102*Титул.лист!$P$2","v":3245},3250,3070,{"$f":"AG102+AG102*Титул.лист!$A$1","v":3377},{"$f":"AH102+AH102*Титул.лист!$P$2","v":3377},3380,3120,{"$f":"AK102+AK102*Титул.лист!$A$1","v":3432},{"$f":"AL102+AL102*Титул.лист!$P$2","v":3432},3430,4349.78,{"$f":"AO102+AO102*Титул.лист!$A$1","v":4784.7579999999998},{"$f":"AP102+AP102*Титул.лист!$P$2","v":4784.7579999999998},4780,4743.58,{"$f":"AS102+AS102*Титул.лист!$A$1","v":5217.9380000000001},{"$f":"AT102+AT102*Титул.лист!$P$2","v":5217.9380000000001},5220,4070.54,{"$f":"AW102+AW102*Титул.лист!$A$1","v":4477.5940000000001},{"$f":"AX102+AX102*Титул.лист!$P$2","v":4477.5940000000001},4480,4789.6000000000004,{"$f":"BA102+BA102*Титул.лист!$A$1","v":5268.56},{"$f":"BB102+BB102*Титул.лист!$P$2","v":5268.56},5270,6157.6,{"$f":"BE102+BE102*Титул.лист!$A$1","v":6773.3600000000006},{"$f":"BF102+BF102*Титул.лист!$P$2","v":6773.3600000000006},6770]
[null,null,600,"1007-60",2840,{"$f":"E103+E103*Титул.лист!$A$1","v":3124},{"$f":"F103+F103*Титул.лист!$P$2","v":3124},3120,2960,{"$f":"I103+I103*Титул.лист!$A$1","v":3256},{"$f":"J103+J103*Титул.лист!$P$2","v":3256},3260,3290,{"$f":"M103+M103*Титул.лист!$A$1","v":3619},{"$f":"N103+N103*Титул.лист!$P$2","v":3619},3620,3410.0000000000005,{"$f":"Q103+Q103*Титул.лист!$A$1","v":3751.0000000000005},{"$f":"R103+R103*Титул.лист!$P$2","v":3751.0000000000005},3750,3640,{"$f":"U103+U103*Титул.лист!$A$1","v":4004},{"$f":"V103+V103*Титул.лист!$P$2","v":4004},4000,3760,{"$f":"Y103+Y103*Титул.лист!$A$1","v":4136},{"$f":"Z103+Z103*Титул.лист!$P$2","v":4136},4140,3310,{"$f":"AC103+AC103*Титул.лист!$A$1","v":3641},{"$f":"AD103+AD103*Титул.лист!$P$2","v":3641},3640,3450,{"$f":"AG103+AG103*Титул.лист!$A$1","v":3795},{"$f":"AH103+AH103*Титул.лист!$P$2","v":3795},3800,3520.0000000000005,{"$f":"AK103+AK103*Титул.лист!$A$1","v":3872.0000000000005},{"$f":"AL103+AL103*Титул.лист!$P$2","v":3872.0000000000005},3870,4989.7359999999999,{"$f":"AO103+AO103*Титул.лист!$A$1","v":5488.7096000000001},{"$f":"AP103+AP103*Титул.лист!$P$2","v":5488.7096000000001},5490,5462.2960000000003,{"$f":"AS103+AS103*Титул.лист!$A$1","v":6008.5255999999999},{"$f":"AT103+AT103*Титул.лист!$P$2","v":6008.5255999999999},6010,4654.6480000000001,{"$f":"AW103+AW103*Титул.лист!$A$1","v":5120.1127999999999},{"$f":"AX103+AX103*Титул.лист!$P$2","v":5120.1127999999999},5120,5517.52,{"$f":"BA103+BA103*Титул.лист!$A$1","v":6069.2720000000008},{"$f":"BB103+BB103*Титул.лист!$P$2","v":6069.2720000000008},6070,7159.1200000000008,{"$f":"BE103+BE103*Титул.лист!$A$1","v":7875.0320000000011},{"$f":"BF103+BF103*Титул.лист!$P$2","v":7875.0320000000011},7880]
[null,null,700,"1007-70",3130,{"$f":"E104+E104*Титул.лист!$A$1","v":3443},{"$f":"F104+F104*Титул.лист!$P$2","v":3443},3440,3270,{"$f":"I104+I104*Титул.лист!$A$1","v":3597},{"$f":"J104+J104*Титул.лист!$P$2","v":3597},3600,3660,{"$f":"M104+M104*Титул.лист!$A$1","v":4026},{"$f":"N104+N104*Титул.лист!$P$2","v":4026},4030,3790,{"$f":"Q104+Q104*Титул.лист!$A$1","v":4169},{"$f":"R104+R104*Титул.лист!$P$2","v":4169},4170,4070.0000000000005,{"$f":"U104+U104*Титул.лист!$A$1","v":4477.0000000000009},{"$f":"V104+V104*Титул.лист!$P$2","v":4477.0000000000009},4480,4200,{"$f":"Y104+Y104*Титул.лист!$A$1","v":4620},{"$f":"Z104+Z104*Титул.лист!$P$2","v":4620},4620,3700,{"$f":"AC104+AC104*Титул.лист!$A$1","v":4070},{"$f":"AD104+AD104*Титул.лист!$P$2","v":4070},4070,3860,{"$f":"AG104+AG104*Титул.лист!$A$1","v":4246},{"$f":"AH104+AH104*Титул.лист!$P$2","v":4246},4250,3940,{"$f":"AK104+AK104*Титул.лист!$A$1","v":4334},{"$f":"AL104+AL104*Титул.лист!$P$2","v":4334},4330,5659.692,{"$f":"AO104+AO104*Титул.лист!$A$1","v":6225.6612000000005},{"$f":"AP104+AP104*Титул.лист!$P$2","v":6225.6612000000005},6230,6211.0119999999997,{"$f":"AS104+AS104*Титул.лист!$A$1","v":6832.1131999999998},{"$f":"AT104+AT104*Титул.лист!$P$2","v":6832.1131999999998},6830,5268.7559999999994,{"$f":"AW104+AW104*Титул.лист!$A$1","v":5795.6315999999997},{"$f":"AX104+AX104*Титул.лист!$P$2","v":5795.6315999999997},5800,6275.4400000000005,{"$f":"BA104+BA104*Титул.лист!$A$1","v":6902.9840000000004},{"$f":"BB104+BB104*Титул.лист!$P$2","v":6902.9840000000004},6900,8190.64,{"$f":"BE104+BE104*Титул.лист!$A$1","v":9009.7039999999997},{"$f":"BF104+BF104*Титул.лист!$P$2","v":9009.7039999999997},9010]
[null,null,800,"1007-80",3420,{"$f":"E105+E105*Титул.лист!$A$1","v":3762},{"$f":"F105+F105*Титул.лист!$P$2","v":3762},3760,3560,{"$f":"I105+I105*Титул.лист!$A$1","v":3916},{"$f":"J105+J105*Титул.лист!$P$2","v":3916},3920,4040,{"$f":"M105+M105*Титул.лист!$A$1","v":4444},{"$f":"N105+N105*Титул.лист!$P$2","v":4444},4440,4180,{"$f":"Q105+Q105*Титул.лист!$A$1","v":4598},{"$f":"R105+R105*Титул.лист!$P$2","v":4598},4600,4500,{"$f":"U105+U105*Титул.лист!$A$1","v":4950},{"$f":"V105+V105*Титул.лист!$P$2","v":4950},4950,4640,{"$f":"Y105+Y105*Титул.лист!$A$1","v":5104},{"$f":"Z105+Z105*Титул.лист!$P$2","v":5104},5100,4060,{"$f":"AC105+AC105*Титул.лист!$A$1","v":4466},{"$f":"AD105+AD105*Титул.лист!$P$2","v":4466},4470,4260,{"$f":"AG105+AG105*Титул.лист!$A$1","v":4686},{"$f":"AH105+AH105*Титул.лист!$P$2","v":4686},4690,4330,{"$f":"AK105+AK105*Титул.лист!$A$1","v":4763},{"$f":"AL105+AL105*Титул.лист!$P$2","v":4763},4760,6299.6479999999992,{"$f":"AO105+AO105*Титул.лист!$A$1","v":6929.612799999999},{"$f":"AP105+AP105*Титул.лист!$P$2","v":6929.612799999999},6930,6929.7280000000001,{"$f":"AS105+AS105*Титул.лист!$A$1","v":7622.7008000000005},{"$f":"AT105+AT105*Титул.лист!$P$2","v":7622.7008000000005},7620,5852.8639999999996,{"$f":"AW105+AW105*Титул.лист!$A$1","v":6438.1503999999995},{"$f":"AX105+AX105*Титул.лист!$P$2","v":6438.1503999999995},6440,7003.3600000000006,{"$f":"BA105+BA105*Титул.лист!$A$1","v":7703.6960000000008},{"$f":"BB105+BB105*Титул.лист!$P$2","v":7703.6960000000008},7700,9192.16,{"$f":"BE105+BE105*Титул.лист!$A$1","v":10111.376},{"$f":"BF105+BF105*Титул.лист!$P$2","v":10111.376},10110]
[null,"Стол 3ящ. Метабокс",300,"1007-30м",{"$f":"E99+850","v":2820},{"$f":"E106+E106*Титул.лист!$A$1","v":3102},{"$f":"F106+F106*Титул.лист!$P$2","v":3102},3100,{"$f":"I99+850","v":2880},{"$f":"I106+I106*Титул.лист!$A$1","v":3168},{"$f":"J106+J106*Титул.лист!$P$2","v":3168},3170,{"$f":"M99+850","v":3040},{"$f":"M106+M106*Титул.лист!$A$1","v":3344},{"$f":"N106+N106*Титул.лист!$P$2","v":3344},3340,{"$f":"Q99+850","v":3100},{"$f":"Q106+Q106*Титул.лист!$A$1","v":3410},{"$f":"R106+R106*Титул.лист!$P$2","v":3410},3410,{"$f":"U99+850","v":3210},{"$f":"U106+U106*Титул.лист!$A$1","v":3531},{"$f":"V106+V106*Титул.лист!$P$2","v":3531},3530,{"$f":"Y99+850","v":3280},{"$f":"Y106+Y106*Титул.лист!$A$1","v":3608},{"$f":"Z106+Z106*Титул.лист!$P$2","v":3608},3610,{"$f":"AC99+850","v":3040},{"$f":"AC106+AC106*Титул.лист!$A$1","v":3344},{"$f":"AD106+AD106*Титул.лист!$P$2","v":3344},3340,{"$f":"AG99+850","v":3100},{"$f":"AG106+AG106*Титул.лист!$A$1","v":3410},{"$f":"AH106+AH106*Титул.лист!$P$2","v":3410},3410,{"$f":"AK99+850","v":3140},{"$f":"AK106+AK106*Титул.лист!$A$1","v":3454},{"$f":"AL106+AL106*Титул.лист!$P$2","v":3454},3450,3879.8679999999999,{"$f":"AO106+AO106*Титул.лист!$A$1","v":4267.8548000000001},{"$f":"AP106+AP106*Титул.лист!$P$2","v":4267.8548000000001},4270,4116.1480000000001,{"$f":"AS106+AS106*Титул.лист!$A$1","v":4527.7628000000004},{"$f":"AT106+AT106*Титул.лист!$P$2","v":4527.7628000000004},4530,3712.3240000000001,{"$f":"AW106+AW106*Титул.лист!$A$1","v":4083.5563999999999},{"$f":"AX106+AX106*Титул.лист!$P$2","v":4083.5563999999999},4080,4143.76,{"$f":"BA106+BA106*Титул.лист!$A$1","v":4558.1360000000004},{"$f":"BB106+BB106*Титул.лист!$P$2","v":4558.1360000000004},4560,4964.5600000000004,{"$f":"BE106+BE106*Титул.лист!$A$1","v":5461.0160000000005},{"$f":"BF106+BF106*Титул.лист!$P$2","v":5461.0160000000005},5460]
[null,null,400,"1007-40м",3100,{"$f":"E107+E107*Титул.лист!$A$1","v":3410},{"$f":"F107+F107*Титул.лист!$P$2","v":3410},3410,3090,{"$f":"I107+I107*Титул.лист!$A$1","v":3399},{"$f":"J107+J107*Титул.лист!$P$2","v":3399},3400,3400,{"$f":"M107+M107*Титул.лист!$A$1","v":3740},{"$f":"N107+N107*Титул.лист!$P$2","v":3740},3740,3390,{"$f":"Q107+Q107*Титул.лист!$A$1","v":3729},{"$f":"R107+R107*Титул.лист!$P$2","v":3729},3730,3620,{"$f":"U107+U107*Титул.лист!$A$1","v":3982},{"$f":"V107+V107*Титул.лист!$P$2","v":3982},3980,3810,{"$f":"Y107+Y107*Титул.лист!$A$1","v":4191},{"$f":"Z107+Z107*Титул.лист!$P$2","v":4191},4190,3330,{"$f":"AC107+AC107*Титул.лист!$A$1","v":3663},{"$f":"AD107+AD107*Титул.лист!$P$2","v":3663},3660,3410,{"$f":"AG107+AG107*Титул.лист!$A$1","v":3751},{"$f":"AH107+AH107*Титул.лист!$P$2","v":3751},3750,3460,{"$f":"AK107+AK107*Титул.лист!$A$1","v":3806},{"$f":"AL107+AL107*Титул.лист!$P$2","v":3806},3810,4449.8239999999996,{"$f":"AO107+AO107*Титул.лист!$A$1","v":4894.8063999999995},{"$f":"AP107+AP107*Титул.лист!$P$2","v":4894.8063999999995},4890,4764.8639999999996,{"$f":"AS107+AS107*Титул.лист!$A$1","v":5241.3503999999994},{"$f":"AT107+AT107*Титул.лист!$P$2","v":5241.3503999999994},5240,4226.4319999999998,{"$f":"AW107+AW107*Титул.лист!$A$1","v":4649.0751999999993},{"$f":"AX107+AX107*Титул.лист!$P$2","v":4649.0751999999993},4650,4801.68,{"$f":"BA107+BA107*Титул.лист!$A$1","v":5281.848},{"$f":"BB107+BB107*Титул.лист!$P$2","v":5281.848},5280,5896.08,{"$f":"BE107+BE107*Титул.лист!$A$1","v":6485.6880000000001},{"$f":"BF107+BF107*Титул.лист!$P$2","v":6485.6880000000001},6490]
[null,null,450,"1007-45м",3250,{"$f":"E108+E108*Титул.лист!$A$1","v":3575},{"$f":"F108+F108*Титул.лист!$P$2","v":3575},3580,3350,{"$f":"I108+I108*Титул.лист!$A$1","v":3685},{"$f":"J108+J108*Титул.лист!$P$2","v":3685},3690,3650,{"$f":"M108+M108*Титул.лист!$A$1","v":4015},{"$f":"N108+N108*Титул.лист!$P$2","v":4015},4020,3800,{"$f":"Q108+Q108*Титул.лист!$A$1","v":4180},{"$f":"R108+R108*Титул.лист!$P$2","v":4180},4180,3950,{"$f":"U108+U108*Титул.лист!$A$1","v":4345},{"$f":"V108+V108*Титул.лист!$P$2","v":4345},4350,4050,{"$f":"Y108+Y108*Титул.лист!$A$1","v":4455},{"$f":"Z108+Z108*Титул.лист!$P$2","v":4455},4460,3650,{"$f":"AC108+AC108*Титул.лист!$A$1","v":4015},{"$f":"AD108+AD108*Титул.лист!$P$2","v":4015},4020,3750,{"$f":"AG108+AG108*Титул.лист!$A$1","v":4125},{"$f":"AH108+AH108*Титул.лист!$P$2","v":4125},4130,3870,{"$f":"AK108+AK108*Титул.лист!$A$1","v":4257},{"$f":"AL108+AL108*Титул.лист!$P$2","v":4257},4260,4909.8019999999997,{"$f":"AO108+AO108*Титул.лист!$A$1","v":5400.7821999999996},{"$f":"AP108+AP108*Титул.лист!$P$2","v":5400.7821999999996},5400,5264.2219999999998,{"$f":"AS108+AS108*Титул.лист!$A$1","v":5790.6441999999997},{"$f":"AT108+AT108*Титул.лист!$P$2","v":5790.6441999999997},5790,4658.4859999999999,{"$f":"AW108+AW108*Титул.лист!$A$1","v":5124.3346000000001},{"$f":"AX108+AX108*Титул.лист!$P$2","v":5124.3346000000001},5120,5305.64,{"$f":"BA108+BA108*Титул.лист!$A$1","v":5836.2040000000006},{"$f":"BB108+BB108*Титул.лист!$P$2","v":5836.2040000000006},5840,6536.84,{"$f":"BE108+BE108*Титул.лист!$A$1","v":7190.5240000000003},{"$f":"BF108+BF108*Титул.лист!$P$2","v":7190.5240000000003},7190]
[null,null,500,"1007-50м",3410,{"$f":"E109+E109*Титул.лист!$A$1","v":3751},{"$f":"F109+F109*Титул.лист!$P$2","v":3751},3750,3510,{"$f":"I109+I109*Титул.лист!$A$1","v":3861},{"$f":"J109+J109*Титул.лист!$P$2","v":3861},3860,3800,{"$f":"M109+M109*Титул.лист!$A$1","v":4180},{"$f":"N109+N109*Титул.лист!$P$2","v":4180},4180,3900,{"$f":"Q109+Q109*Титул.лист!$A$1","v":4290},{"$f":"R109+R109*Титул.лист!$P$2","v":4290},4290,4080,{"$f":"U109+U109*Титул.лист!$A$1","v":4488},{"$f":"V109+V109*Титул.лист!$P$2","v":4488},4490,4180,{"$f":"Y109+Y109*Титул.лист!$A$1","v":4598},{"$f":"Z109+Z109*Титул.лист!$P$2","v":4598},4600,3800,{"$f":"AC109+AC109*Титул.лист!$A$1","v":4180},{"$f":"AD109+AD109*Титул.лист!$P$2","v":4180},4180,3920,{"$f":"AG109+AG109*Титул.лист!$A$1","v":4312},{"$f":"AH109+AH109*Титул.лист!$P$2","v":4312},4310,3970,{"$f":"AK109+AK109*Титул.лист!$A$1","v":4367},{"$f":"AL109+AL109*Титул.лист!$P$2","v":4367},4370,5199.78,{"$f":"AO109+AO109*Титул.лист!$A$1","v":5719.7579999999998},{"$f":"AP109+AP109*Титул.лист!$P$2","v":5719.7579999999998},5720,5593.58,{"$f":"AS109+AS109*Титул.лист!$A$1","v":6152.9380000000001},{"$f":"AT109+AT109*Титул.лист!$P$2","v":6152.9380000000001},6150,4920.54,{"$f":"AW109+AW109*Титул.лист!$A$1","v":5412.5940000000001},{"$f":"AX109+AX109*Титул.лист!$P$2","v":5412.5940000000001},5410,5639.6,{"$f":"BA109+BA109*Титул.лист!$A$1","v":6203.56},{"$f":"BB109+BB109*Титул.лист!$P$2","v":6203.56},6200,7007.6,{"$f":"BE109+BE109*Титул.лист!$A$1","v":7708.3600000000006},{"$f":"BF109+BF109*Титул.лист!$P$2","v":7708.3600000000006},7710]
[null,null,600,"1007-60м",3690,{"$f":"E110+E110*Титул.лист!$A$1","v":4059},{"$f":"F110+F110*Титул.лист!$P$2","v":4059},4060,3810,{"$f":"I110+I110*Титул.лист!$A$1","v":4191},{"$f":"J110+J110*Титул.лист!$P$2","v":4191},4190,4140,{"$f":"M110+M110*Титул.лист!$A$1","v":4554},{"$f":"N110+N110*Титул.лист!$P$2","v":4554},4550,4260,{"$f":"Q110+Q110*Титул.лист!$A$1","v":4686},{"$f":"R110+R110*Титул.лист!$P$2","v":4686},4690,4490,{"$f":"U110+U110*Титул.лист!$A$1","v":4939},{"$f":"V110+V110*Титул.лист!$P$2","v":4939},4940,4610,{"$f":"Y110+Y110*Титул.лист!$A$1","v":5071},{"$f":"Z110+Z110*Титул.лист!$P$2","v":5071},5070,4160,{"$f":"AC110+AC110*Титул.лист!$A$1","v":4576},{"$f":"AD110+AD110*Титул.лист!$P$2","v":4576},4580,4300,{"$f":"AG110+AG110*Титул.лист!$A$1","v":4730},{"$f":"AH110+AH110*Титул.лист!$P$2","v":4730},4730,4370,{"$f":"AK110+AK110*Титул.лист!$A$1","v":4807},{"$f":"AL110+AL110*Титул.лист!$P$2","v":4807},4810,5839.7359999999999,{"$f":"AO110+AO110*Титул.лист!$A$1","v":6423.7096000000001},{"$f":"AP110+AP110*Титул.лист!$P$2","v":6423.7096000000001},6420,6312.2960000000003,{"$f":"AS110+AS110*Титул.лист!$A$1","v":6943.5256000000008},{"$f":"AT110+AT110*Титул.лист!$P$2","v":6943.5256000000008},6940,5504.6480000000001,{"$f":"AW110+AW110*Титул.лист!$A$1","v":6055.1127999999999},{"$f":"AX110+AX110*Титул.лист!$P$2","v":6055.1127999999999},6060,6367.52,{"$f":"BA110+BA110*Титул.лист!$A$1","v":7004.2720000000008},{"$f":"BB110+BB110*Титул.лист!$P$2","v":7004.2720000000008},7000,8009.1200000000008,{"$f":"BE110+BE110*Титул.лист!$A$1","v":8810.0320000000011},{"$f":"BF110+BF110*Титул.лист!$P$2","v":8810.0320000000011},8810]
[null,null,700,"1007-70м",3980,{"$f":"E111+E111*Титул.лист!$A$1","v":4378},{"$f":"F111+F111*Титул.лист!$P$2","v":4378},4380,4120,{"$f":"I111+I111*Титул.лист!$A$1","v":4532},{"$f":"J111+J111*Титул.лист!$P$2","v":4532},4530,4510,{"$f":"M111+M111*Титул.лист!$A$1","v":4961},{"$f":"N111+N111*Титул.лист!$P$2","v":4961},4960,4640,{"$f":"Q111+Q111*Титул.лист!$A$1","v":5104},{"$f":"R111+R111*Титул.лист!$P$2","v":5104},5100,4920,{"$f":"U111+U111*Титул.лист!$A$1","v":5412},{"$f":"V111+V111*Титул.лист!$P$2","v":5412},5410,5050,{"$f":"Y111+Y111*Титул.лист!$A$1","v":5555},{"$f":"Z111+Z111*Титул.лист!$P$2","v":5555},5560,4550,{"$f":"AC111+AC111*Титул.лист!$A$1","v":5005},{"$f":"AD111+AD111*Титул.лист!$P$2","v":5005},5010,4710,{"$f":"AG111+AG111*Титул.лист!$A$1","v":5181},{"$f":"AH111+AH111*Титул.лист!$P$2","v":5181},5180,4790,{"$f":"AK111+AK111*Титул.лист!$A$1","v":5269},{"$f":"AL111+AL111*Титул.лист!$P$2","v":5269},5270,6509.692,{"$f":"AO111+AO111*Титул.лист!$A$1","v":7160.6612000000005},{"$f":"AP111+AP111*Титул.лист!$P$2","v":7160.6612000000005},7160,7061.0119999999997,{"$f":"AS111+AS111*Титул.лист!$A$1","v":7767.1131999999998},{"$f":"AT111+AT111*Титул.лист!$P$2","v":7767.1131999999998},7770,6118.7559999999994,{"$f":"AW111+AW111*Титул.лист!$A$1","v":6730.6315999999997},{"$f":"AX111+AX111*Титул.лист!$P$2","v":6730.6315999999997},6730,7125.4400000000005,{"$f":"BA111+BA111*Титул.лист!$A$1","v":7837.9840000000004},{"$f":"BB111+BB111*Титул.лист!$P$2","v":7837.9840000000004},7840,9040.64,{"$f":"BE111+BE111*Титул.лист!$A$1","v":9944.7039999999997},{"$f":"BF111+BF111*Титул.лист!$P$2","v":9944.7039999999997},9940]
[null,null,800,"1007-80м",4270,{"$f":"E112+E112*Титул.лист!$A$1","v":4697},{"$f":"F112+F112*Титул.лист!$P$2","v":4697},4700,4410,{"$f":"I112+I112*Титул.лист!$A$1","v":4851},{"$f":"J112+J112*Титул.лист!$P$2","v":4851},4850,4890,{"$f":"M112+M112*Титул.лист!$A$1","v":5379},{"$f":"N112+N112*Титул.лист!$P$2","v":5379},5380,5030,{"$f":"Q112+Q112*Титул.лист!$A$1","v":5533},{"$f":"R112+R112*Титул.лист!$P$2","v":5533},5530,5350,{"$f":"U112+U112*Титул.лист!$A$1","v":5885},{"$f":"V112+V112*Титул.лист!$P$2","v":5885},5890,5490,{"$f":"Y112+Y112*Титул.лист!$A$1","v":6039},{"$f":"Z112+Z112*Титул.лист!$P$2","v":6039},6040,4910,{"$f":"AC112+AC112*Титул.лист!$A$1","v":5401},{"$f":"AD112+AD112*Титул.лист!$P$2","v":5401},5400,5110,{"$f":"AG112+AG112*Титул.лист!$A$1","v":5621},{"$f":"AH112+AH112*Титул.лист!$P$2","v":5621},5620,5180,{"$f":"AK112+AK112*Титул.лист!$A$1","v":5698},{"$f":"AL112+AL112*Титул.лист!$P$2","v":5698},5700,7149.6479999999992,{"$f":"AO112+AO112*Титул.лист!$A$1","v":7864.612799999999},{"$f":"AP112+AP112*Титул.лист!$P$2","v":7864.612799999999},7860,7779.7280000000001,{"$f":"AS112+AS112*Титул.лист!$A$1","v":8557.7008000000005},{"$f":"AT112+AT112*Титул.лист!$P$2","v":8557.7008000000005},8560,6702.8639999999996,{"$f":"AW112+AW112*Титул.лист!$A$1","v":7373.1503999999995},{"$f":"AX112+AX112*Титул.лист!$P$2","v":7373.1503999999995},7370,7853.3600000000006,{"$f":"BA112+BA112*Титул.лист!$A$1","v":8638.6959999999999},{"$f":"BB112+BB112*Титул.лист!$P$2","v":8638.6959999999999},8640,10042.16,{"$f":"BE112+BE112*Титул.лист!$A$1","v":11046.376},{"$f":"BF112+BF112*Титул.лист!$P$2","v":11046.376},11050]
[null,"Стол 3ящ. Тандембокс",300,"1007-30т",{"$f":"E99+2000*2+2300","v":8270},{"$f":"E113+E113*Титул.лист!$A$1","v":9097},{"$f":"F113+F113*Титул.лист!$P$2","v":9097},9100,{"$f":"I99+2000*2+2300","v":8330},{"$f":"I113+I113*Титул.лист!$A$1","v":9163},{"$f":"J113+J113*Титул.лист!$P$2","v":9163},9160,{"$f":"M99+2000*2+2300","v":8490},{"$f":"M113+M113*Титул.лист!$A$1","v":9339},{"$f":"N113+N113*Титул.лист!$P$2","v":9339},9340,{"$f":"Q99+2000*2+2300","v":8550},{"$f":"Q113+Q113*Титул.лист!$A$1","v":9405},{"$f":"R113+R113*Титул.лист!$P$2","v":9405},9410,{"$f":"U99+2000*2+2300","v":8660},{"$f":"U113+U113*Титул.лист!$A$1","v":9526},{"$f":"V113+V113*Титул.лист!$P$2","v":9526},9530,{"$f":"Y99+2000*2+2300","v":8730},{"$f":"Y113+Y113*Титул.лист!$A$1","v":9603},{"$f":"Z113+Z113*Титул.лист!$P$2","v":9603},9600,{"$f":"AC99+2000*2+2300","v":8490},{"$f":"AC113+AC113*Титул.лист!$A$1","v":9339},{"$f":"AD113+AD113*Титул.лист!$P$2","v":9339},9340,{"$f":"AG99+2000*2+2300","v":8550},{"$f":"AG113+AG113*Титул.лист!$A$1","v":9405},{"$f":"AH113+AH113*Титул.лист!$P$2","v":9405},9410,{"$f":"AK99+2000*2+2300","v":8590},{"$f":"AK113+AK113*Титул.лист!$A$1","v":9449},{"$f":"AL113+AL113*Титул.лист!$P$2","v":9449},9450,9329.8680000000004,{"$f":"AO113+AO113*Титул.лист!$A$1","v":10262.854800000001},{"$f":"AP113+AP113*Титул.лист!$P$2","v":10262.854800000001},10260,9566.1479999999992,{"$f":"AS113+AS113*Титул.лист!$A$1","v":10522.762799999999},{"$f":"AT113+AT113*Титул.лист!$P$2","v":10522.762799999999},10520,9162.3240000000005,{"$f":"AW113+AW113*Титул.лист!$A$1","v":10078.556400000001},{"$f":"AX113+AX113*Титул.лист!$P$2","v":10078.556400000001},10080,9593.76,{"$f":"BA113+BA113*Титул.лист!$A$1","v":10553.136},{"$f":"BB113+BB113*Титул.лист!$P$2","v":10553.136},10550,10414.56,{"$f":"BE113+BE113*Титул.лист!$A$1","v":11456.016},{"$f":"BF113+BF113*Титул.лист!$P$2","v":11456.016},11460]
[null,null,400,"1007-40т",8550,{"$f":"E114+E114*Титул.лист!$A$1","v":9405},{"$f":"F114+F114*Титул.лист!$P$2","v":9405},9410,8540,{"$f":"I114+I114*Титул.лист!$A$1","v":9394},{"$f":"J114+J114*Титул.лист!$P$2","v":9394},9390,8850,{"$f":"M114+M114*Титул.лист!$A$1","v":9735},{"$f":"N114+N114*Титул.лист!$P$2","v":9735},9740,8840,{"$f":"Q114+Q114*Титул.лист!$A$1","v":9724},{"$f":"R114+R114*Титул.лист!$P$2","v":9724},9720,9070,{"$f":"U114+U114*Титул.лист!$A$1","v":9977},{"$f":"V114+V114*Титул.лист!$P$2","v":9977},9980,9260,{"$f":"Y114+Y114*Титул.лист!$A$1","v":10186},{"$f":"Z114+Z114*Титул.лист!$P$2","v":10186},10190,8780,{"$f":"AC114+AC114*Титул.лист!$A$1","v":9658},{"$f":"AD114+AD114*Титул.лист!$P$2","v":9658},9660,8860,{"$f":"AG114+AG114*Титул.лист!$A$1","v":9746},{"$f":"AH114+AH114*Титул.лист!$P$2","v":9746},9750,8910,{"$f":"AK114+AK114*Титул.лист!$A$1","v":9801},{"$f":"AL114+AL114*Титул.лист!$P$2","v":9801},9800,9899.8240000000005,{"$f":"AO114+AO114*Титул.лист!$A$1","v":10889.806400000001},{"$f":"AP114+AP114*Титул.лист!$P$2","v":10889.806400000001},10890,10214.864,{"$f":"AS114+AS114*Титул.лист!$A$1","v":11236.350399999999},{"$f":"AT114+AT114*Титул.лист!$P$2","v":11236.350399999999},11240,9676.4320000000007,{"$f":"AW114+AW114*Титул.лист!$A$1","v":10644.075200000001},{"$f":"AX114+AX114*Титул.лист!$P$2","v":10644.075200000001},10640,10251.68,{"$f":"BA114+BA114*Титул.лист!$A$1","v":11276.848},{"$f":"BB114+BB114*Титул.лист!$P$2","v":11276.848},11280,11346.08,{"$f":"BE114+BE114*Титул.лист!$A$1","v":12480.688},{"$f":"BF114+BF114*Титул.лист!$P$2","v":12480.688},12480]
[null,null,450,"1007-45т",8700,{"$f":"E115+E115*Титул.лист!$A$1","v":9570},{"$f":"F115+F115*Титул.лист!$P$2","v":9570},9570,8800,{"$f":"I115+I115*Титул.лист!$A$1","v":9680},{"$f":"J115+J115*Титул.лист!$P$2","v":9680},9680,9100,{"$f":"M115+M115*Титул.лист!$A$1","v":10010},{"$f":"N115+N115*Титул.лист!$P$2","v":10010},10010,9250,{"$f":"Q115+Q115*Титул.лист!$A$1","v":10175},{"$f":"R115+R115*Титул.лист!$P$2","v":10175},10180,9400,{"$f":"U115+U115*Титул.лист!$A$1","v":10340},{"$f":"V115+V115*Титул.лист!$P$2","v":10340},10340,9500,{"$f":"Y115+Y115*Титул.лист!$A$1","v":10450},{"$f":"Z115+Z115*Титул.лист!$P$2","v":10450},10450,9100,{"$f":"AC115+AC115*Титул.лист!$A$1","v":10010},{"$f":"AD115+AD115*Титул.лист!$P$2","v":10010},10010,9200,{"$f":"AG115+AG115*Титул.лист!$A$1","v":10120},{"$f":"AH115+AH115*Титул.лист!$P$2","v":10120},10120,9320,{"$f":"AK115+AK115*Титул.лист!$A$1","v":10252},{"$f":"AL115+AL115*Титул.лист!$P$2","v":10252},10250,10359.802,{"$f":"AO115+AO115*Титул.лист!$A$1","v":11395.7822},{"$f":"AP115+AP115*Титул.лист!$P$2","v":11395.7822},11400,10714.222,{"$f":"AS115+AS115*Титул.лист!$A$1","v":11785.644199999999},{"$f":"AT115+AT115*Титул.лист!$P$2","v":11785.644199999999},11790,10108.486000000001,{"$f":"AW115+AW115*Титул.лист!$A$1","v":11119.3346},{"$f":"AX115+AX115*Титул.лист!$P$2","v":11119.3346},11120,10755.64,{"$f":"BA115+BA115*Титул.лист!$A$1","v":11831.204},{"$f":"BB115+BB115*Титул.лист!$P$2","v":11831.204},11830,11986.84,{"$f":"BE115+BE115*Титул.лист!$A$1","v":13185.523999999999},{"$f":"BF115+BF115*Титул.лист!$P$2","v":13185.523999999999},13190]
[null,null,500,"1007-50т",8860,{"$f":"E116+E116*Титул.лист!$A$1","v":9746},{"$f":"F116+F116*Титул.лист!$P$2","v":9746},9750,8960,{"$f":"I116+I116*Титул.лист!$A$1","v":9856},{"$f":"J116+J116*Титул.лист!$P$2","v":9856},9860,9250,{"$f":"M116+M116*Титул.лист!$A$1","v":10175},{"$f":"N116+N116*Титул.лист!$P$2","v":10175},10180,9350,{"$f":"Q116+Q116*Титул.лист!$A$1","v":10285},{"$f":"R116+R116*Титул.лист!$P$2","v":10285},10290,9530,{"$f":"U116+U116*Титул.лист!$A$1","v":10483},{"$f":"V116+V116*Титул.лист!$P$2","v":10483},10480,9630,{"$f":"Y116+Y116*Титул.лист!$A$1","v":10593},{"$f":"Z116+Z116*Титул.лист!$P$2","v":10593},10590,9250,{"$f":"AC116+AC116*Титул.лист!$A$1","v":10175},{"$f":"AD116+AD116*Титул.лист!$P$2","v":10175},10180,9370,{"$f":"AG116+AG116*Титул.лист!$A$1","v":10307},{"$f":"AH116+AH116*Титул.лист!$P$2","v":10307},10310,9420,{"$f":"AK116+AK116*Титул.лист!$A$1","v":10362},{"$f":"AL116+AL116*Титул.лист!$P$2","v":10362},10360,10649.78,{"$f":"AO116+AO116*Титул.лист!$A$1","v":11714.758000000002},{"$f":"AP116+AP116*Титул.лист!$P$2","v":11714.758000000002},11710,11043.58,{"$f":"AS116+AS116*Титул.лист!$A$1","v":12147.938},{"$f":"AT116+AT116*Титул.лист!$P$2","v":12147.938},12150,10370.540000000001,{"$f":"AW116+AW116*Титул.лист!$A$1","v":11407.594000000001},{"$f":"AX116+AX116*Титул.лист!$P$2","v":11407.594000000001},11410,11089.6,{"$f":"BA116+BA116*Титул.лист!$A$1","v":12198.560000000001},{"$f":"BB116+BB116*Титул.лист!$P$2","v":12198.560000000001},12200,12457.6,{"$f":"BE116+BE116*Титул.лист!$A$1","v":13703.36},{"$f":"BF116+BF116*Титул.лист!$P$2","v":13703.36},13700]
[null,null,600,"1007-60т",9140,{"$f":"E117+E117*Титул.лист!$A$1","v":10054},{"$f":"F117+F117*Титул.лист!$P$2","v":10054},10050,9260,{"$f":"I117+I117*Титул.лист!$A$1","v":10186},{"$f":"J117+J117*Титул.лист!$P$2","v":10186},10190,9590,{"$f":"M117+M117*Титул.лист!$A$1","v":10549},{"$f":"N117+N117*Титул.лист!$P$2","v":10549},10550,9710,{"$f":"Q117+Q117*Титул.лист!$A$1","v":10681},{"$f":"R117+R117*Титул.лист!$P$2","v":10681},10680,9940,{"$f":"U117+U117*Титул.лист!$A$1","v":10934},{"$f":"V117+V117*Титул.лист!$P$2","v":10934},10930,10060,{"$f":"Y117+Y117*Титул.лист!$A$1","v":11066},{"$f":"Z117+Z117*Титул.лист!$P$2","v":11066},11070,9610,{"$f":"AC117+AC117*Титул.лист!$A$1","v":10571},{"$f":"AD117+AD117*Титул.лист!$P$2","v":10571},10570,9750,{"$f":"AG117+AG117*Титул.лист!$A$1","v":10725},{"$f":"AH117+AH117*Титул.лист!$P$2","v":10725},10730,9820,{"$f":"AK117+AK117*Титул.лист!$A$1","v":10802},{"$f":"AL117+AL117*Титул.лист!$P$2","v":10802},10800,11289.736000000001,{"$f":"AO117+AO117*Титул.лист!$A$1","v":12418.7096},{"$f":"AP117+AP117*Титул.лист!$P$2","v":12418.7096},12420,11762.296,{"$f":"AS117+AS117*Титул.лист!$A$1","v":12938.525600000001},{"$f":"AT117+AT117*Титул.лист!$P$2","v":12938.525600000001},12940,10954.647999999999,{"$f":"AW117+AW117*Титул.лист!$A$1","v":12050.112799999999},{"$f":"AX117+AX117*Титул.лист!$P$2","v":12050.112799999999},12050,11817.52,{"$f":"BA117+BA117*Титул.лист!$A$1","v":12999.272000000001},{"$f":"BB117+BB117*Титул.лист!$P$2","v":12999.272000000001},13000,13459.12,{"$f":"BE117+BE117*Титул.лист!$A$1","v":14805.032000000001},{"$f":"BF117+BF117*Титул.лист!$P$2","v":14805.032000000001},14810]
[null,null,700,"1007-70т",9430,{"$f":"E118+E118*Титул.лист!$A$1","v":10373},{"$f":"F118+F118*Титул.лист!$P$2","v":10373},10370,9570,{"$f":"I118+I118*Титул.лист!$A$1","v":10527},{"$f":"J118+J118*Титул.лист!$P$2","v":10527},10530,9960,{"$f":"M118+M118*Титул.лист!$A$1","v":10956},{"$f":"N118+N118*Титул.лист!$P$2","v":10956},10960,10090,{"$f":"Q118+Q118*Титул.лист!$A$1","v":11099},{"$f":"R118+R118*Титул.лист!$P$2","v":11099},11100,10370,{"$f":"U118+U118*Титул.лист!$A$1","v":11407},{"$f":"V118+V118*Титул.лист!$P$2","v":11407},11410,10500,{"$f":"Y118+Y118*Титул.лист!$A$1","v":11550},{"$f":"Z118+Z118*Титул.лист!$P$2","v":11550},11550,10000,{"$f":"AC118+AC118*Титул.лист!$A$1","v":11000},{"$f":"AD118+AD118*Титул.лист!$P$2","v":11000},11000,10160,{"$f":"AG118+AG118*Титул.лист!$A$1","v":11176},{"$f":"AH118+AH118*Титул.лист!$P$2","v":11176},11180,10240,{"$f":"AK118+AK118*Титул.лист!$A$1","v":11264},{"$f":"AL118+AL118*Титул.лист!$P$2","v":11264},11260,11959.691999999999,{"$f":"AO118+AO118*Титул.лист!$A$1","v":13155.661199999999},{"$f":"AP118+AP118*Титул.лист!$P$2","v":13155.661199999999},13160,12511.011999999999,{"$f":"AS118+AS118*Титул.лист!$A$1","v":13762.1132},{"$f":"AT118+AT118*Титул.лист!$P$2","v":13762.1132},13760,11568.755999999999,{"$f":"AW118+AW118*Титул.лист!$A$1","v":12725.631599999999},{"$f":"AX118+AX118*Титул.лист!$P$2","v":12725.631599999999},12730,12575.44,{"$f":"BA118+BA118*Титул.лист!$A$1","v":13832.984},{"$f":"BB118+BB118*Титул.лист!$P$2","v":13832.984},13830,14490.64,{"$f":"BE118+BE118*Титул.лист!$A$1","v":15939.704},{"$f":"BF118+BF118*Титул.лист!$P$2","v":15939.704},15940]
[null,null,800,"1007-80т",9720,{"$f":"E119+E119*Титул.лист!$A$1","v":10692},{"$f":"F119+F119*Титул.лист!$P$2","v":10692},10690,9860,{"$f":"I119+I119*Титул.лист!$A$1","v":10846},{"$f":"J119+J119*Титул.лист!$P$2","v":10846},10850,10340,{"$f":"M119+M119*Титул.лист!$A$1","v":11374},{"$f":"N119+N119*Титул.лист!$P$2","v":11374},11370,10480,{"$f":"Q119+Q119*Титул.лист!$A$1","v":11528},{"$f":"R119+R119*Титул.лист!$P$2","v":11528},11530,10800,{"$f":"U119+U119*Титул.лист!$A$1","v":11880},{"$f":"V119+V119*Титул.лист!$P$2","v":11880},11880,10940,{"$f":"Y119+Y119*Титул.лист!$A$1","v":12034},{"$f":"Z119+Z119*Титул.лист!$P$2","v":12034},12030,10360,{"$f":"AC119+AC119*Титул.лист!$A$1","v":11396},{"$f":"AD119+AD119*Титул.лист!$P$2","v":11396},11400,10560,{"$f":"AG119+AG119*Титул.лист!$A$1","v":11616},{"$f":"AH119+AH119*Титул.лист!$P$2","v":11616},11620,10630,{"$f":"AK119+AK119*Титул.лист!$A$1","v":11693},{"$f":"AL119+AL119*Титул.лист!$P$2","v":11693},11690,12599.647999999999,{"$f":"AO119+AO119*Титул.лист!$A$1","v":13859.612799999999},{"$f":"AP119+AP119*Титул.лист!$P$2","v":13859.612799999999},13860,13229.727999999999,{"$f":"AS119+AS119*Титул.лист!$A$1","v":14552.700799999999},{"$f":"AT119+AT119*Титул.лист!$P$2","v":14552.700799999999},14550,12152.864,{"$f":"AW119+AW119*Титул.лист!$A$1","v":13368.150399999999},{"$f":"AX119+AX119*Титул.лист!$P$2","v":13368.150399999999},13370,13303.36,{"$f":"BA119+BA119*Титул.лист!$A$1","v":14633.696},{"$f":"BB119+BB119*Титул.лист!$P$2","v":14633.696},14630,15492.16,{"$f":"BE119+BE119*Титул.лист!$A$1","v":17041.376},{"$f":"BF119+BF119*Титул.лист!$P$2","v":17041.376},17040]
[null,"Стол 4ящ",300,"1009-30",2080,{"$f":"E120+E120*Титул.лист!$A$1","v":2288},{"$f":"F120+F120*Титул.лист!$P$2","v":2288},2290,2170,{"$f":"I120+I120*Титул.лист!$A$1","v":2387},{"$f":"J120+J120*Титул.лист!$P$2","v":2387},2390,2300,{"$f":"M120+M120*Титул.лист!$A$1","v":2530},{"$f":"N120+N120*Титул.лист!$P$2","v":2530},2530,2390,{"$f":"Q120+Q120*Титул.лист!$A$1","v":2629},{"$f":"R120+R120*Титул.лист!$P$2","v":2629},2630,2470,{"$f":"U120+U120*Титул.лист!$A$1","v":2717},{"$f":"V120+V120*Титул.лист!$P$2","v":2717},2720,2560,{"$f":"Y120+Y120*Титул.лист!$A$1","v":2816},{"$f":"Z120+Z120*Титул.лист!$P$2","v":2816},2820,2300,{"$f":"AC120+AC120*Титул.лист!$A$1","v":2530},{"$f":"AD120+AD120*Титул.лист!$P$2","v":2530},2530,2360,{"$f":"AG120+AG120*Титул.лист!$A$1","v":2596},{"$f":"AH120+AH120*Титул.лист!$P$2","v":2596},2600,2400,{"$f":"AK120+AK120*Титул.лист!$A$1","v":2640},{"$f":"AL120+AL120*Титул.лист!$P$2","v":2640},2640,3139.8679999999999,{"$f":"AO120+AO120*Титул.лист!$A$1","v":3453.8548000000001},{"$f":"AP120+AP120*Титул.лист!$P$2","v":3453.8548000000001},3450,3376.1480000000001,{"$f":"AS120+AS120*Титул.лист!$A$1","v":3713.7628000000004},{"$f":"AT120+AT120*Титул.лист!$P$2","v":3713.7628000000004},3710,2972.3240000000001,{"$f":"AW120+AW120*Титул.лист!$A$1","v":3269.5563999999999},{"$f":"AX120+AX120*Титул.лист!$P$2","v":3269.5563999999999},3270,3403.76,{"$f":"BA120+BA120*Титул.лист!$A$1","v":3744.1360000000004},{"$f":"BB120+BB120*Титул.лист!$P$2","v":3744.1360000000004},3740,4224.5600000000004,{"$f":"BE120+BE120*Титул.лист!$A$1","v":4647.0160000000005},{"$f":"BF120+BF120*Титул.лист!$P$2","v":4647.0160000000005},4650]
[null,null,350,"1009-35",2240,{"$f":"E121+E121*Титул.лист!$A$1","v":2464},{"$f":"F121+F121*Титул.лист!$P$2","v":2464},2460,2340,{"$f":"I121+I121*Титул.лист!$A$1","v":2574},{"$f":"J121+J121*Титул.лист!$P$2","v":2574},2570,2510,{"$f":"M121+M121*Титул.лист!$A$1","v":2761},{"$f":"N121+N121*Титул.лист!$P$2","v":2761},2760,2610,{"$f":"Q121+Q121*Титул.лист!$A$1","v":2871},{"$f":"R121+R121*Титул.лист!$P$2","v":2871},2870,2710,{"$f":"U121+U121*Титул.лист!$A$1","v":2981},{"$f":"V121+V121*Титул.лист!$P$2","v":2981},2980,2800,{"$f":"Y121+Y121*Титул.лист!$A$1","v":3080},{"$f":"Z121+Z121*Титул.лист!$P$2","v":3080},3080,2510,{"$f":"AC121+AC121*Титул.лист!$A$1","v":2761},{"$f":"AD121+AD121*Титул.лист!$P$2","v":2761},2760,2600,{"$f":"AG121+AG121*Титул.лист!$A$1","v":2860},{"$f":"AH121+AH121*Титул.лист!$P$2","v":2860},2860,2630,{"$f":"AK121+AK121*Титул.лист!$A$1","v":2893},{"$f":"AL121+AL121*Титул.лист!$P$2","v":2893},2890,3489.846,{"$f":"AO121+AO121*Титул.лист!$A$1","v":3838.8306000000002},{"$f":"AP121+AP121*Титул.лист!$P$2","v":3838.8306000000002},3840,3765.5059999999999,{"$f":"AS121+AS121*Титул.лист!$A$1","v":4142.0565999999999},{"$f":"AT121+AT121*Титул.лист!$P$2","v":4142.0565999999999},4140,3294.3779999999997,{"$f":"AW121+AW121*Титул.лист!$A$1","v":3623.8157999999999},{"$f":"AX121+AX121*Титул.лист!$P$2","v":3623.8157999999999},3620,3797.7200000000003,{"$f":"BA121+BA121*Титул.лист!$A$1","v":4177.4920000000002},{"$f":"BB121+BB121*Титул.лист!$P$2","v":4177.4920000000002},4180,4755.32,{"$f":"BE121+BE121*Титул.лист!$A$1","v":5230.8519999999999},{"$f":"BF121+BF121*Титул.лист!$P$2","v":5230.8519999999999},5230]
[null,null,400,"1009-40",2400,{"$f":"E122+E122*Титул.лист!$A$1","v":2640},{"$f":"F122+F122*Титул.лист!$P$2","v":2640},2640,2510,{"$f":"I122+I122*Титул.лист!$A$1","v":2761},{"$f":"J122+J122*Титул.лист!$P$2","v":2761},2760,2700,{"$f":"M122+M122*Титул.лист!$A$1","v":2970},{"$f":"N122+N122*Титул.лист!$P$2","v":2970},2970,2800,{"$f":"Q122+Q122*Титул.лист!$A$1","v":3080},{"$f":"R122+R122*Титул.лист!$P$2","v":3080},3080,2910,{"$f":"U122+U122*Титул.лист!$A$1","v":3201},{"$f":"V122+V122*Титул.лист!$P$2","v":3201},3200,3020,{"$f":"Y122+Y122*Титул.лист!$A$1","v":3322},{"$f":"Z122+Z122*Титул.лист!$P$2","v":3322},3320,2690,{"$f":"AC122+AC122*Титул.лист!$A$1","v":2959},{"$f":"AD122+AD122*Титул.лист!$P$2","v":2959},2960,2780,{"$f":"AG122+AG122*Титул.лист!$A$1","v":3058},{"$f":"AH122+AH122*Титул.лист!$P$2","v":3058},3060,2830,{"$f":"AK122+AK122*Титул.лист!$A$1","v":3113},{"$f":"AL122+AL122*Титул.лист!$P$2","v":3113},3110,3809.8239999999996,{"$f":"AO122+AO122*Титул.лист!$A$1","v":4190.8063999999995},{"$f":"AP122+AP122*Титул.лист!$P$2","v":4190.8063999999995},4190,4124.8639999999996,{"$f":"AS122+AS122*Титул.лист!$A$1","v":4537.3503999999994},{"$f":"AT122+AT122*Титул.лист!$P$2","v":4537.3503999999994},4540,3586.4319999999998,{"$f":"AW122+AW122*Титул.лист!$A$1","v":3945.0751999999998},{"$f":"AX122+AX122*Титул.лист!$P$2","v":3945.0751999999998},3950,4161.68,{"$f":"BA122+BA122*Титул.лист!$A$1","v":4577.848},{"$f":"BB122+BB122*Титул.лист!$P$2","v":4577.848},4580,5256.08,{"$f":"BE122+BE122*Титул.лист!$A$1","v":5781.6880000000001},{"$f":"BF122+BF122*Титул.лист!$P$2","v":5781.6880000000001},5780]
[null,null,450,"1009-45",2540,{"$f":"E123+E123*Титул.лист!$A$1","v":2794},{"$f":"F123+F123*Титул.лист!$P$2","v":2794},2790,2660,{"$f":"I123+I123*Титул.лист!$A$1","v":2926},{"$f":"J123+J123*Титул.лист!$P$2","v":2926},2930,2870,{"$f":"M123+M123*Титул.лист!$A$1","v":3157},{"$f":"N123+N123*Титул.лист!$P$2","v":3157},3160,2990,{"$f":"Q123+Q123*Титул.лист!$A$1","v":3289},{"$f":"R123+R123*Титул.лист!$P$2","v":3289},3290,3130,{"$f":"U123+U123*Титул.лист!$A$1","v":3443},{"$f":"V123+V123*Титул.лист!$P$2","v":3443},3440,3260,{"$f":"Y123+Y123*Титул.лист!$A$1","v":3586},{"$f":"Z123+Z123*Титул.лист!$P$2","v":3586},3590,2890,{"$f":"AC123+AC123*Титул.лист!$A$1","v":3179},{"$f":"AD123+AD123*Титул.лист!$P$2","v":3179},3180,3000,{"$f":"AG123+AG123*Титул.лист!$A$1","v":3300},{"$f":"AH123+AH123*Титул.лист!$P$2","v":3300},3300,3050,{"$f":"AK123+AK123*Титул.лист!$A$1","v":3355},{"$f":"AL123+AL123*Титул.лист!$P$2","v":3355},3360,4149.8019999999997,{"$f":"AO123+AO123*Титул.лист!$A$1","v":4564.7821999999996},{"$f":"AP123+AP123*Титул.лист!$P$2","v":4564.7821999999996},4560,4504.2219999999998,{"$f":"AS123+AS123*Титул.лист!$A$1","v":4954.6441999999997},{"$f":"AT123+AT123*Титул.лист!$P$2","v":4954.6441999999997},4950,3898.4859999999999,{"$f":"AW123+AW123*Титул.лист!$A$1","v":4288.3346000000001},{"$f":"AX123+AX123*Титул.лист!$P$2","v":4288.3346000000001},4290,4545.6400000000003,{"$f":"BA123+BA123*Титул.лист!$A$1","v":5000.2040000000006},{"$f":"BB123+BB123*Титул.лист!$P$2","v":5000.2040000000006},5000,5776.84,{"$f":"BE123+BE123*Титул.лист!$A$1","v":6354.5240000000003},{"$f":"BF123+BF123*Титул.лист!$P$2","v":6354.5240000000003},6350]
[null,null,500,"1009-50",2690,{"$f":"E124+E124*Титул.лист!$A$1","v":2959},{"$f":"F124+F124*Титул.лист!$P$2","v":2959},2960,2820,{"$f":"I124+I124*Титул.лист!$A$1","v":3102},{"$f":"J124+J124*Титул.лист!$P$2","v":3102},3100,3080.0000000000005,{"$f":"M124+M124*Титул.лист!$A$1","v":3388.0000000000005},{"$f":"N124+N124*Титул.лист!$P$2","v":3388.0000000000005},3390,3200,{"$f":"Q124+Q124*Титул.лист!$A$1","v":3520},{"$f":"R124+R124*Титул.лист!$P$2","v":3520},3520,3370,{"$f":"U124+U124*Титул.лист!$A$1","v":3707},{"$f":"V124+V124*Титул.лист!$P$2","v":3707},3710,3490,{"$f":"Y124+Y124*Титул.лист!$A$1","v":3839},{"$f":"Z124+Z124*Титул.лист!$P$2","v":3839},3840,3070,{"$f":"AC124+AC124*Титул.лист!$A$1","v":3377},{"$f":"AD124+AD124*Титул.лист!$P$2","v":3377},3380,3190.0000000000005,{"$f":"AG124+AG124*Титул.лист!$A$1","v":3509.0000000000005},{"$f":"AH124+AH124*Титул.лист!$P$2","v":3509.0000000000005},3510,3240,{"$f":"AK124+AK124*Титул.лист!$A$1","v":3564},{"$f":"AL124+AL124*Титул.лист!$P$2","v":3564},3560,4469.78,{"$f":"AO124+AO124*Титул.лист!$A$1","v":4916.7579999999998},{"$f":"AP124+AP124*Титул.лист!$P$2","v":4916.7579999999998},4920,4863.58,{"$f":"AS124+AS124*Титул.лист!$A$1","v":5349.9380000000001},{"$f":"AT124+AT124*Титул.лист!$P$2","v":5349.9380000000001},5350,4190.54,{"$f":"AW124+AW124*Титул.лист!$A$1","v":4609.5940000000001},{"$f":"AX124+AX124*Титул.лист!$P$2","v":4609.5940000000001},4610,4909.6000000000004,{"$f":"BA124+BA124*Титул.лист!$A$1","v":5400.56},{"$f":"BB124+BB124*Титул.лист!$P$2","v":5400.56},5400,6277.6,{"$f":"BE124+BE124*Титул.лист!$A$1","v":6905.3600000000006},{"$f":"BF124+BF124*Титул.лист!$P$2","v":6905.3600000000006},6910]
[null,null,600,"1009-60",2990,{"$f":"E125+E125*Титул.лист!$A$1","v":3289},{"$f":"F125+F125*Титул.лист!$P$2","v":3289},3290,3150,{"$f":"I125+I125*Титул.лист!$A$1","v":3465},{"$f":"J125+J125*Титул.лист!$P$2","v":3465},3470,3440,{"$f":"M125+M125*Титул.лист!$A$1","v":3784},{"$f":"N125+N125*Титул.лист!$P$2","v":3784},3780,3600,{"$f":"Q125+Q125*Титул.лист!$A$1","v":3960},{"$f":"R125+R125*Титул.лист!$P$2","v":3960},3960,3790,{"$f":"U125+U125*Титул.лист!$A$1","v":4169},{"$f":"V125+V125*Титул.лист!$P$2","v":4169},4170,3950,{"$f":"Y125+Y125*Титул.лист!$A$1","v":4345},{"$f":"Z125+Z125*Титул.лист!$P$2","v":4345},4350,3460,{"$f":"AC125+AC125*Титул.лист!$A$1","v":3806},{"$f":"AD125+AD125*Титул.лист!$P$2","v":3806},3810,3610,{"$f":"AG125+AG125*Титул.лист!$A$1","v":3971},{"$f":"AH125+AH125*Титул.лист!$P$2","v":3971},3970,3670,{"$f":"AK125+AK125*Титул.лист!$A$1","v":4037},{"$f":"AL125+AL125*Титул.лист!$P$2","v":4037},4040,5139.7359999999999,{"$f":"AO125+AO125*Титул.лист!$A$1","v":5653.7096000000001},{"$f":"AP125+AP125*Титул.лист!$P$2","v":5653.7096000000001},5650,5612.2960000000003,{"$f":"AS125+AS125*Титул.лист!$A$1","v":6173.5255999999999},{"$f":"AT125+AT125*Титул.лист!$P$2","v":6173.5255999999999},6170,4804.6480000000001,{"$f":"AW125+AW125*Титул.лист!$A$1","v":5285.1127999999999},{"$f":"AX125+AX125*Титул.лист!$P$2","v":5285.1127999999999},5290,5667.52,{"$f":"BA125+BA125*Титул.лист!$A$1","v":6234.2720000000008},{"$f":"BB125+BB125*Титул.лист!$P$2","v":6234.2720000000008},6230,7309.1200000000008,{"$f":"BE125+BE125*Титул.лист!$A$1","v":8040.0320000000011},{"$f":"BF125+BF125*Титул.лист!$P$2","v":8040.0320000000011},8040]
[null,null,700,"1009-70",{"$f":"E125*0.027+E125","v":3070.73},{"$f":"E126+E126*Титул.лист!$A$1","v":3377.8029999999999},{"$f":"F126+F126*Титул.лист!$P$2","v":3377.8029999999999},3380,{"$f":"I125*0.027+I125","v":3235.05},{"$f":"I126+I126*Титул.лист!$A$1","v":3558.5550000000003},{"$f":"J126+J126*Титул.лист!$P$2","v":3558.5550000000003},3560,{"$f":"M125*0.027+M125","v":3532.88},{"$f":"M126+M126*Титул.лист!$A$1","v":3886.1680000000001},{"$f":"N126+N126*Титул.лист!$P$2","v":3886.1680000000001},3890,{"$f":"Q125*0.027+Q125","v":3697.2},{"$f":"Q126+Q126*Титул.лист!$A$1","v":4066.92},{"$f":"R126+R126*Титул.лист!$P$2","v":4066.92},4070,{"$f":"U125*0.027+U125","v":3892.33},{"$f":"U126+U126*Титул.лист!$A$1","v":4281.5630000000001},{"$f":"V126+V126*Титул.лист!$P$2","v":4281.5630000000001},4280,{"$f":"Y125*0.027+Y125","v":4056.65},{"$f":"Y126+Y126*Титул.лист!$A$1","v":4462.3150000000005},{"$f":"Z126+Z126*Титул.лист!$P$2","v":4462.3150000000005},4460,{"$f":"AC125*0.027+AC125","v":3553.42},{"$f":"AC126+AC126*Титул.лист!$A$1","v":3908.7620000000002},{"$f":"AD126+AD126*Титул.лист!$P$2","v":3908.7620000000002},3910,{"$f":"AG125*0.027+AG125","v":3707.47},{"$f":"AG126+AG126*Титул.лист!$A$1","v":4078.2169999999996},{"$f":"AH126+AH126*Титул.лист!$P$2","v":4078.2169999999996},4080,{"$f":"AK125*0.027+AK125","v":3769.09},{"$f":"AK126+AK126*Титул.лист!$A$1","v":4145.9989999999998},{"$f":"AL126+AL126*Титул.лист!$P$2","v":4145.9989999999998},4150,5513.1120000000001,{"$f":"AO126+AO126*Титул.лист!$A$1","v":6064.4232000000002},{"$f":"AP126+AP126*Титул.лист!$P$2","v":6064.4232000000002},6060,6064.4319999999998,{"$f":"AS126+AS126*Титул.лист!$A$1","v":6670.8751999999995},{"$f":"AT126+AT126*Титул.лист!$P$2","v":6670.8751999999995},6670,5122.1759999999995,{"$f":"AW126+AW126*Титул.лист!$A$1","v":5634.3935999999994},{"$f":"AX126+AX126*Титул.лист!$P$2","v":5634.3935999999994},5630,6128.8600000000006,{"$f":"BA126+BA126*Титул.лист!$A$1","v":6741.746000000001},{"$f":"BB126+BB126*Титул.лист!$P$2","v":6741.746000000001},6740,8044.06,{"$f":"BE126+BE126*Титул.лист!$A$1","v":8848.4660000000003},{"$f":"BF126+BF126*Титул.лист!$P$2","v":8848.4660000000003},8850]
[null,null,800,"1009-80",{"$f":"E126*0.27+E126","v":3899.8271},{"$f":"E127+E127*Титул.лист!$A$1","v":4289.8098099999997},{"$f":"F127+F127*Титул.лист!$P$2","v":4289.8098099999997},4290,{"$f":"I126*0.27+I126","v":4108.5135},{"$f":"I127+I127*Титул.лист!$A$1","v":4519.3648499999999},{"$f":"J127+J127*Титул.лист!$P$2","v":4519.3648499999999},4520,{"$f":"M126*0.27+M126","v":4486.7575999999999},{"$f":"M127+M127*Титул.лист!$A$1","v":4935.43336},{"$f":"N127+N127*Титул.лист!$P$2","v":4935.43336},4940,{"$f":"Q126*0.27+Q126","v":4695.4439999999995},{"$f":"Q127+Q127*Титул.лист!$A$1","v":5164.9883999999993},{"$f":"R127+R127*Титул.лист!$P$2","v":5164.9883999999993},5160,{"$f":"U126*0.27+U126","v":4943.2591000000002},{"$f":"U127+U127*Титул.лист!$A$1","v":5437.5850100000007},{"$f":"V127+V127*Титул.лист!$P$2","v":5437.5850100000007},5440,{"$f":"Y126*0.27+Y126","v":5151.9454999999998},{"$f":"Y127+Y127*Титул.лист!$A$1","v":5667.14005},{"$f":"Z127+Z127*Титул.лист!$P$2","v":5667.14005},5670,{"$f":"AC126*0.27+AC126","v":4512.8433999999997},{"$f":"AC127+AC127*Титул.лист!$A$1","v":4964.1277399999999},{"$f":"AD127+AD127*Титул.лист!$P$2","v":4964.1277399999999},4960,{"$f":"AG126*0.27+AG126","v":4708.4868999999999},{"$f":"AG127+AG127*Титул.лист!$A$1","v":5179.3355899999997},{"$f":"AH127+AH127*Титул.лист!$P$2","v":5179.3355899999997},5180,{"$f":"AK126*0.27+AK126","v":4786.7443000000003},{"$f":"AK127+AK127*Титул.лист!$A$1","v":5265.4187300000003},{"$f":"AL127+AL127*Титул.лист!$P$2","v":5265.4187300000003},5270,6752.491399999999,{"$f":"AO127+AO127*Титул.лист!$A$1","v":7427.7405399999989},{"$f":"AP127+AP127*Титул.лист!$P$2","v":7427.7405399999989},7430,7382.5713999999998,{"$f":"AS127+AS127*Титул.лист!$A$1","v":8120.8285399999995},{"$f":"AT127+AT127*Титул.лист!$P$2","v":8120.8285399999995},8120,6305.7073999999993,{"$f":"AW127+AW127*Титул.лист!$A$1","v":6936.2781399999994},{"$f":"AX127+AX127*Титул.лист!$P$2","v":6936.2781399999994},6940,7456.2034000000003,{"$f":"BA127+BA127*Титул.лист!$A$1","v":8201.8237399999998},{"$f":"BB127+BB127*Титул.лист!$P$2","v":8201.8237399999998},8200,9645.0034000000014,{"$f":"BE127+BE127*Титул.лист!$A$1","v":10609.503740000002},{"$f":"BF127+BF127*Титул.лист!$P$2","v":10609.503740000002},10610]
[null,"Стол 4ящ метабокс",300,"1009-30м",3080,{"$f":"E128+E128*Титул.лист!$A$1","v":3388},{"$f":"F128+F128*Титул.лист!$P$2","v":3388},3390,3170,{"$f":"I128+I128*Титул.лист!$A$1","v":3487},{"$f":"J128+J128*Титул.лист!$P$2","v":3487},3490,3300,{"$f":"M128+M128*Титул.лист!$A$1","v":3630},{"$f":"N128+N128*Титул.лист!$P$2","v":3630},3630,3390,{"$f":"Q128+Q128*Титул.лист!$A$1","v":3729},{"$f":"R128+R128*Титул.лист!$P$2","v":3729},3730,3470,{"$f":"U128+U128*Титул.лист!$A$1","v":3817},{"$f":"V128+V128*Титул.лист!$P$2","v":3817},3820,3560,{"$f":"Y128+Y128*Титул.лист!$A$1","v":3916},{"$f":"Z128+Z128*Титул.лист!$P$2","v":3916},3920,3300,{"$f":"AC128+AC128*Титул.лист!$A$1","v":3630},{"$f":"AD128+AD128*Титул.лист!$P$2","v":3630},3630,3360,{"$f":"AG128+AG128*Титул.лист!$A$1","v":3696},{"$f":"AH128+AH128*Титул.лист!$P$2","v":3696},3700,3400,{"$f":"AK128+AK128*Титул.лист!$A$1","v":3740},{"$f":"AL128+AL128*Титул.лист!$P$2","v":3740},3740,4139.8680000000004,{"$f":"AO128+AO128*Титул.лист!$A$1","v":4553.8548000000001},{"$f":"AP128+AP128*Титул.лист!$P$2","v":4553.8548000000001},4550,4376.1480000000001,{"$f":"AS128+AS128*Титул.лист!$A$1","v":4813.7628000000004},{"$f":"AT128+AT128*Титул.лист!$P$2","v":4813.7628000000004},4810,3972.3240000000001,{"$f":"AW128+AW128*Титул.лист!$A$1","v":4369.5564000000004},{"$f":"AX128+AX128*Титул.лист!$P$2","v":4369.5564000000004},4370,4403.76,{"$f":"BA128+BA128*Титул.лист!$A$1","v":4844.1360000000004},{"$f":"BB128+BB128*Титул.лист!$P$2","v":4844.1360000000004},4840,5224.5600000000004,{"$f":"BE128+BE128*Титул.лист!$A$1","v":5747.0160000000005},{"$f":"BF128+BF128*Титул.лист!$P$2","v":5747.0160000000005},5750]
[null,null,350,"1009-35м",3240,{"$f":"E129+E129*Титул.лист!$A$1","v":3564},{"$f":"F129+F129*Титул.лист!$P$2","v":3564},3560,3340,{"$f":"I129+I129*Титул.лист!$A$1","v":3674},{"$f":"J129+J129*Титул.лист!$P$2","v":3674},3670,3510,{"$f":"M129+M129*Титул.лист!$A$1","v":3861},{"$f":"N129+N129*Титул.лист!$P$2","v":3861},3860,3610,{"$f":"Q129+Q129*Титул.лист!$A$1","v":3971},{"$f":"R129+R129*Титул.лист!$P$2","v":3971},3970,3710,{"$f":"U129+U129*Титул.лист!$A$1","v":4081},{"$f":"V129+V129*Титул.лист!$P$2","v":4081},4080,3800,{"$f":"Y129+Y129*Титул.лист!$A$1","v":4180},{"$f":"Z129+Z129*Титул.лист!$P$2","v":4180},4180,3510,{"$f":"AC129+AC129*Титул.лист!$A$1","v":3861},{"$f":"AD129+AD129*Титул.лист!$P$2","v":3861},3860,3600,{"$f":"AG129+AG129*Титул.лист!$A$1","v":3960},{"$f":"AH129+AH129*Титул.лист!$P$2","v":3960},3960,3630,{"$f":"AK129+AK129*Титул.лист!$A$1","v":3993},{"$f":"AL129+AL129*Титул.лист!$P$2","v":3993},3990,4489.8459999999995,{"$f":"AO129+AO129*Титул.лист!$A$1","v":4938.8305999999993},{"$f":"AP129+AP129*Титул.лист!$P$2","v":4938.8305999999993},4940,4765.5059999999994,{"$f":"AS129+AS129*Титул.лист!$A$1","v":5242.056599999999},{"$f":"AT129+AT129*Титул.лист!$P$2","v":5242.056599999999},5240,4294.3779999999997,{"$f":"AW129+AW129*Титул.лист!$A$1","v":4723.8157999999994},{"$f":"AX129+AX129*Титул.лист!$P$2","v":4723.8157999999994},4720,4797.72,{"$f":"BA129+BA129*Титул.лист!$A$1","v":5277.4920000000002},{"$f":"BB129+BB129*Титул.лист!$P$2","v":5277.4920000000002},5280,5755.32,{"$f":"BE129+BE129*Титул.лист!$A$1","v":6330.8519999999999},{"$f":"BF129+BF129*Титул.лист!$P$2","v":6330.8519999999999},6330]
[null,null,400,"1009-40м",3400,{"$f":"E130+E130*Титул.лист!$A$1","v":3740},{"$f":"F130+F130*Титул.лист!$P$2","v":3740},3740,3510,{"$f":"I130+I130*Титул.лист!$A$1","v":3861},{"$f":"J130+J130*Титул.лист!$P$2","v":3861},3860,3700,{"$f":"M130+M130*Титул.лист!$A$1","v":4070},{"$f":"N130+N130*Титул.лист!$P$2","v":4070},4070,3800,{"$f":"Q130+Q130*Титул.лист!$A$1","v":4180},{"$f":"R130+R130*Титул.лист!$P$2","v":4180},4180,3910,{"$f":"U130+U130*Титул.лист!$A$1","v":4301},{"$f":"V130+V130*Титул.лист!$P$2","v":4301},4300,4020,{"$f":"Y130+Y130*Титул.лист!$A$1","v":4422},{"$f":"Z130+Z130*Титул.лист!$P$2","v":4422},4420,3690,{"$f":"AC130+AC130*Титул.лист!$A$1","v":4059},{"$f":"AD130+AD130*Титул.лист!$P$2","v":4059},4060,3780,{"$f":"AG130+AG130*Титул.лист!$A$1","v":4158},{"$f":"AH130+AH130*Титул.лист!$P$2","v":4158},4160,3830,{"$f":"AK130+AK130*Титул.лист!$A$1","v":4213},{"$f":"AL130+AL130*Титул.лист!$P$2","v":4213},4210,4809.8239999999996,{"$f":"AO130+AO130*Титул.лист!$A$1","v":5290.8063999999995},{"$f":"AP130+AP130*Титул.лист!$P$2","v":5290.8063999999995},5290,5124.8639999999996,{"$f":"AS130+AS130*Титул.лист!$A$1","v":5637.3503999999994},{"$f":"AT130+AT130*Титул.лист!$P$2","v":5637.3503999999994},5640,4586.4319999999998,{"$f":"AW130+AW130*Титул.лист!$A$1","v":5045.0751999999993},{"$f":"AX130+AX130*Титул.лист!$P$2","v":5045.0751999999993},5050,5161.68,{"$f":"BA130+BA130*Титул.лист!$A$1","v":5677.848},{"$f":"BB130+BB130*Титул.лист!$P$2","v":5677.848},5680,6256.08,{"$f":"BE130+BE130*Титул.лист!$A$1","v":6881.6880000000001},{"$f":"BF130+BF130*Титул.лист!$P$2","v":6881.6880000000001},6880]
[null,null,450,"1009-45м",3540,{"$f":"E131+E131*Титул.лист!$A$1","v":3894},{"$f":"F131+F131*Титул.лист!$P$2","v":3894},3890,3660,{"$f":"I131+I131*Титул.лист!$A$1","v":4026},{"$f":"J131+J131*Титул.лист!$P$2","v":4026},4030,3870,{"$f":"M131+M131*Титул.лист!$A$1","v":4257},{"$f":"N131+N131*Титул.лист!$P$2","v":4257},4260,3990,{"$f":"Q131+Q131*Титул.лист!$A$1","v":4389},{"$f":"R131+R131*Титул.лист!$P$2","v":4389},4390,4130,{"$f":"U131+U131*Титул.лист!$A$1","v":4543},{"$f":"V131+V131*Титул.лист!$P$2","v":4543},4540,4260,{"$f":"Y131+Y131*Титул.лист!$A$1","v":4686},{"$f":"Z131+Z131*Титул.лист!$P$2","v":4686},4690,3890,{"$f":"AC131+AC131*Титул.лист!$A$1","v":4279},{"$f":"AD131+AD131*Титул.лист!$P$2","v":4279},4280,4000,{"$f":"AG131+AG131*Титул.лист!$A$1","v":4400},{"$f":"AH131+AH131*Титул.лист!$P$2","v":4400},4400,4050,{"$f":"AK131+AK131*Титул.лист!$A$1","v":4455},{"$f":"AL131+AL131*Титул.лист!$P$2","v":4455},4460,5149.8019999999997,{"$f":"AO131+AO131*Титул.лист!$A$1","v":5664.7821999999996},{"$f":"AP131+AP131*Титул.лист!$P$2","v":5664.7821999999996},5660,5504.2219999999998,{"$f":"AS131+AS131*Титул.лист!$A$1","v":6054.6441999999997},{"$f":"AT131+AT131*Титул.лист!$P$2","v":6054.6441999999997},6050,4898.4859999999999,{"$f":"AW131+AW131*Титул.лист!$A$1","v":5388.3346000000001},{"$f":"AX131+AX131*Титул.лист!$P$2","v":5388.3346000000001},5390,5545.64,{"$f":"BA131+BA131*Титул.лист!$A$1","v":6100.2040000000006},{"$f":"BB131+BB131*Титул.лист!$P$2","v":6100.2040000000006},6100,6776.84,{"$f":"BE131+BE131*Титул.лист!$A$1","v":7454.5240000000003},{"$f":"BF131+BF131*Титул.лист!$P$2","v":7454.5240000000003},7450]
[null,null,500,"1009-50м",3690,{"$f":"E132+E132*Титул.лист!$A$1","v":4059},{"$f":"F132+F132*Титул.лист!$P$2","v":4059},{"$f":"ROUND(G132,-1)","v":4060},3820,{"$f":"I132+I132*Титул.лист!$A$1","v":4202},{"$f":"J132+J132*Титул.лист!$P$2","v":4202},{"$f":"ROUND(K132,-1)","v":4200},4080,{"$f":"M132+M132*Титул.лист!$A$1","v":4488},{"$f":"N132+N132*Титул.лист!$P$2","v":4488},{"$f":"ROUND(O132,-1)","v":4490},4200,{"$f":"Q132+Q132*Титул.лист!$A$1","v":4620},{"$f":"R132+R132*Титул.лист!$P$2","v":4620},{"$f":"ROUND(S132,-1)","v":4620},4370,{"$f":"U132+U132*Титул.лист!$A$1","v":4807},{"$f":"V132+V132*Титул.лист!$P$2","v":4807},{"$f":"ROUND(W132,-1)","v":4810},4490,{"$f":"Y132+Y132*Титул.лист!$A$1","v":4939},{"$f":"Z132+Z132*Титул.лист!$P$2","v":4939},{"$f":"ROUND(AA132,-1)","v":4940},4070,{"$f":"AC132+AC132*Титул.лист!$A$1","v":4477},{"$f":"AD132+AD132*Титул.лист!$P$2","v":4477},{"$f":"ROUND(AE132,-1)","v":4480},4190,{"$f":"AG132+AG132*Титул.лист!$A$1","v":4609},{"$f":"AH132+AH132*Титул.лист!$P$2","v":4609},{"$f":"ROUND(AI132,-1)","v":4610},4240,{"$f":"AK132+AK132*Титул.лист!$A$1","v":4664},{"$f":"AL132+AL132*Титул.лист!$P$2","v":4664},{"$f":"ROUND(AM132,-1)","v":4660},5469.78,{"$f":"AO132+AO132*Титул.лист!$A$1","v":6016.7579999999998},{"$f":"AP132+AP132*Титул.лист!$P$2","v":6016.7579999999998},{"$f":"ROUND(AQ132,-1)","v":6020},5863.58,{"$f":"AS132+AS132*Титул.лист!$A$1","v":6449.9380000000001},{"$f":"AT132+AT132*Титул.лист!$P$2","v":6449.9380000000001},{"$f":"ROUND(AU132,-1)","v":6450},5190.54,{"$f":"AW132+AW132*Титул.лист!$A$1","v":5709.5940000000001},{"$f":"AX132+AX132*Титул.лист!$P$2","v":5709.5940000000001},{"$f":"ROUND(AY132,-1)","v":5710},5909.6,{"$f":"BA132+BA132*Титул.лист!$A$1","v":6500.56},{"$f":"BB132+BB132*Титул.лист!$P$2","v":6500.56},{"$f":"ROUND(BC132,-1)","v":6500},7277.6,{"$f":"BE132+BE132*Титул.лист!$A$1","v":8005.3600000000006},{"$f":"BF132+BF132*Титул.лист!$P$2","v":8005.3600000000006},{"$f":"ROUND(BG132,-1)","v":8010}]
[null,null,600,"1009-60м",{"$f":"E125+1000","v":3990},{"$f":"E133+E133*Титул.лист!$A$1","v":4389},{"$f":"F133+F133*Титул.лист!$P$2","v":4389},4390,4150,{"$f":"I133+I133*Титул.лист!$A$1","v":4565},{"$f":"J133+J133*Титул.лист!$P$2","v":4565},4570,4440,{"$f":"M133+M133*Титул.лист!$A$1","v":4884},{"$f":"N133+N133*Титул.лист!$P$2","v":4884},4880,4600,{"$f":"Q133+Q133*Титул.лист!$A$1","v":5060},{"$f":"R133+R133*Титул.лист!$P$2","v":5060},5060,4790,{"$f":"U133+U133*Титул.лист!$A$1","v":5269},{"$f":"V133+V133*Титул.лист!$P$2","v":5269},5270,4950,{"$f":"Y133+Y133*Титул.лист!$A$1","v":5445},{"$f":"Z133+Z133*Титул.лист!$P$2","v":5445},5450,4460,{"$f":"AC133+AC133*Титул.лист!$A$1","v":4906},{"$f":"AD133+AD133*Титул.лист!$P$2","v":4906},4910,4610,{"$f":"AG133+AG133*Титул.лист!$A$1","v":5071},{"$f":"AH133+AH133*Титул.лист!$P$2","v":5071},5070,4670,{"$f":"AK133+AK133*Титул.лист!$A$1","v":5137},{"$f":"AL133+AL133*Титул.лист!$P$2","v":5137},5140,6139.7359999999999,{"$f":"AO133+AO133*Титул.лист!$A$1","v":6753.7096000000001},{"$f":"AP133+AP133*Титул.лист!$P$2","v":6753.7096000000001},6750,6612.2960000000003,{"$f":"AS133+AS133*Титул.лист!$A$1","v":7273.5256000000008},{"$f":"AT133+AT133*Титул.лист!$P$2","v":7273.5256000000008},7270,5804.6480000000001,{"$f":"AW133+AW133*Титул.лист!$A$1","v":6385.1127999999999},{"$f":"AX133+AX133*Титул.лист!$P$2","v":6385.1127999999999},6390,6667.52,{"$f":"BA133+BA133*Титул.лист!$A$1","v":7334.2720000000008},{"$f":"BB133+BB133*Титул.лист!$P$2","v":7334.2720000000008},7330,8309.1200000000008,{"$f":"BE133+BE133*Титул.лист!$A$1","v":9140.0320000000011},{"$f":"BF133+BF133*Титул.лист!$P$2","v":9140.0320000000011},9140]
[null,null,700,"1009-70м",4070,{"$f":"E134+E134*Титул.лист!$A$1","v":4477},{"$f":"F134+F134*Титул.лист!$P$2","v":4477},4480,4235,{"$f":"I134+I134*Титул.лист!$A$1","v":4658.5},{"$f":"J134+J134*Титул.лист!$P$2","v":4658.5},4660,4530,{"$f":"M134+M134*Титул.лист!$A$1","v":4983},{"$f":"N134+N134*Титул.лист!$P$2","v":4983},4980,4700,{"$f":"Q134+Q134*Титул.лист!$A$1","v":5170},{"$f":"R134+R134*Титул.лист!$P$2","v":5170},5170,4890,{"$f":"U134+U134*Титул.лист!$A$1","v":5379},{"$f":"V134+V134*Титул.лист!$P$2","v":5379},5380,5060,{"$f":"Y134+Y134*Титул.лист!$A$1","v":5566},{"$f":"Z134+Z134*Титул.лист!$P$2","v":5566},5570,4550,{"$f":"AC134+AC134*Титул.лист!$A$1","v":5005},{"$f":"AD134+AD134*Титул.лист!$P$2","v":5005},5010,4700,{"$f":"AG134+AG134*Титул.лист!$A$1","v":5170},{"$f":"AH134+AH134*Титул.лист!$P$2","v":5170},5170,4770,{"$f":"AK134+AK134*Титул.лист!$A$1","v":5247},{"$f":"AL134+AL134*Титул.лист!$P$2","v":5247},5250,6419.692,{"$f":"AO134+AO134*Титул.лист!$A$1","v":7061.6612000000005},{"$f":"AP134+AP134*Титул.лист!$P$2","v":7061.6612000000005},7060,6971.0119999999997,{"$f":"AS134+AS134*Титул.лист!$A$1","v":7668.1131999999998},{"$f":"AT134+AT134*Титул.лист!$P$2","v":7668.1131999999998},7670,6028.7559999999994,{"$f":"AW134+AW134*Титул.лист!$A$1","v":6631.6315999999997},{"$f":"AX134+AX134*Титул.лист!$P$2","v":6631.6315999999997},6630,7035.4400000000005,{"$f":"BA134+BA134*Титул.лист!$A$1","v":7738.9840000000004},{"$f":"BB134+BB134*Титул.лист!$P$2","v":7738.9840000000004},7740,8950.64,{"$f":"BE134+BE134*Титул.лист!$A$1","v":9845.7039999999997},{"$f":"BF134+BF134*Титул.лист!$P$2","v":9845.7039999999997},9850]
[null,null,800,"1009-80м",{"$f":"E127+1000","v":4899.8271000000004},{"$f":"E135+E135*Титул.лист!$A$1","v":5389.8098100000007},{"$f":"F135+F135*Титул.лист!$P$2","v":5389.8098100000007},5390,{"$f":"I127+1000","v":5108.5135},{"$f":"I135+I135*Титул.лист!$A$1","v":5619.3648499999999},{"$f":"J135+J135*Титул.лист!$P$2","v":5619.3648499999999},5620,{"$f":"M127+1000","v":5486.7575999999999},{"$f":"M135+M135*Титул.лист!$A$1","v":6035.43336},{"$f":"N135+N135*Титул.лист!$P$2","v":6035.43336},6040,{"$f":"Q127+1000","v":5695.4439999999995},{"$f":"Q135+Q135*Титул.лист!$A$1","v":6264.9883999999993},{"$f":"R135+R135*Титул.лист!$P$2","v":6264.9883999999993},6260,{"$f":"U127+1000","v":5943.2591000000002},{"$f":"U135+U135*Титул.лист!$A$1","v":6537.5850100000007},{"$f":"V135+V135*Титул.лист!$P$2","v":6537.5850100000007},6540,{"$f":"Y127+1000","v":6151.9454999999998},{"$f":"Y135+Y135*Титул.лист!$A$1","v":6767.14005},{"$f":"Z135+Z135*Титул.лист!$P$2","v":6767.14005},6770,{"$f":"AC127+1000","v":5512.8433999999997},{"$f":"AC135+AC135*Титул.лист!$A$1","v":6064.1277399999999},{"$f":"AD135+AD135*Титул.лист!$P$2","v":6064.1277399999999},6060,{"$f":"AG127+1000","v":5708.4868999999999},{"$f":"AG135+AG135*Титул.лист!$A$1","v":6279.3355899999997},{"$f":"AH135+AH135*Титул.лист!$P$2","v":6279.3355899999997},6280,{"$f":"AK127+1000","v":5786.7443000000003},{"$f":"AK135+AK135*Титул.лист!$A$1","v":6365.4187300000003},{"$f":"AL135+AL135*Титул.лист!$P$2","v":6365.4187300000003},6370,6793.0679999999993,{"$f":"AO135+AO135*Титул.лист!$A$1","v":7472.3747999999996},{"$f":"AP135+AP135*Титул.лист!$P$2","v":7472.3747999999996},7470,7423.1480000000001,{"$f":"AS135+AS135*Титул.лист!$A$1","v":8165.4628000000002},{"$f":"AT135+AT135*Титул.лист!$P$2","v":8165.4628000000002},8170,6346.2839999999997,{"$f":"AW135+AW135*Титул.лист!$A$1","v":6980.9123999999993},{"$f":"AX135+AX135*Титул.лист!$P$2","v":6980.9123999999993},6980,7496.7800000000007,{"$f":"BA135+BA135*Титул.лист!$A$1","v":8246.4580000000005},{"$f":"BB135+BB135*Титул.лист!$P$2","v":8246.4580000000005},8250,9685.5800000000017,{"$f":"BE135+BE135*Титул.лист!$A$1","v":10654.138000000003},{"$f":"BF135+BF135*Титул.лист!$P$2","v":10654.138000000003},10650]
[null,"Стол 4ящ тандембокс",300,"1009-30т",{"$f":"E120+2000*4","v":10080},{"$f":"E136+E136*Титул.лист!$A$1","v":11088},{"$f":"F136+F136*Титул.лист!$P$2","v":11088},11090,{"$f":"I120+2000*4","v":10170},{"$f":"I136+I136*Титул.лист!$A$1","v":11187},{"$f":"J136+J136*Титул.лист!$P$2","v":11187},11190,{"$f":"M120+2000*4","v":10300},{"$f":"M136+M136*Титул.лист!$A$1","v":11330},{"$f":"N136+N136*Титул.лист!$P$2","v":11330},11330,{"$f":"Q120+2000*4","v":10390},{"$f":"Q136+Q136*Титул.лист!$A$1","v":11429},{"$f":"R136+R136*Титул.лист!$P$2","v":11429},11430,{"$f":"U120+2000*4","v":10470},{"$f":"U136+U136*Титул.лист!$A$1","v":11517},{"$f":"V136+V136*Титул.лист!$P$2","v":11517},11520,{"$f":"Y120+2000*4","v":10560},{"$f":"Y136+Y136*Титул.лист!$A$1","v":11616},{"$f":"Z136+Z136*Титул.лист!$P$2","v":11616},11620,{"$f":"AC120+2000*4","v":10300},{"$f":"AC136+AC136*Титул.лист!$A$1","v":11330},{"$f":"AD136+AD136*Титул.лист!$P$2","v":11330},11330,{"$f":"AG120+2000*4","v":10360},{"$f":"AG136+AG136*Титул.лист!$A$1","v":11396},{"$f":"AH136+AH136*Титул.лист!$P$2","v":11396},11400,{"$f":"AK120+2000*4","v":10400},{"$f":"AK136+AK136*Титул.лист!$A$1","v":11440},{"$f":"AL136+AL136*Титул.лист!$P$2","v":11440},11440,11139.868,{"$f":"AO136+AO136*Титул.лист!$A$1","v":12253.854800000001},{"$f":"AP136+AP136*Титул.лист!$P$2","v":12253.854800000001},12250,11376.147999999999,{"$f":"AS136+AS136*Титул.лист!$A$1","v":12513.762799999999},{"$f":"AT136+AT136*Титул.лист!$P$2","v":12513.762799999999},12510,10972.324000000001,{"$f":"AW136+AW136*Титул.лист!$A$1","v":12069.556400000001},{"$f":"AX136+AX136*Титул.лист!$P$2","v":12069.556400000001},12070,11403.76,{"$f":"BA136+BA136*Титул.лист!$A$1","v":12544.136},{"$f":"BB136+BB136*Титул.лист!$P$2","v":12544.136},12540,12224.56,{"$f":"BE136+BE136*Титул.лист!$A$1","v":13447.016},{"$f":"BF136+BF136*Титул.лист!$P$2","v":13447.016},13450]
[null,null,350,"1009-35т",10240,{"$f":"E137+E137*Титул.лист!$A$1","v":11264},{"$f":"F137+F137*Титул.лист!$P$2","v":11264},11260,10340,{"$f":"I137+I137*Титул.лист!$A$1","v":11374},{"$f":"J137+J137*Титул.лист!$P$2","v":11374},11370,10510,{"$f":"M137+M137*Титул.лист!$A$1","v":11561},{"$f":"N137+N137*Титул.лист!$P$2","v":11561},11560,10610,{"$f":"Q137+Q137*Титул.лист!$A$1","v":11671},{"$f":"R137+R137*Титул.лист!$P$2","v":11671},11670,10710,{"$f":"U137+U137*Титул.лист!$A$1","v":11781},{"$f":"V137+V137*Титул.лист!$P$2","v":11781},11780,10800,{"$f":"Y137+Y137*Титул.лист!$A$1","v":11880},{"$f":"Z137+Z137*Титул.лист!$P$2","v":11880},11880,10510,{"$f":"AC137+AC137*Титул.лист!$A$1","v":11561},{"$f":"AD137+AD137*Титул.лист!$P$2","v":11561},11560,10600,{"$f":"AG137+AG137*Титул.лист!$A$1","v":11660},{"$f":"AH137+AH137*Титул.лист!$P$2","v":11660},11660,10630,{"$f":"AK137+AK137*Титул.лист!$A$1","v":11693},{"$f":"AL137+AL137*Титул.лист!$P$2","v":11693},11690,11489.846,{"$f":"AO137+AO137*Титул.лист!$A$1","v":12638.830599999999},{"$f":"AP137+AP137*Титул.лист!$P$2","v":12638.830599999999},12640,11765.505999999999,{"$f":"AS137+AS137*Титул.лист!$A$1","v":12942.0566},{"$f":"AT137+AT137*Титул.лист!$P$2","v":12942.0566},12940,11294.378000000001,{"$f":"AW137+AW137*Титул.лист!$A$1","v":12423.8158},{"$f":"AX137+AX137*Титул.лист!$P$2","v":12423.8158},12420,11797.72,{"$f":"BA137+BA137*Титул.лист!$A$1","v":12977.491999999998},{"$f":"BB137+BB137*Титул.лист!$P$2","v":12977.491999999998},12980,12755.32,{"$f":"BE137+BE137*Титул.лист!$A$1","v":14030.851999999999},{"$f":"BF137+BF137*Титул.лист!$P$2","v":14030.851999999999},14030]
[null,null,400,"1009-40т",10400,{"$f":"E138+E138*Титул.лист!$A$1","v":11440},{"$f":"F138+F138*Титул.лист!$P$2","v":11440},11440,10510,{"$f":"I138+I138*Титул.лист!$A$1","v":11561},{"$f":"J138+J138*Титул.лист!$P$2","v":11561},11560,10700,{"$f":"M138+M138*Титул.лист!$A$1","v":11770},{"$f":"N138+N138*Титул.лист!$P$2","v":11770},11770,10800,{"$f":"Q138+Q138*Титул.лист!$A$1","v":11880},{"$f":"R138+R138*Титул.лист!$P$2","v":11880},11880,10910,{"$f":"U138+U138*Титул.лист!$A$1","v":12001},{"$f":"V138+V138*Титул.лист!$P$2","v":12001},12000,11020,{"$f":"Y138+Y138*Титул.лист!$A$1","v":12122},{"$f":"Z138+Z138*Титул.лист!$P$2","v":12122},12120,10690,{"$f":"AC138+AC138*Титул.лист!$A$1","v":11759},{"$f":"AD138+AD138*Титул.лист!$P$2","v":11759},11760,10780,{"$f":"AG138+AG138*Титул.лист!$A$1","v":11858},{"$f":"AH138+AH138*Титул.лист!$P$2","v":11858},11860,10830,{"$f":"AK138+AK138*Титул.лист!$A$1","v":11913},{"$f":"AL138+AL138*Титул.лист!$P$2","v":11913},11910,11809.824000000001,{"$f":"AO138+AO138*Титул.лист!$A$1","v":12990.806400000001},{"$f":"AP138+AP138*Титул.лист!$P$2","v":12990.806400000001},12990,12124.864,{"$f":"AS138+AS138*Титул.лист!$A$1","v":13337.350399999999},{"$f":"AT138+AT138*Титул.лист!$P$2","v":13337.350399999999},13340,11586.432000000001,{"$f":"AW138+AW138*Титул.лист!$A$1","v":12745.075200000001},{"$f":"AX138+AX138*Титул.лист!$P$2","v":12745.075200000001},12750,12161.68,{"$f":"BA138+BA138*Титул.лист!$A$1","v":13377.848},{"$f":"BB138+BB138*Титул.лист!$P$2","v":13377.848},13380,13256.08,{"$f":"BE138+BE138*Титул.лист!$A$1","v":14581.688},{"$f":"BF138+BF138*Титул.лист!$P$2","v":14581.688},14580]
[null,null,450,"1009-45т",10540,{"$f":"E139+E139*Титул.лист!$A$1","v":11594},{"$f":"F139+F139*Титул.лист!$P$2","v":11594},11590,10660,{"$f":"I139+I139*Титул.лист!$A$1","v":11726},{"$f":"J139+J139*Титул.лист!$P$2","v":11726},11730,10870,{"$f":"M139+M139*Титул.лист!$A$1","v":11957},{"$f":"N139+N139*Титул.лист!$P$2","v":11957},11960,10990,{"$f":"Q139+Q139*Титул.лист!$A$1","v":12089},{"$f":"R139+R139*Титул.лист!$P$2","v":12089},12090,11130,{"$f":"U139+U139*Титул.лист!$A$1","v":12243},{"$f":"V139+V139*Титул.лист!$P$2","v":12243},12240,11260,{"$f":"Y139+Y139*Титул.лист!$A$1","v":12386},{"$f":"Z139+Z139*Титул.лист!$P$2","v":12386},12390,10890,{"$f":"AC139+AC139*Титул.лист!$A$1","v":11979},{"$f":"AD139+AD139*Титул.лист!$P$2","v":11979},11980,11000,{"$f":"AG139+AG139*Титул.лист!$A$1","v":12100},{"$f":"AH139+AH139*Титул.лист!$P$2","v":12100},12100,11050,{"$f":"AK139+AK139*Титул.лист!$A$1","v":12155},{"$f":"AL139+AL139*Титул.лист!$P$2","v":12155},12160,12149.802,{"$f":"AO139+AO139*Титул.лист!$A$1","v":13364.7822},{"$f":"AP139+AP139*Титул.лист!$P$2","v":13364.7822},13360,12504.222,{"$f":"AS139+AS139*Титул.лист!$A$1","v":13754.644199999999},{"$f":"AT139+AT139*Титул.лист!$P$2","v":13754.644199999999},13750,11898.486000000001,{"$f":"AW139+AW139*Титул.лист!$A$1","v":13088.3346},{"$f":"AX139+AX139*Титул.лист!$P$2","v":13088.3346},13090,12545.64,{"$f":"BA139+BA139*Титул.лист!$A$1","v":13800.204},{"$f":"BB139+BB139*Титул.лист!$P$2","v":13800.204},13800,13776.84,{"$f":"BE139+BE139*Титул.лист!$A$1","v":15154.524000000001},{"$f":"BF139+BF139*Титул.лист!$P$2","v":15154.524000000001},15150]
[null,null,500,"1009-50т",10690,{"$f":"E140+E140*Титул.лист!$A$1","v":11759},{"$f":"F140+F140*Титул.лист!$P$2","v":11759},11760,10820,{"$f":"I140+I140*Титул.лист!$A$1","v":11902},{"$f":"J140+J140*Титул.лист!$P$2","v":11902},11900,11080,{"$f":"M140+M140*Титул.лист!$A$1","v":12188},{"$f":"N140+N140*Титул.лист!$P$2","v":12188},12190,11200,{"$f":"Q140+Q140*Титул.лист!$A$1","v":12320},{"$f":"R140+R140*Титул.лист!$P$2","v":12320},12320,11370,{"$f":"U140+U140*Титул.лист!$A$1","v":12507},{"$f":"V140+V140*Титул.лист!$P$2","v":12507},12510,11490,{"$f":"Y140+Y140*Титул.лист!$A$1","v":12639},{"$f":"Z140+Z140*Титул.лист!$P$2","v":12639},12640,11070,{"$f":"AC140+AC140*Титул.лист!$A$1","v":12177},{"$f":"AD140+AD140*Титул.лист!$P$2","v":12177},12180,11190,{"$f":"AG140+AG140*Титул.лист!$A$1","v":12309},{"$f":"AH140+AH140*Титул.лист!$P$2","v":12309},12310,11240,{"$f":"AK140+AK140*Титул.лист!$A$1","v":12364},{"$f":"AL140+AL140*Титул.лист!$P$2","v":12364},12360,12469.78,{"$f":"AO140+AO140*Титул.лист!$A$1","v":13716.758000000002},{"$f":"AP140+AP140*Титул.лист!$P$2","v":13716.758000000002},13720,12863.58,{"$f":"AS140+AS140*Титул.лист!$A$1","v":14149.938},{"$f":"AT140+AT140*Титул.лист!$P$2","v":14149.938},14150,12190.54,{"$f":"AW140+AW140*Титул.лист!$A$1","v":13409.594000000001},{"$f":"AX140+AX140*Титул.лист!$P$2","v":13409.594000000001},13410,12909.6,{"$f":"BA140+BA140*Титул.лист!$A$1","v":14200.560000000001},{"$f":"BB140+BB140*Титул.лист!$P$2","v":14200.560000000001},14200,14277.6,{"$f":"BE140+BE140*Титул.лист!$A$1","v":15705.36},{"$f":"BF140+BF140*Титул.лист!$P$2","v":15705.36},15710]
[null,null,600,"1009-60т",10990,{"$f":"E141+E141*Титул.лист!$A$1","v":12089},{"$f":"F141+F141*Титул.лист!$P$2","v":12089},12090,11150,{"$f":"I141+I141*Титул.лист!$A$1","v":12265},{"$f":"J141+J141*Титул.лист!$P$2","v":12265},12270,11440,{"$f":"M141+M141*Титул.лист!$A$1","v":12584},{"$f":"N141+N141*Титул.лист!$P$2","v":12584},12580,11600,{"$f":"Q141+Q141*Титул.лист!$A$1","v":12760},{"$f":"R141+R141*Титул.лист!$P$2","v":12760},12760,11790,{"$f":"U141+U141*Титул.лист!$A$1","v":12969},{"$f":"V141+V141*Титул.лист!$P$2","v":12969},12970,11950,{"$f":"Y141+Y141*Титул.лист!$A$1","v":13145},{"$f":"Z141+Z141*Титул.лист!$P$2","v":13145},13150,11460,{"$f":"AC141+AC141*Титул.лист!$A$1","v":12606},{"$f":"AD141+AD141*Титул.лист!$P$2","v":12606},12610,11610,{"$f":"AG141+AG141*Титул.лист!$A$1","v":12771},{"$f":"AH141+AH141*Титул.лист!$P$2","v":12771},12770,11670,{"$f":"AK141+AK141*Титул.лист!$A$1","v":12837},{"$f":"AL141+AL141*Титул.лист!$P$2","v":12837},12840,13139.736000000001,{"$f":"AO141+AO141*Титул.лист!$A$1","v":14453.709600000002},{"$f":"AP141+AP141*Титул.лист!$P$2","v":14453.709600000002},14450,13612.296,{"$f":"AS141+AS141*Титул.лист!$A$1","v":14973.525600000001},{"$f":"AT141+AT141*Титул.лист!$P$2","v":14973.525600000001},14970,12804.647999999999,{"$f":"AW141+AW141*Титул.лист!$A$1","v":14085.112799999999},{"$f":"AX141+AX141*Титул.лист!$P$2","v":14085.112799999999},14090,13667.52,{"$f":"BA141+BA141*Титул.лист!$A$1","v":15034.272000000001},{"$f":"BB141+BB141*Титул.лист!$P$2","v":15034.272000000001},15030,15309.12,{"$f":"BE141+BE141*Титул.лист!$A$1","v":16840.031999999999},{"$f":"BF141+BF141*Титул.лист!$P$2","v":16840.031999999999},16840]
[null,null,700,"1009-70т",11070.73,{"$f":"E142+E142*Титул.лист!$A$1","v":12177.803},{"$f":"F142+F142*Титул.лист!$P$2","v":12177.803},12180,11235.05,{"$f":"I142+I142*Титул.лист!$A$1","v":12358.554999999998},{"$f":"J142+J142*Титул.лист!$P$2","v":12358.554999999998},12360,11532.880000000001,{"$f":"M142+M142*Титул.лист!$A$1","v":12686.168000000001},{"$f":"N142+N142*Титул.лист!$P$2","v":12686.168000000001},12690,11697.2,{"$f":"Q142+Q142*Титул.лист!$A$1","v":12866.92},{"$f":"R142+R142*Титул.лист!$P$2","v":12866.92},12870,11892.33,{"$f":"U142+U142*Титул.лист!$A$1","v":13081.563},{"$f":"V142+V142*Титул.лист!$P$2","v":13081.563},13080,12056.65,{"$f":"Y142+Y142*Титул.лист!$A$1","v":13262.314999999999},{"$f":"Z142+Z142*Титул.лист!$P$2","v":13262.314999999999},13260,11553.42,{"$f":"AC142+AC142*Титул.лист!$A$1","v":12708.762000000001},{"$f":"AD142+AD142*Титул.лист!$P$2","v":12708.762000000001},12710,11707.47,{"$f":"AG142+AG142*Титул.лист!$A$1","v":12878.216999999999},{"$f":"AH142+AH142*Титул.лист!$P$2","v":12878.216999999999},12880,11769.09,{"$f":"AK142+AK142*Титул.лист!$A$1","v":12945.999},{"$f":"AL142+AL142*Титул.лист!$P$2","v":12945.999},12950,13513.112000000001,{"$f":"AO142+AO142*Титул.лист!$A$1","v":14864.423200000001},{"$f":"AP142+AP142*Титул.лист!$P$2","v":14864.423200000001},14860,14064.432000000001,{"$f":"AS142+AS142*Титул.лист!$A$1","v":15470.8752},{"$f":"AT142+AT142*Титул.лист!$P$2","v":15470.8752},15470,13122.175999999999,{"$f":"AW142+AW142*Титул.лист!$A$1","v":14434.393599999999},{"$f":"AX142+AX142*Титул.лист!$P$2","v":14434.393599999999},14430,14128.86,{"$f":"BA142+BA142*Титул.лист!$A$1","v":15541.746000000001},{"$f":"BB142+BB142*Титул.лист!$P$2","v":15541.746000000001},15540,16044.060000000001,{"$f":"BE142+BE142*Титул.лист!$A$1","v":17648.466},{"$f":"BF142+BF142*Титул.лист!$P$2","v":17648.466},17650]
[null,null,800,"1009-80т",11899.8271,{"$f":"E143+E143*Титул.лист!$A$1","v":13089.809810000001},{"$f":"F143+F143*Титул.лист!$P$2","v":13089.809810000001},13090,12108.513500000001,{"$f":"I143+I143*Титул.лист!$A$1","v":13319.364850000002},{"$f":"J143+J143*Титул.лист!$P$2","v":13319.364850000002},13320,12486.757600000001,{"$f":"M143+M143*Титул.лист!$A$1","v":13735.433360000001},{"$f":"N143+N143*Титул.лист!$P$2","v":13735.433360000001},13740,12695.444,{"$f":"Q143+Q143*Титул.лист!$A$1","v":13964.9884},{"$f":"R143+R143*Титул.лист!$P$2","v":13964.9884},13960,12943.259099999999,{"$f":"U143+U143*Титул.лист!$A$1","v":14237.585009999999},{"$f":"V143+V143*Титул.лист!$P$2","v":14237.585009999999},14240,13151.9455,{"$f":"Y143+Y143*Титул.лист!$A$1","v":14467.14005},{"$f":"Z143+Z143*Титул.лист!$P$2","v":14467.14005},14470,12512.8434,{"$f":"AC143+AC143*Титул.лист!$A$1","v":13764.12774},{"$f":"AD143+AD143*Титул.лист!$P$2","v":13764.12774},13760,12708.4869,{"$f":"AG143+AG143*Титул.лист!$A$1","v":13979.335590000001},{"$f":"AH143+AH143*Титул.лист!$P$2","v":13979.335590000001},13980,12786.7443,{"$f":"AK143+AK143*Титул.лист!$A$1","v":14065.418730000001},{"$f":"AL143+AL143*Титул.лист!$P$2","v":14065.418730000001},14070,14752.491399999999,{"$f":"AO143+AO143*Титул.лист!$A$1","v":16227.740539999999},{"$f":"AP143+AP143*Титул.лист!$P$2","v":16227.740539999999},16230,15382.571400000001,{"$f":"AS143+AS143*Титул.лист!$A$1","v":16920.828540000002},{"$f":"AT143+AT143*Титул.лист!$P$2","v":16920.828540000002},16920,14305.707399999999,{"$f":"AW143+AW143*Титул.лист!$A$1","v":15736.278139999999},{"$f":"AX143+AX143*Титул.лист!$P$2","v":15736.278139999999},15740,15456.2034,{"$f":"BA143+BA143*Титул.лист!$A$1","v":17001.82374},{"$f":"BB143+BB143*Титул.лист!$P$2","v":17001.82374},17000,17645.003400000001,{"$f":"BE143+BE143*Титул.лист!$A$1","v":19409.50374},{"$f":"BF143+BF143*Титул.лист!$P$2","v":19409.50374},19410]
["Столы торцевые"]
[null,"Бутылочница",150,"1010-15",2250,{"$f":"E145+E145*Титул.лист!$A$1","v":2475},{"$f":"F145+F145*Титул.лист!$P$2","v":2475},2480,2300,{"$f":"I145+I145*Титул.лист!$A$1","v":2530},{"$f":"J145+J145*Титул.лист!$P$2","v":2530},2530,2400,{"$f":"M145+M145*Титул.лист!$A$1","v":2640},{"$f":"N145+N145*Титул.лист!$P$2","v":2640},2640,2450,{"$f":"Q145+Q145*Титул.лист!$A$1","v":2695},{"$f":"R145+R145*Титул.лист!$P$2","v":2695},2700,2500,{"$f":"U145+U145*Титул.лист!$A$1","v":2750},{"$f":"V145+V145*Титул.лист!$P$2","v":2750},2750,2560,{"$f":"Y145+Y145*Титул.лист!$A$1","v":2816},{"$f":"Z145+Z145*Титул.лист!$P$2","v":2816},2820,2400,{"$f":"AC145+AC145*Титул.лист!$A$1","v":2640},{"$f":"AD145+AD145*Титул.лист!$P$2","v":2640},2640,2460,{"$f":"AG145+AG145*Титул.лист!$A$1","v":2706},{"$f":"AH145+AH145*Титул.лист!$P$2","v":2706},2710,2490,{"$f":"AK145+AK145*Титул.лист!$A$1","v":2739},{"$f":"AL145+AL145*Титул.лист!$P$2","v":2739},2740,2819.9340000000002,{"$f":"AO145+AO145*Титул.лист!$A$1","v":3101.9274},{"$f":"AP145+AP145*Титул.лист!$P$2","v":3101.9274},3100,2938.0740000000001,{"$f":"AS145+AS145*Титул.лист!$A$1","v":3231.8814000000002},{"$f":"AT145+AT145*Титул.лист!$P$2","v":3231.8814000000002},3230,2736.1619999999998,{"$f":"AW145+AW145*Титул.лист!$A$1","v":3009.7781999999997},{"$f":"AX145+AX145*Титул.лист!$P$2","v":3009.7781999999997},3010,2951.88,{"$f":"BA145+BA145*Титул.лист!$A$1","v":3247.0680000000002},{"$f":"BB145+BB145*Титул.лист!$P$2","v":3247.0680000000002},3250,3362.28,{"$f":"BE145+BE145*Титул.лист!$A$1","v":3698.5080000000003},{"$f":"BF145+BF145*Титул.лист!$P$2","v":3698.5080000000003},3700]
[null,null,200,"1010-20",{"$f":"E24+1200","v":2290},{"$f":"E146+E146*Титул.лист!$A$1","v":2519},{"$f":"F146+F146*Титул.лист!$P$2","v":2519},2520,{"$f":"I24+1200","v":2330},{"$f":"I146+I146*Титул.лист!$A$1","v":2563},{"$f":"J146+J146*Титул.лист!$P$2","v":2563},2560,{"$f":"M24+1200","v":2450},{"$f":"M146+M146*Титул.лист!$A$1","v":2695},{"$f":"N146+N146*Титул.лист!$P$2","v":2695},2700,{"$f":"Q24+1200","v":2500},{"$f":"Q146+Q146*Титул.лист!$A$1","v":2750},{"$f":"R146+R146*Титул.лист!$P$2","v":2750},2750,{"$f":"U24+1200","v":2560},{"$f":"U146+U146*Титул.лист!$A$1","v":2816},{"$f":"V146+V146*Титул.лист!$P$2","v":2816},2820,{"$f":"Y24+1200","v":2610},{"$f":"Y146+Y146*Титул.лист!$A$1","v":2871},{"$f":"Z146+Z146*Титул.лист!$P$2","v":2871},2870,{"$f":"AC24+1200","v":2450},{"$f":"AC146+AC146*Титул.лист!$A$1","v":2695},{"$f":"AD146+AD146*Титул.лист!$P$2","v":2695},2700,2510,{"$f":"AG146+AG146*Титул.лист!$A$1","v":2761},{"$f":"AH146+AH146*Титул.лист!$P$2","v":2761},2760,2530,{"$f":"AK146+AK146*Титул.лист!$A$1","v":2783},{"$f":"AL146+AL146*Титул.лист!$P$2","v":2783},2780,3009.9119999999998,{"$f":"AO146+AO146*Титул.лист!$A$1","v":3310.9031999999997},{"$f":"AP146+AP146*Титул.лист!$P$2","v":3310.9031999999997},3310,3167.4319999999998,{"$f":"AS146+AS146*Титул.лист!$A$1","v":3484.1751999999997},{"$f":"AT146+AT146*Титул.лист!$P$2","v":3484.1751999999997},3480,2898.2159999999999,{"$f":"AW146+AW146*Титул.лист!$A$1","v":3188.0375999999997},{"$f":"AX146+AX146*Титул.лист!$P$2","v":3188.0375999999997},3190,3185.84,{"$f":"BA146+BA146*Титул.лист!$A$1","v":3504.424},{"$f":"BB146+BB146*Титул.лист!$P$2","v":3504.424},3500,3733.04,{"$f":"BE146+BE146*Титул.лист!$A$1","v":4106.3440000000001},{"$f":"BF146+BF146*Титул.лист!$P$2","v":4106.3440000000001},4110]
[null,"Стол-колонна h=720   (рекомендованно испльзовать с духовым шкафом  )",50,"1021-5",null,{"$f":"E147+E147*Титул.лист!$A$1","v":0},{"$f":"F147+F147*Титул.лист!$P$2","v":0},null,null,null,null,null,null,null,null,null,null,null,null,null,null,null,null,null,null,null,null,null,null,null,null,null,null,null,null,null,null,null,null,null,370,{"$f":"AO147+AO147*Титул.лист!$A$1","v":407},{"$f":"AP147+AP147*Титул.лист!$P$2","v":407},410,370,{"$f":"AS147+AS147*Титул.лист!$A$1","v":407},{"$f":"AT147+AT147*Титул.лист!$P$2","v":407},410,null,{"$f":"AW147+AW147*Титул.лист!$A$1","v":0},{"$f":"AX147+AX147*Титул.лист!$P$2","v":0}]
[null,"Стол-колонна h=720  (рекомендованно испльзовать с духовым шкафом  )БЕЗ ФАСАДА",100,null,null,{"$f":"E148+E148*Титул.лист!$A$1","v":0},{"$f":"F148+F148*Титул.лист!$P$2","v":0},null,null,null,null,null,null,null,null,null,null,null,null,null,null,null,null,null,null,null,null,null,null,null,null,null,null,null,null,null,null,null,null,null,500,{"$f":"AO148+AO148*Титул.лист!$A$1","v":550},{"$f":"AP148+AP148*Титул.лист!$P$2","v":550},550,500,{"$f":"AS148+AS148*Титул.лист!$A$1","v":550},{"$f":"AT148+AT148*Титул.лист!$P$2","v":550},550,null,{"$f":"AW148+AW148*Титул.лист!$A$1","v":0},{"$f":"AX148+AX148*Титул.лист!$P$2","v":0}]
[null,"Стол-колонна h=720  (рекомендованно испльзовать с духовым шкафом  )БЕЗ ФАСАДА",150,null,null,{"$f":"E149+E149*Титул.лист!$A$1","v":0},{"$f":"F149+F149*Титул.лист!$P$2","v":0},null,null,null,null,null,null,null,null,null,null,null,null,null,null,null,null,null,null,null,null,null,null,null,null,null,null,null,null,null,null,null,null,null,750,{"$f":"AO149+AO149*Титул.лист!$A$1","v":825},{"$f":"AP149+AP149*Титул.лист!$P$2","v":825},830,750,{"$f":"AS149+AS149*Титул.лист!$A$1","v":825},{"$f":"AT149+AT149*Титул.лист!$P$2","v":825},830,null,{"$f":"AW149+AW149*Титул.лист!$A$1","v":0},{"$f":"AX149+AX149*Титул.лист!$P$2","v":0}]
[null,"Стол-колонна h=720  (рекомендованно испльзовать с духовым шкафом  )БЕЗ ФАСАДА",150,null,null,{"$f":"E150+E150*Титул.лист!$A$1","v":0},{"$f":"F150+F150*Титул.лист!$P$2","v":0},null,null,null,null,null,null,null,null,null,null,null,null,null,null,null,null,null,null,null,null,null,null,null,null,null,null,null,null,null,null,null,null,null,2550,{"$f":"AO150+AO150*Титул.лист!$A$1","v":2805},{"$f":"AP150+AP150*Титул.лист!$P$2","v":2805},2810,2550,{"$f":"AS150+AS150*Титул.лист!$A$1","v":2805},{"$f":"AT150+AT150*Титул.лист!$P$2","v":2805},2810,null,{"$f":"AW150+AW150*Титул.лист!$A$1","v":0},{"$f":"AX150+AX150*Титул.лист!$P$2","v":0}]
[null,"Стол-колонна h=720  (рекомендованно испльзовать с духовым шкафом  )БЕЗ ФАСАДА, с бутылочницей с доводчиком",600,"1020-60",{"$f":"E71-E71*0.08","v":2502.4},{"$f":"E151+E151*Титул.лист!$A$1","v":2752.6400000000003},{"$f":"F151+F151*Титул.лист!$P$2","v":2752.6400000000003},2750,{"$f":"I71-I71*0.08","v":2576},{"$f":"I151+I151*Титул.лист!$A$1","v":2833.6},{"$f":"J151+J151*Титул.лист!$P$2","v":2833.6},2830,{"$f":"M71-M71*0.08","v":2925.6},{"$f":"M151+M151*Титул.лист!$A$1","v":3218.16},{"$f":"N151+N151*Титул.лист!$P$2","v":3218.16},3220,{"$f":"Q71-Q71*0.08","v":3008.4},{"$f":"Q151+Q151*Титул.лист!$A$1","v":3309.2400000000002},{"$f":"R151+R151*Титул.лист!$P$2","v":3309.2400000000002},3310,{"$f":"U71-U71*0.08","v":3238.4000000000005},{"$f":"U151+U151*Титул.лист!$A$1","v":3562.2400000000007},{"$f":"V151+V151*Титул.лист!$P$2","v":3562.2400000000007},3560,{"$f":"Y71-Y71*0.08","v":3321.2},{"$f":"Y151+Y151*Титул.лист!$A$1","v":3653.3199999999997},{"$f":"Z151+Z151*Титул.лист!$P$2","v":3653.3199999999997},3650,{"$f":"AC71-AC71*0.08","v":2944},{"$f":"AC151+AC151*Титул.лист!$A$1","v":3238.4},{"$f":"AD151+AD151*Титул.лист!$P$2","v":3238.4},3240,3082,{"$f":"AG151+AG151*Титул.лист!$A$1","v":3390.2},{"$f":"AH151+AH151*Титул.лист!$P$2","v":3390.2},3390,3137.2000000000003,{"$f":"AK151+AK151*Титул.лист!$A$1","v":3450.92},{"$f":"AL151+AL151*Титул.лист!$P$2","v":3450.92},3450,3779.1759999999999,{"$f":"AO151+AO151*Титул.лист!$A$1","v":4157.0936000000002},{"$f":"AP151+AP151*Титул.лист!$P$2","v":4157.0936000000002},4160,4014.136,{"$f":"AS151+AS151*Титул.лист!$A$1","v":4415.5496000000003},{"$f":"AT151+AT151*Титул.лист!$P$2","v":4415.5496000000003},4420,3612.5680000000002,{"$f":"AW151+AW151*Титул.лист!$A$1","v":3973.8248000000003},{"$f":"AX151+AX151*Титул.лист!$P$2","v":3973.8248000000003},3970,4035.4960000000001,{"$f":"BA151+BA151*Титул.лист!$A$1","v":4439.0456000000004},{"$f":"BB151+BB151*Титул.лист!$P$2","v":4439.0456000000004},4440,4847.1759999999995,{"$f":"BE151+BE151*Титул.лист!$A$1","v":5331.8935999999994},{"$f":"BF151+BF151*Титул.лист!$P$2","v":5331.8935999999994},5330]
[null,"Стол с открытой секцией для СВ-Печи.\n Метабокс",600,"1020-60м",{"$f":"E151+350","v":2852.4},{"$f":"E152+E152*Титул.лист!$A$1","v":3137.6400000000003},{"$f":"F152+F152*Титул.лист!$P$2","v":3137.6400000000003},3140,{"$f":"I151+350","v":2926},{"$f":"I152+I152*Титул.лист!$A$1","v":3218.6},{"$f":"J152+J152*Титул.лист!$P$2","v":3218.6},3220,{"$f":"M151+350","v":3275.6},{"$f":"M152+M152*Титул.лист!$A$1","v":3603.16},{"$f":"N152+N152*Титул.лист!$P$2","v":3603.16},3600,{"$f":"Q151+350","v":3358.4},{"$f":"Q152+Q152*Титул.лист!$A$1","v":3694.2400000000002},{"$f":"R152+R152*Титул.лист!$P$2","v":3694.2400000000002},3690,{"$f":"U151+350","v":3588.4000000000005},{"$f":"U152+U152*Титул.лист!$A$1","v":3947.2400000000007},{"$f":"V152+V152*Титул.лист!$P$2","v":3947.2400000000007},3950,{"$f":"Y151+350","v":3671.2},{"$f":"Y152+Y152*Титул.лист!$A$1","v":4038.3199999999997},{"$f":"Z152+Z152*Титул.лист!$P$2","v":4038.3199999999997},4040,{"$f":"AC151+350","v":3294},{"$f":"AC152+AC152*Титул.лист!$A$1","v":3623.4},{"$f":"AD152+AD152*Титул.лист!$P$2","v":3623.4},3620,{"$f":"AG151+350","v":3432},{"$f":"AG152+AG152*Титул.лист!$A$1","v":3775.2},{"$f":"AH152+AH152*Титул.лист!$P$2","v":3775.2},3780,{"$f":"AK151+350","v":3487.2000000000003},{"$f":"AK152+AK152*Титул.лист!$A$1","v":3835.92},{"$f":"AL152+AL152*Титул.лист!$P$2","v":3835.92},3840,4129.1759999999995,{"$f":"AO152+AO152*Титул.лист!$A$1","v":4542.0935999999992},{"$f":"AP152+AP152*Титул.лист!$P$2","v":4542.0935999999992},4540,4364.1360000000004,{"$f":"AS152+AS152*Титул.лист!$A$1","v":4800.5496000000003},{"$f":"AT152+AT152*Титул.лист!$P$2","v":4800.5496000000003},4800,3962.5680000000002,{"$f":"AW152+AW152*Титул.лист!$A$1","v":4358.8248000000003},{"$f":"AX152+AX152*Титул.лист!$P$2","v":4358.8248000000003},4360,4385.4960000000001,{"$f":"BA152+BA152*Титул.лист!$A$1","v":4824.0456000000004},{"$f":"BB152+BB152*Титул.лист!$P$2","v":4824.0456000000004},4820,5197.1759999999995,{"$f":"BE152+BE152*Титул.лист!$A$1","v":5716.8935999999994},{"$f":"BF152+BF152*Титул.лист!$P$2","v":5716.8935999999994},5720]
["Столы торцевые"]
[null,"Стол торцевой (открытый)",200,"1012-20",850,{"$f":"E154+E154*Титул.лист!$A$1","v":935},{"$f":"F154+F154*Титул.лист!$P$2","v":935},940,850,{"$f":"I154+I154*Титул.лист!$A$1","v":935},{"$f":"J154+J154*Титул.лист!$P$2","v":935},940,850,{"$f":"M154+M154*Титул.лист!$A$1","v":935},{"$f":"N154+N154*Титул.лист!$P$2","v":935},940,850,{"$f":"Q154+Q154*Титул.лист!$A$1","v":935},{"$f":"R154+R154*Титул.лист!$P$2","v":935},940,850,{"$f":"U154+U154*Титул.лист!$A$1","v":935},{"$f":"V154+V154*Титул.лист!$P$2","v":935},940,850,{"$f":"Y154+Y154*Титул.лист!$A$1","v":935},{"$f":"Z154+Z154*Титул.лист!$P$2","v":935},940,850,{"$f":"AC154+AC154*Титул.лист!$A$1","v":935},{"$f":"AD154+AD154*Титул.лист!$P$2","v":935},940,850,{"$f":"AG154+AG154*Титул.лист!$A$1","v":935},{"$f":"AH154+AH154*Титул.лист!$P$2","v":935},940,850,{"$f":"AK154+AK154*Титул.лист!$A$1","v":935},{"$f":"AL154+AL154*Титул.лист!$P$2","v":935},940,850,{"$f":"AO154+AO154*Титул.лист!$A$1","v":935},{"$f":"AP154+AP154*Титул.лист!$P$2","v":935},940,850,{"$f":"AS154+AS154*Титул.лист!$A$1","v":935},{"$f":"AT154+AT154*Титул.лист!$P$2","v":935},940,850,{"$f":"AW154+AW154*Титул.лист!$A$1","v":935},{"$f":"AX154+AX154*Титул.лист!$P$2","v":935},940,850,{"$f":"BA154+BA154*Титул.лист!$A$1","v":935},{"$f":"BB154+BB154*Титул.лист!$P$2","v":935},940,850,{"$f":"BE154+BE154*Титул.лист!$A$1","v":935},{"$f":"BF154+BF154*Титул.лист!$P$2","v":935},940]
[null,null,300,"1012-30",1060,{"$f":"E155+E155*Титул.лист!$A$1","v":1166},{"$f":"F155+F155*Титул.лист!$P$2","v":1166},1170,1060,{"$f":"I155+I155*Титул.лист!$A$1","v":1166},{"$f":"J155+J155*Титул.лист!$P$2","v":1166},1170,1060,{"$f":"M155+M155*Титул.лист!$A$1","v":1166},{"$f":"N155+N155*Титул.лист!$P$2","v":1166},1170,1060,{"$f":"Q155+Q155*Титул.лист!$A$1","v":1166},{"$f":"R155+R155*Титул.лист!$P$2","v":1166},1170,1060,{"$f":"U155+U155*Титул.лист!$A$1","v":1166},{"$f":"V155+V155*Титул.лист!$P$2","v":1166},1170,1060,{"$f":"Y155+Y155*Титул.лист!$A$1","v":1166},{"$f":"Z155+Z155*Титул.лист!$P$2","v":1166},1170,1060,{"$f":"AC155+AC155*Титул.лист!$A$1","v":1166},{"$f":"AD155+AD155*Титул.лист!$P$2","v":1166},1170,1060,{"$f":"AG155+AG155*Титул.лист!$A$1","v":1166},{"$f":"AH155+AH155*Титул.лист!$P$2","v":1166},1170,1060,{"$f":"AK155+AK155*Титул.лист!$A$1","v":1166},{"$f":"AL155+AL155*Титул.лист!$P$2","v":1166},1170,1060,{"$f":"AO155+AO155*Титул.лист!$A$1","v":1166},{"$f":"AP155+AP155*Титул.лист!$P$2","v":1166},1170,1060,{"$f":"AS155+AS155*Титул.лист!$A$1","v":1166},{"$f":"AT155+AT155*Титул.лист!$P$2","v":1166},1170,1060,{"$f":"AW155+AW155*Титул.лист!$A$1","v":1166},{"$f":"AX155+AX155*Титул.лист!$P$2","v":1166},1170,1060,{"$f":"BA155+BA155*Титул.лист!$A$1","v":1166},{"$f":"BB155+BB155*Титул.лист!$P$2","v":1166},1170,1060,{"$f":"BE155+BE155*Титул.лист!$A$1","v":1166},{"$f":"BF155+BF155*Титул.лист!$P$2","v":1166},1170]
[null,null,400,"1012-40",1260,{"$f":"E156+E156*Титул.лист!$A$1","v":1386},{"$f":"F156+F156*Титул.лист!$P$2","v":1386},1390,1260,{"$f":"I156+I156*Титул.лист!$A$1","v":1386},{"$f":"J156+J156*Титул.лист!$P$2","v":1386},1390,1260,{"$f":"M156+M156*Титул.лист!$A$1","v":1386},{"$f":"N156+N156*Титул.лист!$P$2","v":1386},1390,1260,{"$f":"Q156+Q156*Титул.лист!$A$1","v":1386},{"$f":"R156+R156*Титул.лист!$P$2","v":1386},1390,1260,{"$f":"U156+U156*Титул.лист!$A$1","v":1386},{"$f":"V156+V156*Титул.лист!$P$2","v":1386},1390,1260,{"$f":"Y156+Y156*Титул.лист!$A$1","v":1386},{"$f":"Z156+Z156*Титул.лист!$P$2","v":1386},1390,1260,{"$f":"AC156+AC156*Титул.лист!$A$1","v":1386},{"$f":"AD156+AD156*Титул.лист!$P$2","v":1386},1390,1260,{"$f":"AG156+AG156*Титул.лист!$A$1","v":1386},{"$f":"AH156+AH156*Титул.лист!$P$2","v":1386},1390,1260,{"$f":"AK156+AK156*Титул.лист!$A$1","v":1386},{"$f":"AL156+AL156*Титул.лист!$P$2","v":1386},1390,1260,{"$f":"AO156+AO156*Титул.лист!$A$1","v":1386},{"$f":"AP156+AP156*Титул.лист!$P$2","v":1386},1390,1260,{"$f":"AS156+AS156*Титул.лист!$A$1","v":1386},{"$f":"AT156+AT156*Титул.лист!$P$2","v":1386},1390,1260,{"$f":"AW156+AW156*Титул.лист!$A$1","v":1386},{"$f":"AX156+AX156*Титул.лист!$P$2","v":1386},1390,1260,{"$f":"BA156+BA156*Титул.лист!$A$1","v":1386},{"$f":"BB156+BB156*Титул.лист!$P$2","v":1386},1390,1260,{"$f":"BE156+BE156*Титул.лист!$A$1","v":1386},{"$f":"BF156+BF156*Титул.лист!$P$2","v":1386},1390]
[null,"Стол торцевой",300,"1013-30",1350,{"$f":"E157+E157*Титул.лист!$A$1","v":1485},{"$f":"F157+F157*Титул.лист!$P$2","v":1485},1490,1460,{"$f":"I157+I157*Титул.лист!$A$1","v":1606},{"$f":"J157+J157*Титул.лист!$P$2","v":1606},1610,1910,{"$f":"M157+M157*Титул.лист!$A$1","v":2101},{"$f":"N157+N157*Титул.лист!$P$2","v":2101},2100,2020,{"$f":"Q157+Q157*Титул.лист!$A$1","v":2222},{"$f":"R157+R157*Титул.лист!$P$2","v":2222},2220,2340,{"$f":"U157+U157*Титул.лист!$A$1","v":2574},{"$f":"V157+V157*Титул.лист!$P$2","v":2574},2570,2450,{"$f":"Y157+Y157*Титул.лист!$A$1","v":2695},{"$f":"Z157+Z157*Титул.лист!$P$2","v":2695},2700,1960,{"$f":"AC157+AC157*Титул.лист!$A$1","v":2156},{"$f":"AD157+AD157*Титул.лист!$P$2","v":2156},2160,2130,{"$f":"AG157+AG157*Титул.лист!$A$1","v":2343},{"$f":"AH157+AH157*Титул.лист!$P$2","v":2343},2340,2210,{"$f":"AK157+AK157*Титул.лист!$A$1","v":2431},{"$f":"AL157+AL157*Титул.лист!$P$2","v":2431},2430,3915,{"$f":"AO157+AO157*Титул.лист!$A$1","v":4306.5},{"$f":"AP157+AP157*Титул.лист!$P$2","v":4306.5},4310,4465,{"$f":"AS157+AS157*Титул.лист!$A$1","v":4911.5},{"$f":"AT157+AT157*Титул.лист!$P$2","v":4911.5},4910,3525,{"$f":"AW157+AW157*Титул.лист!$A$1","v":3877.5},{"$f":"AX157+AX157*Титул.лист!$P$2","v":3877.5},3880,4515,{"$f":"BA157+BA157*Титул.лист!$A$1","v":4966.5},{"$f":"BB157+BB157*Титул.лист!$P$2","v":4966.5},4970,6415,{"$f":"BE157+BE157*Титул.лист!$A$1","v":7056.5},{"$f":"BF157+BF157*Титул.лист!$P$2","v":7056.5},7060]
[null,"Стол-радиусный торцевой (открытый)",300,"1125-30",1210,{"$f":"E158+E158*Титул.лист!$A$1","v":1331},{"$f":"F158+F158*Титул.лист!$P$2","v":1331},1330,1210,{"$f":"I158+I158*Титул.лист!$A$1","v":1331},{"$f":"J158+J158*Титул.лист!$P$2","v":1331},1330,1210,{"$f":"M158+M158*Титул.лист!$A$1","v":1331},{"$f":"N158+N158*Титул.лист!$P$2","v":1331},1330,1210,{"$f":"Q158+Q158*Титул.лист!$A$1","v":1331},{"$f":"R158+R158*Титул.лист!$P$2","v":1331},1330,1210,{"$f":"U158+U158*Титул.лист!$A$1","v":1331},{"$f":"V158+V158*Титул.лист!$P$2","v":1331},1330,1210,{"$f":"Y158+Y158*Титул.лист!$A$1","v":1331},{"$f":"Z158+Z158*Титул.лист!$P$2","v":1331},1330,1210,{"$f":"AC158+AC158*Титул.лист!$A$1","v":1331},{"$f":"AD158+AD158*Титул.лист!$P$2","v":1331},1330,1210,{"$f":"AG158+AG158*Титул.лист!$A$1","v":1331},{"$f":"AH158+AH158*Титул.лист!$P$2","v":1331},1330,1210,{"$f":"AK158+AK158*Титул.лист!$A$1","v":1331},{"$f":"AL158+AL158*Титул.лист!$P$2","v":1331},1330,1210,{"$f":"AO158+AO158*Титул.лист!$A$1","v":1331},{"$f":"AP158+AP158*Титул.лист!$P$2","v":1331},1330,1210,{"$f":"AS158+AS158*Титул.лист!$A$1","v":1331},{"$f":"AT158+AT158*Титул.лист!$P$2","v":1331},1330,1210,{"$f":"AW158+AW158*Титул.лист!$A$1","v":1331},{"$f":"AX158+AX158*Титул.лист!$P$2","v":1331},1330,1210,{"$f":"BA158+BA158*Титул.лист!$A$1","v":1331},{"$f":"BB158+BB158*Титул.лист!$P$2","v":1331},1330,1210,{"$f":"BE158+BE158*Титул.лист!$A$1","v":1331},{"$f":"BF158+BF158*Титул.лист!$P$2","v":1331},1330]
[null,null,400,"1125-40",1280,{"$f":"E159+E159*Титул.лист!$A$1","v":1408},{"$f":"F159+F159*Титул.лист!$P$2","v":1408},1410,1280,{"$f":"I159+I159*Титул.лист!$A$1","v":1408},{"$f":"J159+J159*Титул.лист!$P$2","v":1408},1410,1280,{"$f":"M159+M159*Титул.лист!$A$1","v":1408},{"$f":"N159+N159*Титул.лист!$P$2","v":1408},1410,1280,{"$f":"Q159+Q159*Титул.лист!$A$1","v":1408},{"$f":"R159+R159*Титул.лист!$P$2","v":1408},1410,1280,{"$f":"U159+U159*Титул.лист!$A$1","v":1408},{"$f":"V159+V159*Титул.лист!$P$2","v":1408},1410,1280,{"$f":"Y159+Y159*Титул.лист!$A$1","v":1408},{"$f":"Z159+Z159*Титул.лист!$P$2","v":1408},1410,1280,{"$f":"AC159+AC159*Титул.лист!$A$1","v":1408},{"$f":"AD159+AD159*Титул.лист!$P$2","v":1408},1410,1280,{"$f":"AG159+AG159*Титул.лист!$A$1","v":1408},{"$f":"AH159+AH159*Титул.лист!$P$2","v":1408},1410,1280,{"$f":"AK159+AK159*Титул.лист!$A$1","v":1408},{"$f":"AL159+AL159*Титул.лист!$P$2","v":1408},1410,1280,{"$f":"AO159+AO159*Титул.лист!$A$1","v":1408},{"$f":"AP159+AP159*Титул.лист!$P$2","v":1408},1410,1280,{"$f":"AS159+AS159*Титул.лист!$A$1","v":1408},{"$f":"AT159+AT159*Титул.лист!$P$2","v":1408},1410,1280,{"$f":"AW159+AW159*Титул.лист!$A$1","v":1408},{"$f":"AX159+AX159*Титул.лист!$P$2","v":1408},1410,1280,{"$f":"BA159+BA159*Титул.лист!$A$1","v":1408},{"$f":"BB159+BB159*Титул.лист!$P$2","v":1408},1410,1280,{"$f":"BE159+BE159*Титул.лист!$A$1","v":1408},{"$f":"BF159+BF159*Титул.лист!$P$2","v":1408},1410]
[null,"Стол радиусный торцевой",300,"1120-30",null,{"$f":"E160+E160*Титул.лист!$A$1","v":0},{"$f":"F160+F160*Титул.лист!$P$2","v":0},null,null,null,null,null,null,null,null,null,null,null,null,null,null,null,null,null,null,null,null,null,3680,{"$f":"AC160+AC160*Титул.лист!$A$1","v":4048},{"$f":"AD160+AD160*Титул.лист!$P$2","v":4048},4050,3860,{"$f":"AG160+AG160*Титул.лист!$A$1","v":4246},{"$f":"AH160+AH160*Титул.лист!$P$2","v":4246},4250,3940,{"$f":"AK160+AK160*Титул.лист!$A$1","v":4334},{"$f":"AL160+AL160*Титул.лист!$P$2","v":4334},4330,6480,{"$f":"AO160+AO160*Титул.лист!$A$1","v":7128},{"$f":"AP160+AP160*Титул.лист!$P$2","v":7128},7130,6690,{"$f":"AS160+AS160*Титул.лист!$A$1","v":7359},{"$f":"AT160+AT160*Титул.лист!$P$2","v":7359},7360,null,{"$f":"AW160+AW160*Титул.лист!$A$1","v":0},{"$f":"AX160+AX160*Титул.лист!$P$2","v":0},null,null,{"$f":"BA160+BA160*Титул.лист!$A$1","v":0},{"$f":"BB160+BB160*Титул.лист!$P$2","v":0},null,10265,{"$f":"BE160+BE160*Титул.лист!$A$1","v":11291.5},{"$f":"BF160+BF160*Титул.лист!$P$2","v":11291.5},11290]
["Столы под встраиваемую технику"]
[null,"Стол под встр.техн.без ящ 600",600,"1011-60",1770,{"$f":"E162+E162*Титул.лист!$A$1","v":1947},{"$f":"F162+F162*Титул.лист!$P$2","v":1947},1950,1790,{"$f":"I162+I162*Титул.лист!$A$1","v":1969},{"$f":"J162+J162*Титул.лист!$P$2","v":1969},1970,1850,{"$f":"M162+M162*Титул.лист!$A$1","v":2035},{"$f":"N162+N162*Титул.лист!$P$2","v":2035},2040,1870.0000000000002,{"$f":"Q162+Q162*Титул.лист!$A$1","v":2057.0000000000005},{"$f":"R162+R162*Титул.лист!$P$2","v":2057.0000000000005},2060,1910,{"$f":"U162+U162*Титул.лист!$A$1","v":2101},{"$f":"V162+V162*Титул.лист!$P$2","v":2101},2100,1940,{"$f":"Y162+Y162*Титул.лист!$A$1","v":2134},{"$f":"Z162+Z162*Титул.лист!$P$2","v":2134},2130,1850,{"$f":"AC162+AC162*Титул.лист!$A$1","v":2035},{"$f":"AD162+AD162*Титул.лист!$P$2","v":2035},2040,1870.0000000000002,{"$f":"AG162+AG162*Титул.лист!$A$1","v":2057.0000000000005},{"$f":"AH162+AH162*Титул.лист!$P$2","v":2057.0000000000005},2060,1880,{"$f":"AK162+AK162*Титул.лист!$A$1","v":2068},{"$f":"AL162+AL162*Титул.лист!$P$2","v":2068},2070,2260,{"$f":"AO162+AO162*Титул.лист!$A$1","v":2486},{"$f":"AP162+AP162*Титул.лист!$P$2","v":2486},2490,2379.056,{"$f":"AS162+AS162*Титул.лист!$A$1","v":2616.9616000000001},{"$f":"AT162+AT162*Титул.лист!$P$2","v":2616.9616000000001},2620,2180.5280000000002,{"$f":"AW162+AW162*Титул.лист!$A$1","v":2398.5808000000002},{"$f":"AX162+AX162*Титул.лист!$P$2","v":2398.5808000000002},2400,2389.616,{"$f":"BA162+BA162*Титул.лист!$A$1","v":2628.5776000000001},{"$f":"BB162+BB162*Титул.лист!$P$2","v":2628.5776000000001},2630,2790.8959999999997,{"$f":"BE162+BE162*Титул.лист!$A$1","v":3069.9855999999995},{"$f":"BF162+BF162*Титул.лист!$P$2","v":3069.9855999999995},3070]
[null,"Стол под плиту",600,"1011Я-60",1910,{"$f":"E163+E163*Титул.лист!$A$1","v":2101},{"$f":"F163+F163*Титул.лист!$P$2","v":2101},2100,1950,{"$f":"I163+I163*Титул.лист!$A$1","v":2145},{"$f":"J163+J163*Титул.лист!$P$2","v":2145},2150,1990,{"$f":"M163+M163*Титул.лист!$A$1","v":2189},{"$f":"N163+N163*Титул.лист!$P$2","v":2189},2190,2020,{"$f":"Q163+Q163*Титул.лист!$A$1","v":2222},{"$f":"R163+R163*Титул.лист!$P$2","v":2222},2220,2060,{"$f":"U163+U163*Титул.лист!$A$1","v":2266},{"$f":"V163+V163*Титул.лист!$P$2","v":2266},2270,2090,{"$f":"Y163+Y163*Титул.лист!$A$1","v":2299},{"$f":"Z163+Z163*Титул.лист!$P$2","v":2299},2300,2000,{"$f":"AC163+AC163*Титул.лист!$A$1","v":2200},{"$f":"AD163+AD163*Титул.лист!$P$2","v":2200},2200,2020,{"$f":"AG163+AG163*Титул.лист!$A$1","v":2222},{"$f":"AH163+AH163*Титул.лист!$P$2","v":2222},2220,2030,{"$f":"AK163+AK163*Титул.лист!$A$1","v":2233},{"$f":"AL163+AL163*Титул.лист!$P$2","v":2233},2230,2420,{"$f":"AO163+AO163*Титул.лист!$A$1","v":2662},{"$f":"AP163+AP163*Титул.лист!$P$2","v":2662},2660,2529.056,{"$f":"AS163+AS163*Титул.лист!$A$1","v":2781.9616000000001},{"$f":"AT163+AT163*Титул.лист!$P$2","v":2781.9616000000001},2780,2330.5280000000002,{"$f":"AW163+AW163*Титул.лист!$A$1","v":2563.5808000000002},{"$f":"AX163+AX163*Титул.лист!$P$2","v":2563.5808000000002},2560,2539.616,{"$f":"BA163+BA163*Титул.лист!$A$1","v":2793.5776000000001},{"$f":"BB163+BB163*Титул.лист!$P$2","v":2793.5776000000001},2790,2940.8959999999997,{"$f":"BE163+BE163*Титул.лист!$A$1","v":3234.9855999999995},{"$f":"BF163+BF163*Титул.лист!$P$2","v":3234.9855999999995},3230]
[null,"Стол под стиральную машину 650",650,"1126-65",1470,{"$f":"E164+E164*Титул.лист!$A$1","v":1617},{"$f":"F164+F164*Титул.лист!$P$2","v":1617},1620,1470,{"$f":"I164+I164*Титул.лист!$A$1","v":1617},{"$f":"J164+J164*Титул.лист!$P$2","v":1617},1620,1470,{"$f":"M164+M164*Титул.лист!$A$1","v":1617},{"$f":"N164+N164*Титул.лист!$P$2","v":1617},1620,1470,{"$f":"Q164+Q164*Титул.лист!$A$1","v":1617},{"$f":"R164+R164*Титул.лист!$P$2","v":1617},1620,1470,{"$f":"U164+U164*Титул.лист!$A$1","v":1617},{"$f":"V164+V164*Титул.лист!$P$2","v":1617},1620,1470,{"$f":"Y164+Y164*Титул.лист!$A$1","v":1617},{"$f":"Z164+Z164*Титул.лист!$P$2","v":1617},1620,1470,{"$f":"AC164+AC164*Титул.лист!$A$1","v":1617},{"$f":"AD164+AD164*Титул.лист!$P$2","v":1617},1620,1470,{"$f":"AG164+AG164*Титул.лист!$A$1","v":1617},{"$f":"AH164+AH164*Титул.лист!$P$2","v":1617},1620,1470,{"$f":"AK164+AK164*Титул.лист!$A$1","v":1617},{"$f":"AL164+AL164*Титул.лист!$P$2","v":1617},1620,1470,{"$f":"AO164+AO164*Титул.лист!$A$1","v":1617},{"$f":"AP164+AP164*Титул.лист!$P$2","v":1617},1620,1470,{"$f":"AS164+AS164*Титул.лист!$A$1","v":1617},{"$f":"AT164+AT164*Титул.лист!$P$2","v":1617},1620,1470,{"$f":"AW164+AW164*Титул.лист!$A$1","v":1617},{"$f":"AX164+AX164*Титул.лист!$P$2","v":1617},1620,1470,{"$f":"BA164+BA164*Титул.лист!$A$1","v":1617},{"$f":"BB164+BB164*Титул.лист!$P$2","v":1617},1620,1470,{"$f":"BE164+BE164*Титул.лист!$A$1","v":1617},{"$f":"BF164+BF164*Титул.лист!$P$2","v":1617},1620]
[null,"Стол под стиральную машину 700",700,"1126-70",1520,{"$f":"E165+E165*Титул.лист!$A$1","v":1672},{"$f":"F165+F165*Титул.лист!$P$2","v":1672},1670,1520,{"$f":"I165+I165*Титул.лист!$A$1","v":1672},{"$f":"J165+J165*Титул.лист!$P$2","v":1672},1670,1520,{"$f":"M165+M165*Титул.лист!$A$1","v":1672},{"$f":"N165+N165*Титул.лист!$P$2","v":1672},1670,1520,{"$f":"Q165+Q165*Титул.лист!$A$1","v":1672},{"$f":"R165+R165*Титул.лист!$P$2","v":1672},1670,1520,{"$f":"U165+U165*Титул.лист!$A$1","v":1672},{"$f":"V165+V165*Титул.лист!$P$2","v":1672},1670,1520,{"$f":"Y165+Y165*Титул.лист!$A$1","v":1672},{"$f":"Z165+Z165*Титул.лист!$P$2","v":1672},1670,1520,{"$f":"AC165+AC165*Титул.лист!$A$1","v":1672},{"$f":"AD165+AD165*Титул.лист!$P$2","v":1672},1670,1520,{"$f":"AG165+AG165*Титул.лист!$A$1","v":1672},{"$f":"AH165+AH165*Титул.лист!$P$2","v":1672},1670,1520,{"$f":"AK165+AK165*Титул.лист!$A$1","v":1672},{"$f":"AL165+AL165*Титул.лист!$P$2","v":1672},1670,1520,{"$f":"AO165+AO165*Титул.лист!$A$1","v":1672},{"$f":"AP165+AP165*Титул.лист!$P$2","v":1672},1670,1520,{"$f":"AS165+AS165*Титул.лист!$A$1","v":1672},{"$f":"AT165+AT165*Титул.лист!$P$2","v":1672},1670,1520,{"$f":"AW165+AW165*Титул.лист!$A$1","v":1672},{"$f":"AX165+AX165*Титул.лист!$P$2","v":1672},1670,1520,{"$f":"BA165+BA165*Титул.лист!$A$1","v":1672},{"$f":"BB165+BB165*Титул.лист!$P$2","v":1672},1670,1520,{"$f":"BE165+BE165*Титул.лист!$A$1","v":1672},{"$f":"BF165+BF165*Титул.лист!$P$2","v":1672},1670]
[null,"Комплект для стир. машины 2дв.",700,"1127-70",null,{"$f":"E166+E166*Титул.лист!$A$1","v":0},{"$f":"F166+F166*Титул.лист!$P$2","v":0},0,null,{"$f":"I166+I166*Титул.лист!$A$1","v":0},{"$f":"J166+J166*Титул.лист!$P$2","v":0},0,1600,{"$f":"M166+M166*Титул.лист!$A$1","v":1760},{"$f":"N166+N166*Титул.лист!$P$2","v":1760},1760,1630,{"$f":"Q166+Q166*Титул.лист!$A$1","v":1793},{"$f":"R166+R166*Титул.лист!$P$2","v":1793},1790,1650,{"$f":"U166+U166*Титул.лист!$A$1","v":1815},{"$f":"V166+V166*Титул.лист!$P$2","v":1815},1820,1710,{"$f":"Y166+Y166*Титул.лист!$A$1","v":1881},{"$f":"Z166+Z166*Титул.лист!$P$2","v":1881},1880,1450,{"$f":"AC166+AC166*Титул.лист!$A$1","v":1595},{"$f":"AD166+AD166*Титул.лист!$P$2","v":1595},1600,1550,{"$f":"AG166+AG166*Титул.лист!$A$1","v":1705},{"$f":"AH166+AH166*Титул.лист!$P$2","v":1705},1710,1650,{"$f":"AK166+AK166*Титул.лист!$A$1","v":1815},{"$f":"AL166+AL166*Титул.лист!$P$2","v":1815},1820,3410,{"$f":"AO166+AO166*Титул.лист!$A$1","v":3751},{"$f":"AP166+AP166*Титул.лист!$P$2","v":3751},3750,3961.0119999999997,{"$f":"AS166+AS166*Титул.лист!$A$1","v":4357.1131999999998},{"$f":"AT166+AT166*Титул.лист!$P$2","v":4357.1131999999998},4360,3018.7559999999999,{"$f":"AW166+AW166*Титул.лист!$A$1","v":3320.6315999999997},{"$f":"AX166+AX166*Титул.лист!$P$2","v":3320.6315999999997},3320,4025.44,{"$f":"BA166+BA166*Титул.лист!$A$1","v":4427.9840000000004},{"$f":"BB166+BB166*Титул.лист!$P$2","v":4427.9840000000004},4430,5940.64,{"$f":"BE166+BE166*Титул.лист!$A$1","v":6534.7040000000006},{"$f":"BF166+BF166*Титул.лист!$P$2","v":6534.7040000000006},6530]
["Столы рабочие глубиной 400"]
[null,"Стол (400) рабочий 1 дверь   Л/ПР",150,"1201-15",720,{"$f":"E168+E168*Титул.лист!$A$1","v":792},{"$f":"F168+F168*Титул.лист!$P$2","v":792},790,745,{"$f":"I168+I168*Титул.лист!$A$1","v":819.5},{"$f":"J168+J168*Титул.лист!$P$2","v":819.5},820,870,{"$f":"M168+M168*Титул.лист!$A$1","v":957},{"$f":"N168+N168*Титул.лист!$P$2","v":957},960,950,{"$f":"Q168+Q168*Титул.лист!$A$1","v":1045},{"$f":"R168+R168*Титул.лист!$P$2","v":1045},1050,1000,{"$f":"U168+U168*Титул.лист!$A$1","v":1100},{"$f":"V168+V168*Титул.лист!$P$2","v":1100},1100,1080,{"$f":"Y168+Y168*Титул.лист!$A$1","v":1188},{"$f":"Z168+Z168*Титул.лист!$P$2","v":1188},1190,900,{"$f":"AC168+AC168*Титул.лист!$A$1","v":990},{"$f":"AD168+AD168*Титул.лист!$P$2","v":990},990,930,{"$f":"AG168+AG168*Титул.лист!$A$1","v":1023},{"$f":"AH168+AH168*Титул.лист!$P$2","v":1023},1020,1050,{"$f":"AK168+AK168*Титул.лист!$A$1","v":1155},{"$f":"AL168+AL168*Титул.лист!$P$2","v":1155},1160,1319.934,{"$f":"AO168+AO168*Титул.лист!$A$1","v":1451.9274},{"$f":"AP168+AP168*Титул.лист!$P$2","v":1451.9274},1450,1438.0740000000001,{"$f":"AS168+AS168*Титул.лист!$A$1","v":1581.8814},{"$f":"AT168+AT168*Титул.лист!$P$2","v":1581.8814},1580,1236.162,{"$f":"AW168+AW168*Титул.лист!$A$1","v":1359.7782},{"$f":"AX168+AX168*Титул.лист!$P$2","v":1359.7782},1360,1451.88,{"$f":"BA168+BA168*Титул.лист!$A$1","v":1597.0680000000002},{"$f":"BB168+BB168*Титул.лист!$P$2","v":1597.0680000000002},1600,1862.2800000000002,{"$f":"BE168+BE168*Титул.лист!$A$1","v":2048.5080000000003},{"$f":"BF168+BF168*Титул.лист!$P$2","v":2048.5080000000003},2050]
[null,null,200,"1201-20",800,{"$f":"E169+E169*Титул.лист!$A$1","v":880},{"$f":"F169+F169*Титул.лист!$P$2","v":880},880,850,{"$f":"I169+I169*Титул.лист!$A$1","v":935},{"$f":"J169+J169*Титул.лист!$P$2","v":935},940,1000,{"$f":"M169+M169*Титул.лист!$A$1","v":1100},{"$f":"N169+N169*Титул.лист!$P$2","v":1100},1100,1050,{"$f":"Q169+Q169*Титул.лист!$A$1","v":1155},{"$f":"R169+R169*Титул.лист!$P$2","v":1155},1160,1100,{"$f":"U169+U169*Титул.лист!$A$1","v":1210},{"$f":"V169+V169*Титул.лист!$P$2","v":1210},1210,1200,{"$f":"Y169+Y169*Титул.лист!$A$1","v":1320},{"$f":"Z169+Z169*Титул.лист!$P$2","v":1320},1320,1000,{"$f":"AC169+AC169*Титул.лист!$A$1","v":1100},{"$f":"AD169+AD169*Титул.лист!$P$2","v":1100},1100,1030,{"$f":"AG169+AG169*Титул.лист!$A$1","v":1133},{"$f":"AH169+AH169*Титул.лист!$P$2","v":1133},1130,1100,{"$f":"AK169+AK169*Титул.лист!$A$1","v":1210},{"$f":"AL169+AL169*Титул.лист!$P$2","v":1210},1210,1559.9119999999998,{"$f":"AO169+AO169*Титул.лист!$A$1","v":1715.9031999999997},{"$f":"AP169+AP169*Титул.лист!$P$2","v":1715.9031999999997},1720,1717.432,{"$f":"AS169+AS169*Титул.лист!$A$1","v":1889.1752000000001},{"$f":"AT169+AT169*Титул.лист!$P$2","v":1889.1752000000001},1890,1448.2159999999999,{"$f":"AW169+AW169*Титул.лист!$A$1","v":1593.0375999999999},{"$f":"AX169+AX169*Титул.лист!$P$2","v":1593.0375999999999},1590,1735.8400000000001,{"$f":"BA169+BA169*Титул.лист!$A$1","v":1909.4240000000002},{"$f":"BB169+BB169*Титул.лист!$P$2","v":1909.4240000000002},1910,2283.04,{"$f":"BE169+BE169*Титул.лист!$A$1","v":2511.3440000000001},{"$f":"BF169+BF169*Титул.лист!$P$2","v":2511.3440000000001},2510]
[null,null,250,"1201-25",880,{"$f":"E170+E170*Титул.лист!$A$1","v":968},{"$f":"F170+F170*Титул.лист!$P$2","v":968},970,930,{"$f":"I170+I170*Титул.лист!$A$1","v":1023},{"$f":"J170+J170*Титул.лист!$P$2","v":1023},1020,1100,{"$f":"M170+M170*Титул.лист!$A$1","v":1210},{"$f":"N170+N170*Титул.лист!$P$2","v":1210},1210,1150,{"$f":"Q170+Q170*Титул.лист!$A$1","v":1265},{"$f":"R170+R170*Титул.лист!$P$2","v":1265},1270,1230,{"$f":"U170+U170*Титул.лист!$A$1","v":1353},{"$f":"V170+V170*Титул.лист!$P$2","v":1353},1350,1320,{"$f":"Y170+Y170*Титул.лист!$A$1","v":1452},{"$f":"Z170+Z170*Титул.лист!$P$2","v":1452},1450,1100,{"$f":"AC170+AC170*Титул.лист!$A$1","v":1210},{"$f":"AD170+AD170*Титул.лист!$P$2","v":1210},1210,1200,{"$f":"AG170+AG170*Титул.лист!$A$1","v":1320},{"$f":"AH170+AH170*Титул.лист!$P$2","v":1320},1320,1300,{"$f":"AK170+AK170*Титул.лист!$A$1","v":1430},{"$f":"AL170+AL170*Титул.лист!$P$2","v":1430},1430,1799.8899999999999,{"$f":"AO170+AO170*Титул.лист!$A$1","v":1979.8789999999999},{"$f":"AP170+AP170*Титул.лист!$P$2","v":1979.8789999999999},1980,1996.79,{"$f":"AS170+AS170*Титул.лист!$A$1","v":2196.4690000000001},{"$f":"AT170+AT170*Титул.лист!$P$2","v":2196.4690000000001},2200,1660.27,{"$f":"AW170+AW170*Титул.лист!$A$1","v":1826.297},{"$f":"AX170+AX170*Титул.лист!$P$2","v":1826.297},1830,2019.8000000000002,{"$f":"BA170+BA170*Титул.лист!$A$1","v":2221.7800000000002},{"$f":"BB170+BB170*Титул.лист!$P$2","v":2221.7800000000002},2220,2703.8,{"$f":"BE170+BE170*Титул.лист!$A$1","v":2974.1800000000003},{"$f":"BF170+BF170*Титул.лист!$P$2","v":2974.1800000000003},2970]
[null,null,300,"1201-30",900,{"$f":"E171+E171*Титул.лист!$A$1","v":990},{"$f":"F171+F171*Титул.лист!$P$2","v":990},990,960,{"$f":"I171+I171*Титул.лист!$A$1","v":1056},{"$f":"J171+J171*Титул.лист!$P$2","v":1056},1060,1150,{"$f":"M171+M171*Титул.лист!$A$1","v":1265},{"$f":"N171+N171*Титул.лист!$P$2","v":1265},1270,1250,{"$f":"Q171+Q171*Титул.лист!$A$1","v":1375},{"$f":"R171+R171*Титул.лист!$P$2","v":1375},1380,1350,{"$f":"U171+U171*Титул.лист!$A$1","v":1485},{"$f":"V171+V171*Титул.лист!$P$2","v":1485},1490,1450,{"$f":"Y171+Y171*Титул.лист!$A$1","v":1595},{"$f":"Z171+Z171*Титул.лист!$P$2","v":1595},1600,1250,{"$f":"AC171+AC171*Титул.лист!$A$1","v":1375},{"$f":"AD171+AD171*Титул.лист!$P$2","v":1375},1380,1350,{"$f":"AG171+AG171*Титул.лист!$A$1","v":1485},{"$f":"AH171+AH171*Титул.лист!$P$2","v":1485},1490,1450,{"$f":"AK171+AK171*Титул.лист!$A$1","v":1595},{"$f":"AL171+AL171*Титул.лист!$P$2","v":1595},1600,2089.8679999999999,{"$f":"AO171+AO171*Титул.лист!$A$1","v":2298.8548000000001},{"$f":"AP171+AP171*Титул.лист!$P$2","v":2298.8548000000001},2300,2326.1480000000001,{"$f":"AS171+AS171*Титул.лист!$A$1","v":2558.7628},{"$f":"AT171+AT171*Титул.лист!$P$2","v":2558.7628},2560,1922.3240000000001,{"$f":"AW171+AW171*Титул.лист!$A$1","v":2114.5563999999999},{"$f":"AX171+AX171*Титул.лист!$P$2","v":2114.5563999999999},2110,2353.7600000000002,{"$f":"BA171+BA171*Титул.лист!$A$1","v":2589.1360000000004},{"$f":"BB171+BB171*Титул.лист!$P$2","v":2589.1360000000004},2590,3174.5600000000004,{"$f":"BE171+BE171*Титул.лист!$A$1","v":3492.0160000000005},{"$f":"BF171+BF171*Титул.лист!$P$2","v":3492.0160000000005},3490]
[null,null,350,"1201-35",950,{"$f":"E172+E172*Титул.лист!$A$1","v":1045},{"$f":"F172+F172*Титул.лист!$P$2","v":1045},1050,1000,{"$f":"I172+I172*Титул.лист!$A$1","v":1100},{"$f":"J172+J172*Титул.лист!$P$2","v":1100},1100,1300,{"$f":"M172+M172*Титул.лист!$A$1","v":1430},{"$f":"N172+N172*Титул.лист!$P$2","v":1430},1430,1350,{"$f":"Q172+Q172*Титул.лист!$A$1","v":1485},{"$f":"R172+R172*Титул.лист!$P$2","v":1485},1490,1470,{"$f":"U172+U172*Титул.лист!$A$1","v":1617},{"$f":"V172+V172*Титул.лист!$P$2","v":1617},1620,1570,{"$f":"Y172+Y172*Титул.лист!$A$1","v":1727},{"$f":"Z172+Z172*Титул.лист!$P$2","v":1727},1730,1350,{"$f":"AC172+AC172*Титул.лист!$A$1","v":1485},{"$f":"AD172+AD172*Титул.лист!$P$2","v":1485},1490,1400,{"$f":"AG172+AG172*Титул.лист!$A$1","v":1540},{"$f":"AH172+AH172*Титул.лист!$P$2","v":1540},1540,1500,{"$f":"AK172+AK172*Титул.лист!$A$1","v":1650},{"$f":"AL172+AL172*Титул.лист!$P$2","v":1650},1650,2329.846,{"$f":"AO172+AO172*Титул.лист!$A$1","v":2562.8306000000002},{"$f":"AP172+AP172*Титул.лист!$P$2","v":2562.8306000000002},2560,2605.5059999999999,{"$f":"AS172+AS172*Титул.лист!$A$1","v":2866.0565999999999},{"$f":"AT172+AT172*Титул.лист!$P$2","v":2866.0565999999999},2870,2134.3779999999997,{"$f":"AW172+AW172*Титул.лист!$A$1","v":2347.8157999999999},{"$f":"AX172+AX172*Титул.лист!$P$2","v":2347.8157999999999},2350,2637.7200000000003,{"$f":"BA172+BA172*Титул.лист!$A$1","v":2901.4920000000002},{"$f":"BB172+BB172*Титул.лист!$P$2","v":2901.4920000000002},2900,3595.32,{"$f":"BE172+BE172*Титул.лист!$A$1","v":3954.8520000000003},{"$f":"BF172+BF172*Титул.лист!$P$2","v":3954.8520000000003},3950]
[null,null,400,"1201-40",1000,{"$f":"E173+E173*Титул.лист!$A$1","v":1100},{"$f":"F173+F173*Титул.лист!$P$2","v":1100},1100,1050,{"$f":"I173+I173*Титул.лист!$A$1","v":1155},{"$f":"J173+J173*Титул.лист!$P$2","v":1155},1160,1390,{"$f":"M173+M173*Титул.лист!$A$1","v":1529},{"$f":"N173+N173*Титул.лист!$P$2","v":1529},1530,1450,{"$f":"Q173+Q173*Титул.лист!$A$1","v":1595},{"$f":"R173+R173*Титул.лист!$P$2","v":1595},1600,1580,{"$f":"U173+U173*Титул.лист!$A$1","v":1738},{"$f":"V173+V173*Титул.лист!$P$2","v":1738},1740,1670,{"$f":"Y173+Y173*Титул.лист!$A$1","v":1837},{"$f":"Z173+Z173*Титул.лист!$P$2","v":1837},1840,1400,{"$f":"AC173+AC173*Титул.лист!$A$1","v":1540},{"$f":"AD173+AD173*Титул.лист!$P$2","v":1540},1540,1500,{"$f":"AG173+AG173*Титул.лист!$A$1","v":1650},{"$f":"AH173+AH173*Титул.лист!$P$2","v":1650},1650,1600,{"$f":"AK173+AK173*Титул.лист!$A$1","v":1760},{"$f":"AL173+AL173*Титул.лист!$P$2","v":1760},1760,2519.8239999999996,{"$f":"AO173+AO173*Титул.лист!$A$1","v":2771.8063999999995},{"$f":"AP173+AP173*Титул.лист!$P$2","v":2771.8063999999995},2770,2834.864,{"$f":"AS173+AS173*Титул.лист!$A$1","v":3118.3504000000003},{"$f":"AT173+AT173*Титул.лист!$P$2","v":3118.3504000000003},3120,2296.4319999999998,{"$f":"AW173+AW173*Титул.лист!$A$1","v":2526.0751999999998},{"$f":"AX173+AX173*Титул.лист!$P$2","v":2526.0751999999998},2530,2871.6800000000003,{"$f":"BA173+BA173*Титул.лист!$A$1","v":3158.8480000000004},{"$f":"BB173+BB173*Титул.лист!$P$2","v":3158.8480000000004},3160,3966.0800000000004,{"$f":"BE173+BE173*Титул.лист!$A$1","v":4362.6880000000001},{"$f":"BF173+BF173*Титул.лист!$P$2","v":4362.6880000000001},4360]
[null,null,450,"1201-45",1100,{"$f":"E174+E174*Титул.лист!$A$1","v":1210},{"$f":"F174+F174*Титул.лист!$P$2","v":1210},1210,1220,{"$f":"I174+I174*Титул.лист!$A$1","v":1342},{"$f":"J174+J174*Титул.лист!$P$2","v":1342},1340,1490,{"$f":"M174+M174*Титул.лист!$A$1","v":1639},{"$f":"N174+N174*Титул.лист!$P$2","v":1639},1640,1560,{"$f":"Q174+Q174*Титул.лист!$A$1","v":1716},{"$f":"R174+R174*Титул.лист!$P$2","v":1716},1720,1690,{"$f":"U174+U174*Титул.лист!$A$1","v":1859},{"$f":"V174+V174*Титул.лист!$P$2","v":1859},1860,1800,{"$f":"Y174+Y174*Титул.лист!$A$1","v":1980},{"$f":"Z174+Z174*Титул.лист!$P$2","v":1980},1980,1500,{"$f":"AC174+AC174*Титул.лист!$A$1","v":1650},{"$f":"AD174+AD174*Титул.лист!$P$2","v":1650},1650,1630,{"$f":"AG174+AG174*Титул.лист!$A$1","v":1793},{"$f":"AH174+AH174*Титул.лист!$P$2","v":1793},1790,1700,{"$f":"AK174+AK174*Титул.лист!$A$1","v":1870},{"$f":"AL174+AL174*Титул.лист!$P$2","v":1870},1870,2759.8019999999997,{"$f":"AO174+AO174*Титул.лист!$A$1","v":3035.7821999999996},{"$f":"AP174+AP174*Титул.лист!$P$2","v":3035.7821999999996},3040,3114.2219999999998,{"$f":"AS174+AS174*Титул.лист!$A$1","v":3425.6441999999997},{"$f":"AT174+AT174*Титул.лист!$P$2","v":3425.6441999999997},3430,2508.4859999999999,{"$f":"AW174+AW174*Титул.лист!$A$1","v":2759.3345999999997},{"$f":"AX174+AX174*Титул.лист!$P$2","v":2759.3345999999997},2760,3155.6400000000003,{"$f":"BA174+BA174*Титул.лист!$A$1","v":3471.2040000000006},{"$f":"BB174+BB174*Титул.лист!$P$2","v":3471.2040000000006},3470,4386.84,{"$f":"BE174+BE174*Титул.лист!$A$1","v":4825.5240000000003},{"$f":"BF174+BF174*Титул.лист!$P$2","v":4825.5240000000003},4830]
[null,null,500,"1201-50",1200,{"$f":"E175+E175*Титул.лист!$A$1","v":1320},{"$f":"F175+F175*Титул.лист!$P$2","v":1320},1320,1390,{"$f":"I175+I175*Титул.лист!$A$1","v":1529},{"$f":"J175+J175*Титул.лист!$P$2","v":1529},1530,1570,{"$f":"M175+M175*Титул.лист!$A$1","v":1727},{"$f":"N175+N175*Титул.лист!$P$2","v":1727},1730,1680,{"$f":"Q175+Q175*Титул.лист!$A$1","v":1848},{"$f":"R175+R175*Титул.лист!$P$2","v":1848},1850,1750,{"$f":"U175+U175*Титул.лист!$A$1","v":1925},{"$f":"V175+V175*Титул.лист!$P$2","v":1925},1930,1900,{"$f":"Y175+Y175*Титул.лист!$A$1","v":2090},{"$f":"Z175+Z175*Титул.лист!$P$2","v":2090},2090,1600,{"$f":"AC175+AC175*Титул.лист!$A$1","v":1760},{"$f":"AD175+AD175*Титул.лист!$P$2","v":1760},1760,1650,{"$f":"AG175+AG175*Титул.лист!$A$1","v":1815},{"$f":"AH175+AH175*Титул.лист!$P$2","v":1815},1820,1800,{"$f":"AK175+AK175*Титул.лист!$A$1","v":1980},{"$f":"AL175+AL175*Титул.лист!$P$2","v":1980},1980,2999.7799999999997,{"$f":"AO175+AO175*Титул.лист!$A$1","v":3299.7579999999998},{"$f":"AP175+AP175*Титул.лист!$P$2","v":3299.7579999999998},3300,3393.58,{"$f":"AS175+AS175*Титул.лист!$A$1","v":3732.9380000000001},{"$f":"AT175+AT175*Титул.лист!$P$2","v":3732.9380000000001},3730,2720.54,{"$f":"AW175+AW175*Титул.лист!$A$1","v":2992.5940000000001},{"$f":"AX175+AX175*Титул.лист!$P$2","v":2992.5940000000001},2990,3439.6000000000004,{"$f":"BA175+BA175*Титул.лист!$A$1","v":3783.5600000000004},{"$f":"BB175+BB175*Титул.лист!$P$2","v":3783.5600000000004},3780,4807.6000000000004,{"$f":"BE175+BE175*Титул.лист!$A$1","v":5288.3600000000006},{"$f":"BF175+BF175*Титул.лист!$P$2","v":5288.3600000000006},5290]
[null,null,600,"1201-60",1300,{"$f":"E176+E176*Титул.лист!$A$1","v":1430},{"$f":"F176+F176*Титул.лист!$P$2","v":1430},1430,1480,{"$f":"I176+I176*Титул.лист!$A$1","v":1628},{"$f":"J176+J176*Титул.лист!$P$2","v":1628},1630,1690,{"$f":"M176+M176*Титул.лист!$A$1","v":1859},{"$f":"N176+N176*Титул.лист!$P$2","v":1859},1860,1790,{"$f":"Q176+Q176*Титул.лист!$A$1","v":1969},{"$f":"R176+R176*Титул.лист!$P$2","v":1969},1970,1860,{"$f":"U176+U176*Титул.лист!$A$1","v":2046},{"$f":"V176+V176*Титул.лист!$P$2","v":2046},2050,2000,{"$f":"Y176+Y176*Титул.лист!$A$1","v":2200},{"$f":"Z176+Z176*Титул.лист!$P$2","v":2200},2200,1800,{"$f":"AC176+AC176*Титул.лист!$A$1","v":1980},{"$f":"AD176+AD176*Титул.лист!$P$2","v":1980},1980,1900,{"$f":"AG176+AG176*Титул.лист!$A$1","v":2090},{"$f":"AH176+AH176*Титул.лист!$P$2","v":2090},2090,2000,{"$f":"AK176+AK176*Титул.лист!$A$1","v":2200},{"$f":"AL176+AL176*Титул.лист!$P$2","v":2200},2200,3479.7359999999999,{"$f":"AO176+AO176*Титул.лист!$A$1","v":3827.7096000000001},{"$f":"AP176+AP176*Титул.лист!$P$2","v":3827.7096000000001},3830,3952.2959999999998,{"$f":"AS176+AS176*Титул.лист!$A$1","v":4347.5255999999999},{"$f":"AT176+AT176*Титул.лист!$P$2","v":4347.5255999999999},4350,3144.6480000000001,{"$f":"AW176+AW176*Титул.лист!$A$1","v":3459.1128000000003},{"$f":"AX176+AX176*Титул.лист!$P$2","v":3459.1128000000003},3460,4007.5200000000004,{"$f":"BA176+BA176*Титул.лист!$A$1","v":4408.2720000000008},{"$f":"BB176+BB176*Титул.лист!$P$2","v":4408.2720000000008},4410,5649.1200000000008,{"$f":"BE176+BE176*Титул.лист!$A$1","v":6214.0320000000011},{"$f":"BF176+BF176*Титул.лист!$P$2","v":6214.0320000000011},6210]
[null,"Стол (400) рабочий 2 двери",600,"1202-60",1300,{"$f":"E177+E177*Титул.лист!$A$1","v":1430},{"$f":"F177+F177*Титул.лист!$P$2","v":1430},1430,1480,{"$f":"I177+I177*Титул.лист!$A$1","v":1628},{"$f":"J177+J177*Титул.лист!$P$2","v":1628},1630,1690,{"$f":"M177+M177*Титул.лист!$A$1","v":1859},{"$f":"N177+N177*Титул.лист!$P$2","v":1859},1860,1790,{"$f":"Q177+Q177*Титул.лист!$A$1","v":1969},{"$f":"R177+R177*Титул.лист!$P$2","v":1969},1970,2120,{"$f":"U177+U177*Титул.лист!$A$1","v":2332},{"$f":"V177+V177*Титул.лист!$P$2","v":2332},2330,2400,{"$f":"Y177+Y177*Титул.лист!$A$1","v":2640},{"$f":"Z177+Z177*Титул.лист!$P$2","v":2640},2640,2000,{"$f":"AC177+AC177*Титул.лист!$A$1","v":2200},{"$f":"AD177+AD177*Титул.лист!$P$2","v":2200},2200,2100,{"$f":"AG177+AG177*Титул.лист!$A$1","v":2310},{"$f":"AH177+AH177*Титул.лист!$P$2","v":2310},2310,2300,{"$f":"AK177+AK177*Титул.лист!$A$1","v":2530},{"$f":"AL177+AL177*Титул.лист!$P$2","v":2530},2530,3679.7359999999999,{"$f":"AO177+AO177*Титул.лист!$A$1","v":4047.7096000000001},{"$f":"AP177+AP177*Титул.лист!$P$2","v":4047.7096000000001},4050,4152.2960000000003,{"$f":"AS177+AS177*Титул.лист!$A$1","v":4567.5255999999999},{"$f":"AT177+AT177*Титул.лист!$P$2","v":4567.5255999999999},4570,3344.6480000000001,{"$f":"AW177+AW177*Титул.лист!$A$1","v":3679.1128000000003},{"$f":"AX177+AX177*Титул.лист!$P$2","v":3679.1128000000003},3680,4207.5200000000004,{"$f":"BA177+BA177*Титул.лист!$A$1","v":4628.2720000000008},{"$f":"BB177+BB177*Титул.лист!$P$2","v":4628.2720000000008},4630,5849.1200000000008,{"$f":"BE177+BE177*Титул.лист!$A$1","v":6434.0320000000011},{"$f":"BF177+BF177*Титул.лист!$P$2","v":6434.0320000000011},6430]
[null,null,700,"1202-70",1760,{"$f":"E178+E178*Титул.лист!$A$1","v":1936},{"$f":"F178+F178*Титул.лист!$P$2","v":1936},1940,1820,{"$f":"I178+I178*Титул.лист!$A$1","v":2002},{"$f":"J178+J178*Титул.лист!$P$2","v":2002},2000,2100,{"$f":"M178+M178*Титул.лист!$A$1","v":2310},{"$f":"N178+N178*Титул.лист!$P$2","v":2310},2310,2170,{"$f":"Q178+Q178*Титул.лист!$A$1","v":2387},{"$f":"R178+R178*Титул.лист!$P$2","v":2387},2390,2300,{"$f":"U178+U178*Титул.лист!$A$1","v":2530},{"$f":"V178+V178*Титул.лист!$P$2","v":2530},2530,2640,{"$f":"Y178+Y178*Титул.лист!$A$1","v":2904},{"$f":"Z178+Z178*Титул.лист!$P$2","v":2904},2900,2200,{"$f":"AC178+AC178*Титул.лист!$A$1","v":2420},{"$f":"AD178+AD178*Титул.лист!$P$2","v":2420},2420,2300,{"$f":"AG178+AG178*Титул.лист!$A$1","v":2530},{"$f":"AH178+AH178*Титул.лист!$P$2","v":2530},2530,2500,{"$f":"AK178+AK178*Титул.лист!$A$1","v":2750},{"$f":"AL178+AL178*Титул.лист!$P$2","v":2750},2750,4159.692,{"$f":"AO178+AO178*Титул.лист!$A$1","v":4575.6612000000005},{"$f":"AP178+AP178*Титул.лист!$P$2","v":4575.6612000000005},4580,4711.0119999999997,{"$f":"AS178+AS178*Титул.лист!$A$1","v":5182.1131999999998},{"$f":"AT178+AT178*Титул.лист!$P$2","v":5182.1131999999998},5180,3768.7559999999999,{"$f":"AW178+AW178*Титул.лист!$A$1","v":4145.6315999999997},{"$f":"AX178+AX178*Титул.лист!$P$2","v":4145.6315999999997},4150,4775.4400000000005,{"$f":"BA178+BA178*Титул.лист!$A$1","v":5252.9840000000004},{"$f":"BB178+BB178*Титул.лист!$P$2","v":5252.9840000000004},5250,6690.64,{"$f":"BE178+BE178*Титул.лист!$A$1","v":7359.7040000000006},{"$f":"BF178+BF178*Титул.лист!$P$2","v":7359.7040000000006},7360]
[null,null,800,"1202-80",1920,{"$f":"E179+E179*Титул.лист!$A$1","v":2112},{"$f":"F179+F179*Титул.лист!$P$2","v":2112},2110,2030,{"$f":"I179+I179*Титул.лист!$A$1","v":2233},{"$f":"J179+J179*Титул.лист!$P$2","v":2233},2230,2500,{"$f":"M179+M179*Титул.лист!$A$1","v":2750},{"$f":"N179+N179*Титул.лист!$P$2","v":2750},2750,2630,{"$f":"Q179+Q179*Титул.лист!$A$1","v":2893},{"$f":"R179+R179*Титул.лист!$P$2","v":2893},2890,2750,{"$f":"U179+U179*Титул.лист!$A$1","v":3025},{"$f":"V179+V179*Титул.лист!$P$2","v":3025},3030,2800,{"$f":"Y179+Y179*Титул.лист!$A$1","v":3080},{"$f":"Z179+Z179*Титул.лист!$P$2","v":3080},3080,2400,{"$f":"AC179+AC179*Титул.лист!$A$1","v":2640},{"$f":"AD179+AD179*Титул.лист!$P$2","v":2640},2640,2500,{"$f":"AG179+AG179*Титул.лист!$A$1","v":2750},{"$f":"AH179+AH179*Титул.лист!$P$2","v":2750},2750,2700,{"$f":"AK179+AK179*Титул.лист!$A$1","v":2970},{"$f":"AL179+AL179*Титул.лист!$P$2","v":2970},2970,4639.6479999999992,{"$f":"AO179+AO179*Титул.лист!$A$1","v":5103.612799999999},{"$f":"AP179+AP179*Титул.лист!$P$2","v":5103.612799999999},5100,5269.7280000000001,{"$f":"AS179+AS179*Титул.лист!$A$1","v":5796.7008000000005},{"$f":"AT179+AT179*Титул.лист!$P$2","v":5796.7008000000005},5800,4192.8639999999996,{"$f":"AW179+AW179*Титул.лист!$A$1","v":4612.1503999999995},{"$f":"AX179+AX179*Титул.лист!$P$2","v":4612.1503999999995},4610,5343.3600000000006,{"$f":"BA179+BA179*Титул.лист!$A$1","v":5877.6960000000008},{"$f":"BB179+BB179*Титул.лист!$P$2","v":5877.6960000000008},5880,7532.1600000000008,{"$f":"BE179+BE179*Титул.лист!$A$1","v":8285.3760000000002},{"$f":"BF179+BF179*Титул.лист!$P$2","v":8285.3760000000002},8290]
[null,null,900,"1202-90",2080,{"$f":"E180+E180*Титул.лист!$A$1","v":2288},{"$f":"F180+F180*Титул.лист!$P$2","v":2288},2290,2180,{"$f":"I180+I180*Титул.лист!$A$1","v":2398},{"$f":"J180+J180*Титул.лист!$P$2","v":2398},2400,2700,{"$f":"M180+M180*Титул.лист!$A$1","v":2970},{"$f":"N180+N180*Титул.лист!$P$2","v":2970},2970,2810,{"$f":"Q180+Q180*Титул.лист!$A$1","v":3091},{"$f":"R180+R180*Титул.лист!$P$2","v":3091},3090,2990,{"$f":"U180+U180*Титул.лист!$A$1","v":3289},{"$f":"V180+V180*Титул.лист!$P$2","v":3289},3290,3100,{"$f":"Y180+Y180*Титул.лист!$A$1","v":3410},{"$f":"Z180+Z180*Титул.лист!$P$2","v":3410},3410,2600,{"$f":"AC180+AC180*Титул.лист!$A$1","v":2860},{"$f":"AD180+AD180*Титул.лист!$P$2","v":2860},2860,2700,{"$f":"AG180+AG180*Титул.лист!$A$1","v":2970},{"$f":"AH180+AH180*Титул.лист!$P$2","v":2970},2970,2900,{"$f":"AK180+AK180*Титул.лист!$A$1","v":3190},{"$f":"AL180+AL180*Титул.лист!$P$2","v":3190},3190,5119.6039999999994,{"$f":"AO180+AO180*Титул.лист!$A$1","v":5631.5643999999993},{"$f":"AP180+AP180*Титул.лист!$P$2","v":5631.5643999999993},5630,5828.4439999999995,{"$f":"AS180+AS180*Титул.лист!$A$1","v":6411.2883999999995},{"$f":"AT180+AT180*Титул.лист!$P$2","v":6411.2883999999995},6410,4616.9719999999998,{"$f":"AW180+AW180*Титул.лист!$A$1","v":5078.6691999999994},{"$f":"AX180+AX180*Титул.лист!$P$2","v":5078.6691999999994},5080,5911.2800000000007,{"$f":"BA180+BA180*Титул.лист!$A$1","v":6502.4080000000004},{"$f":"BB180+BB180*Титул.лист!$P$2","v":6502.4080000000004},6500,8373.68,{"$f":"BE180+BE180*Титул.лист!$A$1","v":9211.0480000000007},{"$f":"BF180+BF180*Титул.лист!$P$2","v":9211.0480000000007},9210]
[null,null,1000,"1202-100",2240,{"$f":"E181+E181*Титул.лист!$A$1","v":2464},{"$f":"F181+F181*Титул.лист!$P$2","v":2464},2460,2350,{"$f":"I181+I181*Титул.лист!$A$1","v":2585},{"$f":"J181+J181*Титул.лист!$P$2","v":2585},2590,2870,{"$f":"M181+M181*Титул.лист!$A$1","v":3157},{"$f":"N181+N181*Титул.лист!$P$2","v":3157},3160,2970,{"$f":"Q181+Q181*Титул.лист!$A$1","v":3267},{"$f":"R181+R181*Титул.лист!$P$2","v":3267},3270,3050,{"$f":"U181+U181*Титул.лист!$A$1","v":3355},{"$f":"V181+V181*Титул.лист!$P$2","v":3355},3360,3250,{"$f":"Y181+Y181*Титул.лист!$A$1","v":3575},{"$f":"Z181+Z181*Титул.лист!$P$2","v":3575},3580,2800,{"$f":"AC181+AC181*Титул.лист!$A$1","v":3080},{"$f":"AD181+AD181*Титул.лист!$P$2","v":3080},3080,2900,{"$f":"AG181+AG181*Титул.лист!$A$1","v":3190},{"$f":"AH181+AH181*Титул.лист!$P$2","v":3190},3190,3100,{"$f":"AK181+AK181*Титул.лист!$A$1","v":3410},{"$f":"AL181+AL181*Титул.лист!$P$2","v":3410},3410,5599.5599999999995,{"$f":"AO181+AO181*Титул.лист!$A$1","v":6159.5159999999996},{"$f":"AP181+AP181*Титул.лист!$P$2","v":6159.5159999999996},6160,6387.16,{"$f":"AS181+AS181*Титул.лист!$A$1","v":7025.8760000000002},{"$f":"AT181+AT181*Титул.лист!$P$2","v":7025.8760000000002},7030,5041.08,{"$f":"AW181+AW181*Титул.лист!$A$1","v":5545.1880000000001},{"$f":"AX181+AX181*Титул.лист!$P$2","v":5545.1880000000001},5550,6479.2000000000007,{"$f":"BA181+BA181*Титул.лист!$A$1","v":7127.1200000000008},{"$f":"BB181+BB181*Титул.лист!$P$2","v":7127.1200000000008},7130,9215.2000000000007,{"$f":"BE181+BE181*Титул.лист!$A$1","v":10136.720000000001},{"$f":"BF181+BF181*Титул.лист!$P$2","v":10136.720000000001},10140]
[null,"Стол (400) H=1020 1дв",500,"1203-50",1600,{"$f":"E182+E182*Титул.лист!$A$1","v":1760},{"$f":"F182+F182*Титул.лист!$P$2","v":1760},1760,1720,{"$f":"I182+I182*Титул.лист!$A$1","v":1892},{"$f":"J182+J182*Титул.лист!$P$2","v":1892},1890,2020,{"$f":"M182+M182*Титул.лист!$A$1","v":2222},{"$f":"N182+N182*Титул.лист!$P$2","v":2222},2220,2100,{"$f":"Q182+Q182*Титул.лист!$A$1","v":2310},{"$f":"R182+R182*Титул.лист!$P$2","v":2310},2310,2210,{"$f":"U182+U182*Титул.лист!$A$1","v":2431},{"$f":"V182+V182*Титул.лист!$P$2","v":2431},2430,2400,{"$f":"Y182+Y182*Титул.лист!$A$1","v":2640},{"$f":"Z182+Z182*Титул.лист!$P$2","v":2640},2640,2000,{"$f":"AC182+AC182*Титул.лист!$A$1","v":2200},{"$f":"AD182+AD182*Титул.лист!$P$2","v":2200},2200,2100,{"$f":"AG182+AG182*Титул.лист!$A$1","v":2310},{"$f":"AH182+AH182*Титул.лист!$P$2","v":2310},2310,2300,{"$f":"AK182+AK182*Титул.лист!$A$1","v":2530},{"$f":"AL182+AL182*Титул.лист!$P$2","v":2530},2530,3399.7799999999997,{"$f":"AO182+AO182*Титул.лист!$A$1","v":3739.7579999999998},{"$f":"AP182+AP182*Титул.лист!$P$2","v":3739.7579999999998},3740,3793.58,{"$f":"AS182+AS182*Титул.лист!$A$1","v":4172.9380000000001},{"$f":"AT182+AT182*Титул.лист!$P$2","v":4172.9380000000001},4170,3120.54,{"$f":"AW182+AW182*Титул.лист!$A$1","v":3432.5940000000001},{"$f":"AX182+AX182*Титул.лист!$P$2","v":3432.5940000000001},3430,3839.6000000000004,{"$f":"BA182+BA182*Титул.лист!$A$1","v":4223.5600000000004},{"$f":"BB182+BB182*Титул.лист!$P$2","v":4223.5600000000004},4220,5207.6000000000004,{"$f":"BE182+BE182*Титул.лист!$A$1","v":5728.3600000000006},{"$f":"BF182+BF182*Титул.лист!$P$2","v":5728.3600000000006},5730]
[null,null,600,"1203-60",1760,{"$f":"E183+E183*Титул.лист!$A$1","v":1936},{"$f":"F183+F183*Титул.лист!$P$2","v":1936},1940,1830,{"$f":"I183+I183*Титул.лист!$A$1","v":2013},{"$f":"J183+J183*Титул.лист!$P$2","v":2013},2010,2170,{"$f":"M183+M183*Титул.лист!$A$1","v":2387},{"$f":"N183+N183*Титул.лист!$P$2","v":2387},2390,2240,{"$f":"Q183+Q183*Титул.лист!$A$1","v":2464},{"$f":"R183+R183*Титул.лист!$P$2","v":2464},2460,2480,{"$f":"U183+U183*Титул.лист!$A$1","v":2728},{"$f":"V183+V183*Титул.лист!$P$2","v":2728},2730,2640,{"$f":"Y183+Y183*Титул.лист!$A$1","v":2904},{"$f":"Z183+Z183*Титул.лист!$P$2","v":2904},2900,2200,{"$f":"AC183+AC183*Титул.лист!$A$1","v":2420},{"$f":"AD183+AD183*Титул.лист!$P$2","v":2420},2420,2300,{"$f":"AG183+AG183*Титул.лист!$A$1","v":2530},{"$f":"AH183+AH183*Титул.лист!$P$2","v":2530},2530,2500,{"$f":"AK183+AK183*Титул.лист!$A$1","v":2750},{"$f":"AL183+AL183*Титул.лист!$P$2","v":2750},2750,3879.7359999999999,{"$f":"AO183+AO183*Титул.лист!$A$1","v":4267.7096000000001},{"$f":"AP183+AP183*Титул.лист!$P$2","v":4267.7096000000001},4270,4352.2960000000003,{"$f":"AS183+AS183*Титул.лист!$A$1","v":4787.5255999999999},{"$f":"AT183+AT183*Титул.лист!$P$2","v":4787.5255999999999},4790,3544.6480000000001,{"$f":"AW183+AW183*Титул.лист!$A$1","v":3899.1128000000003},{"$f":"AX183+AX183*Титул.лист!$P$2","v":3899.1128000000003},3900,4407.5200000000004,{"$f":"BA183+BA183*Титул.лист!$A$1","v":4848.2720000000008},{"$f":"BB183+BB183*Титул.лист!$P$2","v":4848.2720000000008},4850,6049.1200000000008,{"$f":"BE183+BE183*Титул.лист!$A$1","v":6654.0320000000011},{"$f":"BF183+BF183*Титул.лист!$P$2","v":6654.0320000000011},6650]
[null,"Стол (400) H=1020 2дв",600,"1204-60",1920,{"$f":"E184+E184*Титул.лист!$A$1","v":2112},{"$f":"F184+F184*Титул.лист!$P$2","v":2112},2110,2010,{"$f":"I184+I184*Титул.лист!$A$1","v":2211},{"$f":"J184+J184*Титул.лист!$P$2","v":2211},2210,2350,{"$f":"M184+M184*Титул.лист!$A$1","v":2585},{"$f":"N184+N184*Титул.лист!$P$2","v":2585},2590,2530,{"$f":"Q184+Q184*Титул.лист!$A$1","v":2783},{"$f":"R184+R184*Титул.лист!$P$2","v":2783},2780,2670,{"$f":"U184+U184*Титул.лист!$A$1","v":2937},{"$f":"V184+V184*Титул.лист!$P$2","v":2937},2940,2880,{"$f":"Y184+Y184*Титул.лист!$A$1","v":3168},{"$f":"Z184+Z184*Титул.лист!$P$2","v":3168},3170,2400,{"$f":"AC184+AC184*Титул.лист!$A$1","v":2640},{"$f":"AD184+AD184*Титул.лист!$P$2","v":2640},2640,2500,{"$f":"AG184+AG184*Титул.лист!$A$1","v":2750},{"$f":"AH184+AH184*Титул.лист!$P$2","v":2750},2750,2700,{"$f":"AK184+AK184*Титул.лист!$A$1","v":2970},{"$f":"AL184+AL184*Титул.лист!$P$2","v":2970},2970,4079.7359999999999,{"$f":"AO184+AO184*Титул.лист!$A$1","v":4487.7096000000001},{"$f":"AP184+AP184*Титул.лист!$P$2","v":4487.7096000000001},4490,4552.2960000000003,{"$f":"AS184+AS184*Титул.лист!$A$1","v":5007.5255999999999},{"$f":"AT184+AT184*Титул.лист!$P$2","v":5007.5255999999999},5010,3744.6480000000001,{"$f":"AW184+AW184*Титул.лист!$A$1","v":4119.1127999999999},{"$f":"AX184+AX184*Титул.лист!$P$2","v":4119.1127999999999},4120,4607.5200000000004,{"$f":"BA184+BA184*Титул.лист!$A$1","v":5068.2720000000008},{"$f":"BB184+BB184*Титул.лист!$P$2","v":5068.2720000000008},5070,6249.1200000000008,{"$f":"BE184+BE184*Титул.лист!$A$1","v":6874.0320000000011},{"$f":"BF184+BF184*Титул.лист!$P$2","v":6874.0320000000011},6870]
[null,"Стол (400) рабочий  4 ящика\nметабокс",300,"1205-30м",null,{"$f":"E185+E185*Титул.лист!$A$1","v":0},{"$f":"F185+F185*Титул.лист!$P$2","v":0},0,null,{"$f":"I185+I185*Титул.лист!$A$1","v":0},{"$f":"J185+J185*Титул.лист!$P$2","v":0},0,2800,{"$f":"M185+M185*Титул.лист!$A$1","v":3080},{"$f":"N185+N185*Титул.лист!$P$2","v":3080},3080,2890,{"$f":"Q185+Q185*Титул.лист!$A$1","v":3179},{"$f":"R185+R185*Титул.лист!$P$2","v":3179},3180,3000,{"$f":"U185+U185*Титул.лист!$A$1","v":3300},{"$f":"V185+V185*Титул.лист!$P$2","v":3300},3300,3240,{"$f":"Y185+Y185*Титул.лист!$A$1","v":3564},{"$f":"Z185+Z185*Титул.лист!$P$2","v":3564},3560,2700,{"$f":"AC185+AC185*Титул.лист!$A$1","v":2970},{"$f":"AD185+AD185*Титул.лист!$P$2","v":2970},2970,2800,{"$f":"AG185+AG185*Титул.лист!$A$1","v":3080},{"$f":"AH185+AH185*Титул.лист!$P$2","v":3080},3080,2900,{"$f":"AK185+AK185*Титул.лист!$A$1","v":3190},{"$f":"AL185+AL185*Титул.лист!$P$2","v":3190},3190,3539.8679999999999,{"$f":"AO185+AO185*Титул.лист!$A$1","v":3893.8548000000001},{"$f":"AP185+AP185*Титул.лист!$P$2","v":3893.8548000000001},3890,3776.1480000000001,{"$f":"AS185+AS185*Титул.лист!$A$1","v":4153.7628000000004},{"$f":"AT185+AT185*Титул.лист!$P$2","v":4153.7628000000004},4150,3372.3240000000001,{"$f":"AW185+AW185*Титул.лист!$A$1","v":3709.5563999999999},{"$f":"AX185+AX185*Титул.лист!$P$2","v":3709.5563999999999},3710,3803.76,{"$f":"BA185+BA185*Титул.лист!$A$1","v":4184.1360000000004},{"$f":"BB185+BB185*Титул.лист!$P$2","v":4184.1360000000004},4180,4624.5600000000004,{"$f":"BE185+BE185*Титул.лист!$A$1","v":5087.0160000000005},{"$f":"BF185+BF185*Титул.лист!$P$2","v":5087.0160000000005},5090]
[null,null,350,"1205-35м",null,{"$f":"E186+E186*Титул.лист!$A$1","v":0},{"$f":"F186+F186*Титул.лист!$P$2","v":0},0,null,{"$f":"I186+I186*Титул.лист!$A$1","v":0},{"$f":"J186+J186*Титул.лист!$P$2","v":0},0,2870,{"$f":"M186+M186*Титул.лист!$A$1","v":3157},{"$f":"N186+N186*Титул.лист!$P$2","v":3157},3160,3000,{"$f":"Q186+Q186*Титул.лист!$A$1","v":3300},{"$f":"R186+R186*Титул.лист!$P$2","v":3300},3300,3160,{"$f":"U186+U186*Титул.лист!$A$1","v":3476},{"$f":"V186+V186*Титул.лист!$P$2","v":3476},3480,3360,{"$f":"Y186+Y186*Титул.лист!$A$1","v":3696},{"$f":"Z186+Z186*Титул.лист!$P$2","v":3696},3700,2800,{"$f":"AC186+AC186*Титул.лист!$A$1","v":3080},{"$f":"AD186+AD186*Титул.лист!$P$2","v":3080},3080,2900,{"$f":"AG186+AG186*Титул.лист!$A$1","v":3190},{"$f":"AH186+AH186*Титул.лист!$P$2","v":3190},3190,3000,{"$f":"AK186+AK186*Титул.лист!$A$1","v":3300},{"$f":"AL186+AL186*Титул.лист!$P$2","v":3300},3300,3779.846,{"$f":"AO186+AO186*Титул.лист!$A$1","v":4157.8306000000002},{"$f":"AP186+AP186*Титул.лист!$P$2","v":4157.8306000000002},4160,4055.5059999999999,{"$f":"AS186+AS186*Титул.лист!$A$1","v":4461.0565999999999},{"$f":"AT186+AT186*Титул.лист!$P$2","v":4461.0565999999999},4460,3584.3779999999997,{"$f":"AW186+AW186*Титул.лист!$A$1","v":3942.8157999999999},{"$f":"AX186+AX186*Титул.лист!$P$2","v":3942.8157999999999},3940,4087.7200000000003,{"$f":"BA186+BA186*Титул.лист!$A$1","v":4496.4920000000002},{"$f":"BB186+BB186*Титул.лист!$P$2","v":4496.4920000000002},4500,5045.32,{"$f":"BE186+BE186*Титул.лист!$A$1","v":5549.8519999999999},{"$f":"BF186+BF186*Титул.лист!$P$2","v":5549.8519999999999},5550]
[null,null,400,"1205-40м",null,{"$f":"E187+E187*Титул.лист!$A$1","v":0},{"$f":"F187+F187*Титул.лист!$P$2","v":0},0,null,{"$f":"I187+I187*Титул.лист!$A$1","v":0},{"$f":"J187+J187*Титул.лист!$P$2","v":0},0,2890,{"$f":"M187+M187*Титул.лист!$A$1","v":3179},{"$f":"N187+N187*Титул.лист!$P$2","v":3179},3180,3050,{"$f":"Q187+Q187*Титул.лист!$A$1","v":3355},{"$f":"R187+R187*Титул.лист!$P$2","v":3355},3360,3240,{"$f":"U187+U187*Титул.лист!$A$1","v":3564},{"$f":"V187+V187*Титул.лист!$P$2","v":3564},3560,3480,{"$f":"Y187+Y187*Титул.лист!$A$1","v":3828},{"$f":"Z187+Z187*Титул.лист!$P$2","v":3828},3830,2900,{"$f":"AC187+AC187*Титул.лист!$A$1","v":3190},{"$f":"AD187+AD187*Титул.лист!$P$2","v":3190},3190,3000,{"$f":"AG187+AG187*Титул.лист!$A$1","v":3300},{"$f":"AH187+AH187*Титул.лист!$P$2","v":3300},3300,3100,{"$f":"AK187+AK187*Титул.лист!$A$1","v":3410},{"$f":"AL187+AL187*Титул.лист!$P$2","v":3410},3410,4019.8239999999996,{"$f":"AO187+AO187*Титул.лист!$A$1","v":4421.8063999999995},{"$f":"AP187+AP187*Титул.лист!$P$2","v":4421.8063999999995},4420,4334.8639999999996,{"$f":"AS187+AS187*Титул.лист!$A$1","v":4768.3503999999994},{"$f":"AT187+AT187*Титул.лист!$P$2","v":4768.3503999999994},4770,3796.4319999999998,{"$f":"AW187+AW187*Титул.лист!$A$1","v":4176.0751999999993},{"$f":"AX187+AX187*Титул.лист!$P$2","v":4176.0751999999993},4180,4371.68,{"$f":"BA187+BA187*Титул.лист!$A$1","v":4808.848},{"$f":"BB187+BB187*Титул.лист!$P$2","v":4808.848},4810,5466.08,{"$f":"BE187+BE187*Титул.лист!$A$1","v":6012.6880000000001},{"$f":"BF187+BF187*Титул.лист!$P$2","v":6012.6880000000001},6010]
[null,null,500,"1205-50м",null,{"$f":"E188+E188*Титул.лист!$A$1","v":0},{"$f":"F188+F188*Титул.лист!$P$2","v":0},0,null,{"$f":"I188+I188*Титул.лист!$A$1","v":0},{"$f":"J188+J188*Титул.лист!$P$2","v":0},0,2430,{"$f":"M188+M188*Титул.лист!$A$1","v":2673},{"$f":"N188+N188*Титул.лист!$P$2","v":2673},2670,2500,{"$f":"Q188+Q188*Титул.лист!$A$1","v":2750},{"$f":"R188+R188*Титул.лист!$P$2","v":2750},2750,2640,{"$f":"U188+U188*Титул.лист!$A$1","v":2904},{"$f":"V188+V188*Титул.лист!$P$2","v":2904},2900,3840,{"$f":"Y188+Y188*Титул.лист!$A$1","v":4224},{"$f":"Z188+Z188*Титул.лист!$P$2","v":4224},4220,3200,{"$f":"AC188+AC188*Титул.лист!$A$1","v":3520},{"$f":"AD188+AD188*Титул.лист!$P$2","v":3520},3520,3300,{"$f":"AG188+AG188*Титул.лист!$A$1","v":3630},{"$f":"AH188+AH188*Титул.лист!$P$2","v":3630},3630,3400,{"$f":"AK188+AK188*Титул.лист!$A$1","v":3740},{"$f":"AL188+AL188*Титул.лист!$P$2","v":3740},3740,4599.78,{"$f":"AO188+AO188*Титул.лист!$A$1","v":5059.7579999999998},{"$f":"AP188+AP188*Титул.лист!$P$2","v":5059.7579999999998},5060,4993.58,{"$f":"AS188+AS188*Титул.лист!$A$1","v":5492.9380000000001},{"$f":"AT188+AT188*Титул.лист!$P$2","v":5492.9380000000001},5490,4320.54,{"$f":"AW188+AW188*Титул.лист!$A$1","v":4752.5940000000001},{"$f":"AX188+AX188*Титул.лист!$P$2","v":4752.5940000000001},4750,5039.6000000000004,{"$f":"BA188+BA188*Титул.лист!$A$1","v":5543.56},{"$f":"BB188+BB188*Титул.лист!$P$2","v":5543.56},5540,6407.6,{"$f":"BE188+BE188*Титул.лист!$A$1","v":7048.3600000000006},{"$f":"BF188+BF188*Титул.лист!$P$2","v":7048.3600000000006},7050]
[null,null,600,"1205-60м",null,{"$f":"E189+E189*Титул.лист!$A$1","v":0},{"$f":"F189+F189*Титул.лист!$P$2","v":0},0,null,{"$f":"I189+I189*Титул.лист!$A$1","v":0},{"$f":"J189+J189*Титул.лист!$P$2","v":0},0,3600,{"$f":"M189+M189*Титул.лист!$A$1","v":3960},{"$f":"N189+N189*Титул.лист!$P$2","v":3960},3960,3800,{"$f":"Q189+Q189*Титул.лист!$A$1","v":4180},{"$f":"R189+R189*Титул.лист!$P$2","v":4180},4180,4000,{"$f":"U189+U189*Титул.лист!$A$1","v":4400},{"$f":"V189+V189*Титул.лист!$P$2","v":4400},4400,4200,{"$f":"Y189+Y189*Титул.лист!$A$1","v":4620},{"$f":"Z189+Z189*Титул.лист!$P$2","v":4620},4620,3500,{"$f":"AC189+AC189*Титул.лист!$A$1","v":3850},{"$f":"AD189+AD189*Титул.лист!$P$2","v":3850},3850,3600,{"$f":"AG189+AG189*Титул.лист!$A$1","v":3960},{"$f":"AH189+AH189*Титул.лист!$P$2","v":3960},3960,3700,{"$f":"AK189+AK189*Титул.лист!$A$1","v":4070},{"$f":"AL189+AL189*Титул.лист!$P$2","v":4070},4070,5179.7359999999999,{"$f":"AO189+AO189*Титул.лист!$A$1","v":5697.7096000000001},{"$f":"AP189+AP189*Титул.лист!$P$2","v":5697.7096000000001},5700,5652.2960000000003,{"$f":"AS189+AS189*Титул.лист!$A$1","v":6217.5255999999999},{"$f":"AT189+AT189*Титул.лист!$P$2","v":6217.5255999999999},6220,4844.6480000000001,{"$f":"AW189+AW189*Титул.лист!$A$1","v":5329.1127999999999},{"$f":"AX189+AX189*Титул.лист!$P$2","v":5329.1127999999999},5330,5707.52,{"$f":"BA189+BA189*Титул.лист!$A$1","v":6278.2720000000008},{"$f":"BB189+BB189*Титул.лист!$P$2","v":6278.2720000000008},6280,7349.1200000000008,{"$f":"BE189+BE189*Титул.лист!$A$1","v":8084.0320000000011},{"$f":"BF189+BF189*Титул.лист!$P$2","v":8084.0320000000011},8080]
[null,null,700,"1205-70м",null,{"$f":"E190+E190*Титул.лист!$A$1","v":0},{"$f":"F190+F190*Титул.лист!$P$2","v":0},0,null,{"$f":"I190+I190*Титул.лист!$A$1","v":0},{"$f":"J190+J190*Титул.лист!$P$2","v":0},0,4000,{"$f":"M190+M190*Титул.лист!$A$1","v":4400},{"$f":"N190+N190*Титул.лист!$P$2","v":4400},4400,4140,{"$f":"Q190+Q190*Титул.лист!$A$1","v":4554},{"$f":"R190+R190*Титул.лист!$P$2","v":4554},4550,4240,{"$f":"U190+U190*Титул.лист!$A$1","v":4664},{"$f":"V190+V190*Титул.лист!$P$2","v":4664},4660,4440,{"$f":"Y190+Y190*Титул.лист!$A$1","v":4884},{"$f":"Z190+Z190*Титул.лист!$P$2","v":4884},4880,3700,{"$f":"AC190+AC190*Титул.лист!$A$1","v":4070},{"$f":"AD190+AD190*Титул.лист!$P$2","v":4070},4070,3800,{"$f":"AG190+AG190*Титул.лист!$A$1","v":4180},{"$f":"AH190+AH190*Титул.лист!$P$2","v":4180},4180,3900,{"$f":"AK190+AK190*Титул.лист!$A$1","v":4290},{"$f":"AL190+AL190*Титул.лист!$P$2","v":4290},4290,5659.692,{"$f":"AO190+AO190*Титул.лист!$A$1","v":6225.6612000000005},{"$f":"AP190+AP190*Титул.лист!$P$2","v":6225.6612000000005},6230,6211.0119999999997,{"$f":"AS190+AS190*Титул.лист!$A$1","v":6832.1131999999998},{"$f":"AT190+AT190*Титул.лист!$P$2","v":6832.1131999999998},6830,5268.7559999999994,{"$f":"AW190+AW190*Титул.лист!$A$1","v":5795.6315999999997},{"$f":"AX190+AX190*Титул.лист!$P$2","v":5795.6315999999997},5800,6275.4400000000005,{"$f":"BA190+BA190*Титул.лист!$A$1","v":6902.9840000000004},{"$f":"BB190+BB190*Титул.лист!$P$2","v":6902.9840000000004},6900,8190.64,{"$f":"BE190+BE190*Титул.лист!$A$1","v":9009.7039999999997},{"$f":"BF190+BF190*Титул.лист!$P$2","v":9009.7039999999997},9010]
[null,null,800,"1205-80м",null,{"$f":"E191+E191*Титул.лист!$A$1","v":0},{"$f":"F191+F191*Титул.лист!$P$2","v":0},0,null,{"$f":"I191+I191*Титул.лист!$A$1","v":0},{"$f":"J191+J191*Титул.лист!$P$2","v":0},0,4230,{"$f":"M191+M191*Титул.лист!$A$1","v":4653},{"$f":"N191+N191*Титул.лист!$P$2","v":4653},4650,4470,{"$f":"Q191+Q191*Титул.лист!$A$1","v":4917},{"$f":"R191+R191*Титул.лист!$P$2","v":4917},4920,4600,{"$f":"U191+U191*Титул.лист!$A$1","v":5060},{"$f":"V191+V191*Титул.лист!$P$2","v":5060},5060,4800,{"$f":"Y191+Y191*Титул.лист!$A$1","v":5280},{"$f":"Z191+Z191*Титул.лист!$P$2","v":5280},5280,4000,{"$f":"AC191+AC191*Титул.лист!$A$1","v":4400},{"$f":"AD191+AD191*Титул.лист!$P$2","v":4400},4400,4100,{"$f":"AG191+AG191*Титул.лист!$A$1","v":4510},{"$f":"AH191+AH191*Титул.лист!$P$2","v":4510},4510,4200,{"$f":"AK191+AK191*Титул.лист!$A$1","v":4620},{"$f":"AL191+AL191*Титул.лист!$P$2","v":4620},4620,6239.6479999999992,{"$f":"AO191+AO191*Титул.лист!$A$1","v":6863.612799999999},{"$f":"AP191+AP191*Титул.лист!$P$2","v":6863.612799999999},6860,6869.7280000000001,{"$f":"AS191+AS191*Титул.лист!$A$1","v":7556.7008000000005},{"$f":"AT191+AT191*Титул.лист!$P$2","v":7556.7008000000005},7560,5792.8639999999996,{"$f":"AW191+AW191*Титул.лист!$A$1","v":6372.1503999999995},{"$f":"AX191+AX191*Титул.лист!$P$2","v":6372.1503999999995},6370,6943.3600000000006,{"$f":"BA191+BA191*Титул.лист!$A$1","v":7637.6960000000008},{"$f":"BB191+BB191*Титул.лист!$P$2","v":7637.6960000000008},7640,9132.16,{"$f":"BE191+BE191*Титул.лист!$A$1","v":10045.376},{"$f":"BF191+BF191*Титул.лист!$P$2","v":10045.376},10050]
[null,"Стол (400) рабочий 3 ящика  \nметабокс                                                ",300,"1206-30м",null,{"$f":"E192+E192*Титул.лист!$A$1","v":0},{"$f":"F192+F192*Титул.лист!$P$2","v":0},0,null,{"$f":"I192+I192*Титул.лист!$A$1","v":0},{"$f":"J192+J192*Титул.лист!$P$2","v":0},0,2370,{"$f":"M192+M192*Титул.лист!$A$1","v":2607},{"$f":"N192+N192*Титул.лист!$P$2","v":2607},2610,2470,{"$f":"Q192+Q192*Титул.лист!$A$1","v":2717},{"$f":"R192+R192*Титул.лист!$P$2","v":2717},2720,2560,{"$f":"U192+U192*Титул.лист!$A$1","v":2816},{"$f":"V192+V192*Титул.лист!$P$2","v":2816},2820,2760,{"$f":"Y192+Y192*Титул.лист!$A$1","v":3036},{"$f":"Z192+Z192*Титул.лист!$P$2","v":3036},3040,2300,{"$f":"AC192+AC192*Титул.лист!$A$1","v":2530},{"$f":"AD192+AD192*Титул.лист!$P$2","v":2530},2530,2400,{"$f":"AG192+AG192*Титул.лист!$A$1","v":2640},{"$f":"AH192+AH192*Титул.лист!$P$2","v":2640},2640,2500,{"$f":"AK192+AK192*Титул.лист!$A$1","v":2750},{"$f":"AL192+AL192*Титул.лист!$P$2","v":2750},2750,3139.8679999999999,{"$f":"AO192+AO192*Титул.лист!$A$1","v":3453.8548000000001},{"$f":"AP192+AP192*Титул.лист!$P$2","v":3453.8548000000001},3450,3376.1480000000001,{"$f":"AS192+AS192*Титул.лист!$A$1","v":3713.7628000000004},{"$f":"AT192+AT192*Титул.лист!$P$2","v":3713.7628000000004},3710,2972.3240000000001,{"$f":"AW192+AW192*Титул.лист!$A$1","v":3269.5563999999999},{"$f":"AX192+AX192*Титул.лист!$P$2","v":3269.5563999999999},3270,3403.76,{"$f":"BA192+BA192*Титул.лист!$A$1","v":3744.1360000000004},{"$f":"BB192+BB192*Титул.лист!$P$2","v":3744.1360000000004},3740,4224.5600000000004,{"$f":"BE192+BE192*Титул.лист!$A$1","v":4647.0160000000005},{"$f":"BF192+BF192*Титул.лист!$P$2","v":4647.0160000000005},4650]
[null,null,350,"1206-35м",null,{"$f":"E193+E193*Титул.лист!$A$1","v":0},{"$f":"F193+F193*Титул.лист!$P$2","v":0},0,null,{"$f":"I193+I193*Титул.лист!$A$1","v":0},{"$f":"J193+J193*Титул.лист!$P$2","v":0},0,2490,{"$f":"M193+M193*Титул.лист!$A$1","v":2739},{"$f":"N193+N193*Титул.лист!$P$2","v":2739},2740,2570,{"$f":"Q193+Q193*Титул.лист!$A$1","v":2827},{"$f":"R193+R193*Титул.лист!$P$2","v":2827},2830,2680,{"$f":"U193+U193*Титул.лист!$A$1","v":2948},{"$f":"V193+V193*Титул.лист!$P$2","v":2948},2950,2880,{"$f":"Y193+Y193*Титул.лист!$A$1","v":3168},{"$f":"Z193+Z193*Титул.лист!$P$2","v":3168},3170,2400,{"$f":"AC193+AC193*Титул.лист!$A$1","v":2640},{"$f":"AD193+AD193*Титул.лист!$P$2","v":2640},2640,2500,{"$f":"AG193+AG193*Титул.лист!$A$1","v":2750},{"$f":"AH193+AH193*Титул.лист!$P$2","v":2750},2750,2600,{"$f":"AK193+AK193*Титул.лист!$A$1","v":2860},{"$f":"AL193+AL193*Титул.лист!$P$2","v":2860},2860,3379.846,{"$f":"AO193+AO193*Титул.лист!$A$1","v":3717.8306000000002},{"$f":"AP193+AP193*Титул.лист!$P$2","v":3717.8306000000002},3720,3655.5059999999999,{"$f":"AS193+AS193*Титул.лист!$A$1","v":4021.0565999999999},{"$f":"AT193+AT193*Титул.лист!$P$2","v":4021.0565999999999},4020,3184.3779999999997,{"$f":"AW193+AW193*Титул.лист!$A$1","v":3502.8157999999999},{"$f":"AX193+AX193*Титул.лист!$P$2","v":3502.8157999999999},3500,3687.7200000000003,{"$f":"BA193+BA193*Титул.лист!$A$1","v":4056.4920000000002},{"$f":"BB193+BB193*Титул.лист!$P$2","v":4056.4920000000002},4060,4645.32,{"$f":"BE193+BE193*Титул.лист!$A$1","v":5109.8519999999999},{"$f":"BF193+BF193*Титул.лист!$P$2","v":5109.8519999999999},5110]
[null,null,400,"1206-40м",null,{"$f":"E194+E194*Титул.лист!$A$1","v":0},{"$f":"F194+F194*Титул.лист!$P$2","v":0},0,null,{"$f":"I194+I194*Титул.лист!$A$1","v":0},{"$f":"J194+J194*Титул.лист!$P$2","v":0},0,2600,{"$f":"M194+M194*Титул.лист!$A$1","v":2860},{"$f":"N194+N194*Титул.лист!$P$2","v":2860},2860,2700,{"$f":"Q194+Q194*Титул.лист!$A$1","v":2970},{"$f":"R194+R194*Титул.лист!$P$2","v":2970},2970,2800,{"$f":"U194+U194*Титул.лист!$A$1","v":3080},{"$f":"V194+V194*Титул.лист!$P$2","v":3080},3080,3000,{"$f":"Y194+Y194*Титул.лист!$A$1","v":3300},{"$f":"Z194+Z194*Титул.лист!$P$2","v":3300},3300,2500,{"$f":"AC194+AC194*Титул.лист!$A$1","v":2750},{"$f":"AD194+AD194*Титул.лист!$P$2","v":2750},2750,2600,{"$f":"AG194+AG194*Титул.лист!$A$1","v":2860},{"$f":"AH194+AH194*Титул.лист!$P$2","v":2860},2860,2700,{"$f":"AK194+AK194*Титул.лист!$A$1","v":2970},{"$f":"AL194+AL194*Титул.лист!$P$2","v":2970},2970,3619.8239999999996,{"$f":"AO194+AO194*Титул.лист!$A$1","v":3981.8063999999995},{"$f":"AP194+AP194*Титул.лист!$P$2","v":3981.8063999999995},3980,3934.864,{"$f":"AS194+AS194*Титул.лист!$A$1","v":4328.3504000000003},{"$f":"AT194+AT194*Титул.лист!$P$2","v":4328.3504000000003},4330,3396.4319999999998,{"$f":"AW194+AW194*Титул.лист!$A$1","v":3736.0751999999998},{"$f":"AX194+AX194*Титул.лист!$P$2","v":3736.0751999999998},3740,3971.6800000000003,{"$f":"BA194+BA194*Титул.лист!$A$1","v":4368.848},{"$f":"BB194+BB194*Титул.лист!$P$2","v":4368.848},4370,5066.08,{"$f":"BE194+BE194*Титул.лист!$A$1","v":5572.6880000000001},{"$f":"BF194+BF194*Титул.лист!$P$2","v":5572.6880000000001},5570]
[null,null,500,"1206-50м",null,{"$f":"E195+E195*Титул.лист!$A$1","v":0},{"$f":"F195+F195*Титул.лист!$P$2","v":0},0,null,{"$f":"I195+I195*Титул.лист!$A$1","v":0},{"$f":"J195+J195*Титул.лист!$P$2","v":0},0,3800,{"$f":"M195+M195*Титул.лист!$A$1","v":4180},{"$f":"N195+N195*Титул.лист!$P$2","v":4180},4180,3900,{"$f":"Q195+Q195*Титул.лист!$A$1","v":4290},{"$f":"R195+R195*Титул.лист!$P$2","v":4290},4290,4160,{"$f":"U195+U195*Титул.лист!$A$1","v":4576},{"$f":"V195+V195*Титул.лист!$P$2","v":4576},4580,3360,{"$f":"Y195+Y195*Титул.лист!$A$1","v":3696},{"$f":"Z195+Z195*Титул.лист!$P$2","v":3696},3700,2800,{"$f":"AC195+AC195*Титул.лист!$A$1","v":3080},{"$f":"AD195+AD195*Титул.лист!$P$2","v":3080},3080,2900,{"$f":"AG195+AG195*Титул.лист!$A$1","v":3190},{"$f":"AH195+AH195*Титул.лист!$P$2","v":3190},3190,3000,{"$f":"AK195+AK195*Титул.лист!$A$1","v":3300},{"$f":"AL195+AL195*Титул.лист!$P$2","v":3300},3300,4199.78,{"$f":"AO195+AO195*Титул.лист!$A$1","v":4619.7579999999998},{"$f":"AP195+AP195*Титул.лист!$P$2","v":4619.7579999999998},4620,4593.58,{"$f":"AS195+AS195*Титул.лист!$A$1","v":5052.9380000000001},{"$f":"AT195+AT195*Титул.лист!$P$2","v":5052.9380000000001},5050,3920.54,{"$f":"AW195+AW195*Титул.лист!$A$1","v":4312.5940000000001},{"$f":"AX195+AX195*Титул.лист!$P$2","v":4312.5940000000001},4310,4639.6000000000004,{"$f":"BA195+BA195*Титул.лист!$A$1","v":5103.5600000000004},{"$f":"BB195+BB195*Титул.лист!$P$2","v":5103.5600000000004},5100,6007.6,{"$f":"BE195+BE195*Титул.лист!$A$1","v":6608.3600000000006},{"$f":"BF195+BF195*Титул.лист!$P$2","v":6608.3600000000006},6610]
[null,null,600,"1206-60м",null,{"$f":"E196+E196*Титул.лист!$A$1","v":0},{"$f":"F196+F196*Титул.лист!$P$2","v":0},{"$f":"ROUND(G196,-1)","v":0},null,{"$f":"I196+I196*Титул.лист!$A$1","v":0},{"$f":"J196+J196*Титул.лист!$P$2","v":0},{"$f":"ROUND(K196,-1)","v":0},3210,{"$f":"M196+M196*Титул.лист!$A$1","v":3531},{"$f":"N196+N196*Титул.лист!$P$2","v":3531},{"$f":"ROUND(O196,-1)","v":3530},3320,{"$f":"Q196+Q196*Титул.лист!$A$1","v":3652},{"$f":"R196+R196*Титул.лист!$P$2","v":3652},{"$f":"ROUND(S196,-1)","v":3650},3460,{"$f":"U196+U196*Титул.лист!$A$1","v":3806},{"$f":"V196+V196*Титул.лист!$P$2","v":3806},{"$f":"ROUND(W196,-1)","v":3810},3660,{"$f":"Y196+Y196*Титул.лист!$A$1","v":4026},{"$f":"Z196+Z196*Титул.лист!$P$2","v":4026},{"$f":"ROUND(AA196,-1)","v":4030},3050,{"$f":"AC196+AC196*Титул.лист!$A$1","v":3355},{"$f":"AD196+AD196*Титул.лист!$P$2","v":3355},{"$f":"ROUND(AE196,-1)","v":3360},3150,{"$f":"AG196+AG196*Титул.лист!$A$1","v":3465},{"$f":"AH196+AH196*Титул.лист!$P$2","v":3465},{"$f":"ROUND(AI196,-1)","v":3470},3250,{"$f":"AK196+AK196*Титул.лист!$A$1","v":3575},{"$f":"AL196+AL196*Титул.лист!$P$2","v":3575},{"$f":"ROUND(AM196,-1)","v":3580},4729.7359999999999,{"$f":"AO196+AO196*Титул.лист!$A$1","v":5202.7096000000001},{"$f":"AP196+AP196*Титул.лист!$P$2","v":5202.7096000000001},{"$f":"ROUND(AQ196,-1)","v":5200},5202.2960000000003,{"$f":"AS196+AS196*Титул.лист!$A$1","v":5722.5255999999999},{"$f":"AT196+AT196*Титул.лист!$P$2","v":5722.5255999999999},{"$f":"ROUND(AU196,-1)","v":5720},4394.6480000000001,{"$f":"AW196+AW196*Титул.лист!$A$1","v":4834.1127999999999},{"$f":"AX196+AX196*Титул.лист!$P$2","v":4834.1127999999999},{"$f":"ROUND(AY196,-1)","v":4830},5257.52,{"$f":"BA196+BA196*Титул.лист!$A$1","v":5783.2720000000008},{"$f":"BB196+BB196*Титул.лист!$P$2","v":5783.2720000000008},{"$f":"ROUND(BC196,-1)","v":5780},6899.1200000000008,{"$f":"BE196+BE196*Титул.лист!$A$1","v":7589.0320000000011},{"$f":"BF196+BF196*Титул.лист!$P$2","v":7589.0320000000011},{"$f":"ROUND(BG196,-1)","v":7590}]
[null,null,700,"1206-70м",null,{"$f":"E197+E197*Титул.лист!$A$1","v":0},{"$f":"F197+F197*Титул.лист!$P$2","v":0},0,null,{"$f":"I197+I197*Титул.лист!$A$1","v":0},{"$f":"J197+J197*Титул.лист!$P$2","v":0},0,3380,{"$f":"M197+M197*Титул.лист!$A$1","v":3718},{"$f":"N197+N197*Титул.лист!$P$2","v":3718},3720,3510,{"$f":"Q197+Q197*Титул.лист!$A$1","v":3861},{"$f":"R197+R197*Титул.лист!$P$2","v":3861},3860,3760,{"$f":"U197+U197*Титул.лист!$A$1","v":4136},{"$f":"V197+V197*Титул.лист!$P$2","v":4136},4140,3960,{"$f":"Y197+Y197*Титул.лист!$A$1","v":4356},{"$f":"Z197+Z197*Титул.лист!$P$2","v":4356},4360,3300,{"$f":"AC197+AC197*Титул.лист!$A$1","v":3630},{"$f":"AD197+AD197*Титул.лист!$P$2","v":3630},3630,3400,{"$f":"AG197+AG197*Титул.лист!$A$1","v":3740},{"$f":"AH197+AH197*Титул.лист!$P$2","v":3740},3740,3500,{"$f":"AK197+AK197*Титул.лист!$A$1","v":3850},{"$f":"AL197+AL197*Титул.лист!$P$2","v":3850},3850,5259.692,{"$f":"AO197+AO197*Титул.лист!$A$1","v":5785.6612000000005},{"$f":"AP197+AP197*Титул.лист!$P$2","v":5785.6612000000005},5790,5811.0119999999997,{"$f":"AS197+AS197*Титул.лист!$A$1","v":6392.1131999999998},{"$f":"AT197+AT197*Титул.лист!$P$2","v":6392.1131999999998},6390,4868.7559999999994,{"$f":"AW197+AW197*Титул.лист!$A$1","v":5355.6315999999997},{"$f":"AX197+AX197*Титул.лист!$P$2","v":5355.6315999999997},5360,5875.4400000000005,{"$f":"BA197+BA197*Титул.лист!$A$1","v":6462.9840000000004},{"$f":"BB197+BB197*Титул.лист!$P$2","v":6462.9840000000004},6460,7790.64,{"$f":"BE197+BE197*Титул.лист!$A$1","v":8569.7039999999997},{"$f":"BF197+BF197*Титул.лист!$P$2","v":8569.7039999999997},8570]
[null,null,800,"1206-80м",null,{"$f":"E198+E198*Титул.лист!$A$1","v":0},{"$f":"F198+F198*Титул.лист!$P$2","v":0},0,null,{"$f":"I198+I198*Титул.лист!$A$1","v":0},{"$f":"J198+J198*Титул.лист!$P$2","v":0},0,3700,{"$f":"M198+M198*Титул.лист!$A$1","v":4070},{"$f":"N198+N198*Титул.лист!$P$2","v":4070},4070,3800,{"$f":"Q198+Q198*Титул.лист!$A$1","v":4180},{"$f":"R198+R198*Титул.лист!$P$2","v":4180},4180,4000,{"$f":"U198+U198*Титул.лист!$A$1","v":4400},{"$f":"V198+V198*Титул.лист!$P$2","v":4400},4400,4200,{"$f":"Y198+Y198*Титул.лист!$A$1","v":4620},{"$f":"Z198+Z198*Титул.лист!$P$2","v":4620},4620,3500,{"$f":"AC198+AC198*Титул.лист!$A$1","v":3850},{"$f":"AD198+AD198*Титул.лист!$P$2","v":3850},3850,3600,{"$f":"AG198+AG198*Титул.лист!$A$1","v":3960},{"$f":"AH198+AH198*Титул.лист!$P$2","v":3960},3960,3700,{"$f":"AK198+AK198*Титул.лист!$A$1","v":4070},{"$f":"AL198+AL198*Титул.лист!$P$2","v":4070},4070,5739.6479999999992,{"$f":"AO198+AO198*Титул.лист!$A$1","v":6313.612799999999},{"$f":"AP198+AP198*Титул.лист!$P$2","v":6313.612799999999},6310,6369.7280000000001,{"$f":"AS198+AS198*Титул.лист!$A$1","v":7006.7008000000005},{"$f":"AT198+AT198*Титул.лист!$P$2","v":7006.7008000000005},7010,5292.8639999999996,{"$f":"AW198+AW198*Титул.лист!$A$1","v":5822.1503999999995},{"$f":"AX198+AX198*Титул.лист!$P$2","v":5822.1503999999995},5820,6443.3600000000006,{"$f":"BA198+BA198*Титул.лист!$A$1","v":7087.6960000000008},{"$f":"BB198+BB198*Титул.лист!$P$2","v":7087.6960000000008},7090,8632.16,{"$f":"BE198+BE198*Титул.лист!$A$1","v":9495.3760000000002},{"$f":"BF198+BF198*Титул.лист!$P$2","v":9495.3760000000002},9500]
[null,"Стол (400) рабочий 2 ящика\nметабокс",300,"1207-30м",null,{"$f":"E199+E199*Титул.лист!$A$1","v":0},{"$f":"F199+F199*Титул.лист!$P$2","v":0},0,null,{"$f":"I199+I199*Титул.лист!$A$1","v":0},{"$f":"J199+J199*Титул.лист!$P$2","v":0},0,1910,{"$f":"M199+M199*Титул.лист!$A$1","v":2101},{"$f":"N199+N199*Титул.лист!$P$2","v":2101},2100,2000,{"$f":"Q199+Q199*Титул.лист!$A$1","v":2200},{"$f":"R199+R199*Титул.лист!$P$2","v":2200},2200,2120,{"$f":"U199+U199*Титул.лист!$A$1","v":2332},{"$f":"V199+V199*Титул.лист!$P$2","v":2332},2330,2280,{"$f":"Y199+Y199*Титул.лист!$A$1","v":2508},{"$f":"Z199+Z199*Титул.лист!$P$2","v":2508},2510,1900,{"$f":"AC199+AC199*Титул.лист!$A$1","v":2090},{"$f":"AD199+AD199*Титул.лист!$P$2","v":2090},2090,2000,{"$f":"AG199+AG199*Титул.лист!$A$1","v":2200},{"$f":"AH199+AH199*Титул.лист!$P$2","v":2200},2200,2100,{"$f":"AK199+AK199*Титул.лист!$A$1","v":2310},{"$f":"AL199+AL199*Титул.лист!$P$2","v":2310},2310,2739.8679999999999,{"$f":"AO199+AO199*Титул.лист!$A$1","v":3013.8548000000001},{"$f":"AP199+AP199*Титул.лист!$P$2","v":3013.8548000000001},3010,2976.1480000000001,{"$f":"AS199+AS199*Титул.лист!$A$1","v":3273.7628},{"$f":"AT199+AT199*Титул.лист!$P$2","v":3273.7628},3270,2572.3240000000001,{"$f":"AW199+AW199*Титул.лист!$A$1","v":2829.5563999999999},{"$f":"AX199+AX199*Титул.лист!$P$2","v":2829.5563999999999},2830,3003.76,{"$f":"BA199+BA199*Титул.лист!$A$1","v":3304.1360000000004},{"$f":"BB199+BB199*Титул.лист!$P$2","v":3304.1360000000004},3300,3824.5600000000004,{"$f":"BE199+BE199*Титул.лист!$A$1","v":4207.0160000000005},{"$f":"BF199+BF199*Титул.лист!$P$2","v":4207.0160000000005},4210]
[null,null,350,"1207-35м",null,{"$f":"E200+E200*Титул.лист!$A$1","v":0},{"$f":"F200+F200*Титул.лист!$P$2","v":0},0,null,{"$f":"I200+I200*Титул.лист!$A$1","v":0},{"$f":"J200+J200*Титул.лист!$P$2","v":0},0,2000,{"$f":"M200+M200*Титул.лист!$A$1","v":2200},{"$f":"N200+N200*Титул.лист!$P$2","v":2200},2200,2180,{"$f":"Q200+Q200*Титул.лист!$A$1","v":2398},{"$f":"R200+R200*Титул.лист!$P$2","v":2398},2400,2280,{"$f":"U200+U200*Титул.лист!$A$1","v":2508},{"$f":"V200+V200*Титул.лист!$P$2","v":2508},2510,2400,{"$f":"Y200+Y200*Титул.лист!$A$1","v":2640},{"$f":"Z200+Z200*Титул.лист!$P$2","v":2640},2640,2000,{"$f":"AC200+AC200*Титул.лист!$A$1","v":2200},{"$f":"AD200+AD200*Титул.лист!$P$2","v":2200},2200,2100,{"$f":"AG200+AG200*Титул.лист!$A$1","v":2310},{"$f":"AH200+AH200*Титул.лист!$P$2","v":2310},2310,2200,{"$f":"AK200+AK200*Титул.лист!$A$1","v":2420},{"$f":"AL200+AL200*Титул.лист!$P$2","v":2420},2420,2979.846,{"$f":"AO200+AO200*Титул.лист!$A$1","v":3277.8306000000002},{"$f":"AP200+AP200*Титул.лист!$P$2","v":3277.8306000000002},3280,3255.5059999999999,{"$f":"AS200+AS200*Титул.лист!$A$1","v":3581.0565999999999},{"$f":"AT200+AT200*Титул.лист!$P$2","v":3581.0565999999999},3580,2784.3779999999997,{"$f":"AW200+AW200*Титул.лист!$A$1","v":3062.8157999999999},{"$f":"AX200+AX200*Титул.лист!$P$2","v":3062.8157999999999},3060,3287.7200000000003,{"$f":"BA200+BA200*Титул.лист!$A$1","v":3616.4920000000002},{"$f":"BB200+BB200*Титул.лист!$P$2","v":3616.4920000000002},3620,4245.32,{"$f":"BE200+BE200*Титул.лист!$A$1","v":4669.8519999999999},{"$f":"BF200+BF200*Титул.лист!$P$2","v":4669.8519999999999},4670]
[null,null,400,"1207-40м",null,{"$f":"E201+E201*Титул.лист!$A$1","v":0},{"$f":"F201+F201*Титул.лист!$P$2","v":0},0,null,{"$f":"I201+I201*Титул.лист!$A$1","v":0},{"$f":"J201+J201*Титул.лист!$P$2","v":0},0,2130,{"$f":"M201+M201*Титул.лист!$A$1","v":2343},{"$f":"N201+N201*Титул.лист!$P$2","v":2343},2340,2230,{"$f":"Q201+Q201*Титул.лист!$A$1","v":2453},{"$f":"R201+R201*Титул.лист!$P$2","v":2453},2450,2340,{"$f":"U201+U201*Титул.лист!$A$1","v":2574},{"$f":"V201+V201*Титул.лист!$P$2","v":2574},2570,2520,{"$f":"Y201+Y201*Титул.лист!$A$1","v":2772},{"$f":"Z201+Z201*Титул.лист!$P$2","v":2772},2770,2100,{"$f":"AC201+AC201*Титул.лист!$A$1","v":2310},{"$f":"AD201+AD201*Титул.лист!$P$2","v":2310},2310,2200,{"$f":"AG201+AG201*Титул.лист!$A$1","v":2420},{"$f":"AH201+AH201*Титул.лист!$P$2","v":2420},2420,2300,{"$f":"AK201+AK201*Титул.лист!$A$1","v":2530},{"$f":"AL201+AL201*Титул.лист!$P$2","v":2530},2530,3219.8239999999996,{"$f":"AO201+AO201*Титул.лист!$A$1","v":3541.8063999999995},{"$f":"AP201+AP201*Титул.лист!$P$2","v":3541.8063999999995},3540,3534.864,{"$f":"AS201+AS201*Титул.лист!$A$1","v":3888.3504000000003},{"$f":"AT201+AT201*Титул.лист!$P$2","v":3888.3504000000003},3890,2996.4319999999998,{"$f":"AW201+AW201*Титул.лист!$A$1","v":3296.0751999999998},{"$f":"AX201+AX201*Титул.лист!$P$2","v":3296.0751999999998},3300,3571.6800000000003,{"$f":"BA201+BA201*Титул.лист!$A$1","v":3928.8480000000004},{"$f":"BB201+BB201*Титул.лист!$P$2","v":3928.8480000000004},3930,4666.08,{"$f":"BE201+BE201*Титул.лист!$A$1","v":5132.6880000000001},{"$f":"BF201+BF201*Титул.лист!$P$2","v":5132.6880000000001},5130]
[null,null,450,"1207-45м",null,{"$f":"E202+E202*Титул.лист!$A$1","v":0},{"$f":"F202+F202*Титул.лист!$P$2","v":0},0,null,{"$f":"I202+I202*Титул.лист!$A$1","v":0},{"$f":"J202+J202*Титул.лист!$P$2","v":0},0,2240,{"$f":"M202+M202*Титул.лист!$A$1","v":2464},{"$f":"N202+N202*Титул.лист!$P$2","v":2464},2460,2380,{"$f":"Q202+Q202*Титул.лист!$A$1","v":2618},{"$f":"R202+R202*Титул.лист!$P$2","v":2618},2620,2500,{"$f":"U202+U202*Титул.лист!$A$1","v":2750},{"$f":"V202+V202*Титул.лист!$P$2","v":2750},2750,2760,{"$f":"Y202+Y202*Титул.лист!$A$1","v":3036},{"$f":"Z202+Z202*Титул.лист!$P$2","v":3036},3040,2300,{"$f":"AC202+AC202*Титул.лист!$A$1","v":2530},{"$f":"AD202+AD202*Титул.лист!$P$2","v":2530},2530,2400,{"$f":"AG202+AG202*Титул.лист!$A$1","v":2640},{"$f":"AH202+AH202*Титул.лист!$P$2","v":2640},2640,2500,{"$f":"AK202+AK202*Титул.лист!$A$1","v":2750},{"$f":"AL202+AL202*Титул.лист!$P$2","v":2750},2750,3559.8019999999997,{"$f":"AO202+AO202*Титул.лист!$A$1","v":3915.7821999999996},{"$f":"AP202+AP202*Титул.лист!$P$2","v":3915.7821999999996},3920,3914.2219999999998,{"$f":"AS202+AS202*Титул.лист!$A$1","v":4305.6441999999997},{"$f":"AT202+AT202*Титул.лист!$P$2","v":4305.6441999999997},4310,3308.4859999999999,{"$f":"AW202+AW202*Титул.лист!$A$1","v":3639.3346000000001},{"$f":"AX202+AX202*Титул.лист!$P$2","v":3639.3346000000001},3640,3955.6400000000003,{"$f":"BA202+BA202*Титул.лист!$A$1","v":4351.2040000000006},{"$f":"BB202+BB202*Титул.лист!$P$2","v":4351.2040000000006},4350,5186.84,{"$f":"BE202+BE202*Титул.лист!$A$1","v":5705.5240000000003},{"$f":"BF202+BF202*Титул.лист!$P$2","v":5705.5240000000003},5710]
[null,null,500,"1207-50м",null,{"$f":"E203+E203*Титул.лист!$A$1","v":0},{"$f":"F203+F203*Титул.лист!$P$2","v":0},0,null,{"$f":"I203+I203*Титул.лист!$A$1","v":0},{"$f":"J203+J203*Титул.лист!$P$2","v":0},0,2530,{"$f":"M203+M203*Титул.лист!$A$1","v":2783},{"$f":"N203+N203*Титул.лист!$P$2","v":2783},2780,2640,{"$f":"Q203+Q203*Титул.лист!$A$1","v":2904},{"$f":"R203+R203*Титул.лист!$P$2","v":2904},2900,2700,{"$f":"U203+U203*Титул.лист!$A$1","v":2970},{"$f":"V203+V203*Титул.лист!$P$2","v":2970},2970,2880,{"$f":"Y203+Y203*Титул.лист!$A$1","v":3168},{"$f":"Z203+Z203*Титул.лист!$P$2","v":3168},3170,2400,{"$f":"AC203+AC203*Титул.лист!$A$1","v":2640},{"$f":"AD203+AD203*Титул.лист!$P$2","v":2640},2640,2500,{"$f":"AG203+AG203*Титул.лист!$A$1","v":2750},{"$f":"AH203+AH203*Титул.лист!$P$2","v":2750},2750,2600,{"$f":"AK203+AK203*Титул.лист!$A$1","v":2860},{"$f":"AL203+AL203*Титул.лист!$P$2","v":2860},2860,3799.7799999999997,{"$f":"AO203+AO203*Титул.лист!$A$1","v":4179.7579999999998},{"$f":"AP203+AP203*Титул.лист!$P$2","v":4179.7579999999998},4180,4193.58,{"$f":"AS203+AS203*Титул.лист!$A$1","v":4612.9380000000001},{"$f":"AT203+AT203*Титул.лист!$P$2","v":4612.9380000000001},4610,3520.54,{"$f":"AW203+AW203*Титул.лист!$A$1","v":3872.5940000000001},{"$f":"AX203+AX203*Титул.лист!$P$2","v":3872.5940000000001},3870,4239.6000000000004,{"$f":"BA203+BA203*Титул.лист!$A$1","v":4663.5600000000004},{"$f":"BB203+BB203*Титул.лист!$P$2","v":4663.5600000000004},4660,5607.6,{"$f":"BE203+BE203*Титул.лист!$A$1","v":6168.3600000000006},{"$f":"BF203+BF203*Титул.лист!$P$2","v":6168.3600000000006},6170]
[null,null,600,"1207-60м",null,{"$f":"E204+E204*Титул.лист!$A$1","v":0},{"$f":"F204+F204*Титул.лист!$P$2","v":0},0,null,{"$f":"I204+I204*Титул.лист!$A$1","v":0},{"$f":"J204+J204*Титул.лист!$P$2","v":0},0,2680,{"$f":"M204+M204*Титул.лист!$A$1","v":2948},{"$f":"N204+N204*Титул.лист!$P$2","v":2948},2950,2780,{"$f":"Q204+Q204*Титул.лист!$A$1","v":3058},{"$f":"R204+R204*Титул.лист!$P$2","v":3058},3060,2900,{"$f":"U204+U204*Титул.лист!$A$1","v":3190},{"$f":"V204+V204*Титул.лист!$P$2","v":3190},3190,3120,{"$f":"Y204+Y204*Титул.лист!$A$1","v":3432},{"$f":"Z204+Z204*Титул.лист!$P$2","v":3432},3430,2600,{"$f":"AC204+AC204*Титул.лист!$A$1","v":2860},{"$f":"AD204+AD204*Титул.лист!$P$2","v":2860},2860,2700,{"$f":"AG204+AG204*Титул.лист!$A$1","v":2970},{"$f":"AH204+AH204*Титул.лист!$P$2","v":2970},2970,2800,{"$f":"AK204+AK204*Титул.лист!$A$1","v":3080},{"$f":"AL204+AL204*Титул.лист!$P$2","v":3080},3080,4279.7359999999999,{"$f":"AO204+AO204*Титул.лист!$A$1","v":4707.7096000000001},{"$f":"AP204+AP204*Титул.лист!$P$2","v":4707.7096000000001},4710,4752.2960000000003,{"$f":"AS204+AS204*Титул.лист!$A$1","v":5227.5255999999999},{"$f":"AT204+AT204*Титул.лист!$P$2","v":5227.5255999999999},5230,3944.6480000000001,{"$f":"AW204+AW204*Титул.лист!$A$1","v":4339.1127999999999},{"$f":"AX204+AX204*Титул.лист!$P$2","v":4339.1127999999999},4340,4807.5200000000004,{"$f":"BA204+BA204*Титул.лист!$A$1","v":5288.2720000000008},{"$f":"BB204+BB204*Титул.лист!$P$2","v":5288.2720000000008},5290,6449.1200000000008,{"$f":"BE204+BE204*Титул.лист!$A$1","v":7094.0320000000011},{"$f":"BF204+BF204*Титул.лист!$P$2","v":7094.0320000000011},7090]
[null,null,700,"1207-70м",null,{"$f":"E205+E205*Титул.лист!$A$1","v":0},{"$f":"F205+F205*Титул.лист!$P$2","v":0},0,null,{"$f":"I205+I205*Титул.лист!$A$1","v":0},{"$f":"J205+J205*Титул.лист!$P$2","v":0},0,3000,{"$f":"M205+M205*Титул.лист!$A$1","v":3300},{"$f":"N205+N205*Титул.лист!$P$2","v":3300},3300,3120,{"$f":"Q205+Q205*Титул.лист!$A$1","v":3432},{"$f":"R205+R205*Титул.лист!$P$2","v":3432},3430,3300,{"$f":"U205+U205*Титул.лист!$A$1","v":3630},{"$f":"V205+V205*Титул.лист!$P$2","v":3630},3630,3420,{"$f":"Y205+Y205*Титул.лист!$A$1","v":3762},{"$f":"Z205+Z205*Титул.лист!$P$2","v":3762},3760,2850,{"$f":"AC205+AC205*Титул.лист!$A$1","v":3135},{"$f":"AD205+AD205*Титул.лист!$P$2","v":3135},3140,2950,{"$f":"AG205+AG205*Титул.лист!$A$1","v":3245},{"$f":"AH205+AH205*Титул.лист!$P$2","v":3245},3250,3100,{"$f":"AK205+AK205*Титул.лист!$A$1","v":3410},{"$f":"AL205+AL205*Титул.лист!$P$2","v":3410},3410,4809.692,{"$f":"AO205+AO205*Титул.лист!$A$1","v":5290.6612000000005},{"$f":"AP205+AP205*Титул.лист!$P$2","v":5290.6612000000005},5290,5361.0119999999997,{"$f":"AS205+AS205*Титул.лист!$A$1","v":5897.1131999999998},{"$f":"AT205+AT205*Титул.лист!$P$2","v":5897.1131999999998},5900,4418.7559999999994,{"$f":"AW205+AW205*Титул.лист!$A$1","v":4860.6315999999997},{"$f":"AX205+AX205*Титул.лист!$P$2","v":4860.6315999999997},4860,5425.4400000000005,{"$f":"BA205+BA205*Титул.лист!$A$1","v":5967.9840000000004},{"$f":"BB205+BB205*Титул.лист!$P$2","v":5967.9840000000004},5970,7340.64,{"$f":"BE205+BE205*Титул.лист!$A$1","v":8074.7040000000006},{"$f":"BF205+BF205*Титул.лист!$P$2","v":8074.7040000000006},8070]
[null,null,800,"1207-80м",null,{"$f":"E206+E206*Титул.лист!$A$1","v":0},{"$f":"F206+F206*Титул.лист!$P$2","v":0},0,null,{"$f":"I206+I206*Титул.лист!$A$1","v":0},{"$f":"J206+J206*Титул.лист!$P$2","v":0},0,3240,{"$f":"M206+M206*Титул.лист!$A$1","v":3564},{"$f":"N206+N206*Титул.лист!$P$2","v":3564},3560,3370,{"$f":"Q206+Q206*Титул.лист!$A$1","v":3707},{"$f":"R206+R206*Титул.лист!$P$2","v":3707},3710,3520,{"$f":"U206+U206*Титул.лист!$A$1","v":3872},{"$f":"V206+V206*Титул.лист!$P$2","v":3872},3870,3660,{"$f":"Y206+Y206*Титул.лист!$A$1","v":4026},{"$f":"Z206+Z206*Титул.лист!$P$2","v":4026},4030,3050,{"$f":"AC206+AC206*Титул.лист!$A$1","v":3355},{"$f":"AD206+AD206*Титул.лист!$P$2","v":3355},3360,3150,{"$f":"AG206+AG206*Титул.лист!$A$1","v":3465},{"$f":"AH206+AH206*Титул.лист!$P$2","v":3465},3470,3250,{"$f":"AK206+AK206*Титул.лист!$A$1","v":3575},{"$f":"AL206+AL206*Титул.лист!$P$2","v":3575},3580,5289.6479999999992,{"$f":"AO206+AO206*Титул.лист!$A$1","v":5818.612799999999},{"$f":"AP206+AP206*Титул.лист!$P$2","v":5818.612799999999},5820,5919.7280000000001,{"$f":"AS206+AS206*Титул.лист!$A$1","v":6511.7008000000005},{"$f":"AT206+AT206*Титул.лист!$P$2","v":6511.7008000000005},6510,4842.8639999999996,{"$f":"AW206+AW206*Титул.лист!$A$1","v":5327.1503999999995},{"$f":"AX206+AX206*Титул.лист!$P$2","v":5327.1503999999995},5330,5993.3600000000006,{"$f":"BA206+BA206*Титул.лист!$A$1","v":6592.6960000000008},{"$f":"BB206+BB206*Титул.лист!$P$2","v":6592.6960000000008},6590,8182.1600000000008,{"$f":"BE206+BE206*Титул.лист!$A$1","v":9000.3760000000002},{"$f":"BF206+BF206*Титул.лист!$P$2","v":9000.3760000000002},9000]
["Столы АЖУРЫ"]
[null,"Стол под мойку врезную\nфальшпанель 1дв Ажур",600,"2101-60",3540,{"$f":"E208+E208*Титул.лист!$A$1","v":3894},{"$f":"F208+F208*Титул.лист!$P$2","v":3894},3890,3620,{"$f":"I208+I208*Титул.лист!$A$1","v":3982},{"$f":"J208+J208*Титул.лист!$P$2","v":3982},3980,4000,{"$f":"M208+M208*Титул.лист!$A$1","v":4400},{"$f":"N208+N208*Титул.лист!$P$2","v":4400},4400,4090,{"$f":"Q208+Q208*Титул.лист!$A$1","v":4499},{"$f":"R208+R208*Титул.лист!$P$2","v":4499},4500,4340,{"$f":"U208+U208*Титул.лист!$A$1","v":4774},{"$f":"V208+V208*Титул.лист!$P$2","v":4774},4770,4430,{"$f":"Y208+Y208*Титул.лист!$A$1","v":4873},{"$f":"Z208+Z208*Титул.лист!$P$2","v":4873},4870,4010,{"$f":"AC208+AC208*Титул.лист!$A$1","v":4411},{"$f":"AD208+AD208*Титул.лист!$P$2","v":4411},4410,4140,{"$f":"AG208+AG208*Титул.лист!$A$1","v":4554},{"$f":"AH208+AH208*Титул.лист!$P$2","v":4554},4550,4220,{"$f":"AK208+AK208*Титул.лист!$A$1","v":4642},{"$f":"AL208+AL208*Титул.лист!$P$2","v":4642},4640,null,{"$f":"AO208+AO208*Титул.лист!$A$1","v":0},{"$f":"AP208+AP208*Титул.лист!$P$2","v":0}]
[null,"Стол  1ящ(глух) 1дв (вставка Ажур)",600,"2102-60",3715,{"$f":"E209+E209*Титул.лист!$A$1","v":4086.5},{"$f":"F209+F209*Титул.лист!$P$2","v":4086.5},4090,3795,{"$f":"I209+I209*Титул.лист!$A$1","v":4174.5},{"$f":"J209+J209*Титул.лист!$P$2","v":4174.5},4170,4175,{"$f":"M209+M209*Титул.лист!$A$1","v":4592.5},{"$f":"N209+N209*Титул.лист!$P$2","v":4592.5},4590,4265,{"$f":"Q209+Q209*Титул.лист!$A$1","v":4691.5},{"$f":"R209+R209*Титул.лист!$P$2","v":4691.5},4690,4515,{"$f":"U209+U209*Титул.лист!$A$1","v":4966.5},{"$f":"V209+V209*Титул.лист!$P$2","v":4966.5},4970,4600,{"$f":"Y209+Y209*Титул.лист!$A$1","v":5060},{"$f":"Z209+Z209*Титул.лист!$P$2","v":5060},5060,4180,{"$f":"AC209+AC209*Титул.лист!$A$1","v":4598},{"$f":"AD209+AD209*Титул.лист!$P$2","v":4598},4600,4320,{"$f":"AG209+AG209*Титул.лист!$A$1","v":4752},{"$f":"AH209+AH209*Титул.лист!$P$2","v":4752},4750,4400,{"$f":"AK209+AK209*Титул.лист!$A$1","v":4840},{"$f":"AL209+AL209*Титул.лист!$P$2","v":4840},4840,null,{"$f":"AO209+AO209*Титул.лист!$A$1","v":0},{"$f":"AP209+AP209*Титул.лист!$P$2","v":0}]
[null,"Стол 1 дв.(вставка Ажур)",400,"2103-40",3090,{"$f":"E210+E210*Титул.лист!$A$1","v":3399},{"$f":"F210+F210*Титул.лист!$P$2","v":3399},3400,3150,{"$f":"I210+I210*Титул.лист!$A$1","v":3465},{"$f":"J210+J210*Титул.лист!$P$2","v":3465},3470,3390,{"$f":"M210+M210*Титул.лист!$A$1","v":3729},{"$f":"N210+N210*Титул.лист!$P$2","v":3729},3730,3440,{"$f":"Q210+Q210*Титул.лист!$A$1","v":3784},{"$f":"R210+R210*Титул.лист!$P$2","v":3784},3780,3620,{"$f":"U210+U210*Титул.лист!$A$1","v":3982},{"$f":"V210+V210*Титул.лист!$P$2","v":3982},3980,3670,{"$f":"Y210+Y210*Титул.лист!$A$1","v":4037},{"$f":"Z210+Z210*Титул.лист!$P$2","v":4037},4040,3420,{"$f":"AC210+AC210*Титул.лист!$A$1","v":3762},{"$f":"AD210+AD210*Титул.лист!$P$2","v":3762},3760,3520,{"$f":"AG210+AG210*Титул.лист!$A$1","v":3872},{"$f":"AH210+AH210*Титул.лист!$P$2","v":3872},3870,3550,{"$f":"AK210+AK210*Титул.лист!$A$1","v":3905},{"$f":"AL210+AL210*Титул.лист!$P$2","v":3905},3910,null,{"$f":"AO210+AO210*Титул.лист!$A$1","v":0},{"$f":"AP210+AP210*Титул.лист!$P$2","v":0}]
[null,"Стол \n1 ящ. 1 дверь (вставка Ажур)",400,"2104-40",3330,{"$f":"E211+E211*Титул.лист!$A$1","v":3663},{"$f":"F211+F211*Титул.лист!$P$2","v":3663},3660,3410,{"$f":"I211+I211*Титул.лист!$A$1","v":3751},{"$f":"J211+J211*Титул.лист!$P$2","v":3751},3750,3630,{"$f":"M211+M211*Титул.лист!$A$1","v":3993},{"$f":"N211+N211*Титул.лист!$P$2","v":3993},3990,3710,{"$f":"Q211+Q211*Титул.лист!$A$1","v":4081},{"$f":"R211+R211*Титул.лист!$P$2","v":4081},4080,3860,{"$f":"U211+U211*Титул.лист!$A$1","v":4246},{"$f":"V211+V211*Титул.лист!$P$2","v":4246},4250,3940,{"$f":"Y211+Y211*Титул.лист!$A$1","v":4334},{"$f":"Z211+Z211*Титул.лист!$P$2","v":4334},4330,3660,{"$f":"AC211+AC211*Титул.лист!$A$1","v":4026},{"$f":"AD211+AD211*Титул.лист!$P$2","v":4026},4030,3760,{"$f":"AG211+AG211*Титул.лист!$A$1","v":4136},{"$f":"AH211+AH211*Титул.лист!$P$2","v":4136},4140,3790,{"$f":"AK211+AK211*Титул.лист!$A$1","v":4169},{"$f":"AL211+AL211*Титул.лист!$P$2","v":4169},4170,null,{"$f":"AO211+AO211*Титул.лист!$A$1","v":0},{"$f":"AP211+AP211*Титул.лист!$P$2","v":0}]
[null,"Стол 1дв.(вставка) Ажур H=1020",600,"2105-60",{"$f":"E30*0.1+E30+2600","v":4822},{"$f":"E212+E212*Титул.лист!$A$1","v":5304.2},{"$f":"F212+F212*Титул.лист!$P$2","v":5304.2},5300,{"$f":"I30*0.1+I30+2600","v":4899},{"$f":"I212+I212*Титул.лист!$A$1","v":5388.9},{"$f":"J212+J212*Титул.лист!$P$2","v":5388.9},5390,{"$f":"M30*0.1+M30+2600","v":5339},{"$f":"M212+M212*Титул.лист!$A$1","v":5872.9},{"$f":"N212+N212*Титул.лист!$P$2","v":5872.9},5870,{"$f":"Q30*0.1+Q30+2600","v":5407.2},{"$f":"Q212+Q212*Титул.лист!$A$1","v":5947.92},{"$f":"R212+R212*Титул.лист!$P$2","v":5947.92},5950,{"$f":"U30*0.1+U30+2600","v":5713},{"$f":"U212+U212*Титул.лист!$A$1","v":6284.3},{"$f":"V212+V212*Титул.лист!$P$2","v":6284.3},6280,{"$f":"Y30*0.1+Y30+2600","v":5779},{"$f":"Y212+Y212*Титул.лист!$A$1","v":6356.9},{"$f":"Z212+Z212*Титул.лист!$P$2","v":6356.9},6360,{"$f":"AC30*0.1+AC30+2600","v":5372},{"$f":"AC212+AC212*Титул.лист!$A$1","v":5909.2},{"$f":"AD212+AD212*Титул.лист!$P$2","v":5909.2},5910,5537,{"$f":"AG212+AG212*Титул.лист!$A$1","v":6090.7},{"$f":"AH212+AH212*Титул.лист!$P$2","v":6090.7},6090,5603,{"$f":"AK212+AK212*Титул.лист!$A$1","v":6163.3},{"$f":"AL212+AL212*Титул.лист!$P$2","v":6163.3},6160,null,{"$f":"AO212+AO212*Титул.лист!$A$1","v":0},{"$f":"AP212+AP212*Титул.лист!$P$2","v":0}]

{"sheet":"Шкафы","index":3,"n_rows":436,"n_cols":61,"rows_kept":436,"cut":false,"hidden":false,"merged":[[256,0,266,0],[256,1,266,1],[256,3,266,3],[351,0,368,0],[351,1,359,1],[351,3,359,3],[360,1,368,1],[360,3,368,3],[369,0,382,0],[369,1,375,1],[369,3,375,3],[328,3,336,3],[319,1,336,1],[319,0,336,0],[337,0,350,0],[337,1,343,1],[337,3,343,3],[129,0,152,0],[300,0,309,0],[289,0,299,0],[246,0,252,0],[159,0,177,0],[415,1,416,1],[310,0,312,0],[310,1,312,1],[240,0,245,0],[240,1,245,1],[267,0,277,0],[267,1,277,1],[278,0,288,0],[278,1,288,1],[383,0,390,0],[383,1,390,1],[391,0,396,0],[391,1,393,1],[313,0,315,0],[313,1,315,1],[316,0,318,0],[316,1,318,1],[394,1,396,1],[376,1,382,1],[232,0,233,0],[232,1,233,1],[289,3,299,3],[289,1,299,1],[267,3,277,3],[434,0,435,0],[397,0,402,0],[403,0,408,0],[409,0,411,0],[413,0,414,0],[417,0,418,0],[419,0,420,0],[415,0,416,0],[240,3,241,3],[242,3,243,3],[244,3,245,3],[278,3,288,3],[383,3,386,3],[387,3,390,3],[319,3,327,3],[391,3,393,3],[394,3,396,3],[376,3,382,3],[253,0,255,0],[9,0,12,0],[13,0,21,0],[22,0,24,0],[178,0,198,0],[153,0,158,0],[88,0,115,0],[344,1,350,1],[344,3,350,3],[199,0,218,0],[199,1,218,1],[199,3,207,3],[208,3,218,3],[234,0,239,0],[234,1,239,1],[234,3,235,3],[236,3,237,3],[238,3,239,3],[219,0,224,0],[219,1,224,1],[219,3,221,3],[222,3,224,3],[225,0,231,0],[225,1,231,1],[225,3,227,3],[94,3,99,3],[100,3,107,3],[108,3,115,3],[116,0,126,0],[116,1,126,1],[116,3,118,3],[119,3,122,3],[123,3,126,3],[88,3,93,3],[88,1,115,1],[70,0,87,0],[70,1,87,1],[70,3,78,3],[79,3,87,3],[23,3,24,3],[25,0,33,0],[25,1,33,1],[25,3,27,3],[28,3,30,3],[31,3,33,3],[34,0,69,0],[34,1,69,1],[34,3,42,3],[43,3,51,3],[52,3,60,3],[61,3,69,3],[22,1,24,1],[434,1,435,1],[429,1,430,1],[423,1,425,1],[421,1,422,1],[419,1,420,1],[417,1,418,1],[413,1,414,1],[409,1,411,1],[406,3,408,3],[406,1,408,1],[412,0,412,60],[403,3,405,3],[403,1,405,1],[400,3,402,3],[400,1,402,1],[397,3,399,3],[397,1,399,1],[307,3,309,3],[303,3,306,3],[300,3,302,3],[300,1,309,1],[249,3,252,3],[246,3,248,3],[246,1,255,1],[191,3,198,3],[183,3,190,3],[178,3,182,3],[178,1,198,1],[171,3,177,3],[164,3,170,3],[228,3,231,3],[253,3,255,3],[159,3,163,3],[159,1,177,1],[156,3,158,3],[153,3,155,3],[153,1,158,1],[146,3,152,3],[139,3,145,3],[133,3,138,3],[127,3,132,3],[127,1,152,1],[19,3,21,3],[16,3,18,3],[13,3,15,3],[13,1,21,1],[11,3,12,3],[9,3,10,3],[9,1,12,1],[7,3,8,3],[5,3,6,3],[2,3,4,3],[2,1,8,1],[0,57,0,60],[0,53,0,56],[0,49,0,52],[0,45,0,48],[0,41,0,44],[1,0,1,60],[0,5,0,8],[0,9,0,12],[0,13,0,16],[0,17,0,20],[0,21,0,24],[0,25,0,28],[0,29,0,32],[0,33,0,36],[0,37,0,40],[2,0,8,0]]}
[null,null,"Размер","Высота  \nмодуля","Код изделия","ЛДСП ПВХ 0,45мм",null,null,null,"ЛДСП ПВХ 2мм",null,null,null,"Пластик 1к\nПВХ 0,45мм",null,null,null,"Пластик 1к\nПВХ 2мм",null,null,null,"Пластик 2к\nПВХ 0,45мм",null,null,null,"Пластик 2к\nПВХ 2мм",null,null,null,"МДФ\nмат.",null,null,null,"МДФ\nглян.",null,null,null,"МДФ\nметалл.",null,null,null,"МДФ+ ПАТИНА",null,null,null,"БАГЕТНАЯ",null,null,null,"БОСТОН ПВХ/фот.печ.",null,null,null,"БОСТОН \nЛАК",null,null,null,"БОСТОН \nЭМАЛЬ"]
["Шкафы навесные "]
[null,"Шкаф под посудосушитель 1дв ",400,"h 600","1315-40",690,{"$f":"F3+F3*Титул.лист!$A$1","v":759},{"$f":"G3+G3*Титул.лист!$P$2","v":759},{"$f":"ROUND(H3,-1)","v":760},740,{"$f":"J3+J3*Титул.лист!$A$1","v":814},{"$f":"K3+K3*Титул.лист!$P$2","v":814},{"$f":"ROUND(L3,-1)","v":810},960,{"$f":"N3+N3*Титул.лист!$A$1","v":1056},{"$f":"O3+O3*Титул.лист!$P$2","v":1056},{"$f":"ROUND(P3,-1)","v":1060},1000,{"$f":"R3+R3*Титул.лист!$A$1","v":1100},{"$f":"S3+S3*Титул.лист!$P$2","v":1100},{"$f":"ROUND(T3,-1)","v":1100},1140,{"$f":"V3+V3*Титул.лист!$A$1","v":1254},{"$f":"W3+W3*Титул.лист!$P$2","v":1254},{"$f":"ROUND(X3,-1)","v":1250},1190,{"$f":"Z3+Z3*Титул.лист!$A$1","v":1309},{"$f":"AA3+AA3*Титул.лист!$P$2","v":1309},{"$f":"ROUND(AB3,-1)","v":1310},960,{"$f":"AD3+AD3*Титул.лист!$A$1","v":1056},{"$f":"AE3+AE3*Титул.лист!$P$2","v":1056},{"$f":"ROUND(AF3,-1)","v":1060},1030,{"$f":"AH3+AH3*Титул.лист!$A$1","v":1133},{"$f":"AI3+AI3*Титул.лист!$P$2","v":1133},{"$f":"ROUND(AJ3,-1)","v":1130},1070,{"$f":"AL3+AL3*Титул.лист!$A$1","v":1177},{"$f":"AM3+AM3*Титул.лист!$P$2","v":1177},{"$f":"ROUND(AN3,-1)","v":1180},1898.4,{"$f":"AP3+AP3*Титул.лист!$A$1","v":2088.2400000000002},{"$f":"AQ3+AQ3*Титул.лист!$P$2","v":2088.2400000000002},{"$f":"ROUND(AR3,-1)","v":2090},2162.3999999999996,{"$f":"AT3+AT3*Титул.лист!$A$1","v":2378.6399999999994},{"$f":"AU3+AU3*Титул.лист!$P$2","v":2378.6399999999994},{"$f":"ROUND(AV3,-1)","v":2380},1711.1999999999998,{"$f":"AX3+AX3*Титул.лист!$A$1","v":1882.3199999999997},{"$f":"AY3+AY3*Титул.лист!$P$2","v":1882.3199999999997},{"$f":"ROUND(AZ3,-1)","v":1880},2186.3999999999996,{"$f":"BB3+BB3*Титул.лист!$A$1","v":2405.0399999999995},{"$f":"BC3+BC3*Титул.лист!$P$2","v":2405.0399999999995},{"$f":"ROUND(BD3,-1)","v":2410},3098.4,{"$f":"BF3+BF3*Титул.лист!$A$1","v":3408.2400000000002},{"$f":"BG3+BG3*Титул.лист!$P$2","v":3408.2400000000002},{"$f":"ROUND(BH3,-1)","v":3410}]
[null,null,500,null,"1315-50",770.00000000000011,{"$f":"F4+F4*Титул.лист!$A$1","v":847.00000000000011},{"$f":"G4+G4*Титул.лист!$P$2","v":847.00000000000011},{"$f":"ROUND(H4,-1)","v":850},830,{"$f":"J4+J4*Титул.лист!$A$1","v":913},{"$f":"K4+K4*Титул.лист!$P$2","v":913},{"$f":"ROUND(L4,-1)","v":910},1080,{"$f":"N4+N4*Титул.лист!$A$1","v":1188},{"$f":"O4+O4*Титул.лист!$P$2","v":1188},{"$f":"ROUND(P4,-1)","v":1190},1130,{"$f":"R4+R4*Титул.лист!$A$1","v":1243},{"$f":"S4+S4*Титул.лист!$P$2","v":1243},{"$f":"ROUND(T4,-1)","v":1240},1320,{"$f":"V4+V4*Титул.лист!$A$1","v":1452},{"$f":"W4+W4*Титул.лист!$P$2","v":1452},{"$f":"ROUND(X4,-1)","v":1450},1370,{"$f":"Z4+Z4*Титул.лист!$A$1","v":1507},{"$f":"AA4+AA4*Титул.лист!$P$2","v":1507},{"$f":"ROUND(AB4,-1)","v":1510},1120,{"$f":"AD4+AD4*Титул.лист!$A$1","v":1232},{"$f":"AE4+AE4*Титул.лист!$P$2","v":1232},{"$f":"ROUND(AF4,-1)","v":1230},1220,{"$f":"AH4+AH4*Титул.лист!$A$1","v":1342},{"$f":"AI4+AI4*Титул.лист!$P$2","v":1342},{"$f":"ROUND(AJ4,-1)","v":1340},1260,{"$f":"AL4+AL4*Титул.лист!$A$1","v":1386},{"$f":"AM4+AM4*Титул.лист!$P$2","v":1386},{"$f":"ROUND(AN4,-1)","v":1390},2293,{"$f":"AP4+AP4*Титул.лист!$A$1","v":2522.3000000000002},{"$f":"AQ4+AQ4*Титул.лист!$P$2","v":2522.3000000000002},{"$f":"ROUND(AR4,-1)","v":2520},2623,{"$f":"AT4+AT4*Титул.лист!$A$1","v":2885.3},{"$f":"AU4+AU4*Титул.лист!$P$2","v":2885.3},{"$f":"ROUND(AV4,-1)","v":2890},2059,{"$f":"AX4+AX4*Титул.лист!$A$1","v":2264.9},{"$f":"AY4+AY4*Титул.лист!$P$2","v":2264.9},{"$f":"ROUND(AZ4,-1)","v":2260},2653,{"$f":"BB4+BB4*Титул.лист!$A$1","v":2918.3},{"$f":"BC4+BC4*Титул.лист!$P$2","v":2918.3},{"$f":"ROUND(BD4,-1)","v":2920},3793,{"$f":"BF4+BF4*Титул.лист!$A$1","v":4172.3},{"$f":"BG4+BG4*Титул.лист!$P$2","v":4172.3},{"$f":"ROUND(BH4,-1)","v":4170}]
[null,null,600,null,"1315-60",860,{"$f":"F5+F5*Титул.лист!$A$1","v":946},{"$f":"G5+G5*Титул.лист!$P$2","v":946},950,910,{"$f":"J5+J5*Титул.лист!$A$1","v":1001},{"$f":"K5+K5*Титул.лист!$P$2","v":1001},1000,1230,{"$f":"N5+N5*Титул.лист!$A$1","v":1353},{"$f":"O5+O5*Титул.лист!$P$2","v":1353},1350,1290,{"$f":"R5+R5*Титул.лист!$A$1","v":1419},{"$f":"S5+S5*Титул.лист!$P$2","v":1419},1420,1530,{"$f":"V5+V5*Титул.лист!$A$1","v":1683},{"$f":"W5+W5*Титул.лист!$P$2","v":1683},1680,1580,{"$f":"Z5+Z5*Титул.лист!$A$1","v":1738},{"$f":"AA5+AA5*Титул.лист!$P$2","v":1738},1740,1280,{"$f":"AD5+AD5*Титул.лист!$A$1","v":1408},{"$f":"AE5+AE5*Титул.лист!$P$2","v":1408},1410,1400,{"$f":"AH5+AH5*Титул.лист!$A$1","v":1540},{"$f":"AI5+AI5*Титул.лист!$P$2","v":1540},1540,1440,{"$f":"AL5+AL5*Титул.лист!$A$1","v":1584},{"$f":"AM5+AM5*Титул.лист!$P$2","v":1584},1580,2687.6,{"$f":"AP5+AP5*Титул.лист!$A$1","v":2956.3599999999997},{"$f":"AQ5+AQ5*Титул.лист!$P$2","v":2956.3599999999997},2960,3083.6,{"$f":"AT5+AT5*Титул.лист!$A$1","v":3391.96},{"$f":"AU5+AU5*Титул.лист!$P$2","v":3391.96},3390,2406.8000000000002,{"$f":"AX5+AX5*Титул.лист!$A$1","v":2647.48},{"$f":"AY5+AY5*Титул.лист!$P$2","v":2647.48},2650,3119.6,{"$f":"BB5+BB5*Титул.лист!$A$1","v":3431.56},{"$f":"BC5+BC5*Титул.лист!$P$2","v":3431.56},3430,4487.6000000000004,{"$f":"BF5+BF5*Титул.лист!$A$1","v":4936.3600000000006},{"$f":"BG5+BG5*Титул.лист!$P$2","v":4936.3600000000006},4940]
[null,null,500,"h 720","1309-50",870,{"$f":"F6+F6*Титул.лист!$A$1","v":957},{"$f":"G6+G6*Титул.лист!$P$2","v":957},960,920,{"$f":"J6+J6*Титул.лист!$A$1","v":1012},{"$f":"K6+K6*Титул.лист!$P$2","v":1012},1010,1240,{"$f":"N6+N6*Титул.лист!$A$1","v":1364},{"$f":"O6+O6*Титул.лист!$P$2","v":1364},1360,1300,{"$f":"R6+R6*Титул.лист!$A$1","v":1430},{"$f":"S6+S6*Титул.лист!$P$2","v":1430},1430,1540.0000000000002,{"$f":"V6+V6*Титул.лист!$A$1","v":1694.0000000000002},{"$f":"W6+W6*Титул.лист!$P$2","v":1694.0000000000002},1690,1600,{"$f":"Z6+Z6*Титул.лист!$A$1","v":1760},{"$f":"AA6+AA6*Титул.лист!$P$2","v":1760},1760,1290,{"$f":"AD6+AD6*Титул.лист!$A$1","v":1419},{"$f":"AE6+AE6*Титул.лист!$P$2","v":1419},1420,1410,{"$f":"AH6+AH6*Титул.лист!$A$1","v":1551},{"$f":"AI6+AI6*Титул.лист!$P$2","v":1551},1550,1450,{"$f":"AL6+AL6*Титул.лист!$A$1","v":1595},{"$f":"AM6+AM6*Титул.лист!$P$2","v":1595},1600,2689.7799999999997,{"$f":"AP6+AP6*Титул.лист!$A$1","v":2958.7579999999998},{"$f":"AQ6+AQ6*Титул.лист!$P$2","v":2958.7579999999998},2960,3093.6000000000004,{"$f":"AT6+AT6*Титул.лист!$A$1","v":3402.9600000000005},{"$f":"AU6+AU6*Титул.лист!$P$2","v":3402.9600000000005},3400,2416.8000000000002,{"$f":"AX6+AX6*Титул.лист!$A$1","v":2658.48},{"$f":"AY6+AY6*Титул.лист!$P$2","v":2658.48},2660,3129.6000000000004,{"$f":"BB6+BB6*Титул.лист!$A$1","v":3442.5600000000004},{"$f":"BC6+BC6*Титул.лист!$P$2","v":3442.5600000000004},3440,4497.6000000000004,{"$f":"BF6+BF6*Титул.лист!$A$1","v":4947.3600000000006},{"$f":"BG6+BG6*Титул.лист!$P$2","v":4947.3600000000006},4950]
[null,null,600,null,"1309-60",950,{"$f":"F7+F7*Титул.лист!$A$1","v":1045},{"$f":"G7+G7*Титул.лист!$P$2","v":1045},1050,1010,{"$f":"J7+J7*Титул.лист!$A$1","v":1111},{"$f":"K7+K7*Титул.лист!$P$2","v":1111},1110,1410,{"$f":"N7+N7*Титул.лист!$A$1","v":1551},{"$f":"O7+O7*Титул.лист!$P$2","v":1551},1550,1470,{"$f":"R7+R7*Титул.лист!$A$1","v":1617},{"$f":"S7+S7*Титул.лист!$P$2","v":1617},1620,1750,{"$f":"V7+V7*Титул.лист!$A$1","v":1925},{"$f":"W7+W7*Титул.лист!$P$2","v":1925},1930,1820,{"$f":"Z7+Z7*Титул.лист!$A$1","v":2002},{"$f":"AA7+AA7*Титул.лист!$P$2","v":2002},2000,1440,{"$f":"AD7+AD7*Титул.лист!$A$1","v":1584},{"$f":"AE7+AE7*Титул.лист!$P$2","v":1584},1580,1590,{"$f":"AH7+AH7*Титул.лист!$A$1","v":1749},{"$f":"AI7+AI7*Титул.лист!$P$2","v":1749},1750,1650.0000000000002,{"$f":"AL7+AL7*Титул.лист!$A$1","v":1815.0000000000002},{"$f":"AM7+AM7*Титул.лист!$P$2","v":1815.0000000000002},1820,3119.7359999999999,{"$f":"AP7+AP7*Титул.лист!$A$1","v":3431.7096000000001},{"$f":"AQ7+AQ7*Титул.лист!$P$2","v":3431.7096000000001},3430,3604.32,{"$f":"AT7+AT7*Титул.лист!$A$1","v":3964.7520000000004},{"$f":"AU7+AU7*Титул.лист!$P$2","v":3964.7520000000004},3960,2792.16,{"$f":"AX7+AX7*Титул.лист!$A$1","v":3071.3759999999997},{"$f":"AY7+AY7*Титул.лист!$P$2","v":3071.3759999999997},3070,3647.5200000000004,{"$f":"BB7+BB7*Титул.лист!$A$1","v":4012.2720000000004},{"$f":"BC7+BC7*Титул.лист!$P$2","v":4012.2720000000004},4010,5289.1200000000008,{"$f":"BF7+BF7*Титул.лист!$A$1","v":5818.0320000000011},{"$f":"BG7+BG7*Титул.лист!$P$2","v":5818.0320000000011},5820]
[null,null,500,"h 920","1310-50",1090,{"$f":"F8+F8*Титул.лист!$A$1","v":1199},{"$f":"G8+G8*Титул.лист!$P$2","v":1199},1200,1150,{"$f":"J8+J8*Титул.лист!$A$1","v":1265},{"$f":"K8+K8*Титул.лист!$P$2","v":1265},1270,1570,{"$f":"N8+N8*Титул.лист!$A$1","v":1727},{"$f":"O8+O8*Титул.лист!$P$2","v":1727},1730,1640,{"$f":"R8+R8*Титул.лист!$A$1","v":1804},{"$f":"S8+S8*Титул.лист!$P$2","v":1804},1800,1950,{"$f":"V8+V8*Титул.лист!$A$1","v":2145},{"$f":"W8+W8*Титул.лист!$P$2","v":2145},2150,2010,{"$f":"Z8+Z8*Титул.лист!$A$1","v":2211},{"$f":"AA8+AA8*Титул.лист!$P$2","v":2211},2210,1630,{"$f":"AD8+AD8*Титул.лист!$A$1","v":1793},{"$f":"AE8+AE8*Титул.лист!$P$2","v":1793},1790,1780,{"$f":"AH8+AH8*Титул.лист!$A$1","v":1958},{"$f":"AI8+AI8*Титул.лист!$P$2","v":1958},1960,1850,{"$f":"AL8+AL8*Титул.лист!$A$1","v":2035},{"$f":"AM8+AM8*Титул.лист!$P$2","v":2035},2040,3420.7799999999997,{"$f":"AP8+AP8*Титул.лист!$A$1","v":3762.8579999999997},{"$f":"AQ8+AQ8*Титул.лист!$P$2","v":3762.8579999999997},3760,3934.6,{"$f":"AT8+AT8*Титул.лист!$A$1","v":4328.0599999999995},{"$f":"AU8+AU8*Титул.лист!$P$2","v":4328.0599999999995},4330,3069.8,{"$f":"AX8+AX8*Титул.лист!$A$1","v":3376.78},{"$f":"AY8+AY8*Титул.лист!$P$2","v":3376.78},3380,3980.6,{"$f":"BB8+BB8*Титул.лист!$A$1","v":4378.66},{"$f":"BC8+BC8*Титул.лист!$P$2","v":4378.66},4380,5728.6,{"$f":"BF8+BF8*Титул.лист!$A$1","v":6301.46},{"$f":"BG8+BG8*Титул.лист!$P$2","v":6301.46},6300]
[null,null,600,null,"1310-60",1210,{"$f":"F9+F9*Титул.лист!$A$1","v":1331},{"$f":"G9+G9*Титул.лист!$P$2","v":1331},1330,1290,{"$f":"J9+J9*Титул.лист!$A$1","v":1419},{"$f":"K9+K9*Титул.лист!$P$2","v":1419},1420,1780,{"$f":"N9+N9*Титул.лист!$A$1","v":1958},{"$f":"O9+O9*Титул.лист!$P$2","v":1958},1960,1860,{"$f":"R9+R9*Титул.лист!$A$1","v":2046},{"$f":"S9+S9*Титул.лист!$P$2","v":2046},2050,2230,{"$f":"V9+V9*Титул.лист!$A$1","v":2453},{"$f":"W9+W9*Титул.лист!$P$2","v":2453},2450,2310,{"$f":"Z9+Z9*Титул.лист!$A$1","v":2541},{"$f":"AA9+AA9*Титул.лист!$P$2","v":2541},2540,1850,{"$f":"AD9+AD9*Титул.лист!$A$1","v":2035},{"$f":"AE9+AE9*Титул.лист!$P$2","v":2035},2040,2030,{"$f":"AH9+AH9*Титул.лист!$A$1","v":2233},{"$f":"AI9+AI9*Титул.лист!$P$2","v":2233},2230,2120,{"$f":"AL9+AL9*Титул.лист!$A$1","v":2332},{"$f":"AM9+AM9*Титул.лист!$P$2","v":2332},2330,3998.9359999999997,{"$f":"AP9+AP9*Титул.лист!$A$1","v":4398.8296},{"$f":"AQ9+AQ9*Титул.лист!$P$2","v":4398.8296},4400,4615.5200000000004,{"$f":"AT9+AT9*Титул.лист!$A$1","v":5077.0720000000001},{"$f":"AU9+AU9*Титул.лист!$P$2","v":5077.0720000000001},5080,3577.76,{"$f":"AX9+AX9*Титул.лист!$A$1","v":3935.5360000000001},{"$f":"AY9+AY9*Титул.лист!$P$2","v":3935.5360000000001},3940,4670.72,{"$f":"BB9+BB9*Титул.лист!$A$1","v":5137.7920000000004},{"$f":"BC9+BC9*Титул.лист!$P$2","v":5137.7920000000004},5140,6768.3200000000006,{"$f":"BF9+BF9*Титул.лист!$A$1","v":7445.152000000001},{"$f":"BG9+BG9*Титул.лист!$P$2","v":7445.152000000001},7450]
[null,"Шкаф под посудосушитель 1дв 1ст",500,"h 720","1309-50с",1406,{"$f":"F10+F10*Титул.лист!$A$1","v":1546.6},{"$f":"G10+G10*Титул.лист!$P$2","v":1546.6},1550,1506,{"$f":"J10+J10*Титул.лист!$A$1","v":1656.6},{"$f":"K10+K10*Титул.лист!$P$2","v":1656.6},1660,1776,{"$f":"N10+N10*Титул.лист!$A$1","v":1953.6},{"$f":"O10+O10*Титул.лист!$P$2","v":1953.6},1950,1876,{"$f":"R10+R10*Титул.лист!$A$1","v":2063.6},{"$f":"S10+S10*Титул.лист!$P$2","v":2063.6},2060,2076,{"$f":"V10+V10*Титул.лист!$A$1","v":2283.6},{"$f":"W10+W10*Титул.лист!$P$2","v":2283.6},2280,2176,{"$f":"Z10+Z10*Титул.лист!$A$1","v":2393.6},{"$f":"AA10+AA10*Титул.лист!$P$2","v":2393.6},2390,1746,{"$f":"AD10+AD10*Титул.лист!$A$1","v":1920.6},{"$f":"AE10+AE10*Титул.лист!$P$2","v":1920.6},1920,1866,{"$f":"AH10+AH10*Титул.лист!$A$1","v":2052.6},{"$f":"AI10+AI10*Титул.лист!$P$2","v":2052.6},2050,1916,{"$f":"AL10+AL10*Титул.лист!$A$1","v":2107.6},{"$f":"AM10+AM10*Титул.лист!$P$2","v":2107.6},2110,3145.7799999999997,{"$f":"AP10+AP10*Титул.лист!$A$1","v":3460.3579999999997},{"$f":"AQ10+AQ10*Титул.лист!$P$2","v":3460.3579999999997},3460,3549.6000000000004,{"$f":"AT10+AT10*Титул.лист!$A$1","v":3904.5600000000004},{"$f":"AU10+AU10*Титул.лист!$P$2","v":3904.5600000000004},3900,2872.8,{"$f":"AX10+AX10*Титул.лист!$A$1","v":3160.0800000000004},{"$f":"AY10+AY10*Титул.лист!$P$2","v":3160.0800000000004},3160,3585.6000000000004,{"$f":"BB10+BB10*Титул.лист!$A$1","v":3944.1600000000003},{"$f":"BC10+BC10*Титул.лист!$P$2","v":3944.1600000000003},3940,4953.6000000000004,{"$f":"BF10+BF10*Титул.лист!$A$1","v":5448.96},{"$f":"BG10+BG10*Титул.лист!$P$2","v":5448.96},5450]
[null,null,600,null,"1309-60с",1585,{"$f":"F11+F11*Титул.лист!$A$1","v":1743.5},{"$f":"G11+G11*Титул.лист!$P$2","v":1743.5},1740,1685,{"$f":"J11+J11*Титул.лист!$A$1","v":1853.5},{"$f":"K11+K11*Титул.лист!$P$2","v":1853.5},1850,2055,{"$f":"N11+N11*Титул.лист!$A$1","v":2260.5},{"$f":"O11+O11*Титул.лист!$P$2","v":2260.5},2260,2155,{"$f":"R11+R11*Титул.лист!$A$1","v":2370.5},{"$f":"S11+S11*Титул.лист!$P$2","v":2370.5},2370,2395,{"$f":"V11+V11*Титул.лист!$A$1","v":2634.5},{"$f":"W11+W11*Титул.лист!$P$2","v":2634.5},2630,2495,{"$f":"Z11+Z11*Титул.лист!$A$1","v":2744.5},{"$f":"AA11+AA11*Титул.лист!$P$2","v":2744.5},2740,1995,{"$f":"AD11+AD11*Титул.лист!$A$1","v":2194.5},{"$f":"AE11+AE11*Титул.лист!$P$2","v":2194.5},2190,2155,{"$f":"AH11+AH11*Титул.лист!$A$1","v":2370.5},{"$f":"AI11+AI11*Титул.лист!$P$2","v":2370.5},2370,2205,{"$f":"AL11+AL11*Титул.лист!$A$1","v":2425.5},{"$f":"AM11+AM11*Титул.лист!$P$2","v":2425.5},2430,3674.7359999999999,{"$f":"AP11+AP11*Титул.лист!$A$1","v":4042.2096000000001},{"$f":"AQ11+AQ11*Титул.лист!$P$2","v":4042.2096000000001},4040,4159.32,{"$f":"AT11+AT11*Титул.лист!$A$1","v":4575.2519999999995},{"$f":"AU11+AU11*Титул.лист!$P$2","v":4575.2519999999995},4580,3347.16,{"$f":"AX11+AX11*Титул.лист!$A$1","v":3681.8759999999997},{"$f":"AY11+AY11*Титул.лист!$P$2","v":3681.8759999999997},3680,4202.5200000000004,{"$f":"BB11+BB11*Титул.лист!$A$1","v":4622.7720000000008},{"$f":"BC11+BC11*Титул.лист!$P$2","v":4622.7720000000008},4620,5844.1200000000008,{"$f":"BF11+BF11*Титул.лист!$A$1","v":6428.5320000000011},{"$f":"BG11+BG11*Титул.лист!$P$2","v":6428.5320000000011},6430]
[null,null,500,"h 920","1310-50С",1726.0000000000002,{"$f":"F12+F12*Титул.лист!$A$1","v":1898.6000000000004},{"$f":"G12+G12*Титул.лист!$P$2","v":1898.6000000000004},1900,1836.0000000000002,{"$f":"J12+J12*Титул.лист!$A$1","v":2019.6000000000004},{"$f":"K12+K12*Титул.лист!$P$2","v":2019.6000000000004},2020,2206,{"$f":"N12+N12*Титул.лист!$A$1","v":2426.6},{"$f":"O12+O12*Титул.лист!$P$2","v":2426.6},2430,2316,{"$f":"R12+R12*Титул.лист!$A$1","v":2547.6},{"$f":"S12+S12*Титул.лист!$P$2","v":2547.6},2550,2586,{"$f":"V12+V12*Титул.лист!$A$1","v":2844.6},{"$f":"W12+W12*Титул.лист!$P$2","v":2844.6},2840,2696,{"$f":"Z12+Z12*Титул.лист!$A$1","v":2965.6},{"$f":"AA12+AA12*Титул.лист!$P$2","v":2965.6},2970,2166,{"$f":"AD12+AD12*Титул.лист!$A$1","v":2382.6},{"$f":"AE12+AE12*Титул.лист!$P$2","v":2382.6},2380,2316,{"$f":"AH12+AH12*Титул.лист!$A$1","v":2547.6},{"$f":"AI12+AI12*Титул.лист!$P$2","v":2547.6},2550,2386,{"$f":"AL12+AL12*Титул.лист!$A$1","v":2624.6},{"$f":"AM12+AM12*Титул.лист!$P$2","v":2624.6},2620,3956.7799999999997,{"$f":"AP12+AP12*Титул.лист!$A$1","v":4352.4579999999996},{"$f":"AQ12+AQ12*Титул.лист!$P$2","v":4352.4579999999996},4350,4470.6000000000004,{"$f":"AT12+AT12*Титул.лист!$A$1","v":4917.6600000000008},{"$f":"AU12+AU12*Титул.лист!$P$2","v":4917.6600000000008},4920,3605.8,{"$f":"AX12+AX12*Титул.лист!$A$1","v":3966.38},{"$f":"AY12+AY12*Титул.лист!$P$2","v":3966.38},3970,4516.6000000000004,{"$f":"BB12+BB12*Титул.лист!$A$1","v":4968.26},{"$f":"BC12+BC12*Титул.лист!$P$2","v":4968.26},4970,6264.6,{"$f":"BF12+BF12*Титул.лист!$A$1","v":6891.06},{"$f":"BG12+BG12*Титул.лист!$P$2","v":6891.06},6890]
[null,null,600,null,"1310-60С",1965,{"$f":"F13+F13*Титул.лист!$A$1","v":2161.5},{"$f":"G13+G13*Титул.лист!$P$2","v":2161.5},2160,2085,{"$f":"J13+J13*Титул.лист!$A$1","v":2293.5},{"$f":"K13+K13*Титул.лист!$P$2","v":2293.5},2290,2535,{"$f":"N13+N13*Титул.лист!$A$1","v":2788.5},{"$f":"O13+O13*Титул.лист!$P$2","v":2788.5},2790,2655,{"$f":"R13+R13*Титул.лист!$A$1","v":2920.5},{"$f":"S13+S13*Титул.лист!$P$2","v":2920.5},2920,2985,{"$f":"V13+V13*Титул.лист!$A$1","v":3283.5},{"$f":"W13+W13*Титул.лист!$P$2","v":3283.5},3280,3105,{"$f":"Z13+Z13*Титул.лист!$A$1","v":3415.5},{"$f":"AA13+AA13*Титул.лист!$P$2","v":3415.5},3420,2495,{"$f":"AD13+AD13*Титул.лист!$A$1","v":2744.5},{"$f":"AE13+AE13*Титул.лист!$P$2","v":2744.5},2740,2675,{"$f":"AH13+AH13*Титул.лист!$A$1","v":2942.5},{"$f":"AI13+AI13*Титул.лист!$P$2","v":2942.5},2940,2765,{"$f":"AL13+AL13*Титул.лист!$A$1","v":3041.5},{"$f":"AM13+AM13*Титул.лист!$P$2","v":3041.5},3040,4643.9359999999997,{"$f":"AP13+AP13*Титул.лист!$A$1","v":5108.3296},{"$f":"AQ13+AQ13*Титул.лист!$P$2","v":5108.3296},5110,5260.52,{"$f":"AT13+AT13*Титул.лист!$A$1","v":5786.5720000000001},{"$f":"AU13+AU13*Титул.лист!$P$2","v":5786.5720000000001},5790,4222.76,{"$f":"AX13+AX13*Титул.лист!$A$1","v":4645.0360000000001},{"$f":"AY13+AY13*Титул.лист!$P$2","v":4645.0360000000001},4650,5315.72,{"$f":"BB13+BB13*Титул.лист!$A$1","v":5847.2920000000004},{"$f":"BC13+BC13*Титул.лист!$P$2","v":5847.2920000000004},5850,7413.3200000000006,{"$f":"BF13+BF13*Титул.лист!$A$1","v":8154.652000000001},{"$f":"BG13+BG13*Титул.лист!$P$2","v":8154.652000000001},8150]
[null,"Шкаф под посудосушитель 2дв.",600,"h 600","1422-60",900,{"$f":"F14+F14*Титул.лист!$A$1","v":990},{"$f":"G14+G14*Титул.лист!$P$2","v":990},990,990.00000000000011,{"$f":"J14+J14*Титул.лист!$A$1","v":1089.0000000000002},{"$f":"K14+K14*Титул.лист!$P$2","v":1089.0000000000002},1090,1290,{"$f":"N14+N14*Титул.лист!$A$1","v":1419},{"$f":"O14+O14*Титул.лист!$P$2","v":1419},1420,1370,{"$f":"R14+R14*Титул.лист!$A$1","v":1507},{"$f":"S14+S14*Титул.лист!$P$2","v":1507},1510,1580,{"$f":"V14+V14*Титул.лист!$A$1","v":1738},{"$f":"W14+W14*Титул.лист!$P$2","v":1738},1740,1670,{"$f":"Z14+Z14*Титул.лист!$A$1","v":1837},{"$f":"AA14+AA14*Титул.лист!$P$2","v":1837},1840,1310,{"$f":"AD14+AD14*Титул.лист!$A$1","v":1441},{"$f":"AE14+AE14*Титул.лист!$P$2","v":1441},1440,1430.0000000000002,{"$f":"AH14+AH14*Титул.лист!$A$1","v":1573.0000000000002},{"$f":"AI14+AI14*Титул.лист!$P$2","v":1573.0000000000002},1570,1470,{"$f":"AL14+AL14*Титул.лист!$A$1","v":1617},{"$f":"AM14+AM14*Титул.лист!$P$2","v":1617},1620,2708.2159999999999,{"$f":"AP14+AP14*Титул.лист!$A$1","v":2979.0375999999997},{"$f":"AQ14+AQ14*Титул.лист!$P$2","v":2979.0375999999997},2980,3113.6,{"$f":"AT14+AT14*Титул.лист!$A$1","v":3424.96},{"$f":"AU14+AU14*Титул.лист!$P$2","v":3424.96},3420,2436.8000000000002,{"$f":"AX14+AX14*Титул.лист!$A$1","v":2680.48},{"$f":"AY14+AY14*Титул.лист!$P$2","v":2680.48},2680,3149.6,{"$f":"BB14+BB14*Титул.лист!$A$1","v":3464.56},{"$f":"BC14+BC14*Титул.лист!$P$2","v":3464.56},3460,4517.6000000000004,{"$f":"BF14+BF14*Титул.лист!$A$1","v":4969.3600000000006},{"$f":"BG14+BG14*Титул.лист!$P$2","v":4969.3600000000006},4970]
[null,null,700,null,"1422-70",990.00000000000011,{"$f":"F15+F15*Титул.лист!$A$1","v":1089.0000000000002},{"$f":"G15+G15*Титул.лист!$P$2","v":1089.0000000000002},1090,1080,{"$f":"J15+J15*Титул.лист!$A$1","v":1188},{"$f":"K15+K15*Титул.лист!$P$2","v":1188},1190,1430.0000000000002,{"$f":"N15+N15*Титул.лист!$A$1","v":1573.0000000000002},{"$f":"O15+O15*Титул.лист!$P$2","v":1573.0000000000002},1570,1520,{"$f":"R15+R15*Титул.лист!$A$1","v":1672},{"$f":"S15+S15*Титул.лист!$P$2","v":1672},1670,1770,{"$f":"V15+V15*Титул.лист!$A$1","v":1947},{"$f":"W15+W15*Титул.лист!$P$2","v":1947},1950,1860,{"$f":"Z15+Z15*Титул.лист!$A$1","v":2046},{"$f":"AA15+AA15*Титул.лист!$P$2","v":2046},2050,1460,{"$f":"AD15+AD15*Титул.лист!$A$1","v":1606},{"$f":"AE15+AE15*Титул.лист!$P$2","v":1606},1610,1610,{"$f":"AH15+AH15*Титул.лист!$A$1","v":1771},{"$f":"AI15+AI15*Титул.лист!$P$2","v":1771},1770,1670,{"$f":"AL15+AL15*Титул.лист!$A$1","v":1837},{"$f":"AM15+AM15*Титул.лист!$P$2","v":1837},1840,3091.252,{"$f":"AP15+AP15*Титул.лист!$A$1","v":3400.3771999999999},{"$f":"AQ15+AQ15*Титул.лист!$P$2","v":3400.3771999999999},3400,3564.2,{"$f":"AT15+AT15*Титул.лист!$A$1","v":3920.62},{"$f":"AU15+AU15*Титул.лист!$P$2","v":3920.62},3920,2774.6,{"$f":"AX15+AX15*Титул.лист!$A$1","v":3052.06},{"$f":"AY15+AY15*Титул.лист!$P$2","v":3052.06},3050,3606.2,{"$f":"BB15+BB15*Титул.лист!$A$1","v":3966.8199999999997},{"$f":"BC15+BC15*Титул.лист!$P$2","v":3966.8199999999997},3970,5202.2,{"$f":"BF15+BF15*Титул.лист!$A$1","v":5722.42},{"$f":"BG15+BG15*Титул.лист!$P$2","v":5722.42},5720]
[null,null,800,null,"1422-80",1070,{"$f":"F16+F16*Титул.лист!$A$1","v":1177},{"$f":"G16+G16*Титул.лист!$P$2","v":1177},1180,1170,{"$f":"J16+J16*Титул.лист!$A$1","v":1287},{"$f":"K16+K16*Титул.лист!$P$2","v":1287},1290,1560,{"$f":"N16+N16*Титул.лист!$A$1","v":1716},{"$f":"O16+O16*Титул.лист!$P$2","v":1716},1720,1660,{"$f":"R16+R16*Титул.лист!$A$1","v":1826},{"$f":"S16+S16*Титул.лист!$P$2","v":1826},1830,1950,{"$f":"V16+V16*Титул.лист!$A$1","v":2145},{"$f":"W16+W16*Титул.лист!$P$2","v":2145},2150,2050,{"$f":"Z16+Z16*Титул.лист!$A$1","v":2255},{"$f":"AA16+AA16*Титул.лист!$P$2","v":2255},2260,1610,{"$f":"AD16+AD16*Титул.лист!$A$1","v":1771},{"$f":"AE16+AE16*Титул.лист!$P$2","v":1771},1770,1770,{"$f":"AH16+AH16*Титул.лист!$A$1","v":1947},{"$f":"AI16+AI16*Титул.лист!$P$2","v":1947},1950,1840,{"$f":"AL16+AL16*Титул.лист!$A$1","v":2024},{"$f":"AM16+AM16*Титул.лист!$P$2","v":2024},2020,3474.2879999999996,{"$f":"AP16+AP16*Титул.лист!$A$1","v":3821.7167999999997},{"$f":"AQ16+AQ16*Титул.лист!$P$2","v":3821.7167999999997},3820,4014.7999999999997,{"$f":"AT16+AT16*Титул.лист!$A$1","v":4416.28},{"$f":"AU16+AU16*Титул.лист!$P$2","v":4416.28},4420,3112.3999999999996,{"$f":"AX16+AX16*Титул.лист!$A$1","v":3423.6399999999994},{"$f":"AY16+AY16*Титул.лист!$P$2","v":3423.6399999999994},3420,4062.7999999999997,{"$f":"BB16+BB16*Титул.лист!$A$1","v":4469.08},{"$f":"BC16+BC16*Титул.лист!$P$2","v":4469.08},4470,5886.8,{"$f":"BF16+BF16*Титул.лист!$A$1","v":6475.4800000000005},{"$f":"BG16+BG16*Титул.лист!$P$2","v":6475.4800000000005},6480]
[null,null,600,"h 720","1411-60",1000,{"$f":"F17+F17*Титул.лист!$A$1","v":1100},{"$f":"G17+G17*Титул.лист!$P$2","v":1100},1100,1100,{"$f":"J17+J17*Титул.лист!$A$1","v":1210},{"$f":"K17+K17*Титул.лист!$P$2","v":1210},1210,1460,{"$f":"N17+N17*Титул.лист!$A$1","v":1606},{"$f":"O17+O17*Титул.лист!$P$2","v":1606},1610,1560,{"$f":"R17+R17*Титул.лист!$A$1","v":1716},{"$f":"S17+S17*Титул.лист!$P$2","v":1716},1720,1800,{"$f":"V17+V17*Титул.лист!$A$1","v":1980},{"$f":"W17+W17*Титул.лист!$P$2","v":1980},1980,1900,{"$f":"Z17+Z17*Титул.лист!$A$1","v":2090},{"$f":"AA17+AA17*Титул.лист!$P$2","v":2090},2090,1480,{"$f":"AD17+AD17*Титул.лист!$A$1","v":1628},{"$f":"AE17+AE17*Титул.лист!$P$2","v":1628},1630,1639.0000000000002,{"$f":"AH17+AH17*Титул.лист!$A$1","v":1802.9000000000003},{"$f":"AI17+AI17*Титул.лист!$P$2","v":1802.9000000000003},1800,1690,{"$f":"AL17+AL17*Титул.лист!$A$1","v":1859},{"$f":"AM17+AM17*Титул.лист!$P$2","v":1859},1860,3159.7359999999999,{"$f":"AP17+AP17*Титул.лист!$A$1","v":3475.7096000000001},{"$f":"AQ17+AQ17*Титул.лист!$P$2","v":3475.7096000000001},3480,3644.32,{"$f":"AT17+AT17*Титул.лист!$A$1","v":4008.7520000000004},{"$f":"AU17+AU17*Титул.лист!$P$2","v":4008.7520000000004},4010,2832.16,{"$f":"AX17+AX17*Титул.лист!$A$1","v":3115.3759999999997},{"$f":"AY17+AY17*Титул.лист!$P$2","v":3115.3759999999997},3120,3687.5200000000004,{"$f":"BB17+BB17*Титул.лист!$A$1","v":4056.2720000000004},{"$f":"BC17+BC17*Титул.лист!$P$2","v":4056.2720000000004},4060,5329.1200000000008,{"$f":"BF17+BF17*Титул.лист!$A$1","v":5862.0320000000011},{"$f":"BG17+BG17*Титул.лист!$P$2","v":5862.0320000000011},5860]
[null,null,700,null,"1411-70",1090,{"$f":"F18+F18*Титул.лист!$A$1","v":1199},{"$f":"G18+G18*Титул.лист!$P$2","v":1199},1200,1200,{"$f":"J18+J18*Титул.лист!$A$1","v":1320},{"$f":"K18+K18*Титул.лист!$P$2","v":1320},1320,1620,{"$f":"N18+N18*Титул.лист!$A$1","v":1782},{"$f":"O18+O18*Титул.лист!$P$2","v":1782},1780,1730,{"$f":"R18+R18*Титул.лист!$A$1","v":1903},{"$f":"S18+S18*Титул.лист!$P$2","v":1903},1900,2020,{"$f":"V18+V18*Титул.лист!$A$1","v":2222},{"$f":"W18+W18*Титул.лист!$P$2","v":2222},2220,2130,{"$f":"Z18+Z18*Титул.лист!$A$1","v":2343},{"$f":"AA18+AA18*Титул.лист!$P$2","v":2343},2340,1670,{"$f":"AD18+AD18*Титул.лист!$A$1","v":1837},{"$f":"AE18+AE18*Титул.лист!$P$2","v":1837},1840,1840,{"$f":"AH18+AH18*Титул.лист!$A$1","v":2024},{"$f":"AI18+AI18*Титул.лист!$P$2","v":2024},2020,1910,{"$f":"AL18+AL18*Титул.лист!$A$1","v":2101},{"$f":"AM18+AM18*Титул.лист!$P$2","v":2101},2100,3629.692,{"$f":"AP18+AP18*Титул.лист!$A$1","v":3992.6612},{"$f":"AQ18+AQ18*Титул.лист!$P$2","v":3992.6612},3990,4195.04,{"$f":"AT18+AT18*Титул.лист!$A$1","v":4614.5439999999999},{"$f":"AU18+AU18*Титул.лист!$P$2","v":4614.5439999999999},4610,3247.52,{"$f":"AX18+AX18*Титул.лист!$A$1","v":3572.2719999999999},{"$f":"AY18+AY18*Титул.лист!$P$2","v":3572.2719999999999},3570,4245.4400000000005,{"$f":"BB18+BB18*Титул.лист!$A$1","v":4669.9840000000004},{"$f":"BC18+BC18*Титул.лист!$P$2","v":4669.9840000000004},4670,6160.64,{"$f":"BF18+BF18*Титул.лист!$A$1","v":6776.7040000000006},{"$f":"BG18+BG18*Титул.лист!$P$2","v":6776.7040000000006},6780]
[null,null,800,null,"1411-80",1180,{"$f":"F19+F19*Титул.лист!$A$1","v":1298},{"$f":"G19+G19*Титул.лист!$P$2","v":1298},1300,1280,{"$f":"J19+J19*Титул.лист!$A$1","v":1408},{"$f":"K19+K19*Титул.лист!$P$2","v":1408},1410,1790,{"$f":"N19+N19*Титул.лист!$A$1","v":1969},{"$f":"O19+O19*Титул.лист!$P$2","v":1969},1970,1890,{"$f":"R19+R19*Титул.лист!$A$1","v":2079},{"$f":"S19+S19*Титул.лист!$P$2","v":2079},2080,2270,{"$f":"V19+V19*Титул.лист!$A$1","v":2497},{"$f":"W19+W19*Титул.лист!$P$2","v":2497},2500,2360,{"$f":"Z19+Z19*Титул.лист!$A$1","v":2596},{"$f":"AA19+AA19*Титул.лист!$P$2","v":2596},2600,1840,{"$f":"AD19+AD19*Титул.лист!$A$1","v":2024},{"$f":"AE19+AE19*Титул.лист!$P$2","v":2024},2020,2020,{"$f":"AH19+AH19*Титул.лист!$A$1","v":2222},{"$f":"AI19+AI19*Титул.лист!$P$2","v":2222},2220,2110,{"$f":"AL19+AL19*Титул.лист!$A$1","v":2321},{"$f":"AM19+AM19*Титул.лист!$P$2","v":2321},2320,4079.6479999999997,{"$f":"AP19+AP19*Титул.лист!$A$1","v":4487.6127999999999},{"$f":"AQ19+AQ19*Титул.лист!$P$2","v":4487.6127999999999},4490,4725.76,{"$f":"AT19+AT19*Титул.лист!$A$1","v":5198.3360000000002},{"$f":"AU19+AU19*Титул.лист!$P$2","v":5198.3360000000002},5200,3642.88,{"$f":"AX19+AX19*Титул.лист!$A$1","v":4007.1680000000001},{"$f":"AY19+AY19*Титул.лист!$P$2","v":4007.1680000000001},4010,4783.3600000000006,{"$f":"BB19+BB19*Титул.лист!$A$1","v":5261.6960000000008},{"$f":"BC19+BC19*Титул.лист!$P$2","v":5261.6960000000008},5260,6972.1600000000008,{"$f":"BF19+BF19*Титул.лист!$A$1","v":7669.3760000000011},{"$f":"BG19+BG19*Титул.лист!$P$2","v":7669.3760000000011},7670]
[null,null,600,"h 920","1412-60",1250,{"$f":"F20+F20*Титул.лист!$A$1","v":1375},{"$f":"G20+G20*Титул.лист!$P$2","v":1375},1380,1370,{"$f":"J20+J20*Титул.лист!$A$1","v":1507},{"$f":"K20+K20*Титул.лист!$P$2","v":1507},1510,1830,{"$f":"N20+N20*Титул.лист!$A$1","v":2013},{"$f":"O20+O20*Титул.лист!$P$2","v":2013},2010,1950,{"$f":"R20+R20*Титул.лист!$A$1","v":2145},{"$f":"S20+S20*Титул.лист!$P$2","v":2145},2150,2280,{"$f":"V20+V20*Титул.лист!$A$1","v":2508},{"$f":"W20+W20*Титул.лист!$P$2","v":2508},2510,2400,{"$f":"Z20+Z20*Титул.лист!$A$1","v":2640},{"$f":"AA20+AA20*Титул.лист!$P$2","v":2640},2640,1880,{"$f":"AD20+AD20*Титул.лист!$A$1","v":2068},{"$f":"AE20+AE20*Титул.лист!$P$2","v":2068},2070,2070,{"$f":"AH20+AH20*Титул.лист!$A$1","v":2277},{"$f":"AI20+AI20*Титул.лист!$P$2","v":2277},2280,2140,{"$f":"AL20+AL20*Титул.лист!$A$1","v":2354},{"$f":"AM20+AM20*Титул.лист!$P$2","v":2354},2350,4028.9359999999997,{"$f":"AP20+AP20*Титул.лист!$A$1","v":4431.8296},{"$f":"AQ20+AQ20*Титул.лист!$P$2","v":4431.8296},4430,4645.5200000000004,{"$f":"AT20+AT20*Титул.лист!$A$1","v":5110.0720000000001},{"$f":"AU20+AU20*Титул.лист!$P$2","v":5110.0720000000001},5110,3607.76,{"$f":"AX20+AX20*Титул.лист!$A$1","v":3968.5360000000001},{"$f":"AY20+AY20*Титул.лист!$P$2","v":3968.5360000000001},3970,4700.72,{"$f":"BB20+BB20*Титул.лист!$A$1","v":5170.7920000000004},{"$f":"BC20+BC20*Титул.лист!$P$2","v":5170.7920000000004},5170,6798.3200000000006,{"$f":"BF20+BF20*Титул.лист!$A$1","v":7478.152000000001},{"$f":"BG20+BG20*Титул.лист!$P$2","v":7478.152000000001},7480]
[null,null,700,null,"1412-80",1390,{"$f":"F21+F21*Титул.лист!$A$1","v":1529},{"$f":"G21+G21*Титул.лист!$P$2","v":1529},1530,1510,{"$f":"J21+J21*Титул.лист!$A$1","v":1661},{"$f":"K21+K21*Титул.лист!$P$2","v":1661},1660,2070,{"$f":"N21+N21*Титул.лист!$A$1","v":2277},{"$f":"O21+O21*Титул.лист!$P$2","v":2277},2280,2190,{"$f":"R21+R21*Титул.лист!$A$1","v":2409},{"$f":"S21+S21*Титул.лист!$P$2","v":2409},2410,2580,{"$f":"V21+V21*Титул.лист!$A$1","v":2838},{"$f":"W21+W21*Титул.лист!$P$2","v":2838},2840,2710,{"$f":"Z21+Z21*Титул.лист!$A$1","v":2981},{"$f":"AA21+AA21*Титул.лист!$P$2","v":2981},2980,2110,{"$f":"AD21+AD21*Титул.лист!$A$1","v":2321},{"$f":"AE21+AE21*Титул.лист!$P$2","v":2321},2320,2330,{"$f":"AH21+AH21*Титул.лист!$A$1","v":2563},{"$f":"AI21+AI21*Титул.лист!$P$2","v":2563},2560,2420,{"$f":"AL21+AL21*Титул.лист!$A$1","v":2662},{"$f":"AM21+AM21*Титул.лист!$P$2","v":2662},2660,4617.0920000000006,{"$f":"AP21+AP21*Титул.лист!$A$1","v":5078.8012000000008},{"$f":"AQ21+AQ21*Титул.лист!$P$2","v":5078.8012000000008},5080,5336.4400000000005,{"$f":"AT21+AT21*Титул.лист!$A$1","v":5870.0840000000007},{"$f":"AU21+AU21*Титул.лист!$P$2","v":5870.0840000000007},5870,4125.72,{"$f":"AX21+AX21*Титул.лист!$A$1","v":4538.2920000000004},{"$f":"AY21+AY21*Титул.лист!$P$2","v":4538.2920000000004},4540,5400.84,{"$f":"BB21+BB21*Титул.лист!$A$1","v":5940.924},{"$f":"BC21+BC21*Титул.лист!$P$2","v":5940.924},5940,7848.04,{"$f":"BF21+BF21*Титул.лист!$A$1","v":8632.844000000001},{"$f":"BG21+BG21*Титул.лист!$P$2","v":8632.844000000001},8630]
[null,null,800,null,"1412-80",1510,{"$f":"F22+F22*Титул.лист!$A$1","v":1661},{"$f":"G22+G22*Титул.лист!$P$2","v":1661},1660,1640,{"$f":"J22+J22*Титул.лист!$A$1","v":1804},{"$f":"K22+K22*Титул.лист!$P$2","v":1804},1800,2280,{"$f":"N22+N22*Титул.лист!$A$1","v":2508},{"$f":"O22+O22*Титул.лист!$P$2","v":2508},2510,2410,{"$f":"R22+R22*Титул.лист!$A$1","v":2651},{"$f":"S22+S22*Титул.лист!$P$2","v":2651},2650,2870,{"$f":"V22+V22*Титул.лист!$A$1","v":3157},{"$f":"W22+W22*Титул.лист!$P$2","v":3157},3160,3000,{"$f":"Z22+Z22*Титул.лист!$A$1","v":3300},{"$f":"AA22+AA22*Титул.лист!$P$2","v":3300},3300,2340,{"$f":"AD22+AD22*Титул.лист!$A$1","v":2574},{"$f":"AE22+AE22*Титул.лист!$P$2","v":2574},2570,2600,{"$f":"AH22+AH22*Титул.лист!$A$1","v":2860},{"$f":"AI22+AI22*Титул.лист!$P$2","v":2860},2860,2690,{"$f":"AL22+AL22*Титул.лист!$A$1","v":2959},{"$f":"AM22+AM22*Титул.лист!$P$2","v":2959},2960,5205.2479999999996,{"$f":"AP22+AP22*Титул.лист!$A$1","v":5725.7727999999997},{"$f":"AQ22+AQ22*Титул.лист!$P$2","v":5725.7727999999997},5730,6027.3600000000006,{"$f":"AT22+AT22*Титул.лист!$A$1","v":6630.0960000000005},{"$f":"AU22+AU22*Титул.лист!$P$2","v":6630.0960000000005},6630,4643.68,{"$f":"AX22+AX22*Титул.лист!$A$1","v":5108.0480000000007},{"$f":"AY22+AY22*Титул.лист!$P$2","v":5108.0480000000007},5110,6100.96,{"$f":"BB22+BB22*Титул.лист!$A$1","v":6711.0560000000005},{"$f":"BC22+BC22*Титул.лист!$P$2","v":6711.0560000000005},6710,8897.76,{"$f":"BF22+BF22*Титул.лист!$A$1","v":9787.5360000000001},{"$f":"BG22+BG22*Титул.лист!$P$2","v":9787.5360000000001},9790]
[null,"Шкаф под посудосушитель 2дв.2ст.",600,"h 720","1411-60С",1635,{"$f":"F23+F23*Титул.лист!$A$1","v":1798.5},{"$f":"G23+G23*Титул.лист!$P$2","v":1798.5},1800,1785,{"$f":"J23+J23*Титул.лист!$A$1","v":1963.5},{"$f":"K23+K23*Титул.лист!$P$2","v":1963.5},1960,2095,{"$f":"N23+N23*Титул.лист!$A$1","v":2304.5},{"$f":"O23+O23*Титул.лист!$P$2","v":2304.5},2300,2245,{"$f":"R23+R23*Титул.лист!$A$1","v":2469.5},{"$f":"S23+S23*Титул.лист!$P$2","v":2469.5},2470,2435,{"$f":"V23+V23*Титул.лист!$A$1","v":2678.5},{"$f":"W23+W23*Титул.лист!$P$2","v":2678.5},2680,2595,{"$f":"Z23+Z23*Титул.лист!$A$1","v":2854.5},{"$f":"AA23+AA23*Титул.лист!$P$2","v":2854.5},2850,1995,{"$f":"AD23+AD23*Титул.лист!$A$1","v":2194.5},{"$f":"AE23+AE23*Титул.лист!$P$2","v":2194.5},2190,2155,{"$f":"AH23+AH23*Титул.лист!$A$1","v":2370.5},{"$f":"AI23+AI23*Титул.лист!$P$2","v":2370.5},2370,2205,{"$f":"AL23+AL23*Титул.лист!$A$1","v":2425.5},{"$f":"AM23+AM23*Титул.лист!$P$2","v":2425.5},2430,3674.7359999999999,{"$f":"AP23+AP23*Титул.лист!$A$1","v":4042.2096000000001},{"$f":"AQ23+AQ23*Титул.лист!$P$2","v":4042.2096000000001},4040,4159.32,{"$f":"AT23+AT23*Титул.лист!$A$1","v":4575.2519999999995},{"$f":"AU23+AU23*Титул.лист!$P$2","v":4575.2519999999995},4580,3347.16,{"$f":"AX23+AX23*Титул.лист!$A$1","v":3681.8759999999997},{"$f":"AY23+AY23*Титул.лист!$P$2","v":3681.8759999999997},3680,3834.6,{"$f":"BB23+BB23*Титул.лист!$A$1","v":4218.0599999999995},{"$f":"BC23+BC23*Титул.лист!$P$2","v":4218.0599999999995},4220,5844.1200000000008,{"$f":"BF23+BF23*Титул.лист!$A$1","v":6428.5320000000011},{"$f":"BG23+BG23*Титул.лист!$P$2","v":6428.5320000000011},6430]
[null,null,600,"h 920","1412-60",2005,{"$f":"F24+F24*Титул.лист!$A$1","v":2205.5},{"$f":"G24+G24*Титул.лист!$P$2","v":2205.5},2210,2195,{"$f":"J24+J24*Титул.лист!$A$1","v":2414.5},{"$f":"K24+K24*Титул.лист!$P$2","v":2414.5},2410,2575,{"$f":"N24+N24*Титул.лист!$A$1","v":2832.5},{"$f":"O24+O24*Титул.лист!$P$2","v":2832.5},2830,2765,{"$f":"R24+R24*Титул.лист!$A$1","v":3041.5},{"$f":"S24+S24*Титул.лист!$P$2","v":3041.5},3040,3035,{"$f":"V24+V24*Титул.лист!$A$1","v":3338.5},{"$f":"W24+W24*Титул.лист!$P$2","v":3338.5},3340,3215,{"$f":"Z24+Z24*Титул.лист!$A$1","v":3536.5},{"$f":"AA24+AA24*Титул.лист!$P$2","v":3536.5},3540,2465,{"$f":"AD24+AD24*Титул.лист!$A$1","v":2711.5},{"$f":"AE24+AE24*Титул.лист!$P$2","v":2711.5},2710,2655,{"$f":"AH24+AH24*Титул.лист!$A$1","v":2920.5},{"$f":"AI24+AI24*Титул.лист!$P$2","v":2920.5},2920,2735,{"$f":"AL24+AL24*Титул.лист!$A$1","v":3008.5},{"$f":"AM24+AM24*Титул.лист!$P$2","v":3008.5},3010,4613.9359999999997,{"$f":"AP24+AP24*Титул.лист!$A$1","v":5075.3296},{"$f":"AQ24+AQ24*Титул.лист!$P$2","v":5075.3296},5080,5230.5200000000004,{"$f":"AT24+AT24*Титул.лист!$A$1","v":5753.5720000000001},{"$f":"AU24+AU24*Титул.лист!$P$2","v":5753.5720000000001},5750,4192.76,{"$f":"AX24+AX24*Титул.лист!$A$1","v":4612.0360000000001},{"$f":"AY24+AY24*Титул.лист!$P$2","v":4612.0360000000001},4610,5285.72,{"$f":"BB24+BB24*Титул.лист!$A$1","v":5814.2920000000004},{"$f":"BC24+BC24*Титул.лист!$P$2","v":5814.2920000000004},5810,7383.3200000000006,{"$f":"BF24+BF24*Титул.лист!$A$1","v":8121.652000000001},{"$f":"BG24+BG24*Титул.лист!$P$2","v":8121.652000000001},8120]
[null,null,800,null,"1412-80",2470,{"$f":"F25+F25*Титул.лист!$A$1","v":2717},{"$f":"G25+G25*Титул.лист!$P$2","v":2717},2720,2680,{"$f":"J25+J25*Титул.лист!$A$1","v":2948},{"$f":"K25+K25*Титул.лист!$P$2","v":2948},2950,3240,{"$f":"N25+N25*Титул.лист!$A$1","v":3564},{"$f":"O25+O25*Титул.лист!$P$2","v":3564},3560,3450,{"$f":"R25+R25*Титул.лист!$A$1","v":3795},{"$f":"S25+S25*Титул.лист!$P$2","v":3795},3800,3840,{"$f":"V25+V25*Титул.лист!$A$1","v":4224},{"$f":"W25+W25*Титул.лист!$P$2","v":4224},4220,4050,{"$f":"Z25+Z25*Титул.лист!$A$1","v":4455},{"$f":"AA25+AA25*Титул.лист!$P$2","v":4455},4460,3130,{"$f":"AD25+AD25*Титул.лист!$A$1","v":3443},{"$f":"AE25+AE25*Титул.лист!$P$2","v":3443},3440,3390,{"$f":"AH25+AH25*Титул.лист!$A$1","v":3729},{"$f":"AI25+AI25*Титул.лист!$P$2","v":3729},3730,3480,{"$f":"AL25+AL25*Титул.лист!$A$1","v":3828},{"$f":"AM25+AM25*Титул.лист!$P$2","v":3828},3830,5995.2479999999996,{"$f":"AP25+AP25*Титул.лист!$A$1","v":6594.7727999999997},{"$f":"AQ25+AQ25*Титул.лист!$P$2","v":6594.7727999999997},6590,6817.3600000000006,{"$f":"AT25+AT25*Титул.лист!$A$1","v":7499.0960000000005},{"$f":"AU25+AU25*Титул.лист!$P$2","v":7499.0960000000005},7500,5433.68,{"$f":"AX25+AX25*Титул.лист!$A$1","v":5977.0480000000007},{"$f":"AY25+AY25*Титул.лист!$P$2","v":5977.0480000000007},5980,6890.96,{"$f":"BB25+BB25*Титул.лист!$A$1","v":7580.0560000000005},{"$f":"BC25+BC25*Титул.лист!$P$2","v":7580.0560000000005},7580,9687.76,{"$f":"BF25+BF25*Титул.лист!$A$1","v":10656.536},{"$f":"BG25+BG25*Титул.лист!$P$2","v":10656.536},10660]
[null,"Шкаф (300) угл прямой (ФП 20) Н=600 Л/ПР",600,"h 600","1850-60",1250,{"$f":"F26+F26*Титул.лист!$A$1","v":1375},{"$f":"G26+G26*Титул.лист!$P$2","v":1375},1380,1350,{"$f":"J26+J26*Титул.лист!$A$1","v":1485},{"$f":"K26+K26*Титул.лист!$P$2","v":1485},1490,1750,{"$f":"N26+N26*Титул.лист!$A$1","v":1925},{"$f":"O26+O26*Титул.лист!$P$2","v":1925},1930,1850,{"$f":"R26+R26*Титул.лист!$A$1","v":2035},{"$f":"S26+S26*Титул.лист!$P$2","v":2035},2040,2227,{"$f":"V26+V26*Титул.лист!$A$1","v":2449.6999999999998},{"$f":"W26+W26*Титул.лист!$P$2","v":2449.6999999999998},2450,2327,{"$f":"Z26+Z26*Титул.лист!$A$1","v":2559.6999999999998},{"$f":"AA26+AA26*Титул.лист!$P$2","v":2559.6999999999998},2560,1790,{"$f":"AD26+AD26*Титул.лист!$A$1","v":1969},{"$f":"AE26+AE26*Титул.лист!$P$2","v":1969},1970,1890,{"$f":"AH26+AH26*Титул.лист!$A$1","v":2079},{"$f":"AI26+AI26*Титул.лист!$P$2","v":2079},2080,1990,{"$f":"AL26+AL26*Титул.лист!$A$1","v":2189},{"$f":"AM26+AM26*Титул.лист!$P$2","v":2189},2190,2493.8000000000002,{"$f":"AP26+AP26*Титул.лист!$A$1","v":2743.1800000000003},{"$f":"AQ26+AQ26*Титул.лист!$P$2","v":2743.1800000000003},2740,3593.6,{"$f":"AT26+AT26*Титул.лист!$A$1","v":3952.96},{"$f":"AU26+AU26*Титул.лист!$P$2","v":3952.96},3950,2916.8,{"$f":"AX26+AX26*Титул.лист!$A$1","v":3208.48},{"$f":"AY26+AY26*Титул.лист!$P$2","v":3208.48},3210,3629.6,{"$f":"BB26+BB26*Титул.лист!$A$1","v":3992.56},{"$f":"BC26+BC26*Титул.лист!$P$2","v":3992.56},3990,3393.8,{"$f":"BF26+BF26*Титул.лист!$A$1","v":3733.1800000000003},{"$f":"BG26+BG26*Титул.лист!$P$2","v":3733.1800000000003},3730]
[null,null,700,null,"1850-70",1370,{"$f":"F27+F27*Титул.лист!$A$1","v":1507},{"$f":"G27+G27*Титул.лист!$P$2","v":1507},1510,1470,{"$f":"J27+J27*Титул.лист!$A$1","v":1617},{"$f":"K27+K27*Титул.лист!$P$2","v":1617},1620,1900,{"$f":"N27+N27*Титул.лист!$A$1","v":2090},{"$f":"O27+O27*Титул.лист!$P$2","v":2090},2090,2000,{"$f":"R27+R27*Титул.лист!$A$1","v":2200},{"$f":"S27+S27*Титул.лист!$P$2","v":2200},2200,2435,{"$f":"V27+V27*Титул.лист!$A$1","v":2678.5},{"$f":"W27+W27*Титул.лист!$P$2","v":2678.5},2680,2535,{"$f":"Z27+Z27*Титул.лист!$A$1","v":2788.5},{"$f":"AA27+AA27*Титул.лист!$P$2","v":2788.5},2790,1950,{"$f":"AD27+AD27*Титул.лист!$A$1","v":2145},{"$f":"AE27+AE27*Титул.лист!$P$2","v":2145},2150,2050,{"$f":"AH27+AH27*Титул.лист!$A$1","v":2255},{"$f":"AI27+AI27*Титул.лист!$P$2","v":2255},2260,2150,{"$f":"AL27+AL27*Титул.лист!$A$1","v":2365},{"$f":"AM27+AM27*Титул.лист!$P$2","v":2365},2370,2653.8,{"$f":"AP27+AP27*Титул.лист!$A$1","v":2919.1800000000003},{"$f":"AQ27+AQ27*Титул.лист!$P$2","v":2919.1800000000003},2920,4054.2,{"$f":"AT27+AT27*Титул.лист!$A$1","v":4459.62},{"$f":"AU27+AU27*Титул.лист!$P$2","v":4459.62},4460,3264.6,{"$f":"AX27+AX27*Титул.лист!$A$1","v":3591.06},{"$f":"AY27+AY27*Титул.лист!$P$2","v":3591.06},3590,4096.2,{"$f":"BB27+BB27*Титул.лист!$A$1","v":4505.82},{"$f":"BC27+BC27*Титул.лист!$P$2","v":4505.82},4510,4088.4,{"$f":"BF27+BF27*Титул.лист!$A$1","v":4497.24},{"$f":"BG27+BG27*Титул.лист!$P$2","v":4497.24},4500]
[null,null,800,null,"1850-80",1500,{"$f":"F28+F28*Титул.лист!$A$1","v":1650},{"$f":"G28+G28*Титул.лист!$P$2","v":1650},1650,1590,{"$f":"J28+J28*Титул.лист!$A$1","v":1749},{"$f":"K28+K28*Титул.лист!$P$2","v":1749},1750,2060,{"$f":"N28+N28*Титул.лист!$A$1","v":2266},{"$f":"O28+O28*Титул.лист!$P$2","v":2266},2270,2160,{"$f":"R28+R28*Титул.лист!$A$1","v":2376},{"$f":"S28+S28*Титул.лист!$P$2","v":2376},2380,2643,{"$f":"V28+V28*Титул.лист!$A$1","v":2907.3},{"$f":"W28+W28*Титул.лист!$P$2","v":2907.3},2910,2743,{"$f":"Z28+Z28*Титул.лист!$A$1","v":3017.3},{"$f":"AA28+AA28*Титул.лист!$P$2","v":3017.3},3020,2110,{"$f":"AD28+AD28*Титул.лист!$A$1","v":2321},{"$f":"AE28+AE28*Титул.лист!$P$2","v":2321},2320,2210,{"$f":"AH28+AH28*Титул.лист!$A$1","v":2431},{"$f":"AI28+AI28*Титул.лист!$P$2","v":2431},2430,2310,{"$f":"AL28+AL28*Титул.лист!$A$1","v":2541},{"$f":"AM28+AM28*Титул.лист!$P$2","v":2541},2540,2813.8,{"$f":"AP28+AP28*Титул.лист!$A$1","v":3095.1800000000003},{"$f":"AQ28+AQ28*Титул.лист!$P$2","v":3095.1800000000003},3100,4514.7999999999993,{"$f":"AT28+AT28*Титул.лист!$A$1","v":4966.2799999999988},{"$f":"AU28+AU28*Титул.лист!$P$2","v":4966.2799999999988},4970,3612.3999999999996,{"$f":"AX28+AX28*Титул.лист!$A$1","v":3973.6399999999994},{"$f":"AY28+AY28*Титул.лист!$P$2","v":3973.6399999999994},3970,4562.7999999999993,{"$f":"BB28+BB28*Титул.лист!$A$1","v":5019.079999999999},{"$f":"BC28+BC28*Титул.лист!$P$2","v":5019.079999999999},5020,4783,{"$f":"BF28+BF28*Титул.лист!$A$1","v":5261.3},{"$f":"BG28+BG28*Титул.лист!$P$2","v":5261.3},5260]
[null,null,600,"h 720","1851-60",1340,{"$f":"F29+F29*Титул.лист!$A$1","v":1474},{"$f":"G29+G29*Титул.лист!$P$2","v":1474},1470,1460,{"$f":"J29+J29*Титул.лист!$A$1","v":1606},{"$f":"K29+K29*Титул.лист!$P$2","v":1606},1610,1900,{"$f":"N29+N29*Титул.лист!$A$1","v":2090},{"$f":"O29+O29*Титул.лист!$P$2","v":2090},2090,2000,{"$f":"R29+R29*Титул.лист!$A$1","v":2200},{"$f":"S29+S29*Титул.лист!$P$2","v":2200},2200,2422,{"$f":"V29+V29*Титул.лист!$A$1","v":2664.2},{"$f":"W29+W29*Титул.лист!$P$2","v":2664.2},2660,2522,{"$f":"Z29+Z29*Титул.лист!$A$1","v":2774.2},{"$f":"AA29+AA29*Титул.лист!$P$2","v":2774.2},2770,1940,{"$f":"AD29+AD29*Титул.лист!$A$1","v":2134},{"$f":"AE29+AE29*Титул.лист!$P$2","v":2134},2130,2040,{"$f":"AH29+AH29*Титул.лист!$A$1","v":2244},{"$f":"AI29+AI29*Титул.лист!$P$2","v":2244},2240,2140,{"$f":"AL29+AL29*Титул.лист!$A$1","v":2354},{"$f":"AM29+AM29*Титул.лист!$P$2","v":2354},2350,2779.8679999999999,{"$f":"AP29+AP29*Титул.лист!$A$1","v":3057.8548000000001},{"$f":"AQ29+AQ29*Титул.лист!$P$2","v":3057.8548000000001},3060,4104.32,{"$f":"AT29+AT29*Титул.лист!$A$1","v":4514.7519999999995},{"$f":"AU29+AU29*Титул.лист!$P$2","v":4514.7519999999995},4510,3292.16,{"$f":"AX29+AX29*Титул.лист!$A$1","v":3621.3759999999997},{"$f":"AY29+AY29*Титул.лист!$P$2","v":3621.3759999999997},3620,4147.5200000000004,{"$f":"BB29+BB29*Титул.лист!$A$1","v":4562.2720000000008},{"$f":"BC29+BC29*Титул.лист!$P$2","v":4562.2720000000008},4560,3864.5600000000004,{"$f":"BF29+BF29*Титул.лист!$A$1","v":4251.0160000000005},{"$f":"BG29+BG29*Титул.лист!$P$2","v":4251.0160000000005},4250]
[null,null,700,null,"1851-70",1500,{"$f":"F30+F30*Титул.лист!$A$1","v":1650},{"$f":"G30+G30*Титул.лист!$P$2","v":1650},1650,1590,{"$f":"J30+J30*Титул.лист!$A$1","v":1749},{"$f":"K30+K30*Титул.лист!$P$2","v":1749},1750,2060,{"$f":"N30+N30*Титул.лист!$A$1","v":2266},{"$f":"O30+O30*Титул.лист!$P$2","v":2266},2270,2160,{"$f":"R30+R30*Титул.лист!$A$1","v":2376},{"$f":"S30+S30*Титул.лист!$P$2","v":2376},2380,2643,{"$f":"V30+V30*Титул.лист!$A$1","v":2907.3},{"$f":"W30+W30*Титул.лист!$P$2","v":2907.3},2910,2743,{"$f":"Z30+Z30*Титул.лист!$A$1","v":3017.3},{"$f":"AA30+AA30*Титул.лист!$P$2","v":3017.3},3020,2110,{"$f":"AD30+AD30*Титул.лист!$A$1","v":2321},{"$f":"AE30+AE30*Титул.лист!$P$2","v":2321},2320,2210,{"$f":"AH30+AH30*Титул.лист!$A$1","v":2431},{"$f":"AI30+AI30*Титул.лист!$P$2","v":2431},2430,2310,{"$f":"AL30+AL30*Титул.лист!$A$1","v":2541},{"$f":"AM30+AM30*Титул.лист!$P$2","v":2541},2540,2949.8679999999999,{"$f":"AP30+AP30*Титул.лист!$A$1","v":3244.8548000000001},{"$f":"AQ30+AQ30*Титул.лист!$P$2","v":3244.8548000000001},3240,4635.04,{"$f":"AT30+AT30*Титул.лист!$A$1","v":5098.5439999999999},{"$f":"AU30+AU30*Титул.лист!$P$2","v":5098.5439999999999},5100,3687.52,{"$f":"AX30+AX30*Титул.лист!$A$1","v":4056.2719999999999},{"$f":"AY30+AY30*Титул.лист!$P$2","v":4056.2719999999999},4060,4685.4400000000005,{"$f":"BB30+BB30*Титул.лист!$A$1","v":5153.9840000000004},{"$f":"BC30+BC30*Титул.лист!$P$2","v":5153.9840000000004},5150,4676.08,{"$f":"BF30+BF30*Титул.лист!$A$1","v":5143.6880000000001},{"$f":"BG30+BG30*Титул.лист!$P$2","v":5143.6880000000001},5140]
[null,null,800,null,"1851-80",1620,{"$f":"F31+F31*Титул.лист!$A$1","v":1782},{"$f":"G31+G31*Титул.лист!$P$2","v":1782},1780,1720,{"$f":"J31+J31*Титул.лист!$A$1","v":1892},{"$f":"K31+K31*Титул.лист!$P$2","v":1892},1890,2260,{"$f":"N31+N31*Титул.лист!$A$1","v":2486},{"$f":"O31+O31*Титул.лист!$P$2","v":2486},2490,2360,{"$f":"R31+R31*Титул.лист!$A$1","v":2596},{"$f":"S31+S31*Титул.лист!$P$2","v":2596},2600,2877,{"$f":"V31+V31*Титул.лист!$A$1","v":3164.7},{"$f":"W31+W31*Титул.лист!$P$2","v":3164.7},3160,2977,{"$f":"Z31+Z31*Титул.лист!$A$1","v":3274.7},{"$f":"AA31+AA31*Титул.лист!$P$2","v":3274.7},3270,2290,{"$f":"AD31+AD31*Титул.лист!$A$1","v":2519},{"$f":"AE31+AE31*Титул.лист!$P$2","v":2519},2520,2390,{"$f":"AH31+AH31*Титул.лист!$A$1","v":2629},{"$f":"AI31+AI31*Титул.лист!$P$2","v":2629},2630,2490,{"$f":"AL31+AL31*Титул.лист!$A$1","v":2739},{"$f":"AM31+AM31*Титул.лист!$P$2","v":2739},2740,3129.8679999999999,{"$f":"AP31+AP31*Титул.лист!$A$1","v":3442.8548000000001},{"$f":"AQ31+AQ31*Титул.лист!$P$2","v":3442.8548000000001},3440,5175.76,{"$f":"AT31+AT31*Титул.лист!$A$1","v":5693.3360000000002},{"$f":"AU31+AU31*Титул.лист!$P$2","v":5693.3360000000002},5690,4092.88,{"$f":"AX31+AX31*Титул.лист!$A$1","v":4502.1679999999997},{"$f":"AY31+AY31*Титул.лист!$P$2","v":4502.1679999999997},4500,5233.3600000000006,{"$f":"BB31+BB31*Титул.лист!$A$1","v":5756.6960000000008},{"$f":"BC31+BC31*Титул.лист!$P$2","v":5756.6960000000008},5760,5497.6,{"$f":"BF31+BF31*Титул.лист!$A$1","v":6047.3600000000006},{"$f":"BG31+BG31*Титул.лист!$P$2","v":6047.3600000000006},6050]
[null,null,600,"h 920","1852-60",1610,{"$f":"F32+F32*Титул.лист!$A$1","v":1771},{"$f":"G32+G32*Титул.лист!$P$2","v":1771},1770,1710,{"$f":"J32+J32*Титул.лист!$A$1","v":1881},{"$f":"K32+K32*Титул.лист!$P$2","v":1881},1880,2230,{"$f":"N32+N32*Титул.лист!$A$1","v":2453},{"$f":"O32+O32*Титул.лист!$P$2","v":2453},2450,2330,{"$f":"R32+R32*Титул.лист!$A$1","v":2563},{"$f":"S32+S32*Титул.лист!$P$2","v":2563},2560,2864,{"$f":"V32+V32*Титул.лист!$A$1","v":3150.4},{"$f":"W32+W32*Титул.лист!$P$2","v":3150.4},3150,2964,{"$f":"Z32+Z32*Титул.лист!$A$1","v":3260.4},{"$f":"AA32+AA32*Титул.лист!$P$2","v":3260.4},3260,2280,{"$f":"AD32+AD32*Титул.лист!$A$1","v":2508},{"$f":"AE32+AE32*Титул.лист!$P$2","v":2508},2510,2380,{"$f":"AH32+AH32*Титул.лист!$A$1","v":2618},{"$f":"AI32+AI32*Титул.лист!$P$2","v":2618},2620,2480,{"$f":"AL32+AL32*Титул.лист!$A$1","v":2728},{"$f":"AM32+AM32*Титул.лист!$P$2","v":2728},2730,3354.4679999999998,{"$f":"AP32+AP32*Титул.лист!$A$1","v":3689.9148},{"$f":"AQ32+AQ32*Титул.лист!$P$2","v":3689.9148},3690,5045.5200000000004,{"$f":"AT32+AT32*Титул.лист!$A$1","v":5550.0720000000001},{"$f":"AU32+AU32*Титул.лист!$P$2","v":5550.0720000000001},5550,4007.76,{"$f":"AX32+AX32*Титул.лист!$A$1","v":4408.5360000000001},{"$f":"AY32+AY32*Титул.лист!$P$2","v":4408.5360000000001},4410,5100.72,{"$f":"BB32+BB32*Титул.лист!$A$1","v":5610.7920000000004},{"$f":"BC32+BC32*Титул.лист!$P$2","v":5610.7920000000004},5610,7198.3200000000006,{"$f":"BF32+BF32*Титул.лист!$A$1","v":7918.152000000001},{"$f":"BG32+BG32*Титул.лист!$P$2","v":7918.152000000001},7920]
[null,null,700,null,"1852-70",1800,{"$f":"F33+F33*Титул.лист!$A$1","v":1980},{"$f":"G33+G33*Титул.лист!$P$2","v":1980},1980,1890,{"$f":"J33+J33*Титул.лист!$A$1","v":2079},{"$f":"K33+K33*Титул.лист!$P$2","v":2079},2080,2470,{"$f":"N33+N33*Титул.лист!$A$1","v":2717},{"$f":"O33+O33*Титул.лист!$P$2","v":2717},2720,2570,{"$f":"R33+R33*Титул.лист!$A$1","v":2827},{"$f":"S33+S33*Титул.лист!$P$2","v":2827},2830,3163,{"$f":"V33+V33*Титул.лист!$A$1","v":3479.3},{"$f":"W33+W33*Титул.лист!$P$2","v":3479.3},3480,3263,{"$f":"Z33+Z33*Титул.лист!$A$1","v":3589.3},{"$f":"AA33+AA33*Титул.лист!$P$2","v":3589.3},3590,2510,{"$f":"AD33+AD33*Титул.лист!$A$1","v":2761},{"$f":"AE33+AE33*Титул.лист!$P$2","v":2761},2760,2610,{"$f":"AH33+AH33*Титул.лист!$A$1","v":2871},{"$f":"AI33+AI33*Титул.лист!$P$2","v":2871},2870,2710,{"$f":"AL33+AL33*Титул.лист!$A$1","v":2981},{"$f":"AM33+AM33*Титул.лист!$P$2","v":2981},2980,3942.6239999999998,{"$f":"AP33+AP33*Титул.лист!$A$1","v":4336.8863999999994},{"$f":"AQ33+AQ33*Титул.лист!$P$2","v":4336.8863999999994},4340,5736.4400000000005,{"$f":"AT33+AT33*Титул.лист!$A$1","v":6310.0840000000007},{"$f":"AU33+AU33*Титул.лист!$P$2","v":6310.0840000000007},6310,4525.72,{"$f":"AX33+AX33*Титул.лист!$A$1","v":4978.2920000000004},{"$f":"AY33+AY33*Титул.лист!$P$2","v":4978.2920000000004},4980,5800.84,{"$f":"BB33+BB33*Титул.лист!$A$1","v":6380.924},{"$f":"BC33+BC33*Титул.лист!$P$2","v":6380.924},6380,8248.0400000000009,{"$f":"BF33+BF33*Титул.лист!$A$1","v":9072.844000000001},{"$f":"BG33+BG33*Титул.лист!$P$2","v":9072.844000000001},9070]
[null,null,800,null,"1852-80",1940,{"$f":"F34+F34*Титул.лист!$A$1","v":2134},{"$f":"G34+G34*Титул.лист!$P$2","v":2134},2130,2060,{"$f":"J34+J34*Титул.лист!$A$1","v":2266},{"$f":"K34+K34*Титул.лист!$P$2","v":2266},2270,2700,{"$f":"N34+N34*Титул.лист!$A$1","v":2970},{"$f":"O34+O34*Титул.лист!$P$2","v":2970},2970,2800,{"$f":"R34+R34*Титул.лист!$A$1","v":3080},{"$f":"S34+S34*Титул.лист!$P$2","v":3080},3080,3462,{"$f":"V34+V34*Титул.лист!$A$1","v":3808.2},{"$f":"W34+W34*Титул.лист!$P$2","v":3808.2},3810,3562,{"$f":"Z34+Z34*Титул.лист!$A$1","v":3918.2},{"$f":"AA34+AA34*Титул.лист!$P$2","v":3918.2},3920,2740,{"$f":"AD34+AD34*Титул.лист!$A$1","v":3014},{"$f":"AE34+AE34*Титул.лист!$P$2","v":3014},3010,2840,{"$f":"AH34+AH34*Титул.лист!$A$1","v":3124},{"$f":"AI34+AI34*Титул.лист!$P$2","v":3124},3120,2940,{"$f":"AL34+AL34*Титул.лист!$A$1","v":3234},{"$f":"AM34+AM34*Титул.лист!$P$2","v":3234},3230,4530.78,{"$f":"AP34+AP34*Титул.лист!$A$1","v":4983.8580000000002},{"$f":"AQ34+AQ34*Титул.лист!$P$2","v":4983.8580000000002},4980,6427.3600000000006,{"$f":"AT34+AT34*Титул.лист!$A$1","v":7070.0960000000005},{"$f":"AU34+AU34*Титул.лист!$P$2","v":7070.0960000000005},7070,5043.68,{"$f":"AX34+AX34*Титул.лист!$A$1","v":5548.0480000000007},{"$f":"AY34+AY34*Титул.лист!$P$2","v":5548.0480000000007},5550,6500.96,{"$f":"BB34+BB34*Титул.лист!$A$1","v":7151.0560000000005},{"$f":"BC34+BC34*Титул.лист!$P$2","v":7151.0560000000005},7150,9297.76,{"$f":"BF34+BF34*Титул.лист!$A$1","v":10227.536},{"$f":"BG34+BG34*Титул.лист!$P$2","v":10227.536},10230]
[null,"Шкаф антресольный",400,"h 300","1311-40",590,{"$f":"F35+F35*Титул.лист!$A$1","v":649},{"$f":"G35+G35*Титул.лист!$P$2","v":649},650,620,{"$f":"J35+J35*Титул.лист!$A$1","v":682},{"$f":"K35+K35*Титул.лист!$P$2","v":682},680,750.00000000000011,{"$f":"N35+N35*Титул.лист!$A$1","v":825.00000000000011},{"$f":"O35+O35*Титул.лист!$P$2","v":825.00000000000011},830,780,{"$f":"R35+R35*Титул.лист!$A$1","v":858},{"$f":"S35+S35*Титул.лист!$P$2","v":858},860,860.00000000000011,{"$f":"V35+V35*Титул.лист!$A$1","v":946.00000000000011},{"$f":"W35+W35*Титул.лист!$P$2","v":946.00000000000011},950,890,{"$f":"Z35+Z35*Титул.лист!$A$1","v":979},{"$f":"AA35+AA35*Титул.лист!$P$2","v":979},980,750.00000000000011,{"$f":"AD35+AD35*Титул.лист!$A$1","v":825.00000000000011},{"$f":"AE35+AE35*Титул.лист!$P$2","v":825.00000000000011},830,810,{"$f":"AH35+AH35*Титул.лист!$A$1","v":891},{"$f":"AI35+AI35*Титул.лист!$P$2","v":891},890,830,{"$f":"AL35+AL35*Титул.лист!$A$1","v":913},{"$f":"AM35+AM35*Титул.лист!$P$2","v":913},910,1219.2,{"$f":"AP35+AP35*Титул.лист!$A$1","v":1341.1200000000001},{"$f":"AQ35+AQ35*Титул.лист!$P$2","v":1341.1200000000001},1340,1351.2,{"$f":"AT35+AT35*Титул.лист!$A$1","v":1486.3200000000002},{"$f":"AU35+AU35*Титул.лист!$P$2","v":1486.3200000000002},1490,1125.6000000000001,{"$f":"AX35+AX35*Титул.лист!$A$1","v":1238.1600000000001},{"$f":"AY35+AY35*Титул.лист!$P$2","v":1238.1600000000001},1240,1363.2,{"$f":"BB35+BB35*Титул.лист!$A$1","v":1499.52},{"$f":"BC35+BC35*Титул.лист!$P$2","v":1499.52},1500,1819.2000000000003,{"$f":"BF35+BF35*Титул.лист!$A$1","v":2001.1200000000003},{"$f":"BG35+BG35*Титул.лист!$P$2","v":2001.1200000000003},2000]
[null,null,450,null,"1311-45",630,{"$f":"F36+F36*Титул.лист!$A$1","v":693},{"$f":"G36+G36*Титул.лист!$P$2","v":693},690,670,{"$f":"J36+J36*Титул.лист!$A$1","v":737},{"$f":"K36+K36*Титул.лист!$P$2","v":737},740,830,{"$f":"N36+N36*Титул.лист!$A$1","v":913},{"$f":"O36+O36*Титул.лист!$P$2","v":913},910,840,{"$f":"R36+R36*Титул.лист!$A$1","v":924},{"$f":"S36+S36*Титул.лист!$P$2","v":924},920,930,{"$f":"V36+V36*Титул.лист!$A$1","v":1023},{"$f":"W36+W36*Титул.лист!$P$2","v":1023},1020,980,{"$f":"Z36+Z36*Титул.лист!$A$1","v":1078},{"$f":"AA36+AA36*Титул.лист!$P$2","v":1078},1080,830,{"$f":"AD36+AD36*Титул.лист!$A$1","v":913},{"$f":"AE36+AE36*Титул.лист!$P$2","v":913},910,880,{"$f":"AH36+AH36*Титул.лист!$A$1","v":968},{"$f":"AI36+AI36*Титул.лист!$P$2","v":968},970,880,{"$f":"AL36+AL36*Титул.лист!$A$1","v":968},{"$f":"AM36+AM36*Титул.лист!$P$2","v":968},970,1357.85,{"$f":"AP36+AP36*Титул.лист!$A$1","v":1493.635},{"$f":"AQ36+AQ36*Титул.лист!$P$2","v":1493.635},1490,1506.35,{"$f":"AT36+AT36*Титул.лист!$A$1","v":1656.9849999999999},{"$f":"AU36+AU36*Титул.лист!$P$2","v":1656.9849999999999},1660,1252.55,{"$f":"AX36+AX36*Титул.лист!$A$1","v":1377.8049999999998},{"$f":"AY36+AY36*Титул.лист!$P$2","v":1377.8049999999998},1380,1519.85,{"$f":"BB36+BB36*Титул.лист!$A$1","v":1671.8349999999998},{"$f":"BC36+BC36*Титул.лист!$P$2","v":1671.8349999999998},1670,2032.85,{"$f":"BF36+BF36*Титул.лист!$A$1","v":2236.1349999999998},{"$f":"BG36+BG36*Титул.лист!$P$2","v":2236.1349999999998},2240]
[null,null,500,null,"1311-50",660,{"$f":"F37+F37*Титул.лист!$A$1","v":726},{"$f":"G37+G37*Титул.лист!$P$2","v":726},730,700,{"$f":"J37+J37*Титул.лист!$A$1","v":770},{"$f":"K37+K37*Титул.лист!$P$2","v":770},770,850,{"$f":"N37+N37*Титул.лист!$A$1","v":935},{"$f":"O37+O37*Титул.лист!$P$2","v":935},940,880,{"$f":"R37+R37*Титул.лист!$A$1","v":968},{"$f":"S37+S37*Титул.лист!$P$2","v":968},970,1000,{"$f":"V37+V37*Титул.лист!$A$1","v":1100},{"$f":"W37+W37*Титул.лист!$P$2","v":1100},1100,1040,{"$f":"Z37+Z37*Титул.лист!$A$1","v":1144},{"$f":"AA37+AA37*Титул.лист!$P$2","v":1144},1140,860.00000000000011,{"$f":"AD37+AD37*Титул.лист!$A$1","v":946.00000000000011},{"$f":"AE37+AE37*Титул.лист!$P$2","v":946.00000000000011},950,910,{"$f":"AH37+AH37*Титул.лист!$A$1","v":1001},{"$f":"AI37+AI37*Титул.лист!$P$2","v":1001},1000,940,{"$f":"AL37+AL37*Титул.лист!$A$1","v":1034},{"$f":"AM37+AM37*Титул.лист!$P$2","v":1034},1030,1446.5,{"$f":"AP37+AP37*Титул.лист!$A$1","v":1591.15},{"$f":"AQ37+AQ37*Титул.лист!$P$2","v":1591.15},1590,1611.5,{"$f":"AT37+AT37*Титул.лист!$A$1","v":1772.65},{"$f":"AU37+AU37*Титул.лист!$P$2","v":1772.65},1770,1329.5,{"$f":"AX37+AX37*Титул.лист!$A$1","v":1462.45},{"$f":"AY37+AY37*Титул.лист!$P$2","v":1462.45},1460,1626.5,{"$f":"BB37+BB37*Титул.лист!$A$1","v":1789.15},{"$f":"BC37+BC37*Титул.лист!$P$2","v":1789.15},1790,2196.5,{"$f":"BF37+BF37*Титул.лист!$A$1","v":2416.15},{"$f":"BG37+BG37*Титул.лист!$P$2","v":2416.15},2420]
[null,null,550,null,"1311-55",680,{"$f":"F38+F38*Титул.лист!$A$1","v":748},{"$f":"G38+G38*Титул.лист!$P$2","v":748},750,730,{"$f":"J38+J38*Титул.лист!$A$1","v":803},{"$f":"K38+K38*Титул.лист!$P$2","v":803},800,930,{"$f":"N38+N38*Титул.лист!$A$1","v":1023},{"$f":"O38+O38*Титул.лист!$P$2","v":1023},1020,960,{"$f":"R38+R38*Титул.лист!$A$1","v":1056},{"$f":"S38+S38*Титул.лист!$P$2","v":1056},1060,1080,{"$f":"V38+V38*Титул.лист!$A$1","v":1188},{"$f":"W38+W38*Титул.лист!$P$2","v":1188},1190,1110,{"$f":"Z38+Z38*Титул.лист!$A$1","v":1221},{"$f":"AA38+AA38*Титул.лист!$P$2","v":1221},1220,930,{"$f":"AD38+AD38*Титул.лист!$A$1","v":1023},{"$f":"AE38+AE38*Титул.лист!$P$2","v":1023},1020,990,{"$f":"AH38+AH38*Титул.лист!$A$1","v":1089},{"$f":"AI38+AI38*Титул.лист!$P$2","v":1089},1090,1030,{"$f":"AL38+AL38*Титул.лист!$A$1","v":1133},{"$f":"AM38+AM38*Титул.лист!$P$2","v":1133},1130,1575.15,{"$f":"AP38+AP38*Титул.лист!$A$1","v":1732.6650000000002},{"$f":"AQ38+AQ38*Титул.лист!$P$2","v":1732.6650000000002},1730,1756.6499999999999,{"$f":"AT38+AT38*Титул.лист!$A$1","v":1932.3149999999998},{"$f":"AU38+AU38*Титул.лист!$P$2","v":1932.3149999999998},1930,1446.4499999999998,{"$f":"AX38+AX38*Титул.лист!$A$1","v":1591.0949999999998},{"$f":"AY38+AY38*Титул.лист!$P$2","v":1591.0949999999998},1590,1773.1499999999999,{"$f":"BB38+BB38*Титул.лист!$A$1","v":1950.4649999999999},{"$f":"BC38+BC38*Титул.лист!$P$2","v":1950.4649999999999},1950,2400.1499999999996,{"$f":"BF38+BF38*Титул.лист!$A$1","v":2640.1649999999995},{"$f":"BG38+BG38*Титул.лист!$P$2","v":2640.1649999999995},2640]
[null,null,600,null,"1311-60",720,{"$f":"F39+F39*Титул.лист!$A$1","v":792},{"$f":"G39+G39*Титул.лист!$P$2","v":792},790,760,{"$f":"J39+J39*Титул.лист!$A$1","v":836},{"$f":"K39+K39*Титул.лист!$P$2","v":836},840,950,{"$f":"N39+N39*Титул.лист!$A$1","v":1045},{"$f":"O39+O39*Титул.лист!$P$2","v":1045},1050,990,{"$f":"R39+R39*Титул.лист!$A$1","v":1089},{"$f":"S39+S39*Титул.лист!$P$2","v":1089},1090,1120,{"$f":"V39+V39*Титул.лист!$A$1","v":1232},{"$f":"W39+W39*Титул.лист!$P$2","v":1232},1230,1170,{"$f":"Z39+Z39*Титул.лист!$A$1","v":1287},{"$f":"AA39+AA39*Титул.лист!$P$2","v":1287},1290,960,{"$f":"AD39+AD39*Титул.лист!$A$1","v":1056},{"$f":"AE39+AE39*Титул.лист!$P$2","v":1056},1060,1040,{"$f":"AH39+AH39*Титул.лист!$A$1","v":1144},{"$f":"AI39+AI39*Титул.лист!$P$2","v":1144},1140,1070,{"$f":"AL39+AL39*Титул.лист!$A$1","v":1177},{"$f":"AM39+AM39*Титул.лист!$P$2","v":1177},1180,1663.8,{"$f":"AP39+AP39*Титул.лист!$A$1","v":1830.1799999999998},{"$f":"AQ39+AQ39*Титул.лист!$P$2","v":1830.1799999999998},1830,1861.8,{"$f":"AT39+AT39*Титул.лист!$A$1","v":2047.98},{"$f":"AU39+AU39*Титул.лист!$P$2","v":2047.98},2050,1523.4,{"$f":"AX39+AX39*Титул.лист!$A$1","v":1675.74},{"$f":"AY39+AY39*Титул.лист!$P$2","v":1675.74},1680,1879.8,{"$f":"BB39+BB39*Титул.лист!$A$1","v":2067.7799999999997},{"$f":"BC39+BC39*Титул.лист!$P$2","v":2067.7799999999997},2070,2563.8000000000002,{"$f":"BF39+BF39*Титул.лист!$A$1","v":2820.1800000000003},{"$f":"BG39+BG39*Титул.лист!$P$2","v":2820.1800000000003},2820]
[null,null,650,null,"1311-65",780,{"$f":"F40+F40*Титул.лист!$A$1","v":858},{"$f":"G40+G40*Титул.лист!$P$2","v":858},860,880,{"$f":"J40+J40*Титул.лист!$A$1","v":968},{"$f":"K40+K40*Титул.лист!$P$2","v":968},970,1080,{"$f":"N40+N40*Титул.лист!$A$1","v":1188},{"$f":"O40+O40*Титул.лист!$P$2","v":1188},1190,1130,{"$f":"R40+R40*Титул.лист!$A$1","v":1243},{"$f":"S40+S40*Титул.лист!$P$2","v":1243},1240,1280,{"$f":"V40+V40*Титул.лист!$A$1","v":1408},{"$f":"W40+W40*Титул.лист!$P$2","v":1408},1410,1330,{"$f":"Z40+Z40*Титул.лист!$A$1","v":1463},{"$f":"AA40+AA40*Титул.лист!$P$2","v":1463},1460,1130,{"$f":"AD40+AD40*Титул.лист!$A$1","v":1243},{"$f":"AE40+AE40*Титул.лист!$P$2","v":1243},1240,1180,{"$f":"AH40+AH40*Титул.лист!$A$1","v":1298},{"$f":"AI40+AI40*Титул.лист!$P$2","v":1298},1300,1230,{"$f":"AL40+AL40*Титул.лист!$A$1","v":1353},{"$f":"AM40+AM40*Титул.лист!$P$2","v":1353},1350,1892.4499999999998,{"$f":"AP40+AP40*Титул.лист!$A$1","v":2081.6949999999997},{"$f":"AQ40+AQ40*Титул.лист!$P$2","v":2081.6949999999997},2080,2106.9499999999998,{"$f":"AT40+AT40*Титул.лист!$A$1","v":2317.645},{"$f":"AU40+AU40*Титул.лист!$P$2","v":2317.645},2320,1740.35,{"$f":"AX40+AX40*Титул.лист!$A$1","v":1914.385},{"$f":"AY40+AY40*Титул.лист!$P$2","v":1914.385},1910,2126.4499999999998,{"$f":"BB40+BB40*Титул.лист!$A$1","v":2339.0949999999998},{"$f":"BC40+BC40*Титул.лист!$P$2","v":2339.0949999999998},2340,2867.45,{"$f":"BF40+BF40*Титул.лист!$A$1","v":3154.1949999999997},{"$f":"BG40+BG40*Титул.лист!$P$2","v":3154.1949999999997},3150]
[null,null,700,null,"1311-70",860.00000000000011,{"$f":"F41+F41*Титул.лист!$A$1","v":946.00000000000011},{"$f":"G41+G41*Титул.лист!$P$2","v":946.00000000000011},950,920,{"$f":"J41+J41*Титул.лист!$A$1","v":1012},{"$f":"K41+K41*Титул.лист!$P$2","v":1012},1010,1120,{"$f":"N41+N41*Титул.лист!$A$1","v":1232},{"$f":"O41+O41*Титул.лист!$P$2","v":1232},1230,1180,{"$f":"R41+R41*Титул.лист!$A$1","v":1298},{"$f":"S41+S41*Титул.лист!$P$2","v":1298},1300,1330,{"$f":"V41+V41*Титул.лист!$A$1","v":1463},{"$f":"W41+W41*Титул.лист!$P$2","v":1463},1460,1390,{"$f":"Z41+Z41*Титул.лист!$A$1","v":1529},{"$f":"AA41+AA41*Титул.лист!$P$2","v":1529},1530,1160,{"$f":"AD41+AD41*Титул.лист!$A$1","v":1276},{"$f":"AE41+AE41*Титул.лист!$P$2","v":1276},1280,1230,{"$f":"AH41+AH41*Титул.лист!$A$1","v":1353},{"$f":"AI41+AI41*Титул.лист!$P$2","v":1353},1350,1280,{"$f":"AL41+AL41*Титул.лист!$A$1","v":1408},{"$f":"AM41+AM41*Титул.лист!$P$2","v":1408},1410,1981.1,{"$f":"AP41+AP41*Титул.лист!$A$1","v":2179.21},{"$f":"AQ41+AQ41*Титул.лист!$P$2","v":2179.21},2180,2212.1,{"$f":"AT41+AT41*Титул.лист!$A$1","v":2433.31},{"$f":"AU41+AU41*Титул.лист!$P$2","v":2433.31},2430,1817.3,{"$f":"AX41+AX41*Титул.лист!$A$1","v":1999.03},{"$f":"AY41+AY41*Титул.лист!$P$2","v":1999.03},2000,2233.1,{"$f":"BB41+BB41*Титул.лист!$A$1","v":2456.41},{"$f":"BC41+BC41*Титул.лист!$P$2","v":2456.41},2460,3031.1,{"$f":"BF41+BF41*Титул.лист!$A$1","v":3334.21},{"$f":"BG41+BG41*Титул.лист!$P$2","v":3334.21},3330]
[null,null,750,null,"1311-75",880,{"$f":"F42+F42*Титул.лист!$A$1","v":968},{"$f":"G42+G42*Титул.лист!$P$2","v":968},970,950,{"$f":"J42+J42*Титул.лист!$A$1","v":1045},{"$f":"K42+K42*Титул.лист!$P$2","v":1045},1050,1180,{"$f":"N42+N42*Титул.лист!$A$1","v":1298},{"$f":"O42+O42*Титул.лист!$P$2","v":1298},1300,1250,{"$f":"R42+R42*Титул.лист!$A$1","v":1375},{"$f":"S42+S42*Титул.лист!$P$2","v":1375},1380,1400,{"$f":"V42+V42*Титул.лист!$A$1","v":1540},{"$f":"W42+W42*Титул.лист!$P$2","v":1540},1540,1480,{"$f":"Z42+Z42*Титул.лист!$A$1","v":1628},{"$f":"AA42+AA42*Титул.лист!$P$2","v":1628},1630,1230,{"$f":"AD42+AD42*Титул.лист!$A$1","v":1353},{"$f":"AE42+AE42*Титул.лист!$P$2","v":1353},1350,1330,{"$f":"AH42+AH42*Титул.лист!$A$1","v":1463},{"$f":"AI42+AI42*Титул.лист!$P$2","v":1463},1460,1350,{"$f":"AL42+AL42*Титул.лист!$A$1","v":1485},{"$f":"AM42+AM42*Титул.лист!$P$2","v":1485},1490,2109.75,{"$f":"AP42+AP42*Титул.лист!$A$1","v":2320.7249999999999},{"$f":"AQ42+AQ42*Титул.лист!$P$2","v":2320.7249999999999},2320,2357.25,{"$f":"AT42+AT42*Титул.лист!$A$1","v":2592.9749999999999},{"$f":"AU42+AU42*Титул.лист!$P$2","v":2592.9749999999999},2590,1934.25,{"$f":"AX42+AX42*Титул.лист!$A$1","v":2127.6750000000002},{"$f":"AY42+AY42*Титул.лист!$P$2","v":2127.6750000000002},2130,2379.75,{"$f":"BB42+BB42*Титул.лист!$A$1","v":2617.7249999999999},{"$f":"BC42+BC42*Титул.лист!$P$2","v":2617.7249999999999},2620,3234.75,{"$f":"BF42+BF42*Титул.лист!$A$1","v":3558.2249999999999},{"$f":"BG42+BG42*Титул.лист!$P$2","v":3558.2249999999999},3560]
[null,null,800,null,"1311-80",920,{"$f":"F43+F43*Титул.лист!$A$1","v":1012},{"$f":"G43+G43*Титул.лист!$P$2","v":1012},1010,980,{"$f":"J43+J43*Титул.лист!$A$1","v":1078},{"$f":"K43+K43*Титул.лист!$P$2","v":1078},1080,1210,{"$f":"N43+N43*Титул.лист!$A$1","v":1331},{"$f":"O43+O43*Титул.лист!$P$2","v":1331},1330,1280,{"$f":"R43+R43*Титул.лист!$A$1","v":1408},{"$f":"S43+S43*Титул.лист!$P$2","v":1408},1410,1440,{"$f":"V43+V43*Титул.лист!$A$1","v":1584},{"$f":"W43+W43*Титул.лист!$P$2","v":1584},1580,1510,{"$f":"Z43+Z43*Титул.лист!$A$1","v":1661},{"$f":"AA43+AA43*Титул.лист!$P$2","v":1661},1660,1260,{"$f":"AD43+AD43*Титул.лист!$A$1","v":1386},{"$f":"AE43+AE43*Титул.лист!$P$2","v":1386},1390,1360,{"$f":"AH43+AH43*Титул.лист!$A$1","v":1496},{"$f":"AI43+AI43*Титул.лист!$P$2","v":1496},1500,1390,{"$f":"AL43+AL43*Титул.лист!$A$1","v":1529},{"$f":"AM43+AM43*Титул.лист!$P$2","v":1529},1530,2198.4,{"$f":"AP43+AP43*Титул.лист!$A$1","v":2418.2400000000002},{"$f":"AQ43+AQ43*Титул.лист!$P$2","v":2418.2400000000002},2420,2462.3999999999996,{"$f":"AT43+AT43*Титул.лист!$A$1","v":2708.6399999999994},{"$f":"AU43+AU43*Титул.лист!$P$2","v":2708.6399999999994},2710,2011.1999999999998,{"$f":"AX43+AX43*Титул.лист!$A$1","v":2212.3199999999997},{"$f":"AY43+AY43*Титул.лист!$P$2","v":2212.3199999999997},2210,2486.3999999999996,{"$f":"BB43+BB43*Титул.лист!$A$1","v":2735.0399999999995},{"$f":"BC43+BC43*Титул.лист!$P$2","v":2735.0399999999995},2740,3398.4,{"$f":"BF43+BF43*Титул.лист!$A$1","v":3738.2400000000002},{"$f":"BG43+BG43*Титул.лист!$P$2","v":3738.2400000000002},3740]
[null,null,400,"h 360","1311-40",610,{"$f":"F44+F44*Титул.лист!$A$1","v":671},{"$f":"G44+G44*Титул.лист!$P$2","v":671},670,640,{"$f":"J44+J44*Титул.лист!$A$1","v":704},{"$f":"K44+K44*Титул.лист!$P$2","v":704},700,770.00000000000011,{"$f":"N44+N44*Титул.лист!$A$1","v":847.00000000000011},{"$f":"O44+O44*Титул.лист!$P$2","v":847.00000000000011},850,800,{"$f":"R44+R44*Титул.лист!$A$1","v":880},{"$f":"S44+S44*Титул.лист!$P$2","v":880},880,880.00000000000011,{"$f":"V44+V44*Титул.лист!$A$1","v":968.00000000000011},{"$f":"W44+W44*Титул.лист!$P$2","v":968.00000000000011},970,910,{"$f":"Z44+Z44*Титул.лист!$A$1","v":1001},{"$f":"AA44+AA44*Титул.лист!$P$2","v":1001},1000,770.00000000000011,{"$f":"AD44+AD44*Титул.лист!$A$1","v":847.00000000000011},{"$f":"AE44+AE44*Титул.лист!$P$2","v":847.00000000000011},850,830,{"$f":"AH44+AH44*Титул.лист!$A$1","v":913},{"$f":"AI44+AI44*Титул.лист!$P$2","v":913},910,850,{"$f":"AL44+AL44*Титул.лист!$A$1","v":935},{"$f":"AM44+AM44*Титул.лист!$P$2","v":935},940,1389.3440000000001,{"$f":"AP44+AP44*Титул.лист!$A$1","v":1528.2784000000001},{"$f":"AQ44+AQ44*Титул.лист!$P$2","v":1528.2784000000001},1530,1491.44,{"$f":"AT44+AT44*Титул.лист!$A$1","v":1640.5840000000001},{"$f":"AU44+AU44*Титул.лист!$P$2","v":1640.5840000000001},1640,1220.7200000000003,{"$f":"AX44+AX44*Титул.лист!$A$1","v":1342.7920000000004},{"$f":"AY44+AY44*Титул.лист!$P$2","v":1342.7920000000004},1340,1505.8400000000001,{"$f":"BB44+BB44*Титул.лист!$A$1","v":1656.4240000000002},{"$f":"BC44+BC44*Титул.лист!$P$2","v":1656.4240000000002},1660,2053.0400000000004,{"$f":"BF44+BF44*Титул.лист!$A$1","v":2258.3440000000005},{"$f":"BG44+BG44*Титул.лист!$P$2","v":2258.3440000000005},2260]
[null,null,450,null,"1311-45",650,{"$f":"F45+F45*Титул.лист!$A$1","v":715},{"$f":"G45+G45*Титул.лист!$P$2","v":715},720,690,{"$f":"J45+J45*Титул.лист!$A$1","v":759},{"$f":"K45+K45*Титул.лист!$P$2","v":759},760,850,{"$f":"N45+N45*Титул.лист!$A$1","v":935},{"$f":"O45+O45*Титул.лист!$P$2","v":935},940,860,{"$f":"R45+R45*Титул.лист!$A$1","v":946},{"$f":"S45+S45*Титул.лист!$P$2","v":946},950,950,{"$f":"V45+V45*Титул.лист!$A$1","v":1045},{"$f":"W45+W45*Титул.лист!$P$2","v":1045},1050,1000,{"$f":"Z45+Z45*Титул.лист!$A$1","v":1100},{"$f":"AA45+AA45*Титул.лист!$P$2","v":1100},1100,850,{"$f":"AD45+AD45*Титул.лист!$A$1","v":935},{"$f":"AE45+AE45*Титул.лист!$P$2","v":935},940,900,{"$f":"AH45+AH45*Титул.лист!$A$1","v":990},{"$f":"AI45+AI45*Титул.лист!$P$2","v":990},990,900,{"$f":"AL45+AL45*Титул.лист!$A$1","v":990},{"$f":"AM45+AM45*Титул.лист!$P$2","v":990},990,1546.7619999999999,{"$f":"AP45+AP45*Титул.лист!$A$1","v":1701.4382000000001},{"$f":"AQ45+AQ45*Титул.лист!$P$2","v":1701.4382000000001},1700,1661.62,{"$f":"AT45+AT45*Титул.лист!$A$1","v":1827.7819999999999},{"$f":"AU45+AU45*Титул.лист!$P$2","v":1827.7819999999999},1830,1357.06,{"$f":"AX45+AX45*Титул.лист!$A$1","v":1492.7659999999998},{"$f":"AY45+AY45*Титул.лист!$P$2","v":1492.7659999999998},1490,1677.8200000000002,{"$f":"BB45+BB45*Титул.лист!$A$1","v":1845.6020000000003},{"$f":"BC45+BC45*Титул.лист!$P$2","v":1845.6020000000003},1850,2293.42,{"$f":"BF45+BF45*Титул.лист!$A$1","v":2522.7620000000002},{"$f":"BG45+BG45*Титул.лист!$P$2","v":2522.7620000000002},2520]
[null,null,500,null,"1311-50",680,{"$f":"F46+F46*Титул.лист!$A$1","v":748},{"$f":"G46+G46*Титул.лист!$P$2","v":748},750,720,{"$f":"J46+J46*Титул.лист!$A$1","v":792},{"$f":"K46+K46*Титул.лист!$P$2","v":792},790,870,{"$f":"N46+N46*Титул.лист!$A$1","v":957},{"$f":"O46+O46*Титул.лист!$P$2","v":957},960,900,{"$f":"R46+R46*Титул.лист!$A$1","v":990},{"$f":"S46+S46*Титул.лист!$P$2","v":990},990,1020,{"$f":"V46+V46*Титул.лист!$A$1","v":1122},{"$f":"W46+W46*Титул.лист!$P$2","v":1122},1120,1060,{"$f":"Z46+Z46*Титул.лист!$A$1","v":1166},{"$f":"AA46+AA46*Титул.лист!$P$2","v":1166},1170,880.00000000000011,{"$f":"AD46+AD46*Титул.лист!$A$1","v":968.00000000000011},{"$f":"AE46+AE46*Титул.лист!$P$2","v":968.00000000000011},970,930,{"$f":"AH46+AH46*Титул.лист!$A$1","v":1023},{"$f":"AI46+AI46*Титул.лист!$P$2","v":1023},1020,960,{"$f":"AL46+AL46*Титул.лист!$A$1","v":1056},{"$f":"AM46+AM46*Титул.лист!$P$2","v":1056},1060,1654.18,{"$f":"AP46+AP46*Титул.лист!$A$1","v":1819.598},{"$f":"AQ46+AQ46*Титул.лист!$P$2","v":1819.598},1820,1781.8000000000002,{"$f":"AT46+AT46*Титул.лист!$A$1","v":1959.9800000000002},{"$f":"AU46+AU46*Титул.лист!$P$2","v":1959.9800000000002},1960,1443.4,{"$f":"AX46+AX46*Титул.лист!$A$1","v":1587.74},{"$f":"AY46+AY46*Титул.лист!$P$2","v":1587.74},1590,1799.8000000000002,{"$f":"BB46+BB46*Титул.лист!$A$1","v":1979.7800000000002},{"$f":"BC46+BC46*Титул.лист!$P$2","v":1979.7800000000002},1980,2483.8000000000002,{"$f":"BF46+BF46*Титул.лист!$A$1","v":2732.1800000000003},{"$f":"BG46+BG46*Титул.лист!$P$2","v":2732.1800000000003},2730]
[null,null,550,null,"1311-55",700,{"$f":"F47+F47*Титул.лист!$A$1","v":770},{"$f":"G47+G47*Титул.лист!$P$2","v":770},770,750,{"$f":"J47+J47*Титул.лист!$A$1","v":825},{"$f":"K47+K47*Титул.лист!$P$2","v":825},830,950,{"$f":"N47+N47*Титул.лист!$A$1","v":1045},{"$f":"O47+O47*Титул.лист!$P$2","v":1045},1050,980,{"$f":"R47+R47*Титул.лист!$A$1","v":1078},{"$f":"S47+S47*Титул.лист!$P$2","v":1078},1080,1100,{"$f":"V47+V47*Титул.лист!$A$1","v":1210},{"$f":"W47+W47*Титул.лист!$P$2","v":1210},1210,1130,{"$f":"Z47+Z47*Титул.лист!$A$1","v":1243},{"$f":"AA47+AA47*Титул.лист!$P$2","v":1243},1240,950,{"$f":"AD47+AD47*Титул.лист!$A$1","v":1045},{"$f":"AE47+AE47*Титул.лист!$P$2","v":1045},1050,1010,{"$f":"AH47+AH47*Титул.лист!$A$1","v":1111},{"$f":"AI47+AI47*Титул.лист!$P$2","v":1111},1110,1050,{"$f":"AL47+AL47*Титул.лист!$A$1","v":1155},{"$f":"AM47+AM47*Титул.лист!$P$2","v":1155},1160,1801.598,{"$f":"AP47+AP47*Титул.лист!$A$1","v":1981.7577999999999},{"$f":"AQ47+AQ47*Титул.лист!$P$2","v":1981.7577999999999},1980,1941.98,{"$f":"AT47+AT47*Титул.лист!$A$1","v":2136.1779999999999},{"$f":"AU47+AU47*Титул.лист!$P$2","v":2136.1779999999999},2140,1569.74,{"$f":"AX47+AX47*Титул.лист!$A$1","v":1726.7139999999999},{"$f":"AY47+AY47*Титул.лист!$P$2","v":1726.7139999999999},1730,1961.7800000000002,{"$f":"BB47+BB47*Титул.лист!$A$1","v":2157.9580000000001},{"$f":"BC47+BC47*Титул.лист!$P$2","v":2157.9580000000001},2160,2714.1800000000003,{"$f":"BF47+BF47*Титул.лист!$A$1","v":2985.5980000000004},{"$f":"BG47+BG47*Титул.лист!$P$2","v":2985.5980000000004},2990]
[null,null,600,null,"1311-60",740,{"$f":"F48+F48*Титул.лист!$A$1","v":814},{"$f":"G48+G48*Титул.лист!$P$2","v":814},810,780,{"$f":"J48+J48*Титул.лист!$A$1","v":858},{"$f":"K48+K48*Титул.лист!$P$2","v":858},860,970,{"$f":"N48+N48*Титул.лист!$A$1","v":1067},{"$f":"O48+O48*Титул.лист!$P$2","v":1067},1070,1010,{"$f":"R48+R48*Титул.лист!$A$1","v":1111},{"$f":"S48+S48*Титул.лист!$P$2","v":1111},1110,1140,{"$f":"V48+V48*Титул.лист!$A$1","v":1254},{"$f":"W48+W48*Титул.лист!$P$2","v":1254},1250,1190,{"$f":"Z48+Z48*Титул.лист!$A$1","v":1309},{"$f":"AA48+AA48*Титул.лист!$P$2","v":1309},1310,980,{"$f":"AD48+AD48*Титул.лист!$A$1","v":1078},{"$f":"AE48+AE48*Титул.лист!$P$2","v":1078},1080,1060,{"$f":"AH48+AH48*Титул.лист!$A$1","v":1166},{"$f":"AI48+AI48*Титул.лист!$P$2","v":1166},1170,1090,{"$f":"AL48+AL48*Титул.лист!$A$1","v":1199},{"$f":"AM48+AM48*Титул.лист!$P$2","v":1199},1200,1909.0160000000001,{"$f":"AP48+AP48*Титул.лист!$A$1","v":2099.9176000000002},{"$f":"AQ48+AQ48*Титул.лист!$P$2","v":2099.9176000000002},2100,2062.16,{"$f":"AT48+AT48*Титул.лист!$A$1","v":2268.3759999999997},{"$f":"AU48+AU48*Титул.лист!$P$2","v":2268.3759999999997},2270,1656.08,{"$f":"AX48+AX48*Титул.лист!$A$1","v":1821.6879999999999},{"$f":"AY48+AY48*Титул.лист!$P$2","v":1821.6879999999999},1820,2083.7600000000002,{"$f":"BB48+BB48*Титул.лист!$A$1","v":2292.1360000000004},{"$f":"BC48+BC48*Титул.лист!$P$2","v":2292.1360000000004},2290,2904.5600000000004,{"$f":"BF48+BF48*Титул.лист!$A$1","v":3195.0160000000005},{"$f":"BG48+BG48*Титул.лист!$P$2","v":3195.0160000000005},3200]
[null,null,650,null,"1311-65",800,{"$f":"F49+F49*Титул.лист!$A$1","v":880},{"$f":"G49+G49*Титул.лист!$P$2","v":880},880,900,{"$f":"J49+J49*Титул.лист!$A$1","v":990},{"$f":"K49+K49*Титул.лист!$P$2","v":990},990,1100,{"$f":"N49+N49*Титул.лист!$A$1","v":1210},{"$f":"O49+O49*Титул.лист!$P$2","v":1210},1210,1150,{"$f":"R49+R49*Титул.лист!$A$1","v":1265},{"$f":"S49+S49*Титул.лист!$P$2","v":1265},1270,1300,{"$f":"V49+V49*Титул.лист!$A$1","v":1430},{"$f":"W49+W49*Титул.лист!$P$2","v":1430},1430,1350,{"$f":"Z49+Z49*Титул.лист!$A$1","v":1485},{"$f":"AA49+AA49*Титул.лист!$P$2","v":1485},1490,1150,{"$f":"AD49+AD49*Титул.лист!$A$1","v":1265},{"$f":"AE49+AE49*Титул.лист!$P$2","v":1265},1270,1200,{"$f":"AH49+AH49*Титул.лист!$A$1","v":1320},{"$f":"AI49+AI49*Титул.лист!$P$2","v":1320},1320,1250,{"$f":"AL49+AL49*Титул.лист!$A$1","v":1375},{"$f":"AM49+AM49*Титул.лист!$P$2","v":1375},1380,2156.4339999999997,{"$f":"AP49+AP49*Титул.лист!$A$1","v":2372.0773999999997},{"$f":"AQ49+AQ49*Титул.лист!$P$2","v":2372.0773999999997},2370,2322.34,{"$f":"AT49+AT49*Титул.лист!$A$1","v":2554.5740000000001},{"$f":"AU49+AU49*Титул.лист!$P$2","v":2554.5740000000001},2550,1882.42,{"$f":"AX49+AX49*Титул.лист!$A$1","v":2070.6620000000003},{"$f":"AY49+AY49*Титул.лист!$P$2","v":2070.6620000000003},2070,2345.7399999999998,{"$f":"BB49+BB49*Титул.лист!$A$1","v":2580.3139999999999},{"$f":"BC49+BC49*Титул.лист!$P$2","v":2580.3139999999999},2580,3234.94,{"$f":"BF49+BF49*Титул.лист!$A$1","v":3558.4340000000002},{"$f":"BG49+BG49*Титул.лист!$P$2","v":3558.4340000000002},3560]
[null,null,700,null,"1311-70",880.00000000000011,{"$f":"F50+F50*Титул.лист!$A$1","v":968.00000000000011},{"$f":"G50+G50*Титул.лист!$P$2","v":968.00000000000011},970,940,{"$f":"J50+J50*Титул.лист!$A$1","v":1034},{"$f":"K50+K50*Титул.лист!$P$2","v":1034},1030,1140,{"$f":"N50+N50*Титул.лист!$A$1","v":1254},{"$f":"O50+O50*Титул.лист!$P$2","v":1254},1250,1200,{"$f":"R50+R50*Титул.лист!$A$1","v":1320},{"$f":"S50+S50*Титул.лист!$P$2","v":1320},1320,1350,{"$f":"V50+V50*Титул.лист!$A$1","v":1485},{"$f":"W50+W50*Титул.лист!$P$2","v":1485},1490,1410,{"$f":"Z50+Z50*Титул.лист!$A$1","v":1551},{"$f":"AA50+AA50*Титул.лист!$P$2","v":1551},1550,1180,{"$f":"AD50+AD50*Титул.лист!$A$1","v":1298},{"$f":"AE50+AE50*Титул.лист!$P$2","v":1298},1300,1250,{"$f":"AH50+AH50*Титул.лист!$A$1","v":1375},{"$f":"AI50+AI50*Титул.лист!$P$2","v":1375},1380,1300,{"$f":"AL50+AL50*Титул.лист!$A$1","v":1430},{"$f":"AM50+AM50*Титул.лист!$P$2","v":1430},1430,2263.8519999999999,{"$f":"AP50+AP50*Титул.лист!$A$1","v":2490.2372},{"$f":"AQ50+AQ50*Титул.лист!$P$2","v":2490.2372},2490,2442.52,{"$f":"AT50+AT50*Титул.лист!$A$1","v":2686.7719999999999},{"$f":"AU50+AU50*Титул.лист!$P$2","v":2686.7719999999999},2690,1968.76,{"$f":"AX50+AX50*Титул.лист!$A$1","v":2165.636},{"$f":"AY50+AY50*Титул.лист!$P$2","v":2165.636},2170,2467.7200000000003,{"$f":"BB50+BB50*Титул.лист!$A$1","v":2714.4920000000002},{"$f":"BC50+BC50*Титул.лист!$P$2","v":2714.4920000000002},2710,3425.32,{"$f":"BF50+BF50*Титул.лист!$A$1","v":3767.8520000000003},{"$f":"BG50+BG50*Титул.лист!$P$2","v":3767.8520000000003},3770]
[null,null,750,null,"1311-75",900,{"$f":"F51+F51*Титул.лист!$A$1","v":990},{"$f":"G51+G51*Титул.лист!$P$2","v":990},990,970,{"$f":"J51+J51*Титул.лист!$A$1","v":1067},{"$f":"K51+K51*Титул.лист!$P$2","v":1067},1070,1200,{"$f":"N51+N51*Титул.лист!$A$1","v":1320},{"$f":"O51+O51*Титул.лист!$P$2","v":1320},1320,1270,{"$f":"R51+R51*Титул.лист!$A$1","v":1397},{"$f":"S51+S51*Титул.лист!$P$2","v":1397},1400,1420,{"$f":"V51+V51*Титул.лист!$A$1","v":1562},{"$f":"W51+W51*Титул.лист!$P$2","v":1562},1560,1500,{"$f":"Z51+Z51*Титул.лист!$A$1","v":1650},{"$f":"AA51+AA51*Титул.лист!$P$2","v":1650},1650,1250,{"$f":"AD51+AD51*Титул.лист!$A$1","v":1375},{"$f":"AE51+AE51*Титул.лист!$P$2","v":1375},1380,1350,{"$f":"AH51+AH51*Титул.лист!$A$1","v":1485},{"$f":"AI51+AI51*Титул.лист!$P$2","v":1485},1490,1370,{"$f":"AL51+AL51*Титул.лист!$A$1","v":1507},{"$f":"AM51+AM51*Титул.лист!$P$2","v":1507},1510,2411.27,{"$f":"AP51+AP51*Титул.лист!$A$1","v":2652.3969999999999},{"$f":"AQ51+AQ51*Титул.лист!$P$2","v":2652.3969999999999},2650,2602.6999999999998,{"$f":"AT51+AT51*Титул.лист!$A$1","v":2862.97},{"$f":"AU51+AU51*Титул.лист!$P$2","v":2862.97},2860,2095.1,{"$f":"AX51+AX51*Титул.лист!$A$1","v":2304.6099999999997},{"$f":"AY51+AY51*Титул.лист!$P$2","v":2304.6099999999997},2300,2629.7,{"$f":"BB51+BB51*Титул.лист!$A$1","v":2892.6699999999996},{"$f":"BC51+BC51*Титул.лист!$P$2","v":2892.6699999999996},2890,3655.7000000000003,{"$f":"BF51+BF51*Титул.лист!$A$1","v":4021.2700000000004},{"$f":"BG51+BG51*Титул.лист!$P$2","v":4021.2700000000004},4020]
[null,null,800,null,"1311-80",940,{"$f":"F52+F52*Титул.лист!$A$1","v":1034},{"$f":"G52+G52*Титул.лист!$P$2","v":1034},1030,1000,{"$f":"J52+J52*Титул.лист!$A$1","v":1100},{"$f":"K52+K52*Титул.лист!$P$2","v":1100},1100,1230,{"$f":"N52+N52*Титул.лист!$A$1","v":1353},{"$f":"O52+O52*Титул.лист!$P$2","v":1353},1350,1300,{"$f":"R52+R52*Титул.лист!$A$1","v":1430},{"$f":"S52+S52*Титул.лист!$P$2","v":1430},1430,1460,{"$f":"V52+V52*Титул.лист!$A$1","v":1606},{"$f":"W52+W52*Титул.лист!$P$2","v":1606},1610,1530,{"$f":"Z52+Z52*Титул.лист!$A$1","v":1683},{"$f":"AA52+AA52*Титул.лист!$P$2","v":1683},1680,1280,{"$f":"AD52+AD52*Титул.лист!$A$1","v":1408},{"$f":"AE52+AE52*Титул.лист!$P$2","v":1408},1410,1380,{"$f":"AH52+AH52*Титул.лист!$A$1","v":1518},{"$f":"AI52+AI52*Титул.лист!$P$2","v":1518},1520,1410,{"$f":"AL52+AL52*Титул.лист!$A$1","v":1551},{"$f":"AM52+AM52*Титул.лист!$P$2","v":1551},1550,2518.6880000000001,{"$f":"AP52+AP52*Титул.лист!$A$1","v":2770.5568000000003},{"$f":"AQ52+AQ52*Титул.лист!$P$2","v":2770.5568000000003},2770,2722.88,{"$f":"AT52+AT52*Титул.лист!$A$1","v":2995.1680000000001},{"$f":"AU52+AU52*Титул.лист!$P$2","v":2995.1680000000001},3000,2181.44,{"$f":"AX52+AX52*Титул.лист!$A$1","v":2399.5839999999998},{"$f":"AY52+AY52*Титул.лист!$P$2","v":2399.5839999999998},2400,2751.6800000000003,{"$f":"BB52+BB52*Титул.лист!$A$1","v":3026.8480000000004},{"$f":"BC52+BC52*Титул.лист!$P$2","v":3026.8480000000004},3030,3846.0800000000004,{"$f":"BF52+BF52*Титул.лист!$A$1","v":4230.6880000000001},{"$f":"BG52+BG52*Титул.лист!$P$2","v":4230.6880000000001},4230]
[null,null,400,"h 400","1312-40",712,{"$f":"F53+F53*Титул.лист!$A$1","v":783.2},{"$f":"G53+G53*Титул.лист!$P$2","v":783.2},780,748,{"$f":"J53+J53*Титул.лист!$A$1","v":822.8},{"$f":"K53+K53*Титул.лист!$P$2","v":822.8},820,904.00000000000011,{"$f":"N53+N53*Титул.лист!$A$1","v":994.40000000000009},{"$f":"O53+O53*Титул.лист!$P$2","v":994.40000000000009},990,940,{"$f":"R53+R53*Титул.лист!$A$1","v":1034},{"$f":"S53+S53*Титул.лист!$P$2","v":1034},1030,1036.0000000000002,{"$f":"V53+V53*Титул.лист!$A$1","v":1139.6000000000004},{"$f":"W53+W53*Титул.лист!$P$2","v":1139.6000000000004},1140,1072,{"$f":"Z53+Z53*Титул.лист!$A$1","v":1179.2},{"$f":"AA53+AA53*Титул.лист!$P$2","v":1179.2},1180,904.00000000000011,{"$f":"AD53+AD53*Титул.лист!$A$1","v":994.40000000000009},{"$f":"AE53+AE53*Титул.лист!$P$2","v":994.40000000000009},990,976,{"$f":"AH53+AH53*Титул.лист!$A$1","v":1073.5999999999999},{"$f":"AI53+AI53*Титул.лист!$P$2","v":1073.5999999999999},1070,1000,{"$f":"AL53+AL53*Титул.лист!$A$1","v":1100},{"$f":"AM53+AM53*Титул.лист!$P$2","v":1100},1100,1529.6000000000001,{"$f":"AP53+AP53*Титул.лист!$A$1","v":1682.5600000000002},{"$f":"AQ53+AQ53*Титул.лист!$P$2","v":1682.5600000000002},1680,1705.6000000000001,{"$f":"AT53+AT53*Титул.лист!$A$1","v":1876.16},{"$f":"AU53+AU53*Титул.лист!$P$2","v":1876.16},1880,1404.8000000000002,{"$f":"AX53+AX53*Титул.лист!$A$1","v":1545.2800000000002},{"$f":"AY53+AY53*Титул.лист!$P$2","v":1545.2800000000002},1550,1721.6000000000001,{"$f":"BB53+BB53*Титул.лист!$A$1","v":1893.7600000000002},{"$f":"BC53+BC53*Титул.лист!$P$2","v":1893.7600000000002},1890,2329.6000000000004,{"$f":"BF53+BF53*Титул.лист!$A$1","v":2562.5600000000004},{"$f":"BG53+BG53*Титул.лист!$P$2","v":2562.5600000000004},2560]
[null,null,450,null,"1312-45",760,{"$f":"F54+F54*Титул.лист!$A$1","v":836},{"$f":"G54+G54*Титул.лист!$P$2","v":836},840,808,{"$f":"J54+J54*Титул.лист!$A$1","v":888.8},{"$f":"K54+K54*Титул.лист!$P$2","v":888.8},890,1000,{"$f":"N54+N54*Титул.лист!$A$1","v":1100},{"$f":"O54+O54*Титул.лист!$P$2","v":1100},1100,1012,{"$f":"R54+R54*Титул.лист!$A$1","v":1113.2},{"$f":"S54+S54*Титул.лист!$P$2","v":1113.2},1110,1120,{"$f":"V54+V54*Титул.лист!$A$1","v":1232},{"$f":"W54+W54*Титул.лист!$P$2","v":1232},1230,1180,{"$f":"Z54+Z54*Титул.лист!$A$1","v":1298},{"$f":"AA54+AA54*Титул.лист!$P$2","v":1298},1300,1000,{"$f":"AD54+AD54*Титул.лист!$A$1","v":1100},{"$f":"AE54+AE54*Титул.лист!$P$2","v":1100},1100,1060,{"$f":"AH54+AH54*Титул.лист!$A$1","v":1166},{"$f":"AI54+AI54*Титул.лист!$P$2","v":1166},1170,1080,{"$f":"AL54+AL54*Титул.лист!$A$1","v":1188},{"$f":"AM54+AM54*Титул.лист!$P$2","v":1188},1190,1703.8000000000002,{"$f":"AP54+AP54*Титул.лист!$A$1","v":1874.1800000000003},{"$f":"AQ54+AQ54*Титул.лист!$P$2","v":1874.1800000000003},1870,1901.8000000000002,{"$f":"AT54+AT54*Титул.лист!$A$1","v":2091.98},{"$f":"AU54+AU54*Титул.лист!$P$2","v":2091.98},2090,1563.4,{"$f":"AX54+AX54*Титул.лист!$A$1","v":1719.7400000000002},{"$f":"AY54+AY54*Титул.лист!$P$2","v":1719.7400000000002},1720,1919.8000000000002,{"$f":"BB54+BB54*Титул.лист!$A$1","v":2111.7800000000002},{"$f":"BC54+BC54*Титул.лист!$P$2","v":2111.7800000000002},2110,2603.8000000000002,{"$f":"BF54+BF54*Титул.лист!$A$1","v":2864.1800000000003},{"$f":"BG54+BG54*Титул.лист!$P$2","v":2864.1800000000003},2860]
[null,null,500,null,"1312-50",796,{"$f":"F55+F55*Титул.лист!$A$1","v":875.6},{"$f":"G55+G55*Титул.лист!$P$2","v":875.6},880,844,{"$f":"J55+J55*Титул.лист!$A$1","v":928.4},{"$f":"K55+K55*Титул.лист!$P$2","v":928.4},930,1024,{"$f":"N55+N55*Титул.лист!$A$1","v":1126.4000000000001},{"$f":"O55+O55*Титул.лист!$P$2","v":1126.4000000000001},1130,1060,{"$f":"R55+R55*Титул.лист!$A$1","v":1166},{"$f":"S55+S55*Титул.лист!$P$2","v":1166},1170,1204,{"$f":"V55+V55*Титул.лист!$A$1","v":1324.4},{"$f":"W55+W55*Титул.лист!$P$2","v":1324.4},1320,1252,{"$f":"Z55+Z55*Титул.лист!$A$1","v":1377.2},{"$f":"AA55+AA55*Титул.лист!$P$2","v":1377.2},1380,1036.0000000000002,{"$f":"AD55+AD55*Титул.лист!$A$1","v":1139.6000000000004},{"$f":"AE55+AE55*Титул.лист!$P$2","v":1139.6000000000004},1140,1096,{"$f":"AH55+AH55*Титул.лист!$A$1","v":1205.5999999999999},{"$f":"AI55+AI55*Титул.лист!$P$2","v":1205.5999999999999},1210,1132,{"$f":"AL55+AL55*Титул.лист!$A$1","v":1245.2},{"$f":"AM55+AM55*Титул.лист!$P$2","v":1245.2},1250,1818.0000000000002,{"$f":"AP55+AP55*Титул.лист!$A$1","v":1999.8000000000002},{"$f":"AQ55+AQ55*Титул.лист!$P$2","v":1999.8000000000002},2000,2038.0000000000002,{"$f":"AT55+AT55*Титул.лист!$A$1","v":2241.8000000000002},{"$f":"AU55+AU55*Титул.лист!$P$2","v":2241.8000000000002},2240,1662.0000000000002,{"$f":"AX55+AX55*Титул.лист!$A$1","v":1828.2000000000003},{"$f":"AY55+AY55*Титул.лист!$P$2","v":1828.2000000000003},1830,2058,{"$f":"BB55+BB55*Титул.лист!$A$1","v":2263.8000000000002},{"$f":"BC55+BC55*Титул.лист!$P$2","v":2263.8000000000002},2260,2818,{"$f":"BF55+BF55*Титул.лист!$A$1","v":3099.8},{"$f":"BG55+BG55*Титул.лист!$P$2","v":3099.8},3100]
[null,null,550,null,"1312-55",820,{"$f":"F56+F56*Титул.лист!$A$1","v":902},{"$f":"G56+G56*Титул.лист!$P$2","v":902},900,880,{"$f":"J56+J56*Титул.лист!$A$1","v":968},{"$f":"K56+K56*Титул.лист!$P$2","v":968},970,1120,{"$f":"N56+N56*Титул.лист!$A$1","v":1232},{"$f":"O56+O56*Титул.лист!$P$2","v":1232},1230,1156,{"$f":"R56+R56*Титул.лист!$A$1","v":1271.5999999999999},{"$f":"S56+S56*Титул.лист!$P$2","v":1271.5999999999999},1270,1300,{"$f":"V56+V56*Титул.лист!$A$1","v":1430},{"$f":"W56+W56*Титул.лист!$P$2","v":1430},1430,1336,{"$f":"Z56+Z56*Титул.лист!$A$1","v":1469.6},{"$f":"AA56+AA56*Титул.лист!$P$2","v":1469.6},1470,1120,{"$f":"AD56+AD56*Титул.лист!$A$1","v":1232},{"$f":"AE56+AE56*Титул.лист!$P$2","v":1232},1230,1192,{"$f":"AH56+AH56*Титул.лист!$A$1","v":1311.2},{"$f":"AI56+AI56*Титул.лист!$P$2","v":1311.2},1310,1240,{"$f":"AL56+AL56*Титул.лист!$A$1","v":1364},{"$f":"AM56+AM56*Титул.лист!$P$2","v":1364},1360,1980.2,{"$f":"AP56+AP56*Титул.лист!$A$1","v":2178.2200000000003},{"$f":"AQ56+AQ56*Титул.лист!$P$2","v":2178.2200000000003},2180,2222.1999999999998,{"$f":"AT56+AT56*Титул.лист!$A$1","v":2444.4199999999996},{"$f":"AU56+AU56*Титул.лист!$P$2","v":2444.4199999999996},2440,1808.6,{"$f":"AX56+AX56*Титул.лист!$A$1","v":1989.46},{"$f":"AY56+AY56*Титул.лист!$P$2","v":1989.46},1990,2244.1999999999998,{"$f":"BB56+BB56*Титул.лист!$A$1","v":2468.62},{"$f":"BC56+BC56*Титул.лист!$P$2","v":2468.62},2470,3080.2,{"$f":"BF56+BF56*Титул.лист!$A$1","v":3388.22},{"$f":"BG56+BG56*Титул.лист!$P$2","v":3388.22},3390]
[null,null,600,null,"1312-60",868,{"$f":"F57+F57*Титул.лист!$A$1","v":954.8},{"$f":"G57+G57*Титул.лист!$P$2","v":954.8},950,916,{"$f":"J57+J57*Титул.лист!$A$1","v":1007.6},{"$f":"K57+K57*Титул.лист!$P$2","v":1007.6},1010,1144,{"$f":"N57+N57*Титул.лист!$A$1","v":1258.4000000000001},{"$f":"O57+O57*Титул.лист!$P$2","v":1258.4000000000001},1260,1192,{"$f":"R57+R57*Титул.лист!$A$1","v":1311.2},{"$f":"S57+S57*Титул.лист!$P$2","v":1311.2},1310,1348,{"$f":"V57+V57*Титул.лист!$A$1","v":1482.8},{"$f":"W57+W57*Титул.лист!$P$2","v":1482.8},1480,1408,{"$f":"Z57+Z57*Титул.лист!$A$1","v":1548.8},{"$f":"AA57+AA57*Титул.лист!$P$2","v":1548.8},1550,1156,{"$f":"AD57+AD57*Титул.лист!$A$1","v":1271.5999999999999},{"$f":"AE57+AE57*Титул.лист!$P$2","v":1271.5999999999999},1270,1252,{"$f":"AH57+AH57*Титул.лист!$A$1","v":1377.2},{"$f":"AI57+AI57*Титул.лист!$P$2","v":1377.2},1380,1288,{"$f":"AL57+AL57*Титул.лист!$A$1","v":1416.8},{"$f":"AM57+AM57*Титул.лист!$P$2","v":1416.8},1420,2094.4,{"$f":"AP57+AP57*Титул.лист!$A$1","v":2303.84},{"$f":"AQ57+AQ57*Титул.лист!$P$2","v":2303.84},2300,2358.4,{"$f":"AT57+AT57*Титул.лист!$A$1","v":2594.2400000000002},{"$f":"AU57+AU57*Титул.лист!$P$2","v":2594.2400000000002},2590,1907.2,{"$f":"AX57+AX57*Титул.лист!$A$1","v":2097.92},{"$f":"AY57+AY57*Титул.лист!$P$2","v":2097.92},2100,2382.4,{"$f":"BB57+BB57*Титул.лист!$A$1","v":2620.6400000000003},{"$f":"BC57+BC57*Титул.лист!$P$2","v":2620.6400000000003},2620,3294.4,{"$f":"BF57+BF57*Титул.лист!$A$1","v":3623.84},{"$f":"BG57+BG57*Титул.лист!$P$2","v":3623.84},3620]
[null,null,650,null,"1312-65",940,{"$f":"F58+F58*Титул.лист!$A$1","v":1034},{"$f":"G58+G58*Титул.лист!$P$2","v":1034},1030,1060,{"$f":"J58+J58*Титул.лист!$A$1","v":1166},{"$f":"K58+K58*Титул.лист!$P$2","v":1166},1170,1300,{"$f":"N58+N58*Титул.лист!$A$1","v":1430},{"$f":"O58+O58*Титул.лист!$P$2","v":1430},1430,1360,{"$f":"R58+R58*Титул.лист!$A$1","v":1496},{"$f":"S58+S58*Титул.лист!$P$2","v":1496},1500,1540,{"$f":"V58+V58*Титул.лист!$A$1","v":1694},{"$f":"W58+W58*Титул.лист!$P$2","v":1694},1690,1600,{"$f":"Z58+Z58*Титул.лист!$A$1","v":1760},{"$f":"AA58+AA58*Титул.лист!$P$2","v":1760},1760,1360,{"$f":"AD58+AD58*Титул.лист!$A$1","v":1496},{"$f":"AE58+AE58*Титул.лист!$P$2","v":1496},1500,1420,{"$f":"AH58+AH58*Титул.лист!$A$1","v":1562},{"$f":"AI58+AI58*Титул.лист!$P$2","v":1562},1560,1480,{"$f":"AL58+AL58*Титул.лист!$A$1","v":1628},{"$f":"AM58+AM58*Титул.лист!$P$2","v":1628},1630,2376.6,{"$f":"AP58+AP58*Титул.лист!$A$1","v":2614.2599999999998},{"$f":"AQ58+AQ58*Титул.лист!$P$2","v":2614.2599999999998},2610,2662.6000000000004,{"$f":"AT58+AT58*Титул.лист!$A$1","v":2928.8600000000006},{"$f":"AU58+AU58*Титул.лист!$P$2","v":2928.8600000000006},2930,2173.8000000000002,{"$f":"AX58+AX58*Титул.лист!$A$1","v":2391.1800000000003},{"$f":"AY58+AY58*Титул.лист!$P$2","v":2391.1800000000003},2390,2688.6000000000004,{"$f":"BB58+BB58*Титул.лист!$A$1","v":2957.4600000000005},{"$f":"BC58+BC58*Титул.лист!$P$2","v":2957.4600000000005},2960,3676.6,{"$f":"BF58+BF58*Титул.лист!$A$1","v":4044.2599999999998},{"$f":"BG58+BG58*Титул.лист!$P$2","v":4044.2599999999998},4040]
[null,null,700,null,"1312-70",1036.0000000000002,{"$f":"F59+F59*Титул.лист!$A$1","v":1139.6000000000004},{"$f":"G59+G59*Титул.лист!$P$2","v":1139.6000000000004},1140,1108,{"$f":"J59+J59*Титул.лист!$A$1","v":1218.8},{"$f":"K59+K59*Титул.лист!$P$2","v":1218.8},1220,1348,{"$f":"N59+N59*Титул.лист!$A$1","v":1482.8},{"$f":"O59+O59*Титул.лист!$P$2","v":1482.8},1480,1420,{"$f":"R59+R59*Титул.лист!$A$1","v":1562},{"$f":"S59+S59*Титул.лист!$P$2","v":1562},1560,1600,{"$f":"V59+V59*Титул.лист!$A$1","v":1760},{"$f":"W59+W59*Титул.лист!$P$2","v":1760},1760,1672,{"$f":"Z59+Z59*Титул.лист!$A$1","v":1839.2},{"$f":"AA59+AA59*Титул.лист!$P$2","v":1839.2},1840,1396,{"$f":"AD59+AD59*Титул.лист!$A$1","v":1535.6},{"$f":"AE59+AE59*Титул.лист!$P$2","v":1535.6},1540,1480,{"$f":"AH59+AH59*Титул.лист!$A$1","v":1628},{"$f":"AI59+AI59*Титул.лист!$P$2","v":1628},1630,1540,{"$f":"AL59+AL59*Титул.лист!$A$1","v":1694},{"$f":"AM59+AM59*Титул.лист!$P$2","v":1694},1690,2490.8000000000002,{"$f":"AP59+AP59*Титул.лист!$A$1","v":2739.88},{"$f":"AQ59+AQ59*Титул.лист!$P$2","v":2739.88},2740,2798.8,{"$f":"AT59+AT59*Титул.лист!$A$1","v":3078.6800000000003},{"$f":"AU59+AU59*Титул.лист!$P$2","v":3078.6800000000003},3080,2272.4,{"$f":"AX59+AX59*Титул.лист!$A$1","v":2499.6400000000003},{"$f":"AY59+AY59*Титул.лист!$P$2","v":2499.6400000000003},2500,2826.8,{"$f":"BB59+BB59*Титул.лист!$A$1","v":3109.48},{"$f":"BC59+BC59*Титул.лист!$P$2","v":3109.48},3110,3890.8,{"$f":"BF59+BF59*Титул.лист!$A$1","v":4279.88},{"$f":"BG59+BG59*Титул.лист!$P$2","v":4279.88},4280]
[null,null,750,null,"1312-75",1060,{"$f":"F60+F60*Титул.лист!$A$1","v":1166},{"$f":"G60+G60*Титул.лист!$P$2","v":1166},1170,1144,{"$f":"J60+J60*Титул.лист!$A$1","v":1258.4000000000001},{"$f":"K60+K60*Титул.лист!$P$2","v":1258.4000000000001},1260,1420,{"$f":"N60+N60*Титул.лист!$A$1","v":1562},{"$f":"O60+O60*Титул.лист!$P$2","v":1562},1560,1504,{"$f":"R60+R60*Титул.лист!$A$1","v":1654.4},{"$f":"S60+S60*Титул.лист!$P$2","v":1654.4},1650,1684,{"$f":"V60+V60*Титул.лист!$A$1","v":1852.4},{"$f":"W60+W60*Титул.лист!$P$2","v":1852.4},1850,1780,{"$f":"Z60+Z60*Титул.лист!$A$1","v":1958},{"$f":"AA60+AA60*Титул.лист!$P$2","v":1958},1960,1480,{"$f":"AD60+AD60*Титул.лист!$A$1","v":1628},{"$f":"AE60+AE60*Титул.лист!$P$2","v":1628},1630,1600,{"$f":"AH60+AH60*Титул.лист!$A$1","v":1760},{"$f":"AI60+AI60*Титул.лист!$P$2","v":1760},1760,1624,{"$f":"AL60+AL60*Титул.лист!$A$1","v":1786.4},{"$f":"AM60+AM60*Титул.лист!$P$2","v":1786.4},1790,2653,{"$f":"AP60+AP60*Титул.лист!$A$1","v":2918.3},{"$f":"AQ60+AQ60*Титул.лист!$P$2","v":2918.3},2920,2983,{"$f":"AT60+AT60*Титул.лист!$A$1","v":3281.3},{"$f":"AU60+AU60*Титул.лист!$P$2","v":3281.3},3280,2419,{"$f":"AX60+AX60*Титул.лист!$A$1","v":2660.9},{"$f":"AY60+AY60*Титул.лист!$P$2","v":2660.9},2660,3013,{"$f":"BB60+BB60*Титул.лист!$A$1","v":3314.3},{"$f":"BC60+BC60*Титул.лист!$P$2","v":3314.3},3310,4153,{"$f":"BF60+BF60*Титул.лист!$A$1","v":4568.3},{"$f":"BG60+BG60*Титул.лист!$P$2","v":4568.3},4570]
[null,null,800,null,"1312-80",1108,{"$f":"F61+F61*Титул.лист!$A$1","v":1218.8},{"$f":"G61+G61*Титул.лист!$P$2","v":1218.8},1220,1180,{"$f":"J61+J61*Титул.лист!$A$1","v":1298},{"$f":"K61+K61*Титул.лист!$P$2","v":1298},1300,1456,{"$f":"N61+N61*Титул.лист!$A$1","v":1601.6},{"$f":"O61+O61*Титул.лист!$P$2","v":1601.6},1600,1540,{"$f":"R61+R61*Титул.лист!$A$1","v":1694},{"$f":"S61+S61*Титул.лист!$P$2","v":1694},1690,1732,{"$f":"V61+V61*Титул.лист!$A$1","v":1905.2},{"$f":"W61+W61*Титул.лист!$P$2","v":1905.2},1910,1816,{"$f":"Z61+Z61*Титул.лист!$A$1","v":1997.6},{"$f":"AA61+AA61*Титул.лист!$P$2","v":1997.6},2000,1516,{"$f":"AD61+AD61*Титул.лист!$A$1","v":1667.6},{"$f":"AE61+AE61*Титул.лист!$P$2","v":1667.6},1670,1636,{"$f":"AH61+AH61*Титул.лист!$A$1","v":1799.6},{"$f":"AI61+AI61*Титул.лист!$P$2","v":1799.6},1800,1672,{"$f":"AL61+AL61*Титул.лист!$A$1","v":1839.2},{"$f":"AM61+AM61*Титул.лист!$P$2","v":1839.2},1840,2767.2,{"$f":"AP61+AP61*Титул.лист!$A$1","v":3043.9199999999996},{"$f":"AQ61+AQ61*Титул.лист!$P$2","v":3043.9199999999996},3040,3119.2,{"$f":"AT61+AT61*Титул.лист!$A$1","v":3431.12},{"$f":"AU61+AU61*Титул.лист!$P$2","v":3431.12},3430,2517.6,{"$f":"AX61+AX61*Титул.лист!$A$1","v":2769.3599999999997},{"$f":"AY61+AY61*Титул.лист!$P$2","v":2769.3599999999997},2770,3151.2,{"$f":"BB61+BB61*Титул.лист!$A$1","v":3466.3199999999997},{"$f":"BC61+BC61*Титул.лист!$P$2","v":3466.3199999999997},3470,4367.2000000000007,{"$f":"BF61+BF61*Титул.лист!$A$1","v":4803.920000000001},{"$f":"BG61+BG61*Титул.лист!$P$2","v":4803.920000000001},4800]
[null,null,400,"h 460","1312-40",732,{"$f":"F62+F62*Титул.лист!$A$1","v":805.2},{"$f":"G62+G62*Титул.лист!$P$2","v":805.2},810,768,{"$f":"J62+J62*Титул.лист!$A$1","v":844.8},{"$f":"K62+K62*Титул.лист!$P$2","v":844.8},840,924.00000000000011,{"$f":"N62+N62*Титул.лист!$A$1","v":1016.4000000000001},{"$f":"O62+O62*Титул.лист!$P$2","v":1016.4000000000001},1020,960,{"$f":"R62+R62*Титул.лист!$A$1","v":1056},{"$f":"S62+S62*Титул.лист!$P$2","v":1056},1060,1056.0000000000002,{"$f":"V62+V62*Титул.лист!$A$1","v":1161.6000000000004},{"$f":"W62+W62*Титул.лист!$P$2","v":1161.6000000000004},1160,1092,{"$f":"Z62+Z62*Титул.лист!$A$1","v":1201.2},{"$f":"AA62+AA62*Титул.лист!$P$2","v":1201.2},1200,924.00000000000011,{"$f":"AD62+AD62*Титул.лист!$A$1","v":1016.4000000000001},{"$f":"AE62+AE62*Титул.лист!$P$2","v":1016.4000000000001},1020,996,{"$f":"AH62+AH62*Титул.лист!$A$1","v":1095.5999999999999},{"$f":"AI62+AI62*Титул.лист!$P$2","v":1095.5999999999999},1100,1020,{"$f":"AL62+AL62*Титул.лист!$A$1","v":1122},{"$f":"AM62+AM62*Титул.лист!$P$2","v":1122},1120,1643.44,{"$f":"AP62+AP62*Титул.лист!$A$1","v":1807.7840000000001},{"$f":"AQ62+AQ62*Титул.лист!$P$2","v":1807.7840000000001},1810,1845.8400000000001,{"$f":"AT62+AT62*Титул.лист!$A$1","v":2030.4240000000002},{"$f":"AU62+AU62*Титул.лист!$P$2","v":2030.4240000000002},2030,1499.92,{"$f":"AX62+AX62*Титул.лист!$A$1","v":1649.912},{"$f":"AY62+AY62*Титул.лист!$P$2","v":1649.912},1650,1864.2400000000002,{"$f":"BB62+BB62*Титул.лист!$A$1","v":2050.6640000000002},{"$f":"BC62+BC62*Титул.лист!$P$2","v":2050.6640000000002},2050,2563.44,{"$f":"BF62+BF62*Титул.лист!$A$1","v":2819.7840000000001},{"$f":"BG62+BG62*Титул.лист!$P$2","v":2819.7840000000001},2820]
[null,null,450,null,"1312-45",780,{"$f":"F63+F63*Титул.лист!$A$1","v":858},{"$f":"G63+G63*Титул.лист!$P$2","v":858},860,828,{"$f":"J63+J63*Титул.лист!$A$1","v":910.8},{"$f":"K63+K63*Титул.лист!$P$2","v":910.8},910,1020,{"$f":"N63+N63*Титул.лист!$A$1","v":1122},{"$f":"O63+O63*Титул.лист!$P$2","v":1122},1120,1032,{"$f":"R63+R63*Титул.лист!$A$1","v":1135.2},{"$f":"S63+S63*Титул.лист!$P$2","v":1135.2},1140,1140,{"$f":"V63+V63*Титул.лист!$A$1","v":1254},{"$f":"W63+W63*Титул.лист!$P$2","v":1254},1250,1200,{"$f":"Z63+Z63*Титул.лист!$A$1","v":1320},{"$f":"AA63+AA63*Титул.лист!$P$2","v":1320},1320,1020,{"$f":"AD63+AD63*Титул.лист!$A$1","v":1122},{"$f":"AE63+AE63*Титул.лист!$P$2","v":1122},1120,1080,{"$f":"AH63+AH63*Титул.лист!$A$1","v":1188},{"$f":"AI63+AI63*Титул.лист!$P$2","v":1188},1190,1100,{"$f":"AL63+AL63*Титул.лист!$A$1","v":1210},{"$f":"AM63+AM63*Титул.лист!$P$2","v":1210},1210,1829.3700000000001,{"$f":"AP63+AP63*Титул.лист!$A$1","v":2012.3070000000002},{"$f":"AQ63+AQ63*Титул.лист!$P$2","v":2012.3070000000002},2010,2057.0700000000002,{"$f":"AT63+AT63*Титул.лист!$A$1","v":2262.777},{"$f":"AU63+AU63*Титул.лист!$P$2","v":2262.777},2260,1667.91,{"$f":"AX63+AX63*Титул.лист!$A$1","v":1834.701},{"$f":"AY63+AY63*Титул.лист!$P$2","v":1834.701},1830,2077.77,{"$f":"BB63+BB63*Титул.лист!$A$1","v":2285.547},{"$f":"BC63+BC63*Титул.лист!$P$2","v":2285.547},2290,2864.37,{"$f":"BF63+BF63*Титул.лист!$A$1","v":3150.8069999999998},{"$f":"BG63+BG63*Титул.лист!$P$2","v":3150.8069999999998},3150]
[null,null,500,null,"1312-50",816,{"$f":"F64+F64*Титул.лист!$A$1","v":897.6},{"$f":"G64+G64*Титул.лист!$P$2","v":897.6},900,864,{"$f":"J64+J64*Титул.лист!$A$1","v":950.4},{"$f":"K64+K64*Титул.лист!$P$2","v":950.4},950,1044,{"$f":"N64+N64*Титул.лист!$A$1","v":1148.4000000000001},{"$f":"O64+O64*Титул.лист!$P$2","v":1148.4000000000001},1150,1080,{"$f":"R64+R64*Титул.лист!$A$1","v":1188},{"$f":"S64+S64*Титул.лист!$P$2","v":1188},1190,1224,{"$f":"V64+V64*Титул.лист!$A$1","v":1346.4},{"$f":"W64+W64*Титул.лист!$P$2","v":1346.4},1350,1272,{"$f":"Z64+Z64*Титул.лист!$A$1","v":1399.2},{"$f":"AA64+AA64*Титул.лист!$P$2","v":1399.2},1400,1056.0000000000002,{"$f":"AD64+AD64*Титул.лист!$A$1","v":1161.6000000000004},{"$f":"AE64+AE64*Титул.лист!$P$2","v":1161.6000000000004},1160,1116,{"$f":"AH64+AH64*Титул.лист!$A$1","v":1227.5999999999999},{"$f":"AI64+AI64*Титул.лист!$P$2","v":1227.5999999999999},1230,1152,{"$f":"AL64+AL64*Титул.лист!$A$1","v":1267.2},{"$f":"AM64+AM64*Титул.лист!$P$2","v":1267.2},1270,1955.3000000000002,{"$f":"AP64+AP64*Титул.лист!$A$1","v":2150.8300000000004},{"$f":"AQ64+AQ64*Титул.лист!$P$2","v":2150.8300000000004},2150,2208.3000000000002,{"$f":"AT64+AT64*Титул.лист!$A$1","v":2429.13},{"$f":"AU64+AU64*Титул.лист!$P$2","v":2429.13},2430,1775.9,{"$f":"AX64+AX64*Титул.лист!$A$1","v":1953.4900000000002},{"$f":"AY64+AY64*Титул.лист!$P$2","v":1953.4900000000002},1950,2231.3000000000002,{"$f":"BB64+BB64*Титул.лист!$A$1","v":2454.4300000000003},{"$f":"BC64+BC64*Титул.лист!$P$2","v":2454.4300000000003},2450,3105.3,{"$f":"BF64+BF64*Титул.лист!$A$1","v":3415.8300000000004},{"$f":"BG64+BG64*Титул.лист!$P$2","v":3415.8300000000004},3420]
[null,null,550,null,"1312-55",840,{"$f":"F65+F65*Титул.лист!$A$1","v":924},{"$f":"G65+G65*Титул.лист!$P$2","v":924},920,900,{"$f":"J65+J65*Титул.лист!$A$1","v":990},{"$f":"K65+K65*Титул.лист!$P$2","v":990},990,1140,{"$f":"N65+N65*Титул.лист!$A$1","v":1254},{"$f":"O65+O65*Титул.лист!$P$2","v":1254},1250,1176,{"$f":"R65+R65*Титул.лист!$A$1","v":1293.5999999999999},{"$f":"S65+S65*Титул.лист!$P$2","v":1293.5999999999999},1290,1320,{"$f":"V65+V65*Титул.лист!$A$1","v":1452},{"$f":"W65+W65*Титул.лист!$P$2","v":1452},1450,1356,{"$f":"Z65+Z65*Титул.лист!$A$1","v":1491.6},{"$f":"AA65+AA65*Титул.лист!$P$2","v":1491.6},1490,1140,{"$f":"AD65+AD65*Титул.лист!$A$1","v":1254},{"$f":"AE65+AE65*Титул.лист!$P$2","v":1254},1250,1212,{"$f":"AH65+AH65*Титул.лист!$A$1","v":1333.2},{"$f":"AI65+AI65*Титул.лист!$P$2","v":1333.2},1330,1260,{"$f":"AL65+AL65*Титул.лист!$A$1","v":1386},{"$f":"AM65+AM65*Титул.лист!$P$2","v":1386},1390,2129.23,{"$f":"AP65+AP65*Титул.лист!$A$1","v":2342.1530000000002},{"$f":"AQ65+AQ65*Титул.лист!$P$2","v":2342.1530000000002},2340,2407.5299999999997,{"$f":"AT65+AT65*Титул.лист!$A$1","v":2648.2829999999999},{"$f":"AU65+AU65*Титул.лист!$P$2","v":2648.2829999999999},2650,1931.8899999999999,{"$f":"AX65+AX65*Титул.лист!$A$1","v":2125.0789999999997},{"$f":"AY65+AY65*Титул.лист!$P$2","v":2125.0789999999997},2130,2432.83,{"$f":"BB65+BB65*Титул.лист!$A$1","v":2676.1129999999998},{"$f":"BC65+BC65*Титул.лист!$P$2","v":2676.1129999999998},2680,3394.23,{"$f":"BF65+BF65*Титул.лист!$A$1","v":3733.6530000000002},{"$f":"BG65+BG65*Титул.лист!$P$2","v":3733.6530000000002},3730]
[null,null,600,null,"1312-60",888,{"$f":"F66+F66*Титул.лист!$A$1","v":976.8},{"$f":"G66+G66*Титул.лист!$P$2","v":976.8},980,936,{"$f":"J66+J66*Титул.лист!$A$1","v":1029.5999999999999},{"$f":"K66+K66*Титул.лист!$P$2","v":1029.5999999999999},1030,1164,{"$f":"N66+N66*Титул.лист!$A$1","v":1280.4000000000001},{"$f":"O66+O66*Титул.лист!$P$2","v":1280.4000000000001},1280,1212,{"$f":"R66+R66*Титул.лист!$A$1","v":1333.2},{"$f":"S66+S66*Титул.лист!$P$2","v":1333.2},1330,1368,{"$f":"V66+V66*Титул.лист!$A$1","v":1504.8},{"$f":"W66+W66*Титул.лист!$P$2","v":1504.8},1500,1428,{"$f":"Z66+Z66*Титул.лист!$A$1","v":1570.8},{"$f":"AA66+AA66*Титул.лист!$P$2","v":1570.8},1570,1176,{"$f":"AD66+AD66*Титул.лист!$A$1","v":1293.5999999999999},{"$f":"AE66+AE66*Титул.лист!$P$2","v":1293.5999999999999},1290,1272,{"$f":"AH66+AH66*Титул.лист!$A$1","v":1399.2},{"$f":"AI66+AI66*Титул.лист!$P$2","v":1399.2},1400,1308,{"$f":"AL66+AL66*Титул.лист!$A$1","v":1438.8},{"$f":"AM66+AM66*Титул.лист!$P$2","v":1438.8},1440,2255.16,{"$f":"AP66+AP66*Титул.лист!$A$1","v":2480.6759999999999},{"$f":"AQ66+AQ66*Титул.лист!$P$2","v":2480.6759999999999},2480,2558.7600000000002,{"$f":"AT66+AT66*Титул.лист!$A$1","v":2814.6360000000004},{"$f":"AU66+AU66*Титул.лист!$P$2","v":2814.6360000000004},2810,2039.88,{"$f":"AX66+AX66*Титул.лист!$A$1","v":2243.8679999999999},{"$f":"AY66+AY66*Титул.лист!$P$2","v":2243.8679999999999},2240,2586.36,{"$f":"BB66+BB66*Титул.лист!$A$1","v":2844.9960000000001},{"$f":"BC66+BC66*Титул.лист!$P$2","v":2844.9960000000001},2840,3635.1600000000003,{"$f":"BF66+BF66*Титул.лист!$A$1","v":3998.6760000000004},{"$f":"BG66+BG66*Титул.лист!$P$2","v":3998.6760000000004},4000]
[null,null,650,null,"1312-65",960,{"$f":"F67+F67*Титул.лист!$A$1","v":1056},{"$f":"G67+G67*Титул.лист!$P$2","v":1056},1060,1080,{"$f":"J67+J67*Титул.лист!$A$1","v":1188},{"$f":"K67+K67*Титул.лист!$P$2","v":1188},1190,1320,{"$f":"N67+N67*Титул.лист!$A$1","v":1452},{"$f":"O67+O67*Титул.лист!$P$2","v":1452},1450,1380,{"$f":"R67+R67*Титул.лист!$A$1","v":1518},{"$f":"S67+S67*Титул.лист!$P$2","v":1518},1520,1560,{"$f":"V67+V67*Титул.лист!$A$1","v":1716},{"$f":"W67+W67*Титул.лист!$P$2","v":1716},1720,1620,{"$f":"Z67+Z67*Титул.лист!$A$1","v":1782},{"$f":"AA67+AA67*Титул.лист!$P$2","v":1782},1780,1380,{"$f":"AD67+AD67*Титул.лист!$A$1","v":1518},{"$f":"AE67+AE67*Титул.лист!$P$2","v":1518},1520,1440,{"$f":"AH67+AH67*Титул.лист!$A$1","v":1584},{"$f":"AI67+AI67*Титул.лист!$P$2","v":1584},1580,1500,{"$f":"AL67+AL67*Титул.лист!$A$1","v":1650},{"$f":"AM67+AM67*Титул.лист!$P$2","v":1650},1650,2549.09,{"$f":"AP67+AP67*Титул.лист!$A$1","v":2803.9990000000003},{"$f":"AQ67+AQ67*Титул.лист!$P$2","v":2803.9990000000003},2800,2877.99,{"$f":"AT67+AT67*Титул.лист!$A$1","v":3165.7889999999998},{"$f":"AU67+AU67*Титул.лист!$P$2","v":3165.7889999999998},3170,2315.87,{"$f":"AX67+AX67*Титул.лист!$A$1","v":2547.4569999999999},{"$f":"AY67+AY67*Титул.лист!$P$2","v":2547.4569999999999},2550,2907.89,{"$f":"BB67+BB67*Титул.лист!$A$1","v":3198.6790000000001},{"$f":"BC67+BC67*Титул.лист!$P$2","v":3198.6790000000001},3200,4044.0899999999997,{"$f":"BF67+BF67*Титул.лист!$A$1","v":4448.4989999999998},{"$f":"BG67+BG67*Титул.лист!$P$2","v":4448.4989999999998},4450]
[null,null,700,null,"1312-70",1056.0000000000002,{"$f":"F68+F68*Титул.лист!$A$1","v":1161.6000000000004},{"$f":"G68+G68*Титул.лист!$P$2","v":1161.6000000000004},{"$f":"ROUND(H68,-1)","v":1160},1128,{"$f":"J68+J68*Титул.лист!$A$1","v":1240.8},{"$f":"K68+K68*Титул.лист!$P$2","v":1240.8},{"$f":"ROUND(L68,-1)","v":1240},1368,{"$f":"N68+N68*Титул.лист!$A$1","v":1504.8},{"$f":"O68+O68*Титул.лист!$P$2","v":1504.8},{"$f":"ROUND(P68,-1)","v":1500},1440,{"$f":"R68+R68*Титул.лист!$A$1","v":1584},{"$f":"S68+S68*Титул.лист!$P$2","v":1584},{"$f":"ROUND(T68,-1)","v":1580},1620,{"$f":"V68+V68*Титул.лист!$A$1","v":1782},{"$f":"W68+W68*Титул.лист!$P$2","v":1782},{"$f":"ROUND(X68,-1)","v":1780},1692,{"$f":"Z68+Z68*Титул.лист!$A$1","v":1861.2},{"$f":"AA68+AA68*Титул.лист!$P$2","v":1861.2},{"$f":"ROUND(AB68,-1)","v":1860},1416,{"$f":"AD68+AD68*Титул.лист!$A$1","v":1557.6},{"$f":"AE68+AE68*Титул.лист!$P$2","v":1557.6},{"$f":"ROUND(AF68,-1)","v":1560},1500,{"$f":"AH68+AH68*Титул.лист!$A$1","v":1650},{"$f":"AI68+AI68*Титул.лист!$P$2","v":1650},{"$f":"ROUND(AJ68,-1)","v":1650},1560,{"$f":"AL68+AL68*Титул.лист!$A$1","v":1716},{"$f":"AM68+AM68*Титул.лист!$P$2","v":1716},{"$f":"ROUND(AN68,-1)","v":1720},2675.02,{"$f":"AP68+AP68*Титул.лист!$A$1","v":2942.5219999999999},{"$f":"AQ68+AQ68*Титул.лист!$P$2","v":2942.5219999999999},{"$f":"ROUND(AR68,-1)","v":2940},3029.2200000000003,{"$f":"AT68+AT68*Титул.лист!$A$1","v":3332.1420000000003},{"$f":"AU68+AU68*Титул.лист!$P$2","v":3332.1420000000003},{"$f":"ROUND(AV68,-1)","v":3330},2423.86,{"$f":"AX68+AX68*Титул.лист!$A$1","v":2666.2460000000001},{"$f":"AY68+AY68*Титул.лист!$P$2","v":2666.2460000000001},{"$f":"ROUND(AZ68,-1)","v":2670},3061.42,{"$f":"BB68+BB68*Титул.лист!$A$1","v":3367.5619999999999},{"$f":"BC68+BC68*Титул.лист!$P$2","v":3367.5619999999999},{"$f":"ROUND(BD68,-1)","v":3370},4285.0200000000004,{"$f":"BF68+BF68*Титул.лист!$A$1","v":4713.5220000000008},{"$f":"BG68+BG68*Титул.лист!$P$2","v":4713.5220000000008},{"$f":"ROUND(BH68,-1)","v":4710}]
[null,null,750,null,"1312-75",1080,{"$f":"F69+F69*Титул.лист!$A$1","v":1188},{"$f":"G69+G69*Титул.лист!$P$2","v":1188},1190,1164,{"$f":"J69+J69*Титул.лист!$A$1","v":1280.4000000000001},{"$f":"K69+K69*Титул.лист!$P$2","v":1280.4000000000001},1280,1440,{"$f":"N69+N69*Титул.лист!$A$1","v":1584},{"$f":"O69+O69*Титул.лист!$P$2","v":1584},1580,1524,{"$f":"R69+R69*Титул.лист!$A$1","v":1676.4},{"$f":"S69+S69*Титул.лист!$P$2","v":1676.4},1680,1704,{"$f":"V69+V69*Титул.лист!$A$1","v":1874.4},{"$f":"W69+W69*Титул.лист!$P$2","v":1874.4},1870,1800,{"$f":"Z69+Z69*Титул.лист!$A$1","v":1980},{"$f":"AA69+AA69*Титул.лист!$P$2","v":1980},1980,1500,{"$f":"AD69+AD69*Титул.лист!$A$1","v":1650},{"$f":"AE69+AE69*Титул.лист!$P$2","v":1650},1650,1620,{"$f":"AH69+AH69*Титул.лист!$A$1","v":1782},{"$f":"AI69+AI69*Титул.лист!$P$2","v":1782},1780,1644,{"$f":"AL69+AL69*Титул.лист!$A$1","v":1808.4},{"$f":"AM69+AM69*Титул.лист!$P$2","v":1808.4},1810,2848.95,{"$f":"AP69+AP69*Титул.лист!$A$1","v":3133.8449999999998},{"$f":"AQ69+AQ69*Титул.лист!$P$2","v":3133.8449999999998},3130,3228.45,{"$f":"AT69+AT69*Титул.лист!$A$1","v":3551.2950000000001},{"$f":"AU69+AU69*Титул.лист!$P$2","v":3551.2950000000001},3550,2579.8500000000004,{"$f":"AX69+AX69*Титул.лист!$A$1","v":2837.8350000000005},{"$f":"AY69+AY69*Титул.лист!$P$2","v":2837.8350000000005},2840,3262.95,{"$f":"BB69+BB69*Титул.лист!$A$1","v":3589.2449999999999},{"$f":"BC69+BC69*Титул.лист!$P$2","v":3589.2449999999999},3590,4573.9500000000007,{"$f":"BF69+BF69*Титул.лист!$A$1","v":5031.3450000000012},{"$f":"BG69+BG69*Титул.лист!$P$2","v":5031.3450000000012},5030]
[null,null,800,null,"1312-80",1128,{"$f":"F70+F70*Титул.лист!$A$1","v":1240.8},{"$f":"G70+G70*Титул.лист!$P$2","v":1240.8},1240,1200,{"$f":"J70+J70*Титул.лист!$A$1","v":1320},{"$f":"K70+K70*Титул.лист!$P$2","v":1320},1320,1476,{"$f":"N70+N70*Титул.лист!$A$1","v":1623.6},{"$f":"O70+O70*Титул.лист!$P$2","v":1623.6},1620,1560,{"$f":"R70+R70*Титул.лист!$A$1","v":1716},{"$f":"S70+S70*Титул.лист!$P$2","v":1716},1720,1752,{"$f":"V70+V70*Титул.лист!$A$1","v":1927.2},{"$f":"W70+W70*Титул.лист!$P$2","v":1927.2},1930,1836,{"$f":"Z70+Z70*Титул.лист!$A$1","v":2019.6},{"$f":"AA70+AA70*Титул.лист!$P$2","v":2019.6},2020,1536,{"$f":"AD70+AD70*Титул.лист!$A$1","v":1689.6},{"$f":"AE70+AE70*Титул.лист!$P$2","v":1689.6},1690,1656,{"$f":"AH70+AH70*Титул.лист!$A$1","v":1821.6},{"$f":"AI70+AI70*Титул.лист!$P$2","v":1821.6},1820,1692,{"$f":"AL70+AL70*Титул.лист!$A$1","v":1861.2},{"$f":"AM70+AM70*Титул.лист!$P$2","v":1861.2},1860,2974.88,{"$f":"AP70+AP70*Титул.лист!$A$1","v":3272.3679999999999},{"$f":"AQ70+AQ70*Титул.лист!$P$2","v":3272.3679999999999},3270,3379.6800000000003,{"$f":"AT70+AT70*Титул.лист!$A$1","v":3717.6480000000001},{"$f":"AU70+AU70*Титул.лист!$P$2","v":3717.6480000000001},3720,2687.84,{"$f":"AX70+AX70*Титул.лист!$A$1","v":2956.6240000000003},{"$f":"AY70+AY70*Титул.лист!$P$2","v":2956.6240000000003},2960,3416.48,{"$f":"BB70+BB70*Титул.лист!$A$1","v":3758.1280000000002},{"$f":"BC70+BC70*Титул.лист!$P$2","v":3758.1280000000002},3760,4814.88,{"$f":"BF70+BF70*Титул.лист!$A$1","v":5296.3680000000004},{"$f":"BG70+BG70*Титул.лист!$P$2","v":5296.3680000000004},5300]
[null,"Шкаф антресольный стекло",400,"h 360","1311-40с",740,{"$f":"F71+F71*Титул.лист!$A$1","v":814},{"$f":"G71+G71*Титул.лист!$P$2","v":814},810,780,{"$f":"J71+J71*Титул.лист!$A$1","v":858},{"$f":"K71+K71*Титул.лист!$P$2","v":858},860,900,{"$f":"N71+N71*Титул.лист!$A$1","v":990},{"$f":"O71+O71*Титул.лист!$P$2","v":990},990,950,{"$f":"R71+R71*Титул.лист!$A$1","v":1045},{"$f":"S71+S71*Титул.лист!$P$2","v":1045},1050,1010,{"$f":"V71+V71*Титул.лист!$A$1","v":1111},{"$f":"W71+W71*Титул.лист!$P$2","v":1111},1110,1060,{"$f":"Z71+Z71*Титул.лист!$A$1","v":1166},{"$f":"AA71+AA71*Титул.лист!$P$2","v":1166},1170,860,{"$f":"AD71+AD71*Титул.лист!$A$1","v":946},{"$f":"AE71+AE71*Титул.лист!$P$2","v":946},950,910,{"$f":"AH71+AH71*Титул.лист!$A$1","v":1001},{"$f":"AI71+AI71*Титул.лист!$P$2","v":1001},1000,930,{"$f":"AL71+AL71*Титул.лист!$A$1","v":1023},{"$f":"AM71+AM71*Титул.лист!$P$2","v":1023},1020,1423.04,{"$f":"AP71+AP71*Титул.лист!$A$1","v":1565.3440000000001},{"$f":"AQ71+AQ71*Титул.лист!$P$2","v":1565.3440000000001},1570,1581.44,{"$f":"AT71+AT71*Титул.лист!$A$1","v":1739.5840000000001},{"$f":"AU71+AU71*Титул.лист!$P$2","v":1739.5840000000001},1740,1310.72,{"$f":"AX71+AX71*Титул.лист!$A$1","v":1441.7919999999999},{"$f":"AY71+AY71*Титул.лист!$P$2","v":1441.7919999999999},1440,1595.8400000000001,{"$f":"BB71+BB71*Титул.лист!$A$1","v":1755.4240000000002},{"$f":"BC71+BC71*Титул.лист!$P$2","v":1755.4240000000002},1760,2143.04,{"$f":"BF71+BF71*Титул.лист!$A$1","v":2357.3440000000001},{"$f":"BG71+BG71*Титул.лист!$P$2","v":2357.3440000000001},2360]
[null,null,450,null,"1311-45с",800,{"$f":"F72+F72*Титул.лист!$A$1","v":880},{"$f":"G72+G72*Титул.лист!$P$2","v":880},880,850,{"$f":"J72+J72*Титул.лист!$A$1","v":935},{"$f":"K72+K72*Титул.лист!$P$2","v":935},940,100,{"$f":"N72+N72*Титул.лист!$A$1","v":110},{"$f":"O72+O72*Титул.лист!$P$2","v":110},110,1030,{"$f":"R72+R72*Титул.лист!$A$1","v":1133},{"$f":"S72+S72*Титул.лист!$P$2","v":1133},1130,1150,{"$f":"V72+V72*Титул.лист!$A$1","v":1265},{"$f":"W72+W72*Титул.лист!$P$2","v":1265},1270,1200,{"$f":"Z72+Z72*Титул.лист!$A$1","v":1320},{"$f":"AA72+AA72*Титул.лист!$P$2","v":1320},1320,950,{"$f":"AD72+AD72*Титул.лист!$A$1","v":1045},{"$f":"AE72+AE72*Титул.лист!$P$2","v":1045},1050,1030,{"$f":"AH72+AH72*Титул.лист!$A$1","v":1133},{"$f":"AI72+AI72*Титул.лист!$P$2","v":1133},1130,1050,{"$f":"AL72+AL72*Титул.лист!$A$1","v":1155},{"$f":"AM72+AM72*Титул.лист!$P$2","v":1155},1160,1583.42,{"$f":"AP72+AP72*Титул.лист!$A$1","v":1741.7620000000002},{"$f":"AQ72+AQ72*Титул.лист!$P$2","v":1741.7620000000002},1740,1761.62,{"$f":"AT72+AT72*Титул.лист!$A$1","v":1937.7819999999999},{"$f":"AU72+AU72*Титул.лист!$P$2","v":1937.7819999999999},1940,1457.06,{"$f":"AX72+AX72*Титул.лист!$A$1","v":1602.7659999999998},{"$f":"AY72+AY72*Титул.лист!$P$2","v":1602.7659999999998},1600,1777.8200000000002,{"$f":"BB72+BB72*Титул.лист!$A$1","v":1955.6020000000003},{"$f":"BC72+BC72*Титул.лист!$P$2","v":1955.6020000000003},1960,2393.42,{"$f":"BF72+BF72*Титул.лист!$A$1","v":2632.7620000000002},{"$f":"BG72+BG72*Титул.лист!$P$2","v":2632.7620000000002},2630]
[null,null,500,null,"1311-50с",840,{"$f":"F73+F73*Титул.лист!$A$1","v":924},{"$f":"G73+G73*Титул.лист!$P$2","v":924},920,890,{"$f":"J73+J73*Титул.лист!$A$1","v":979},{"$f":"K73+K73*Титул.лист!$P$2","v":979},980,1020,{"$f":"N73+N73*Титул.лист!$A$1","v":1122},{"$f":"O73+O73*Титул.лист!$P$2","v":1122},1120,1080,{"$f":"R73+R73*Титул.лист!$A$1","v":1188},{"$f":"S73+S73*Титул.лист!$P$2","v":1188},1190,1180,{"$f":"V73+V73*Титул.лист!$A$1","v":1298},{"$f":"W73+W73*Титул.лист!$P$2","v":1298},1300,1230,{"$f":"Z73+Z73*Титул.лист!$A$1","v":1353},{"$f":"AA73+AA73*Титул.лист!$P$2","v":1353},1350,990.00000000000011,{"$f":"AD73+AD73*Титул.лист!$A$1","v":1089.0000000000002},{"$f":"AE73+AE73*Титул.лист!$P$2","v":1089.0000000000002},1090,1050,{"$f":"AH73+AH73*Титул.лист!$A$1","v":1155},{"$f":"AI73+AI73*Титул.лист!$P$2","v":1155},1160,1070,{"$f":"AL73+AL73*Титул.лист!$A$1","v":1177},{"$f":"AM73+AM73*Титул.лист!$P$2","v":1177},1180,1693.8000000000002,{"$f":"AP73+AP73*Титул.лист!$A$1","v":1863.1800000000003},{"$f":"AQ73+AQ73*Титул.лист!$P$2","v":1863.1800000000003},1860,1891.8000000000002,{"$f":"AT73+AT73*Титул.лист!$A$1","v":2080.98},{"$f":"AU73+AU73*Титул.лист!$P$2","v":2080.98},2080,1553.4,{"$f":"AX73+AX73*Титул.лист!$A$1","v":1708.7400000000002},{"$f":"AY73+AY73*Титул.лист!$P$2","v":1708.7400000000002},1710,1909.8000000000002,{"$f":"BB73+BB73*Титул.лист!$A$1","v":2100.7800000000002},{"$f":"BC73+BC73*Титул.лист!$P$2","v":2100.7800000000002},2100,2593.8000000000002,{"$f":"BF73+BF73*Титул.лист!$A$1","v":2853.1800000000003},{"$f":"BG73+BG73*Титул.лист!$P$2","v":2853.1800000000003},2850]
[null,null,550,null,"1311-55с",900,{"$f":"F74+F74*Титул.лист!$A$1","v":990},{"$f":"G74+G74*Титул.лист!$P$2","v":990},990,950,{"$f":"J74+J74*Титул.лист!$A$1","v":1045},{"$f":"K74+K74*Титул.лист!$P$2","v":1045},1050,1130,{"$f":"N74+N74*Титул.лист!$A$1","v":1243},{"$f":"O74+O74*Титул.лист!$P$2","v":1243},1240,1190,{"$f":"R74+R74*Титул.лист!$A$1","v":1309},{"$f":"S74+S74*Титул.лист!$P$2","v":1309},1310,1300,{"$f":"V74+V74*Титул.лист!$A$1","v":1430},{"$f":"W74+W74*Титул.лист!$P$2","v":1430},1430,1350,{"$f":"Z74+Z74*Титул.лист!$A$1","v":1485},{"$f":"AA74+AA74*Титул.лист!$P$2","v":1485},1490,1080,{"$f":"AD74+AD74*Титул.лист!$A$1","v":1188},{"$f":"AE74+AE74*Титул.лист!$P$2","v":1188},1190,1150,{"$f":"AH74+AH74*Титул.лист!$A$1","v":1265},{"$f":"AI74+AI74*Титул.лист!$P$2","v":1265},1270,1200,{"$f":"AL74+AL74*Титул.лист!$A$1","v":1320},{"$f":"AM74+AM74*Титул.лист!$P$2","v":1320},1320,1854.18,{"$f":"AP74+AP74*Титул.лист!$A$1","v":2039.598},{"$f":"AQ74+AQ74*Титул.лист!$P$2","v":2039.598},2040,2071.98,{"$f":"AT74+AT74*Титул.лист!$A$1","v":2279.1779999999999},{"$f":"AU74+AU74*Титул.лист!$P$2","v":2279.1779999999999},2280,1699.74,{"$f":"AX74+AX74*Титул.лист!$A$1","v":1869.7139999999999},{"$f":"AY74+AY74*Титул.лист!$P$2","v":1869.7139999999999},1870,2091.7800000000002,{"$f":"BB74+BB74*Титул.лист!$A$1","v":2300.9580000000001},{"$f":"BC74+BC74*Титул.лист!$P$2","v":2300.9580000000001},2300,2844.1800000000003,{"$f":"BF74+BF74*Титул.лист!$A$1","v":3128.5980000000004},{"$f":"BG74+BG74*Титул.лист!$P$2","v":3128.5980000000004},3130]
[null,null,600,null,"1311-60с",920,{"$f":"F75+F75*Титул.лист!$A$1","v":1012},{"$f":"G75+G75*Титул.лист!$P$2","v":1012},1010,990.00000000000011,{"$f":"J75+J75*Титул.лист!$A$1","v":1089.0000000000002},{"$f":"K75+K75*Титул.лист!$P$2","v":1089.0000000000002},1090,1160,{"$f":"N75+N75*Титул.лист!$A$1","v":1276},{"$f":"O75+O75*Титул.лист!$P$2","v":1276},1280,1220,{"$f":"R75+R75*Титул.лист!$A$1","v":1342},{"$f":"S75+S75*Титул.лист!$P$2","v":1342},1340,1330,{"$f":"V75+V75*Титул.лист!$A$1","v":1463},{"$f":"W75+W75*Титул.лист!$P$2","v":1463},1460,1400,{"$f":"Z75+Z75*Титул.лист!$A$1","v":1540},{"$f":"AA75+AA75*Титул.лист!$P$2","v":1540},1540,1110,{"$f":"AD75+AD75*Титул.лист!$A$1","v":1221},{"$f":"AE75+AE75*Титул.лист!$P$2","v":1221},1220,1190,{"$f":"AH75+AH75*Титул.лист!$A$1","v":1309},{"$f":"AI75+AI75*Титул.лист!$P$2","v":1309},1310,1220,{"$f":"AL75+AL75*Титул.лист!$A$1","v":1342},{"$f":"AM75+AM75*Титул.лист!$P$2","v":1342},1340,1954.56,{"$f":"AP75+AP75*Титул.лист!$A$1","v":2150.0160000000001},{"$f":"AQ75+AQ75*Титул.лист!$P$2","v":2150.0160000000001},2150,2192.16,{"$f":"AT75+AT75*Титул.лист!$A$1","v":2411.3759999999997},{"$f":"AU75+AU75*Титул.лист!$P$2","v":2411.3759999999997},2410,1786.08,{"$f":"AX75+AX75*Титул.лист!$A$1","v":1964.6879999999999},{"$f":"AY75+AY75*Титул.лист!$P$2","v":1964.6879999999999},1960,2213.7600000000002,{"$f":"BB75+BB75*Титул.лист!$A$1","v":2435.1360000000004},{"$f":"BC75+BC75*Титул.лист!$P$2","v":2435.1360000000004},2440,3034.5600000000004,{"$f":"BF75+BF75*Титул.лист!$A$1","v":3338.0160000000005},{"$f":"BG75+BG75*Титул.лист!$P$2","v":3338.0160000000005},3340]
[null,null,650,null,"1311-65с",1000,{"$f":"F76+F76*Титул.лист!$A$1","v":1100},{"$f":"G76+G76*Титул.лист!$P$2","v":1100},1100,1090,{"$f":"J76+J76*Титул.лист!$A$1","v":1199},{"$f":"K76+K76*Титул.лист!$P$2","v":1199},1200,1250,{"$f":"N76+N76*Титул.лист!$A$1","v":1375},{"$f":"O76+O76*Титул.лист!$P$2","v":1375},1380,1330,{"$f":"R76+R76*Титул.лист!$A$1","v":1463},{"$f":"S76+S76*Титул.лист!$P$2","v":1463},1460,1450,{"$f":"V76+V76*Титул.лист!$A$1","v":1595},{"$f":"W76+W76*Титул.лист!$P$2","v":1595},1600,1530,{"$f":"Z76+Z76*Титул.лист!$A$1","v":1683},{"$f":"AA76+AA76*Титул.лист!$P$2","v":1683},1680,1200,{"$f":"AD76+AD76*Титул.лист!$A$1","v":1320},{"$f":"AE76+AE76*Титул.лист!$P$2","v":1320},1320,1300,{"$f":"AH76+AH76*Титул.лист!$A$1","v":1430},{"$f":"AI76+AI76*Титул.лист!$P$2","v":1430},1430,1320,{"$f":"AL76+AL76*Титул.лист!$A$1","v":1452},{"$f":"AM76+AM76*Титул.лист!$P$2","v":1452},1450,2114.94,{"$f":"AP76+AP76*Титул.лист!$A$1","v":2326.4340000000002},{"$f":"AQ76+AQ76*Титул.лист!$P$2","v":2326.4340000000002},2330,2372.34,{"$f":"AT76+AT76*Титул.лист!$A$1","v":2609.5740000000001},{"$f":"AU76+AU76*Титул.лист!$P$2","v":2609.5740000000001},2610,1932.42,{"$f":"AX76+AX76*Титул.лист!$A$1","v":2125.6620000000003},{"$f":"AY76+AY76*Титул.лист!$P$2","v":2125.6620000000003},2130,2395.7399999999998,{"$f":"BB76+BB76*Титул.лист!$A$1","v":2635.3139999999999},{"$f":"BC76+BC76*Титул.лист!$P$2","v":2635.3139999999999},2640,3284.94,{"$f":"BF76+BF76*Титул.лист!$A$1","v":3613.4340000000002},{"$f":"BG76+BG76*Титул.лист!$P$2","v":3613.4340000000002},3610]
[null,null,700,null,"1311-70с",1020,{"$f":"F77+F77*Титул.лист!$A$1","v":1122},{"$f":"G77+G77*Титул.лист!$P$2","v":1122},1120,1110,{"$f":"J77+J77*Титул.лист!$A$1","v":1221},{"$f":"K77+K77*Титул.лист!$P$2","v":1221},1220,1290,{"$f":"N77+N77*Титул.лист!$A$1","v":1419},{"$f":"O77+O77*Титул.лист!$P$2","v":1419},1420,1370,{"$f":"R77+R77*Титул.лист!$A$1","v":1507},{"$f":"S77+S77*Титул.лист!$P$2","v":1507},1510,1500,{"$f":"V77+V77*Титул.лист!$A$1","v":1650},{"$f":"W77+W77*Титул.лист!$P$2","v":1650},1650,1580,{"$f":"Z77+Z77*Титул.лист!$A$1","v":1738},{"$f":"AA77+AA77*Титул.лист!$P$2","v":1738},1740,1250,{"$f":"AD77+AD77*Титул.лист!$A$1","v":1375},{"$f":"AE77+AE77*Титул.лист!$P$2","v":1375},1380,1330,{"$f":"AH77+AH77*Титул.лист!$A$1","v":1463},{"$f":"AI77+AI77*Титул.лист!$P$2","v":1463},1460,1370,{"$f":"AL77+AL77*Титул.лист!$A$1","v":1507},{"$f":"AM77+AM77*Титул.лист!$P$2","v":1507},1510,2235.3200000000002,{"$f":"AP77+AP77*Титул.лист!$A$1","v":2458.8520000000003},{"$f":"AQ77+AQ77*Титул.лист!$P$2","v":2458.8520000000003},2460,2512.52,{"$f":"AT77+AT77*Титул.лист!$A$1","v":2763.7719999999999},{"$f":"AU77+AU77*Титул.лист!$P$2","v":2763.7719999999999},2760,2038.76,{"$f":"AX77+AX77*Титул.лист!$A$1","v":2242.636},{"$f":"AY77+AY77*Титул.лист!$P$2","v":2242.636},2240,2537.7200000000003,{"$f":"BB77+BB77*Титул.лист!$A$1","v":2791.4920000000002},{"$f":"BC77+BC77*Титул.лист!$P$2","v":2791.4920000000002},2790,3495.32,{"$f":"BF77+BF77*Титул.лист!$A$1","v":3844.8520000000003},{"$f":"BG77+BG77*Титул.лист!$P$2","v":3844.8520000000003},3840]
[null,null,750,null,"1311-75с",1060,{"$f":"F78+F78*Титул.лист!$A$1","v":1166},{"$f":"G78+G78*Титул.лист!$P$2","v":1166},1170,1150,{"$f":"J78+J78*Титул.лист!$A$1","v":1265},{"$f":"K78+K78*Титул.лист!$P$2","v":1265},1270,1380,{"$f":"N78+N78*Титул.лист!$A$1","v":1518},{"$f":"O78+O78*Титул.лист!$P$2","v":1518},1520,1450,{"$f":"R78+R78*Титул.лист!$A$1","v":1595},{"$f":"S78+S78*Титул.лист!$P$2","v":1595},1600,1600,{"$f":"V78+V78*Титул.лист!$A$1","v":1760},{"$f":"W78+W78*Титул.лист!$P$2","v":1760},1760,1700,{"$f":"Z78+Z78*Титул.лист!$A$1","v":1870},{"$f":"AA78+AA78*Титул.лист!$P$2","v":1870},1870,1350,{"$f":"AD78+AD78*Титул.лист!$A$1","v":1485},{"$f":"AE78+AE78*Титул.лист!$P$2","v":1485},1490,1450,{"$f":"AH78+AH78*Титул.лист!$A$1","v":1595},{"$f":"AI78+AI78*Титул.лист!$P$2","v":1595},1600,1480,{"$f":"AL78+AL78*Титул.лист!$A$1","v":1628},{"$f":"AM78+AM78*Титул.лист!$P$2","v":1628},1630,2405.6999999999998,{"$f":"AP78+AP78*Титул.лист!$A$1","v":2646.27},{"$f":"AQ78+AQ78*Титул.лист!$P$2","v":2646.27},2650,2702.7,{"$f":"AT78+AT78*Титул.лист!$A$1","v":2972.97},{"$f":"AU78+AU78*Титул.лист!$P$2","v":2972.97},2970,2195.1,{"$f":"AX78+AX78*Титул.лист!$A$1","v":2414.6099999999997},{"$f":"AY78+AY78*Титул.лист!$P$2","v":2414.6099999999997},2410,2729.7,{"$f":"BB78+BB78*Титул.лист!$A$1","v":3002.6699999999996},{"$f":"BC78+BC78*Титул.лист!$P$2","v":3002.6699999999996},3000,3755.7000000000003,{"$f":"BF78+BF78*Титул.лист!$A$1","v":4131.2700000000004},{"$f":"BG78+BG78*Титул.лист!$P$2","v":4131.2700000000004},4130]
[null,null,800,null,"1311-80с",1110,{"$f":"F79+F79*Титул.лист!$A$1","v":1221},{"$f":"G79+G79*Титул.лист!$P$2","v":1221},1220,1200,{"$f":"J79+J79*Титул.лист!$A$1","v":1320},{"$f":"K79+K79*Титул.лист!$P$2","v":1320},1320,1410,{"$f":"N79+N79*Титул.лист!$A$1","v":1551},{"$f":"O79+O79*Титул.лист!$P$2","v":1551},1550,1500,{"$f":"R79+R79*Титул.лист!$A$1","v":1650},{"$f":"S79+S79*Титул.лист!$P$2","v":1650},1650,1640,{"$f":"V79+V79*Титул.лист!$A$1","v":1804},{"$f":"W79+W79*Титул.лист!$P$2","v":1804},1800,1730,{"$f":"Z79+Z79*Титул.лист!$A$1","v":1903},{"$f":"AA79+AA79*Титул.лист!$P$2","v":1903},1900,1370,{"$f":"AD79+AD79*Титул.лист!$A$1","v":1507},{"$f":"AE79+AE79*Титул.лист!$P$2","v":1507},1510,1470,{"$f":"AH79+AH79*Титул.лист!$A$1","v":1617},{"$f":"AI79+AI79*Титул.лист!$P$2","v":1617},1620,1510,{"$f":"AL79+AL79*Титул.лист!$A$1","v":1661},{"$f":"AM79+AM79*Титул.лист!$P$2","v":1661},1660,2496.08,{"$f":"AP79+AP79*Титул.лист!$A$1","v":2745.6880000000001},{"$f":"AQ79+AQ79*Титул.лист!$P$2","v":2745.6880000000001},2750,2812.88,{"$f":"AT79+AT79*Титул.лист!$A$1","v":3094.1680000000001},{"$f":"AU79+AU79*Титул.лист!$P$2","v":3094.1680000000001},3090,2271.44,{"$f":"AX79+AX79*Титул.лист!$A$1","v":2498.5839999999998},{"$f":"AY79+AY79*Титул.лист!$P$2","v":2498.5839999999998},2500,2841.6800000000003,{"$f":"BB79+BB79*Титул.лист!$A$1","v":3125.8480000000004},{"$f":"BC79+BC79*Титул.лист!$P$2","v":3125.8480000000004},3130,3936.0800000000004,{"$f":"BF79+BF79*Титул.лист!$A$1","v":4329.6880000000001},{"$f":"BG79+BG79*Титул.лист!$P$2","v":4329.6880000000001},4330]
[null,null,400,"h 460","1312-40с",888,{"$f":"F80+F80*Титул.лист!$A$1","v":976.8},{"$f":"G80+G80*Титул.лист!$P$2","v":976.8},980,936,{"$f":"J80+J80*Титул.лист!$A$1","v":1029.5999999999999},{"$f":"K80+K80*Титул.лист!$P$2","v":1029.5999999999999},1030,1080,{"$f":"N80+N80*Титул.лист!$A$1","v":1188},{"$f":"O80+O80*Титул.лист!$P$2","v":1188},1190,1140,{"$f":"R80+R80*Титул.лист!$A$1","v":1254},{"$f":"S80+S80*Титул.лист!$P$2","v":1254},1250,1212,{"$f":"V80+V80*Титул.лист!$A$1","v":1333.2},{"$f":"W80+W80*Титул.лист!$P$2","v":1333.2},1330,1272,{"$f":"Z80+Z80*Титул.лист!$A$1","v":1399.2},{"$f":"AA80+AA80*Титул.лист!$P$2","v":1399.2},1400,1032,{"$f":"AD80+AD80*Титул.лист!$A$1","v":1135.2},{"$f":"AE80+AE80*Титул.лист!$P$2","v":1135.2},1140,1092,{"$f":"AH80+AH80*Титул.лист!$A$1","v":1201.2},{"$f":"AI80+AI80*Титул.лист!$P$2","v":1201.2},1200,1116,{"$f":"AL80+AL80*Титул.лист!$A$1","v":1227.5999999999999},{"$f":"AM80+AM80*Титул.лист!$P$2","v":1227.5999999999999},1230,1751.44,{"$f":"AP80+AP80*Титул.лист!$A$1","v":1926.5840000000001},{"$f":"AQ80+AQ80*Титул.лист!$P$2","v":1926.5840000000001},1930,1953.8400000000001,{"$f":"AT80+AT80*Титул.лист!$A$1","v":2149.2240000000002},{"$f":"AU80+AU80*Титул.лист!$P$2","v":2149.2240000000002},2150,1607.92,{"$f":"AX80+AX80*Титул.лист!$A$1","v":1768.712},{"$f":"AY80+AY80*Титул.лист!$P$2","v":1768.712},1770,1972.24,{"$f":"BB80+BB80*Титул.лист!$A$1","v":2169.4639999999999},{"$f":"BC80+BC80*Титул.лист!$P$2","v":2169.4639999999999},2170,2671.44,{"$f":"BF80+BF80*Титул.лист!$A$1","v":2938.5839999999998},{"$f":"BG80+BG80*Титул.лист!$P$2","v":2938.5839999999998},2940]
[null,null,450,null,"1312-45с",960,{"$f":"F81+F81*Титул.лист!$A$1","v":1056},{"$f":"G81+G81*Титул.лист!$P$2","v":1056},1060,1020,{"$f":"J81+J81*Титул.лист!$A$1","v":1122},{"$f":"K81+K81*Титул.лист!$P$2","v":1122},1120,120,{"$f":"N81+N81*Титул.лист!$A$1","v":132},{"$f":"O81+O81*Титул.лист!$P$2","v":132},130,1236,{"$f":"R81+R81*Титул.лист!$A$1","v":1359.6},{"$f":"S81+S81*Титул.лист!$P$2","v":1359.6},1360,1380,{"$f":"V81+V81*Титул.лист!$A$1","v":1518},{"$f":"W81+W81*Титул.лист!$P$2","v":1518},1520,1440,{"$f":"Z81+Z81*Титул.лист!$A$1","v":1584},{"$f":"AA81+AA81*Титул.лист!$P$2","v":1584},1580,1140,{"$f":"AD81+AD81*Титул.лист!$A$1","v":1254},{"$f":"AE81+AE81*Титул.лист!$P$2","v":1254},1250,1236,{"$f":"AH81+AH81*Титул.лист!$A$1","v":1359.6},{"$f":"AI81+AI81*Титул.лист!$P$2","v":1359.6},1360,1260,{"$f":"AL81+AL81*Титул.лист!$A$1","v":1386},{"$f":"AM81+AM81*Титул.лист!$P$2","v":1386},1390,1949.3700000000001,{"$f":"AP81+AP81*Титул.лист!$A$1","v":2144.3070000000002},{"$f":"AQ81+AQ81*Титул.лист!$P$2","v":2144.3070000000002},2140,2177.0700000000002,{"$f":"AT81+AT81*Титул.лист!$A$1","v":2394.777},{"$f":"AU81+AU81*Титул.лист!$P$2","v":2394.777},2390,1787.91,{"$f":"AX81+AX81*Титул.лист!$A$1","v":1966.701},{"$f":"AY81+AY81*Титул.лист!$P$2","v":1966.701},1970,2197.77,{"$f":"BB81+BB81*Титул.лист!$A$1","v":2417.547},{"$f":"BC81+BC81*Титул.лист!$P$2","v":2417.547},2420,2984.37,{"$f":"BF81+BF81*Титул.лист!$A$1","v":3282.8069999999998},{"$f":"BG81+BG81*Титул.лист!$P$2","v":3282.8069999999998},3280]
[null,null,500,null,"1312-50с",1008,{"$f":"F82+F82*Титул.лист!$A$1","v":1108.8},{"$f":"G82+G82*Титул.лист!$P$2","v":1108.8},1110,1068,{"$f":"J82+J82*Титул.лист!$A$1","v":1174.8},{"$f":"K82+K82*Титул.лист!$P$2","v":1174.8},1170,1224,{"$f":"N82+N82*Титул.лист!$A$1","v":1346.4},{"$f":"O82+O82*Титул.лист!$P$2","v":1346.4},1350,1296,{"$f":"R82+R82*Титул.лист!$A$1","v":1425.6},{"$f":"S82+S82*Титул.лист!$P$2","v":1425.6},1430,1416,{"$f":"V82+V82*Титул.лист!$A$1","v":1557.6},{"$f":"W82+W82*Титул.лист!$P$2","v":1557.6},1560,1476,{"$f":"Z82+Z82*Титул.лист!$A$1","v":1623.6},{"$f":"AA82+AA82*Титул.лист!$P$2","v":1623.6},1620,1188.0000000000002,{"$f":"AD82+AD82*Титул.лист!$A$1","v":1306.8000000000002},{"$f":"AE82+AE82*Титул.лист!$P$2","v":1306.8000000000002},1310,1260,{"$f":"AH82+AH82*Титул.лист!$A$1","v":1386},{"$f":"AI82+AI82*Титул.лист!$P$2","v":1386},1390,1284,{"$f":"AL82+AL82*Титул.лист!$A$1","v":1412.4},{"$f":"AM82+AM82*Титул.лист!$P$2","v":1412.4},1410,2087.3000000000002,{"$f":"AP82+AP82*Титул.лист!$A$1","v":2296.0300000000002},{"$f":"AQ82+AQ82*Титул.лист!$P$2","v":2296.0300000000002},2300,2340.3000000000002,{"$f":"AT82+AT82*Титул.лист!$A$1","v":2574.3300000000004},{"$f":"AU82+AU82*Титул.лист!$P$2","v":2574.3300000000004},2570,1907.9,{"$f":"AX82+AX82*Титул.лист!$A$1","v":2098.69},{"$f":"AY82+AY82*Титул.лист!$P$2","v":2098.69},2100,2363.3000000000002,{"$f":"BB82+BB82*Титул.лист!$A$1","v":2599.63},{"$f":"BC82+BC82*Титул.лист!$P$2","v":2599.63},2600,3237.3,{"$f":"BF82+BF82*Титул.лист!$A$1","v":3561.03},{"$f":"BG82+BG82*Титул.лист!$P$2","v":3561.03},3560]
[null,null,550,null,"1312-55с",1080,{"$f":"F83+F83*Титул.лист!$A$1","v":1188},{"$f":"G83+G83*Титул.лист!$P$2","v":1188},1190,1140,{"$f":"J83+J83*Титул.лист!$A$1","v":1254},{"$f":"K83+K83*Титул.лист!$P$2","v":1254},1250,1356,{"$f":"N83+N83*Титул.лист!$A$1","v":1491.6},{"$f":"O83+O83*Титул.лист!$P$2","v":1491.6},1490,1428,{"$f":"R83+R83*Титул.лист!$A$1","v":1570.8},{"$f":"S83+S83*Титул.лист!$P$2","v":1570.8},1570,1560,{"$f":"V83+V83*Титул.лист!$A$1","v":1716},{"$f":"W83+W83*Титул.лист!$P$2","v":1716},1720,1620,{"$f":"Z83+Z83*Титул.лист!$A$1","v":1782},{"$f":"AA83+AA83*Титул.лист!$P$2","v":1782},1780,1296,{"$f":"AD83+AD83*Титул.лист!$A$1","v":1425.6},{"$f":"AE83+AE83*Титул.лист!$P$2","v":1425.6},1430,1380,{"$f":"AH83+AH83*Титул.лист!$A$1","v":1518},{"$f":"AI83+AI83*Титул.лист!$P$2","v":1518},1520,1440,{"$f":"AL83+AL83*Титул.лист!$A$1","v":1584},{"$f":"AM83+AM83*Титул.лист!$P$2","v":1584},1580,2285.23,{"$f":"AP83+AP83*Титул.лист!$A$1","v":2513.7530000000002},{"$f":"AQ83+AQ83*Титул.лист!$P$2","v":2513.7530000000002},2510,2563.5299999999997,{"$f":"AT83+AT83*Титул.лист!$A$1","v":2819.8829999999998},{"$f":"AU83+AU83*Титул.лист!$P$2","v":2819.8829999999998},2820,2087.89,{"$f":"AX83+AX83*Титул.лист!$A$1","v":2296.6790000000001},{"$f":"AY83+AY83*Титул.лист!$P$2","v":2296.6790000000001},2300,2588.83,{"$f":"BB83+BB83*Титул.лист!$A$1","v":2847.7129999999997},{"$f":"BC83+BC83*Титул.лист!$P$2","v":2847.7129999999997},2850,3550.23,{"$f":"BF83+BF83*Титул.лист!$A$1","v":3905.2530000000002},{"$f":"BG83+BG83*Титул.лист!$P$2","v":3905.2530000000002},3910]
[null,null,600,null,"1312-60с",1104,{"$f":"F84+F84*Титул.лист!$A$1","v":1214.4000000000001},{"$f":"G84+G84*Титул.лист!$P$2","v":1214.4000000000001},1210,1188.0000000000002,{"$f":"J84+J84*Титул.лист!$A$1","v":1306.8000000000002},{"$f":"K84+K84*Титул.лист!$P$2","v":1306.8000000000002},1310,1392,{"$f":"N84+N84*Титул.лист!$A$1","v":1531.2},{"$f":"O84+O84*Титул.лист!$P$2","v":1531.2},1530,1464,{"$f":"R84+R84*Титул.лист!$A$1","v":1610.4},{"$f":"S84+S84*Титул.лист!$P$2","v":1610.4},1610,1596,{"$f":"V84+V84*Титул.лист!$A$1","v":1755.6},{"$f":"W84+W84*Титул.лист!$P$2","v":1755.6},1760,1680,{"$f":"Z84+Z84*Титул.лист!$A$1","v":1848},{"$f":"AA84+AA84*Титул.лист!$P$2","v":1848},1850,1332,{"$f":"AD84+AD84*Титул.лист!$A$1","v":1465.2},{"$f":"AE84+AE84*Титул.лист!$P$2","v":1465.2},1470,1428,{"$f":"AH84+AH84*Титул.лист!$A$1","v":1570.8},{"$f":"AI84+AI84*Титул.лист!$P$2","v":1570.8},1570,1464,{"$f":"AL84+AL84*Титул.лист!$A$1","v":1610.4},{"$f":"AM84+AM84*Титул.лист!$P$2","v":1610.4},1610,2411.16,{"$f":"AP84+AP84*Титул.лист!$A$1","v":2652.2759999999998},{"$f":"AQ84+AQ84*Титул.лист!$P$2","v":2652.2759999999998},2650,2714.76,{"$f":"AT84+AT84*Титул.лист!$A$1","v":2986.2360000000003},{"$f":"AU84+AU84*Титул.лист!$P$2","v":2986.2360000000003},2990,2195.88,{"$f":"AX84+AX84*Титул.лист!$A$1","v":2415.4680000000003},{"$f":"AY84+AY84*Титул.лист!$P$2","v":2415.4680000000003},2420,2742.36,{"$f":"BB84+BB84*Титул.лист!$A$1","v":3016.596},{"$f":"BC84+BC84*Титул.лист!$P$2","v":3016.596},3020,3791.1600000000003,{"$f":"BF84+BF84*Титул.лист!$A$1","v":4170.2760000000007},{"$f":"BG84+BG84*Титул.лист!$P$2","v":4170.2760000000007},4170]
[null,null,650,null,"1312-65с",1200,{"$f":"F85+F85*Титул.лист!$A$1","v":1320},{"$f":"G85+G85*Титул.лист!$P$2","v":1320},1320,1308,{"$f":"J85+J85*Титул.лист!$A$1","v":1438.8},{"$f":"K85+K85*Титул.лист!$P$2","v":1438.8},1440,1500,{"$f":"N85+N85*Титул.лист!$A$1","v":1650},{"$f":"O85+O85*Титул.лист!$P$2","v":1650},1650,1596,{"$f":"R85+R85*Титул.лист!$A$1","v":1755.6},{"$f":"S85+S85*Титул.лист!$P$2","v":1755.6},1760,1740,{"$f":"V85+V85*Титул.лист!$A$1","v":1914},{"$f":"W85+W85*Титул.лист!$P$2","v":1914},1910,1836,{"$f":"Z85+Z85*Титул.лист!$A$1","v":2019.6},{"$f":"AA85+AA85*Титул.лист!$P$2","v":2019.6},2020,1440,{"$f":"AD85+AD85*Титул.лист!$A$1","v":1584},{"$f":"AE85+AE85*Титул.лист!$P$2","v":1584},1580,1560,{"$f":"AH85+AH85*Титул.лист!$A$1","v":1716},{"$f":"AI85+AI85*Титул.лист!$P$2","v":1716},1720,1584,{"$f":"AL85+AL85*Титул.лист!$A$1","v":1742.4},{"$f":"AM85+AM85*Титул.лист!$P$2","v":1742.4},1740,2609.09,{"$f":"AP85+AP85*Титул.лист!$A$1","v":2869.9990000000003},{"$f":"AQ85+AQ85*Титул.лист!$P$2","v":2869.9990000000003},2870,2937.99,{"$f":"AT85+AT85*Титул.лист!$A$1","v":3231.7889999999998},{"$f":"AU85+AU85*Титул.лист!$P$2","v":3231.7889999999998},3230,2375.87,{"$f":"AX85+AX85*Титул.лист!$A$1","v":2613.4569999999999},{"$f":"AY85+AY85*Титул.лист!$P$2","v":2613.4569999999999},2610,2967.89,{"$f":"BB85+BB85*Титул.лист!$A$1","v":3264.6790000000001},{"$f":"BC85+BC85*Титул.лист!$P$2","v":3264.6790000000001},3260,4104.09,{"$f":"BF85+BF85*Титул.лист!$A$1","v":4514.4989999999998},{"$f":"BG85+BG85*Титул.лист!$P$2","v":4514.4989999999998},4510]
[null,null,700,null,"1312-70с",1224,{"$f":"F86+F86*Титул.лист!$A$1","v":1346.4},{"$f":"G86+G86*Титул.лист!$P$2","v":1346.4},1350,1332,{"$f":"J86+J86*Титул.лист!$A$1","v":1465.2},{"$f":"K86+K86*Титул.лист!$P$2","v":1465.2},1470,1548,{"$f":"N86+N86*Титул.лист!$A$1","v":1702.8},{"$f":"O86+O86*Титул.лист!$P$2","v":1702.8},1700,1644,{"$f":"R86+R86*Титул.лист!$A$1","v":1808.4},{"$f":"S86+S86*Титул.лист!$P$2","v":1808.4},1810,1800,{"$f":"V86+V86*Титул.лист!$A$1","v":1980},{"$f":"W86+W86*Титул.лист!$P$2","v":1980},1980,1896,{"$f":"Z86+Z86*Титул.лист!$A$1","v":2085.6},{"$f":"AA86+AA86*Титул.лист!$P$2","v":2085.6},2090,1500,{"$f":"AD86+AD86*Титул.лист!$A$1","v":1650},{"$f":"AE86+AE86*Титул.лист!$P$2","v":1650},1650,1596,{"$f":"AH86+AH86*Титул.лист!$A$1","v":1755.6},{"$f":"AI86+AI86*Титул.лист!$P$2","v":1755.6},1760,1644,{"$f":"AL86+AL86*Титул.лист!$A$1","v":1808.4},{"$f":"AM86+AM86*Титул.лист!$P$2","v":1808.4},1810,2759.02,{"$f":"AP86+AP86*Титул.лист!$A$1","v":3034.922},{"$f":"AQ86+AQ86*Титул.лист!$P$2","v":3034.922},3030,3113.2200000000003,{"$f":"AT86+AT86*Титул.лист!$A$1","v":3424.5420000000004},{"$f":"AU86+AU86*Титул.лист!$P$2","v":3424.5420000000004},3420,2507.86,{"$f":"AX86+AX86*Титул.лист!$A$1","v":2758.6460000000002},{"$f":"AY86+AY86*Титул.лист!$P$2","v":2758.6460000000002},2760,3145.42,{"$f":"BB86+BB86*Титул.лист!$A$1","v":3459.962},{"$f":"BC86+BC86*Титул.лист!$P$2","v":3459.962},3460,4369.0200000000004,{"$f":"BF86+BF86*Титул.лист!$A$1","v":4805.9220000000005},{"$f":"BG86+BG86*Титул.лист!$P$2","v":4805.9220000000005},4810]
[null,null,750,null,"1312-75с",1272,{"$f":"F87+F87*Титул.лист!$A$1","v":1399.2},{"$f":"G87+G87*Титул.лист!$P$2","v":1399.2},1400,1380,{"$f":"J87+J87*Титул.лист!$A$1","v":1518},{"$f":"K87+K87*Титул.лист!$P$2","v":1518},1520,1656,{"$f":"N87+N87*Титул.лист!$A$1","v":1821.6},{"$f":"O87+O87*Титул.лист!$P$2","v":1821.6},1820,1740,{"$f":"R87+R87*Титул.лист!$A$1","v":1914},{"$f":"S87+S87*Титул.лист!$P$2","v":1914},1910,1920,{"$f":"V87+V87*Титул.лист!$A$1","v":2112},{"$f":"W87+W87*Титул.лист!$P$2","v":2112},2110,2040,{"$f":"Z87+Z87*Титул.лист!$A$1","v":2244},{"$f":"AA87+AA87*Титул.лист!$P$2","v":2244},2240,1620,{"$f":"AD87+AD87*Титул.лист!$A$1","v":1782},{"$f":"AE87+AE87*Титул.лист!$P$2","v":1782},1780,1740,{"$f":"AH87+AH87*Титул.лист!$A$1","v":1914},{"$f":"AI87+AI87*Титул.лист!$P$2","v":1914},1910,1776,{"$f":"AL87+AL87*Титул.лист!$A$1","v":1953.6},{"$f":"AM87+AM87*Титул.лист!$P$2","v":1953.6},1950,2968.95,{"$f":"AP87+AP87*Титул.лист!$A$1","v":3265.8449999999998},{"$f":"AQ87+AQ87*Титул.лист!$P$2","v":3265.8449999999998},3270,3348.45,{"$f":"AT87+AT87*Титул.лист!$A$1","v":3683.2950000000001},{"$f":"AU87+AU87*Титул.лист!$P$2","v":3683.2950000000001},3680,2699.8500000000004,{"$f":"AX87+AX87*Титул.лист!$A$1","v":2969.8350000000005},{"$f":"AY87+AY87*Титул.лист!$P$2","v":2969.8350000000005},2970,3382.95,{"$f":"BB87+BB87*Титул.лист!$A$1","v":3721.2449999999999},{"$f":"BC87+BC87*Титул.лист!$P$2","v":3721.2449999999999},3720,4693.9500000000007,{"$f":"BF87+BF87*Титул.лист!$A$1","v":5163.3450000000012},{"$f":"BG87+BG87*Титул.лист!$P$2","v":5163.3450000000012},5160]
[null,null,800,null,"1312-80с",1332,{"$f":"F88+F88*Титул.лист!$A$1","v":1465.2},{"$f":"G88+G88*Титул.лист!$P$2","v":1465.2},1470,1440,{"$f":"J88+J88*Титул.лист!$A$1","v":1584},{"$f":"K88+K88*Титул.лист!$P$2","v":1584},1580,1692,{"$f":"N88+N88*Титул.лист!$A$1","v":1861.2},{"$f":"O88+O88*Титул.лист!$P$2","v":1861.2},1860,1800,{"$f":"R88+R88*Титул.лист!$A$1","v":1980},{"$f":"S88+S88*Титул.лист!$P$2","v":1980},1980,1968,{"$f":"V88+V88*Титул.лист!$A$1","v":2164.8000000000002},{"$f":"W88+W88*Титул.лист!$P$2","v":2164.8000000000002},2160,2076,{"$f":"Z88+Z88*Титул.лист!$A$1","v":2283.6},{"$f":"AA88+AA88*Титул.лист!$P$2","v":2283.6},2280,1644,{"$f":"AD88+AD88*Титул.лист!$A$1","v":1808.4},{"$f":"AE88+AE88*Титул.лист!$P$2","v":1808.4},1810,1764,{"$f":"AH88+AH88*Титул.лист!$A$1","v":1940.4},{"$f":"AI88+AI88*Титул.лист!$P$2","v":1940.4},1940,1812,{"$f":"AL88+AL88*Титул.лист!$A$1","v":1993.2},{"$f":"AM88+AM88*Титул.лист!$P$2","v":1993.2},1990,3082.88,{"$f":"AP88+AP88*Титул.лист!$A$1","v":3391.1680000000001},{"$f":"AQ88+AQ88*Титул.лист!$P$2","v":3391.1680000000001},3390,3487.6800000000003,{"$f":"AT88+AT88*Титул.лист!$A$1","v":3836.4480000000003},{"$f":"AU88+AU88*Титул.лист!$P$2","v":3836.4480000000003},3840,2795.84,{"$f":"AX88+AX88*Титул.лист!$A$1","v":3075.424},{"$f":"AY88+AY88*Титул.лист!$P$2","v":3075.424},3080,3524.48,{"$f":"BB88+BB88*Титул.лист!$A$1","v":3876.9279999999999},{"$f":"BC88+BC88*Титул.лист!$P$2","v":3876.9279999999999},3880,4922.88,{"$f":"BF88+BF88*Титул.лист!$A$1","v":5415.1679999999997},{"$f":"BG88+BG88*Титул.лист!$P$2","v":5415.1679999999997},5420]
[null,"Шкаф настенный 1д",300,"h540","1318-30",600,{"$f":"F89+F89*Титул.лист!$A$1","v":660},{"$f":"G89+G89*Титул.лист!$P$2","v":660},660,650,{"$f":"J89+J89*Титул.лист!$A$1","v":715},{"$f":"K89+K89*Титул.лист!$P$2","v":715},720,800,{"$f":"N89+N89*Титул.лист!$A$1","v":880},{"$f":"O89+O89*Титул.лист!$P$2","v":880},880,810,{"$f":"R89+R89*Титул.лист!$A$1","v":891},{"$f":"S89+S89*Титул.лист!$P$2","v":891},890,910,{"$f":"V89+V89*Титул.лист!$A$1","v":1001},{"$f":"W89+W89*Титул.лист!$P$2","v":1001},1000,950,{"$f":"Z89+Z89*Титул.лист!$A$1","v":1045},{"$f":"AA89+AA89*Титул.лист!$P$2","v":1045},1050,800,{"$f":"AD89+AD89*Титул.лист!$A$1","v":880},{"$f":"AE89+AE89*Титул.лист!$P$2","v":880},880,850,{"$f":"AH89+AH89*Титул.лист!$A$1","v":935},{"$f":"AI89+AI89*Титул.лист!$P$2","v":935},940,900,{"$f":"AL89+AL89*Титул.лист!$A$1","v":990},{"$f":"AM89+AM89*Титул.лист!$P$2","v":990},990,1433.42,{"$f":"AP89+AP89*Титул.лист!$A$1","v":1576.7620000000002},{"$f":"AQ89+AQ89*Титул.лист!$P$2","v":1576.7620000000002},1580,1611.62,{"$f":"AT89+AT89*Титул.лист!$A$1","v":1772.7819999999999},{"$f":"AU89+AU89*Титул.лист!$P$2","v":1772.7819999999999},1770,1307.06,{"$f":"AX89+AX89*Титул.лист!$A$1","v":1437.7659999999998},{"$f":"AY89+AY89*Титул.лист!$P$2","v":1437.7659999999998},1440,1627.8200000000002,{"$f":"BB89+BB89*Титул.лист!$A$1","v":1790.6020000000003},{"$f":"BC89+BC89*Титул.лист!$P$2","v":1790.6020000000003},1790,2243.42,{"$f":"BF89+BF89*Титул.лист!$A$1","v":2467.7620000000002},{"$f":"BG89+BG89*Титул.лист!$P$2","v":2467.7620000000002},2470]
[null,null,350,null,"1318-35",650,{"$f":"F90+F90*Титул.лист!$A$1","v":715},{"$f":"G90+G90*Титул.лист!$P$2","v":715},720,700,{"$f":"J90+J90*Титул.лист!$A$1","v":770},{"$f":"K90+K90*Титул.лист!$P$2","v":770},770,850,{"$f":"N90+N90*Титул.лист!$A$1","v":935},{"$f":"O90+O90*Титул.лист!$P$2","v":935},940,900,{"$f":"R90+R90*Титул.лист!$A$1","v":990},{"$f":"S90+S90*Титул.лист!$P$2","v":990},990,1050,{"$f":"V90+V90*Титул.лист!$A$1","v":1155},{"$f":"W90+W90*Титул.лист!$P$2","v":1155},1160,1100,{"$f":"Z90+Z90*Титул.лист!$A$1","v":1210},{"$f":"AA90+AA90*Титул.лист!$P$2","v":1210},1210,900,{"$f":"AD90+AD90*Титул.лист!$A$1","v":990},{"$f":"AE90+AE90*Титул.лист!$P$2","v":990},990,950,{"$f":"AH90+AH90*Титул.лист!$A$1","v":1045},{"$f":"AI90+AI90*Титул.лист!$P$2","v":1045},1050,1000,{"$f":"AL90+AL90*Титул.лист!$A$1","v":1100},{"$f":"AM90+AM90*Титул.лист!$P$2","v":1100},1100,1638.99,{"$f":"AP90+AP90*Титул.лист!$A$1","v":1802.8890000000001},{"$f":"AQ90+AQ90*Титул.лист!$P$2","v":1802.8890000000001},1800,1846.8899999999999,{"$f":"AT90+AT90*Титул.лист!$A$1","v":2031.579},{"$f":"AU90+AU90*Титул.лист!$P$2","v":2031.579},2030,1491.5700000000002,{"$f":"AX90+AX90*Титул.лист!$A$1","v":1640.7270000000001},{"$f":"AY90+AY90*Титул.лист!$P$2","v":1640.7270000000001},1640,1865.79,{"$f":"BB90+BB90*Титул.лист!$A$1","v":2052.3690000000001},{"$f":"BC90+BC90*Титул.лист!$P$2","v":2052.3690000000001},2050,2583.9899999999998,{"$f":"BF90+BF90*Титул.лист!$A$1","v":2842.3889999999997},{"$f":"BG90+BG90*Титул.лист!$P$2","v":2842.3889999999997},2840]
[null,null,400,null,"1318-40",700,{"$f":"F91+F91*Титул.лист!$A$1","v":770},{"$f":"G91+G91*Титул.лист!$P$2","v":770},770,750,{"$f":"J91+J91*Титул.лист!$A$1","v":825},{"$f":"K91+K91*Титул.лист!$P$2","v":825},830,900,{"$f":"N91+N91*Титул.лист!$A$1","v":990},{"$f":"O91+O91*Титул.лист!$P$2","v":990},990,1000,{"$f":"R91+R91*Титул.лист!$A$1","v":1100},{"$f":"S91+S91*Титул.лист!$P$2","v":1100},1100,1100,{"$f":"V91+V91*Титул.лист!$A$1","v":1210},{"$f":"W91+W91*Титул.лист!$P$2","v":1210},1210,1150,{"$f":"Z91+Z91*Титул.лист!$A$1","v":1265},{"$f":"AA91+AA91*Титул.лист!$P$2","v":1265},1270,950,{"$f":"AD91+AD91*Титул.лист!$A$1","v":1045},{"$f":"AE91+AE91*Титул.лист!$P$2","v":1045},1050,1050,{"$f":"AH91+AH91*Титул.лист!$A$1","v":1155},{"$f":"AI91+AI91*Титул.лист!$P$2","v":1155},1160,1070,{"$f":"AL91+AL91*Титул.лист!$A$1","v":1177},{"$f":"AM91+AM91*Титул.лист!$P$2","v":1177},1180,1794.56,{"$f":"AP91+AP91*Титул.лист!$A$1","v":1974.0160000000001},{"$f":"AQ91+AQ91*Титул.лист!$P$2","v":1974.0160000000001},1970,2032.16,{"$f":"AT91+AT91*Титул.лист!$A$1","v":2235.3760000000002},{"$f":"AU91+AU91*Титул.лист!$P$2","v":2235.3760000000002},2240,1626.08,{"$f":"AX91+AX91*Титул.лист!$A$1","v":1788.6879999999999},{"$f":"AY91+AY91*Титул.лист!$P$2","v":1788.6879999999999},1790,2053.7600000000002,{"$f":"BB91+BB91*Титул.лист!$A$1","v":2259.1360000000004},{"$f":"BC91+BC91*Титул.лист!$P$2","v":2259.1360000000004},2260,2874.56,{"$f":"BF91+BF91*Титул.лист!$A$1","v":3162.0160000000001},{"$f":"BG91+BG91*Титул.лист!$P$2","v":3162.0160000000001},3160]
[null,null,450,null,"1318-45",750,{"$f":"F92+F92*Титул.лист!$A$1","v":825},{"$f":"G92+G92*Титул.лист!$P$2","v":825},830,800,{"$f":"J92+J92*Титул.лист!$A$1","v":880},{"$f":"K92+K92*Титул.лист!$P$2","v":880},880,950,{"$f":"N92+N92*Титул.лист!$A$1","v":1045},{"$f":"O92+O92*Титул.лист!$P$2","v":1045},1050,1000,{"$f":"R92+R92*Титул.лист!$A$1","v":1100},{"$f":"S92+S92*Титул.лист!$P$2","v":1100},1100,1170,{"$f":"V92+V92*Титул.лист!$A$1","v":1287},{"$f":"W92+W92*Титул.лист!$P$2","v":1287},1290,1250,{"$f":"Z92+Z92*Титул.лист!$A$1","v":1375},{"$f":"AA92+AA92*Титул.лист!$P$2","v":1375},1380,1050,{"$f":"AD92+AD92*Титул.лист!$A$1","v":1155},{"$f":"AE92+AE92*Титул.лист!$P$2","v":1155},1160,1100,{"$f":"AH92+AH92*Титул.лист!$A$1","v":1210},{"$f":"AI92+AI92*Титул.лист!$P$2","v":1210},1210,1170,{"$f":"AL92+AL92*Титул.лист!$A$1","v":1287},{"$f":"AM92+AM92*Титул.лист!$P$2","v":1287},1290,2000.13,{"$f":"AP92+AP92*Титул.лист!$A$1","v":2200.143},{"$f":"AQ92+AQ92*Титул.лист!$P$2","v":2200.143},2200,2267.4300000000003,{"$f":"AT92+AT92*Титул.лист!$A$1","v":2494.1730000000002},{"$f":"AU92+AU92*Титул.лист!$P$2","v":2494.1730000000002},2490,1810.5900000000001,{"$f":"AX92+AX92*Титул.лист!$A$1","v":1991.6490000000001},{"$f":"AY92+AY92*Титул.лист!$P$2","v":1991.6490000000001},1990,2291.73,{"$f":"BB92+BB92*Титул.лист!$A$1","v":2520.9030000000002},{"$f":"BC92+BC92*Титул.лист!$P$2","v":2520.9030000000002},2520,3215.13,{"$f":"BF92+BF92*Титул.лист!$A$1","v":3536.643},{"$f":"BG92+BG92*Титул.лист!$P$2","v":3536.643},3540]
[null,null,500,null,"1318-50",800,{"$f":"F93+F93*Титул.лист!$A$1","v":880},{"$f":"G93+G93*Титул.лист!$P$2","v":880},880,850,{"$f":"J93+J93*Титул.лист!$A$1","v":935},{"$f":"K93+K93*Титул.лист!$P$2","v":935},940,1000,{"$f":"N93+N93*Титул.лист!$A$1","v":1100},{"$f":"O93+O93*Титул.лист!$P$2","v":1100},1100,1100,{"$f":"R93+R93*Титул.лист!$A$1","v":1210},{"$f":"S93+S93*Титул.лист!$P$2","v":1210},1210,1200,{"$f":"V93+V93*Титул.лист!$A$1","v":1320},{"$f":"W93+W93*Титул.лист!$P$2","v":1320},1320,1250,{"$f":"Z93+Z93*Титул.лист!$A$1","v":1375},{"$f":"AA93+AA93*Титул.лист!$P$2","v":1375},1380,1100,{"$f":"AD93+AD93*Титул.лист!$A$1","v":1210},{"$f":"AE93+AE93*Титул.лист!$P$2","v":1210},1210,1200,{"$f":"AH93+AH93*Титул.лист!$A$1","v":1320},{"$f":"AI93+AI93*Титул.лист!$P$2","v":1320},1320,1230,{"$f":"AL93+AL93*Титул.лист!$A$1","v":1353},{"$f":"AM93+AM93*Титул.лист!$P$2","v":1353},1350,2155.6999999999998,{"$f":"AP93+AP93*Титул.лист!$A$1","v":2371.27},{"$f":"AQ93+AQ93*Титул.лист!$P$2","v":2371.27},2370,2452.6999999999998,{"$f":"AT93+AT93*Титул.лист!$A$1","v":2697.97},{"$f":"AU93+AU93*Титул.лист!$P$2","v":2697.97},2700,1945.1,{"$f":"AX93+AX93*Титул.лист!$A$1","v":2139.6099999999997},{"$f":"AY93+AY93*Титул.лист!$P$2","v":2139.6099999999997},2140,2479.6999999999998,{"$f":"BB93+BB93*Титул.лист!$A$1","v":2727.6699999999996},{"$f":"BC93+BC93*Титул.лист!$P$2","v":2727.6699999999996},2730,3505.7000000000003,{"$f":"BF93+BF93*Титул.лист!$A$1","v":3856.2700000000004},{"$f":"BG93+BG93*Титул.лист!$P$2","v":3856.2700000000004},3860]
[null,null,600,null,"1318-60",900,{"$f":"F94+F94*Титул.лист!$A$1","v":990},{"$f":"G94+G94*Титул.лист!$P$2","v":990},990,950,{"$f":"J94+J94*Титул.лист!$A$1","v":1045},{"$f":"K94+K94*Титул.лист!$P$2","v":1045},1050,1100,{"$f":"N94+N94*Титул.лист!$A$1","v":1210},{"$f":"O94+O94*Титул.лист!$P$2","v":1210},1210,1150,{"$f":"R94+R94*Титул.лист!$A$1","v":1265},{"$f":"S94+S94*Титул.лист!$P$2","v":1265},1270,1370,{"$f":"V94+V94*Титул.лист!$A$1","v":1507},{"$f":"W94+W94*Титул.лист!$P$2","v":1507},1510,1390,{"$f":"Z94+Z94*Титул.лист!$A$1","v":1529},{"$f":"AA94+AA94*Титул.лист!$P$2","v":1529},1530,1240,{"$f":"AD94+AD94*Титул.лист!$A$1","v":1364},{"$f":"AE94+AE94*Титул.лист!$P$2","v":1364},1360,1350,{"$f":"AH94+AH94*Титул.лист!$A$1","v":1485},{"$f":"AI94+AI94*Титул.лист!$P$2","v":1485},1490,1420,{"$f":"AL94+AL94*Титул.лист!$A$1","v":1562},{"$f":"AM94+AM94*Титул.лист!$P$2","v":1562},1560,2506.84,{"$f":"AP94+AP94*Титул.лист!$A$1","v":2757.5240000000003},{"$f":"AQ94+AQ94*Титул.лист!$P$2","v":2757.5240000000003},2760,2863.24,{"$f":"AT94+AT94*Титул.лист!$A$1","v":3149.5639999999999},{"$f":"AU94+AU94*Титул.лист!$P$2","v":3149.5639999999999},3150,2254.12,{"$f":"AX94+AX94*Титул.лист!$A$1","v":2479.5319999999997},{"$f":"AY94+AY94*Титул.лист!$P$2","v":2479.5319999999997},2480,2895.6400000000003,{"$f":"BB94+BB94*Титул.лист!$A$1","v":3185.2040000000002},{"$f":"BC94+BC94*Титул.лист!$P$2","v":3185.2040000000002},3190,4126.84,{"$f":"BF94+BF94*Титул.лист!$A$1","v":4539.5240000000003},{"$f":"BG94+BG94*Титул.лист!$P$2","v":4539.5240000000003},4540]
[null,null,300,"h 600","1316-30",660,{"$f":"F95+F95*Титул.лист!$A$1","v":726},{"$f":"G95+G95*Титул.лист!$P$2","v":726},730,700,{"$f":"J95+J95*Титул.лист!$A$1","v":770},{"$f":"K95+K95*Титул.лист!$P$2","v":770},770,850,{"$f":"N95+N95*Титул.лист!$A$1","v":935},{"$f":"O95+O95*Титул.лист!$P$2","v":935},940,890,{"$f":"R95+R95*Титул.лист!$A$1","v":979},{"$f":"S95+S95*Титул.лист!$P$2","v":979},980,1000,{"$f":"V95+V95*Титул.лист!$A$1","v":1100},{"$f":"W95+W95*Титул.лист!$P$2","v":1100},1100,1040,{"$f":"Z95+Z95*Титул.лист!$A$1","v":1144},{"$f":"AA95+AA95*Титул.лист!$P$2","v":1144},1140,870,{"$f":"AD95+AD95*Титул.лист!$A$1","v":957},{"$f":"AE95+AE95*Титул.лист!$P$2","v":957},960,920,{"$f":"AH95+AH95*Титул.лист!$A$1","v":1012},{"$f":"AI95+AI95*Титул.лист!$P$2","v":1012},1010,950,{"$f":"AL95+AL95*Титул.лист!$A$1","v":1045},{"$f":"AM95+AM95*Титул.лист!$P$2","v":1045},1050,1573.8,{"$f":"AP95+AP95*Титул.лист!$A$1","v":1731.1799999999998},{"$f":"AQ95+AQ95*Титул.лист!$P$2","v":1731.1799999999998},1730,1771.8,{"$f":"AT95+AT95*Титул.лист!$A$1","v":1948.98},{"$f":"AU95+AU95*Титул.лист!$P$2","v":1948.98},1950,1433.4,{"$f":"AX95+AX95*Титул.лист!$A$1","v":1576.74},{"$f":"AY95+AY95*Титул.лист!$P$2","v":1576.74},1580,1789.8,{"$f":"BB95+BB95*Титул.лист!$A$1","v":1968.78},{"$f":"BC95+BC95*Титул.лист!$P$2","v":1968.78},1970,2473.8000000000002,{"$f":"BF95+BF95*Титул.лист!$A$1","v":2721.1800000000003},{"$f":"BG95+BG95*Титул.лист!$P$2","v":2721.1800000000003},2720]
[null,null,350,null,"1316-35",710,{"$f":"F96+F96*Титул.лист!$A$1","v":781},{"$f":"G96+G96*Титул.лист!$P$2","v":781},780,760,{"$f":"J96+J96*Титул.лист!$A$1","v":836},{"$f":"K96+K96*Титул.лист!$P$2","v":836},840,930,{"$f":"N96+N96*Титул.лист!$A$1","v":1023},{"$f":"O96+O96*Титул.лист!$P$2","v":1023},1020,980,{"$f":"R96+R96*Титул.лист!$A$1","v":1078},{"$f":"S96+S96*Титул.лист!$P$2","v":1078},1080,1110,{"$f":"V96+V96*Титул.лист!$A$1","v":1221},{"$f":"W96+W96*Титул.лист!$P$2","v":1221},1220,1150,{"$f":"Z96+Z96*Титул.лист!$A$1","v":1265},{"$f":"AA96+AA96*Титул.лист!$P$2","v":1265},1270,950,{"$f":"AD96+AD96*Титул.лист!$A$1","v":1045},{"$f":"AE96+AE96*Титул.лист!$P$2","v":1045},1050,1010,{"$f":"AH96+AH96*Титул.лист!$A$1","v":1111},{"$f":"AI96+AI96*Титул.лист!$P$2","v":1111},1110,1050,{"$f":"AL96+AL96*Титул.лист!$A$1","v":1155},{"$f":"AM96+AM96*Титул.лист!$P$2","v":1155},1160,1771.1,{"$f":"AP96+AP96*Титул.лист!$A$1","v":1948.21},{"$f":"AQ96+AQ96*Титул.лист!$P$2","v":1948.21},1950,2002.1,{"$f":"AT96+AT96*Титул.лист!$A$1","v":2202.31},{"$f":"AU96+AU96*Титул.лист!$P$2","v":2202.31},2200,1607.3,{"$f":"AX96+AX96*Титул.лист!$A$1","v":1768.03},{"$f":"AY96+AY96*Титул.лист!$P$2","v":1768.03},1770,2023.1,{"$f":"BB96+BB96*Титул.лист!$A$1","v":2225.41},{"$f":"BC96+BC96*Титул.лист!$P$2","v":2225.41},2230,2821.1,{"$f":"BF96+BF96*Титул.лист!$A$1","v":3103.21},{"$f":"BG96+BG96*Титул.лист!$P$2","v":3103.21},3100]
[null,null,400,null,"1316-40",760,{"$f":"F97+F97*Титул.лист!$A$1","v":836},{"$f":"G97+G97*Титул.лист!$P$2","v":836},840,800,{"$f":"J97+J97*Титул.лист!$A$1","v":880},{"$f":"K97+K97*Титул.лист!$P$2","v":880},880,1020,{"$f":"N97+N97*Титул.лист!$A$1","v":1122},{"$f":"O97+O97*Титул.лист!$P$2","v":1122},1120,1070,{"$f":"R97+R97*Титул.лист!$A$1","v":1177},{"$f":"S97+S97*Титул.лист!$P$2","v":1177},1180,1210,{"$f":"V97+V97*Титул.лист!$A$1","v":1331},{"$f":"W97+W97*Титул.лист!$P$2","v":1331},1330,1250,{"$f":"Z97+Z97*Титул.лист!$A$1","v":1375},{"$f":"AA97+AA97*Титул.лист!$P$2","v":1375},1380,1020,{"$f":"AD97+AD97*Титул.лист!$A$1","v":1122},{"$f":"AE97+AE97*Титул.лист!$P$2","v":1122},1120,1100,{"$f":"AH97+AH97*Титул.лист!$A$1","v":1210},{"$f":"AI97+AI97*Титул.лист!$P$2","v":1210},1210,1130,{"$f":"AL97+AL97*Титул.лист!$A$1","v":1243},{"$f":"AM97+AM97*Титул.лист!$P$2","v":1243},1240,1958.4,{"$f":"AP97+AP97*Титул.лист!$A$1","v":2154.2400000000002},{"$f":"AQ97+AQ97*Титул.лист!$P$2","v":2154.2400000000002},2150,2222.3999999999996,{"$f":"AT97+AT97*Титул.лист!$A$1","v":2444.6399999999994},{"$f":"AU97+AU97*Титул.лист!$P$2","v":2444.6399999999994},2440,1771.1999999999998,{"$f":"AX97+AX97*Титул.лист!$A$1","v":1948.3199999999997},{"$f":"AY97+AY97*Титул.лист!$P$2","v":1948.3199999999997},1950,2246.3999999999996,{"$f":"BB97+BB97*Титул.лист!$A$1","v":2471.0399999999995},{"$f":"BC97+BC97*Титул.лист!$P$2","v":2471.0399999999995},2470,3158.4,{"$f":"BF97+BF97*Титул.лист!$A$1","v":3474.2400000000002},{"$f":"BG97+BG97*Титул.лист!$P$2","v":3474.2400000000002},3470]
[null,null,450,null,"1316-45",800,{"$f":"F98+F98*Титул.лист!$A$1","v":880},{"$f":"G98+G98*Титул.лист!$P$2","v":880},880,860,{"$f":"J98+J98*Титул.лист!$A$1","v":946},{"$f":"K98+K98*Титул.лист!$P$2","v":946},950,1080,{"$f":"N98+N98*Титул.лист!$A$1","v":1188},{"$f":"O98+O98*Титул.лист!$P$2","v":1188},1190,1130,{"$f":"R98+R98*Титул.лист!$A$1","v":1243},{"$f":"S98+S98*Титул.лист!$P$2","v":1243},1240,1300,{"$f":"V98+V98*Титул.лист!$A$1","v":1430},{"$f":"W98+W98*Титул.лист!$P$2","v":1430},1430,1350,{"$f":"Z98+Z98*Титул.лист!$A$1","v":1485},{"$f":"AA98+AA98*Титул.лист!$P$2","v":1485},1490,1110,{"$f":"AD98+AD98*Титул.лист!$A$1","v":1221},{"$f":"AE98+AE98*Титул.лист!$P$2","v":1221},1220,1200,{"$f":"AH98+AH98*Титул.лист!$A$1","v":1320},{"$f":"AI98+AI98*Титул.лист!$P$2","v":1320},1320,1240,{"$f":"AL98+AL98*Титул.лист!$A$1","v":1364},{"$f":"AM98+AM98*Титул.лист!$P$2","v":1364},1360,2165.6999999999998,{"$f":"AP98+AP98*Титул.лист!$A$1","v":2382.27},{"$f":"AQ98+AQ98*Титул.лист!$P$2","v":2382.27},2380,2462.6999999999998,{"$f":"AT98+AT98*Титул.лист!$A$1","v":2708.97},{"$f":"AU98+AU98*Титул.лист!$P$2","v":2708.97},2710,1955.1,{"$f":"AX98+AX98*Титул.лист!$A$1","v":2150.6099999999997},{"$f":"AY98+AY98*Титул.лист!$P$2","v":2150.6099999999997},2150,2489.6999999999998,{"$f":"BB98+BB98*Титул.лист!$A$1","v":2738.6699999999996},{"$f":"BC98+BC98*Титул.лист!$P$2","v":2738.6699999999996},2740,3515.7,{"$f":"BF98+BF98*Титул.лист!$A$1","v":3867.27},{"$f":"BG98+BG98*Титул.лист!$P$2","v":3867.27},3870]
[null,null,500,null,"1316-50",850,{"$f":"F99+F99*Титул.лист!$A$1","v":935},{"$f":"G99+G99*Титул.лист!$P$2","v":935},940,900,{"$f":"J99+J99*Титул.лист!$A$1","v":990},{"$f":"K99+K99*Титул.лист!$P$2","v":990},990,1150,{"$f":"N99+N99*Титул.лист!$A$1","v":1265},{"$f":"O99+O99*Титул.лист!$P$2","v":1265},1270,1210,{"$f":"R99+R99*Титул.лист!$A$1","v":1331},{"$f":"S99+S99*Титул.лист!$P$2","v":1331},1330,1400,{"$f":"V99+V99*Титул.лист!$A$1","v":1540},{"$f":"W99+W99*Титул.лист!$P$2","v":1540},1540,1450,{"$f":"Z99+Z99*Титул.лист!$A$1","v":1595},{"$f":"AA99+AA99*Титул.лист!$P$2","v":1595},1600,1200,{"$f":"AD99+AD99*Титул.лист!$A$1","v":1320},{"$f":"AE99+AE99*Титул.лист!$P$2","v":1320},1320,1300,{"$f":"AH99+AH99*Титул.лист!$A$1","v":1430},{"$f":"AI99+AI99*Титул.лист!$P$2","v":1430},1430,1340,{"$f":"AL99+AL99*Титул.лист!$A$1","v":1474},{"$f":"AM99+AM99*Титул.лист!$P$2","v":1474},1470,2373,{"$f":"AP99+AP99*Титул.лист!$A$1","v":2610.3000000000002},{"$f":"AQ99+AQ99*Титул.лист!$P$2","v":2610.3000000000002},2610,2703,{"$f":"AT99+AT99*Титул.лист!$A$1","v":2973.3},{"$f":"AU99+AU99*Титул.лист!$P$2","v":2973.3},2970,2139,{"$f":"AX99+AX99*Титул.лист!$A$1","v":2352.9},{"$f":"AY99+AY99*Титул.лист!$P$2","v":2352.9},2350,2733,{"$f":"BB99+BB99*Титул.лист!$A$1","v":3006.3},{"$f":"BC99+BC99*Титул.лист!$P$2","v":3006.3},3010,3873,{"$f":"BF99+BF99*Титул.лист!$A$1","v":4260.3},{"$f":"BG99+BG99*Титул.лист!$P$2","v":4260.3},4260]
[null,null,600,null,"1316-60",950,{"$f":"F100+F100*Титул.лист!$A$1","v":1045},{"$f":"G100+G100*Титул.лист!$P$2","v":1045},1050,1000,{"$f":"J100+J100*Титул.лист!$A$1","v":1100},{"$f":"K100+K100*Титул.лист!$P$2","v":1100},1100,1320,{"$f":"N100+N100*Титул.лист!$A$1","v":1452},{"$f":"O100+O100*Титул.лист!$P$2","v":1452},1450,1370,{"$f":"R100+R100*Титул.лист!$A$1","v":1507},{"$f":"S100+S100*Титул.лист!$P$2","v":1507},1510,1620,{"$f":"V100+V100*Титул.лист!$A$1","v":1782},{"$f":"W100+W100*Титул.лист!$P$2","v":1782},1780,1670,{"$f":"Z100+Z100*Титул.лист!$A$1","v":1837},{"$f":"AA100+AA100*Титул.лист!$P$2","v":1837},1840,1360,{"$f":"AD100+AD100*Титул.лист!$A$1","v":1496},{"$f":"AE100+AE100*Титул.лист!$P$2","v":1496},1500,1490,{"$f":"AH100+AH100*Титул.лист!$A$1","v":1639},{"$f":"AI100+AI100*Титул.лист!$P$2","v":1639},1640,1530,{"$f":"AL100+AL100*Титул.лист!$A$1","v":1683},{"$f":"AM100+AM100*Титул.лист!$P$2","v":1683},1680,2767.6,{"$f":"AP100+AP100*Титул.лист!$A$1","v":3044.3599999999997},{"$f":"AQ100+AQ100*Титул.лист!$P$2","v":3044.3599999999997},3040,3163.6,{"$f":"AT100+AT100*Титул.лист!$A$1","v":3479.96},{"$f":"AU100+AU100*Титул.лист!$P$2","v":3479.96},3480,2486.8000000000002,{"$f":"AX100+AX100*Титул.лист!$A$1","v":2735.48},{"$f":"AY100+AY100*Титул.лист!$P$2","v":2735.48},2740,3199.6,{"$f":"BB100+BB100*Титул.лист!$A$1","v":3519.56},{"$f":"BC100+BC100*Титул.лист!$P$2","v":3519.56},3520,4567.6000000000004,{"$f":"BF100+BF100*Титул.лист!$A$1","v":5024.3600000000006},{"$f":"BG100+BG100*Титул.лист!$P$2","v":5024.3600000000006},5020]
[null,null,200,"h 720","1301-20",620,{"$f":"F101+F101*Титул.лист!$A$1","v":682},{"$f":"G101+G101*Титул.лист!$P$2","v":682},680,660,{"$f":"J101+J101*Титул.лист!$A$1","v":726},{"$f":"K101+K101*Титул.лист!$P$2","v":726},730,780,{"$f":"N101+N101*Титул.лист!$A$1","v":858},{"$f":"O101+O101*Титул.лист!$P$2","v":858},860,820,{"$f":"R101+R101*Титул.лист!$A$1","v":902},{"$f":"S101+S101*Титул.лист!$P$2","v":902},900,890,{"$f":"V101+V101*Титул.лист!$A$1","v":979},{"$f":"W101+W101*Титул.лист!$P$2","v":979},980,930,{"$f":"Z101+Z101*Титул.лист!$A$1","v":1023},{"$f":"AA101+AA101*Титул.лист!$P$2","v":1023},1020,780,{"$f":"AD101+AD101*Титул.лист!$A$1","v":858},{"$f":"AE101+AE101*Титул.лист!$P$2","v":858},860,840,{"$f":"AH101+AH101*Титул.лист!$A$1","v":924},{"$f":"AI101+AI101*Титул.лист!$P$2","v":924},920,860,{"$f":"AL101+AL101*Титул.лист!$A$1","v":946},{"$f":"AM101+AM101*Титул.лист!$P$2","v":946},950,1343.04,{"$f":"AP101+AP101*Титул.лист!$A$1","v":1477.3440000000001},{"$f":"AQ101+AQ101*Титул.лист!$P$2","v":1477.3440000000001},1480,1501.44,{"$f":"AT101+AT101*Титул.лист!$A$1","v":1651.5840000000001},{"$f":"AU101+AU101*Титул.лист!$P$2","v":1651.5840000000001},1650,1230.72,{"$f":"AX101+AX101*Титул.лист!$A$1","v":1353.7919999999999},{"$f":"AY101+AY101*Титул.лист!$P$2","v":1353.7919999999999},1350,1515.8400000000001,{"$f":"BB101+BB101*Титул.лист!$A$1","v":1667.4240000000002},{"$f":"BC101+BC101*Титул.лист!$P$2","v":1667.4240000000002},1670,2063.04,{"$f":"BF101+BF101*Титул.лист!$A$1","v":2269.3440000000001},{"$f":"BG101+BG101*Титул.лист!$P$2","v":2269.3440000000001},2270]
[null,null,300,null,"1301-30",730,{"$f":"F102+F102*Титул.лист!$A$1","v":803},{"$f":"G102+G102*Титул.лист!$P$2","v":803},800,770.00000000000011,{"$f":"J102+J102*Титул.лист!$A$1","v":847.00000000000011},{"$f":"K102+K102*Титул.лист!$P$2","v":847.00000000000011},850,960,{"$f":"N102+N102*Титул.лист!$A$1","v":1056},{"$f":"O102+O102*Титул.лист!$P$2","v":1056},1060,1000,{"$f":"R102+R102*Титул.лист!$A$1","v":1100},{"$f":"S102+S102*Титул.лист!$P$2","v":1100},1100,1130,{"$f":"V102+V102*Титул.лист!$A$1","v":1243},{"$f":"W102+W102*Титул.лист!$P$2","v":1243},1240,1180,{"$f":"Z102+Z102*Титул.лист!$A$1","v":1298},{"$f":"AA102+AA102*Титул.лист!$P$2","v":1298},1300,960,{"$f":"AD102+AD102*Титул.лист!$A$1","v":1056},{"$f":"AE102+AE102*Титул.лист!$P$2","v":1056},1060,1030,{"$f":"AH102+AH102*Титул.лист!$A$1","v":1133},{"$f":"AI102+AI102*Титул.лист!$P$2","v":1133},1130,1070,{"$f":"AL102+AL102*Титул.лист!$A$1","v":1177},{"$f":"AM102+AM102*Титул.лист!$P$2","v":1177},1180,1804.56,{"$f":"AP102+AP102*Титул.лист!$A$1","v":1985.0160000000001},{"$f":"AQ102+AQ102*Титул.лист!$P$2","v":1985.0160000000001},1990,2042.16,{"$f":"AT102+AT102*Титул.лист!$A$1","v":2246.3760000000002},{"$f":"AU102+AU102*Титул.лист!$P$2","v":2246.3760000000002},2250,1636.08,{"$f":"AX102+AX102*Титул.лист!$A$1","v":1799.6879999999999},{"$f":"AY102+AY102*Титул.лист!$P$2","v":1799.6879999999999},1800,2063.7600000000002,{"$f":"BB102+BB102*Титул.лист!$A$1","v":2270.1360000000004},{"$f":"BC102+BC102*Титул.лист!$P$2","v":2270.1360000000004},2270,2884.5600000000004,{"$f":"BF102+BF102*Титул.лист!$A$1","v":3173.0160000000005},{"$f":"BG102+BG102*Титул.лист!$P$2","v":3173.0160000000005},3170]
[null,null,350,null,"1301-35",780,{"$f":"F103+F103*Титул.лист!$A$1","v":858},{"$f":"G103+G103*Титул.лист!$P$2","v":858},860,820,{"$f":"J103+J103*Титул.лист!$A$1","v":902},{"$f":"K103+K103*Титул.лист!$P$2","v":902},900,1040,{"$f":"N103+N103*Титул.лист!$A$1","v":1144},{"$f":"O103+O103*Титул.лист!$P$2","v":1144},1140,1090,{"$f":"R103+R103*Титул.лист!$A$1","v":1199},{"$f":"S103+S103*Титул.лист!$P$2","v":1199},1200,1250,{"$f":"V103+V103*Титул.лист!$A$1","v":1375},{"$f":"W103+W103*Титул.лист!$P$2","v":1375},1380,1300,{"$f":"Z103+Z103*Титул.лист!$A$1","v":1430},{"$f":"AA103+AA103*Титул.лист!$P$2","v":1430},1430,1070,{"$f":"AD103+AD103*Титул.лист!$A$1","v":1177},{"$f":"AE103+AE103*Титул.лист!$P$2","v":1177},1180,1140,{"$f":"AH103+AH103*Титул.лист!$A$1","v":1254},{"$f":"AI103+AI103*Титул.лист!$P$2","v":1254},1250,1190,{"$f":"AL103+AL103*Титул.лист!$A$1","v":1309},{"$f":"AM103+AM103*Титул.лист!$P$2","v":1309},1310,2055.3200000000002,{"$f":"AP103+AP103*Титул.лист!$A$1","v":2260.8520000000003},{"$f":"AQ103+AQ103*Титул.лист!$P$2","v":2260.8520000000003},2260,2332.52,{"$f":"AT103+AT103*Титул.лист!$A$1","v":2565.7719999999999},{"$f":"AU103+AU103*Титул.лист!$P$2","v":2565.7719999999999},2570,1858.76,{"$f":"AX103+AX103*Титул.лист!$A$1","v":2044.636},{"$f":"AY103+AY103*Титул.лист!$P$2","v":2044.636},2040,2357.7200000000003,{"$f":"BB103+BB103*Титул.лист!$A$1","v":2593.4920000000002},{"$f":"BC103+BC103*Титул.лист!$P$2","v":2593.4920000000002},2590,3315.32,{"$f":"BF103+BF103*Титул.лист!$A$1","v":3646.8520000000003},{"$f":"BG103+BG103*Титул.лист!$P$2","v":3646.8520000000003},3650]
[null,null,400,null,"1301-40",820,{"$f":"F104+F104*Титул.лист!$A$1","v":902},{"$f":"G104+G104*Титул.лист!$P$2","v":902},900,890,{"$f":"J104+J104*Титул.лист!$A$1","v":979},{"$f":"K104+K104*Титул.лист!$P$2","v":979},980,1120,{"$f":"N104+N104*Титул.лист!$A$1","v":1232},{"$f":"O104+O104*Титул.лист!$P$2","v":1232},1230,1190,{"$f":"R104+R104*Титул.лист!$A$1","v":1309},{"$f":"S104+S104*Титул.лист!$P$2","v":1309},1310,1350,{"$f":"V104+V104*Титул.лист!$A$1","v":1485},{"$f":"W104+W104*Титул.лист!$P$2","v":1485},1490,1420,{"$f":"Z104+Z104*Титул.лист!$A$1","v":1562},{"$f":"AA104+AA104*Титул.лист!$P$2","v":1562},1560,1170,{"$f":"AD104+AD104*Титул.лист!$A$1","v":1287},{"$f":"AE104+AE104*Титул.лист!$P$2","v":1287},1290,1270,{"$f":"AH104+AH104*Титул.лист!$A$1","v":1397},{"$f":"AI104+AI104*Титул.лист!$P$2","v":1397},1400,1300,{"$f":"AL104+AL104*Титул.лист!$A$1","v":1430},{"$f":"AM104+AM104*Титул.лист!$P$2","v":1430},1430,2296.08,{"$f":"AP104+AP104*Титул.лист!$A$1","v":2525.6880000000001},{"$f":"AQ104+AQ104*Титул.лист!$P$2","v":2525.6880000000001},2530,2612.88,{"$f":"AT104+AT104*Титул.лист!$A$1","v":2874.1680000000001},{"$f":"AU104+AU104*Титул.лист!$P$2","v":2874.1680000000001},2870,2071.44,{"$f":"AX104+AX104*Титул.лист!$A$1","v":2278.5839999999998},{"$f":"AY104+AY104*Титул.лист!$P$2","v":2278.5839999999998},2280,2641.6800000000003,{"$f":"BB104+BB104*Титул.лист!$A$1","v":2905.8480000000004},{"$f":"BC104+BC104*Титул.лист!$P$2","v":2905.8480000000004},2910,3736.0800000000004,{"$f":"BF104+BF104*Титул.лист!$A$1","v":4109.6880000000001},{"$f":"BG104+BG104*Титул.лист!$P$2","v":4109.6880000000001},4110]
[null,null,450,null,"1301-45",890,{"$f":"F105+F105*Титул.лист!$A$1","v":979},{"$f":"G105+G105*Титул.лист!$P$2","v":979},980,950,{"$f":"J105+J105*Титул.лист!$A$1","v":1045},{"$f":"K105+K105*Титул.лист!$P$2","v":1045},1050,1220,{"$f":"N105+N105*Титул.лист!$A$1","v":1342},{"$f":"O105+O105*Титул.лист!$P$2","v":1342},1340,1280,{"$f":"R105+R105*Титул.лист!$A$1","v":1408},{"$f":"S105+S105*Титул.лист!$P$2","v":1408},1410,1480,{"$f":"V105+V105*Титул.лист!$A$1","v":1628},{"$f":"W105+W105*Титул.лист!$P$2","v":1628},1630,1540.0000000000002,{"$f":"Z105+Z105*Титул.лист!$A$1","v":1694.0000000000002},{"$f":"AA105+AA105*Титул.лист!$P$2","v":1694.0000000000002},1690,1262,{"$f":"AD105+AD105*Титул.лист!$A$1","v":1388.2},{"$f":"AE105+AE105*Титул.лист!$P$2","v":1388.2},1390,1370,{"$f":"AH105+AH105*Титул.лист!$A$1","v":1507},{"$f":"AI105+AI105*Титул.лист!$P$2","v":1507},1510,1420,{"$f":"AL105+AL105*Титул.лист!$A$1","v":1562},{"$f":"AM105+AM105*Титул.лист!$P$2","v":1562},1560,2528.84,{"$f":"AP105+AP105*Титул.лист!$A$1","v":2781.7240000000002},{"$f":"AQ105+AQ105*Титул.лист!$P$2","v":2781.7240000000002},2780,2885.24,{"$f":"AT105+AT105*Титул.лист!$A$1","v":3173.7639999999997},{"$f":"AU105+AU105*Титул.лист!$P$2","v":3173.7639999999997},3170,2276.12,{"$f":"AX105+AX105*Титул.лист!$A$1","v":2503.732},{"$f":"AY105+AY105*Титул.лист!$P$2","v":2503.732},2500,2917.6400000000003,{"$f":"BB105+BB105*Титул.лист!$A$1","v":3209.4040000000005},{"$f":"BC105+BC105*Титул.лист!$P$2","v":3209.4040000000005},3210,4148.84,{"$f":"BF105+BF105*Титул.лист!$A$1","v":4563.7240000000002},{"$f":"BG105+BG105*Титул.лист!$P$2","v":4563.7240000000002},4560]
[null,null,500,null,"1301-50",930,{"$f":"F106+F106*Титул.лист!$A$1","v":1023},{"$f":"G106+G106*Титул.лист!$P$2","v":1023},1020,990.00000000000011,{"$f":"J106+J106*Титул.лист!$A$1","v":1089.0000000000002},{"$f":"K106+K106*Титул.лист!$P$2","v":1089.0000000000002},1090,1310,{"$f":"N106+N106*Титул.лист!$A$1","v":1441},{"$f":"O106+O106*Титул.лист!$P$2","v":1441},1440,1360,{"$f":"R106+R106*Титул.лист!$A$1","v":1496},{"$f":"S106+S106*Титул.лист!$P$2","v":1496},1500,1610,{"$f":"V106+V106*Титул.лист!$A$1","v":1771},{"$f":"W106+W106*Титул.лист!$P$2","v":1771},1770,1660,{"$f":"Z106+Z106*Титул.лист!$A$1","v":1826},{"$f":"AA106+AA106*Титул.лист!$P$2","v":1826},1830,1352,{"$f":"AD106+AD106*Титул.лист!$A$1","v":1487.2},{"$f":"AE106+AE106*Титул.лист!$P$2","v":1487.2},1490,1470,{"$f":"AH106+AH106*Титул.лист!$A$1","v":1617},{"$f":"AI106+AI106*Титул.лист!$P$2","v":1617},1620,1520,{"$f":"AL106+AL106*Титул.лист!$A$1","v":1672},{"$f":"AM106+AM106*Титул.лист!$P$2","v":1672},1670,2759.6000000000004,{"$f":"AP106+AP106*Титул.лист!$A$1","v":3035.5600000000004},{"$f":"AQ106+AQ106*Титул.лист!$P$2","v":3035.5600000000004},3040,3155.6000000000004,{"$f":"AT106+AT106*Титул.лист!$A$1","v":3471.1600000000003},{"$f":"AU106+AU106*Титул.лист!$P$2","v":3471.1600000000003},3470,2478.8000000000002,{"$f":"AX106+AX106*Титул.лист!$A$1","v":2726.6800000000003},{"$f":"AY106+AY106*Титул.лист!$P$2","v":2726.6800000000003},2730,3191.6000000000004,{"$f":"BB106+BB106*Титул.лист!$A$1","v":3510.76},{"$f":"BC106+BC106*Титул.лист!$P$2","v":3510.76},3510,4559.6000000000004,{"$f":"BF106+BF106*Титул.лист!$A$1","v":5015.5600000000004},{"$f":"BG106+BG106*Титул.лист!$P$2","v":5015.5600000000004},5020]
[null,null,550,null,"1301-55",1000,{"$f":"F107+F107*Титул.лист!$A$1","v":1100},{"$f":"G107+G107*Титул.лист!$P$2","v":1100},1100,1050,{"$f":"J107+J107*Титул.лист!$A$1","v":1155},{"$f":"K107+K107*Титул.лист!$P$2","v":1155},1160,1450,{"$f":"N107+N107*Титул.лист!$A$1","v":1595},{"$f":"O107+O107*Титул.лист!$P$2","v":1595},1600,1500,{"$f":"R107+R107*Титул.лист!$A$1","v":1650},{"$f":"S107+S107*Титул.лист!$P$2","v":1650},1650,1800,{"$f":"V107+V107*Титул.лист!$A$1","v":1980},{"$f":"W107+W107*Титул.лист!$P$2","v":1980},1980,1850,{"$f":"Z107+Z107*Титул.лист!$A$1","v":2035},{"$f":"AA107+AA107*Титул.лист!$P$2","v":2035},2040,1500,{"$f":"AD107+AD107*Титул.лист!$A$1","v":1650},{"$f":"AE107+AE107*Титул.лист!$P$2","v":1650},1650,1650,{"$f":"AH107+AH107*Титул.лист!$A$1","v":1815},{"$f":"AI107+AI107*Титул.лист!$P$2","v":1815},1820,1700,{"$f":"AL107+AL107*Титул.лист!$A$1","v":1870},{"$f":"AM107+AM107*Титул.лист!$P$2","v":1870},1870,3048.36,{"$f":"AP107+AP107*Титул.лист!$A$1","v":3353.1959999999999},{"$f":"AQ107+AQ107*Титул.лист!$P$2","v":3353.1959999999999},3350,3483.96,{"$f":"AT107+AT107*Титул.лист!$A$1","v":3832.3560000000002},{"$f":"AU107+AU107*Титул.лист!$P$2","v":3832.3560000000002},3830,2739.48,{"$f":"AX107+AX107*Титул.лист!$A$1","v":3013.4279999999999},{"$f":"AY107+AY107*Титул.лист!$P$2","v":3013.4279999999999},3010,3523.5600000000004,{"$f":"BB107+BB107*Титул.лист!$A$1","v":3875.9160000000006},{"$f":"BC107+BC107*Титул.лист!$P$2","v":3875.9160000000006},3880,5028.3600000000006,{"$f":"BF107+BF107*Титул.лист!$A$1","v":5531.1960000000008},{"$f":"BG107+BG107*Титул.лист!$P$2","v":5531.1960000000008},5530]
[null,null,600,null,"1301-60",1020,{"$f":"F108+F108*Титул.лист!$A$1","v":1122},{"$f":"G108+G108*Титул.лист!$P$2","v":1122},1120,1090,{"$f":"J108+J108*Титул.лист!$A$1","v":1199},{"$f":"K108+K108*Титул.лист!$P$2","v":1199},1200,1480,{"$f":"N108+N108*Титул.лист!$A$1","v":1628},{"$f":"O108+O108*Титул.лист!$P$2","v":1628},1630,1550,{"$f":"R108+R108*Титул.лист!$A$1","v":1705},{"$f":"S108+S108*Титул.лист!$P$2","v":1705},1710,1830,{"$f":"V108+V108*Титул.лист!$A$1","v":2013},{"$f":"W108+W108*Титул.лист!$P$2","v":2013},2010,1890,{"$f":"Z108+Z108*Титул.лист!$A$1","v":2079},{"$f":"AA108+AA108*Титул.лист!$P$2","v":2079},2080,1520,{"$f":"AD108+AD108*Титул.лист!$A$1","v":1672},{"$f":"AE108+AE108*Титул.лист!$P$2","v":1672},1670,1670,{"$f":"AH108+AH108*Титул.лист!$A$1","v":1837},{"$f":"AI108+AI108*Титул.лист!$P$2","v":1837},1840,1730,{"$f":"AL108+AL108*Титул.лист!$A$1","v":1903},{"$f":"AM108+AM108*Титул.лист!$P$2","v":1903},1900,3209.12,{"$f":"AP108+AP108*Титул.лист!$A$1","v":3530.0320000000002},{"$f":"AQ108+AQ108*Титул.лист!$P$2","v":3530.0320000000002},3530,3684.32,{"$f":"AT108+AT108*Титул.лист!$A$1","v":4052.7520000000004},{"$f":"AU108+AU108*Титул.лист!$P$2","v":4052.7520000000004},4050,2872.16,{"$f":"AX108+AX108*Титул.лист!$A$1","v":3159.3759999999997},{"$f":"AY108+AY108*Титул.лист!$P$2","v":3159.3759999999997},3160,3727.5200000000004,{"$f":"BB108+BB108*Титул.лист!$A$1","v":4100.2720000000008},{"$f":"BC108+BC108*Титул.лист!$P$2","v":4100.2720000000008},4100,5369.1200000000008,{"$f":"BF108+BF108*Титул.лист!$A$1","v":5906.0320000000011},{"$f":"BG108+BG108*Титул.лист!$P$2","v":5906.0320000000011},5910]
[null,null,200,"h 920","1305-20",850,{"$f":"F109+F109*Титул.лист!$A$1","v":935},{"$f":"G109+G109*Титул.лист!$P$2","v":935},940,900,{"$f":"J109+J109*Титул.лист!$A$1","v":990},{"$f":"K109+K109*Титул.лист!$P$2","v":990},990,1150,{"$f":"N109+N109*Титул.лист!$A$1","v":1265},{"$f":"O109+O109*Титул.лист!$P$2","v":1265},1270,1200,{"$f":"R109+R109*Титул.лист!$A$1","v":1320},{"$f":"S109+S109*Титул.лист!$P$2","v":1320},1320,1350,{"$f":"V109+V109*Титул.лист!$A$1","v":1485},{"$f":"W109+W109*Титул.лист!$P$2","v":1485},1490,1400,{"$f":"Z109+Z109*Титул.лист!$A$1","v":1540},{"$f":"AA109+AA109*Титул.лист!$P$2","v":1540},1540,1130,{"$f":"AD109+AD109*Титул.лист!$A$1","v":1243},{"$f":"AE109+AE109*Титул.лист!$P$2","v":1243},1240,1250,{"$f":"AH109+AH109*Титул.лист!$A$1","v":1375},{"$f":"AI109+AI109*Титул.лист!$P$2","v":1375},1380,1280,{"$f":"AL109+AL109*Титул.лист!$A$1","v":1408},{"$f":"AM109+AM109*Титул.лист!$P$2","v":1408},1410,1846.3119999999999,{"$f":"AP109+AP109*Титул.лист!$A$1","v":2030.9431999999999},{"$f":"AQ109+AQ109*Титул.лист!$P$2","v":2030.9431999999999},2030,2051.84,{"$f":"AT109+AT109*Титул.лист!$A$1","v":2257.0240000000003},{"$f":"AU109+AU109*Титул.лист!$P$2","v":2257.0240000000003},2260,1705.92,{"$f":"AX109+AX109*Титул.лист!$A$1","v":1876.5120000000002},{"$f":"AY109+AY109*Титул.лист!$P$2","v":1876.5120000000002},1880,2070.2399999999998,{"$f":"BB109+BB109*Титул.лист!$A$1","v":2277.2639999999997},{"$f":"BC109+BC109*Титул.лист!$P$2","v":2277.2639999999997},2280,2769.44,{"$f":"BF109+BF109*Титул.лист!$A$1","v":3046.384},{"$f":"BG109+BG109*Титул.лист!$P$2","v":3046.384},3050]
[null,null,300,null,"1305-30",880.00000000000011,{"$f":"F110+F110*Титул.лист!$A$1","v":968.00000000000011},{"$f":"G110+G110*Титул.лист!$P$2","v":968.00000000000011},970,930,{"$f":"J110+J110*Титул.лист!$A$1","v":1023},{"$f":"K110+K110*Титул.лист!$P$2","v":1023},1020,1180,{"$f":"N110+N110*Титул.лист!$A$1","v":1298},{"$f":"O110+O110*Титул.лист!$P$2","v":1298},1300,1230,{"$f":"R110+R110*Титул.лист!$A$1","v":1353},{"$f":"S110+S110*Титул.лист!$P$2","v":1353},1350,1400,{"$f":"V110+V110*Титул.лист!$A$1","v":1540},{"$f":"W110+W110*Титул.лист!$P$2","v":1540},1540,1450,{"$f":"Z110+Z110*Титул.лист!$A$1","v":1595},{"$f":"AA110+AA110*Титул.лист!$P$2","v":1595},1600,1190,{"$f":"AD110+AD110*Титул.лист!$A$1","v":1309},{"$f":"AE110+AE110*Титул.лист!$P$2","v":1309},1310,1280,{"$f":"AH110+AH110*Титул.лист!$A$1","v":1408},{"$f":"AI110+AI110*Титул.лист!$P$2","v":1408},1410,1320,{"$f":"AL110+AL110*Титул.лист!$A$1","v":1452},{"$f":"AM110+AM110*Титул.лист!$P$2","v":1452},1450,2264.4679999999998,{"$f":"AP110+AP110*Титул.лист!$A$1","v":2490.9148},{"$f":"AQ110+AQ110*Титул.лист!$P$2","v":2490.9148},2490,2572.7600000000002,{"$f":"AT110+AT110*Титул.лист!$A$1","v":2830.0360000000001},{"$f":"AU110+AU110*Титул.лист!$P$2","v":2830.0360000000001},2830,2053.88,{"$f":"AX110+AX110*Титул.лист!$A$1","v":2259.268},{"$f":"AY110+AY110*Титул.лист!$P$2","v":2259.268},2260,2600.36,{"$f":"BB110+BB110*Титул.лист!$A$1","v":2860.3960000000002},{"$f":"BC110+BC110*Титул.лист!$P$2","v":2860.3960000000002},2860,3649.1600000000003,{"$f":"BF110+BF110*Титул.лист!$A$1","v":4014.0760000000005},{"$f":"BG110+BG110*Титул.лист!$P$2","v":4014.0760000000005},4010]
[null,null,350,null,"1305-35",960,{"$f":"F111+F111*Титул.лист!$A$1","v":1056},{"$f":"G111+G111*Титул.лист!$P$2","v":1056},1060,1020,{"$f":"J111+J111*Титул.лист!$A$1","v":1122},{"$f":"K111+K111*Титул.лист!$P$2","v":1122},1120,1300,{"$f":"N111+N111*Титул.лист!$A$1","v":1430},{"$f":"O111+O111*Титул.лист!$P$2","v":1430},1430,1360,{"$f":"R111+R111*Титул.лист!$A$1","v":1496},{"$f":"S111+S111*Титул.лист!$P$2","v":1496},1500,1560,{"$f":"V111+V111*Титул.лист!$A$1","v":1716},{"$f":"W111+W111*Титул.лист!$P$2","v":1716},1720,1630,{"$f":"Z111+Z111*Титул.лист!$A$1","v":1793},{"$f":"AA111+AA111*Титул.лист!$P$2","v":1793},1790,1330,{"$f":"AD111+AD111*Титул.лист!$A$1","v":1463},{"$f":"AE111+AE111*Титул.лист!$P$2","v":1463},1460,1440,{"$f":"AH111+AH111*Титул.лист!$A$1","v":1584},{"$f":"AI111+AI111*Титул.лист!$P$2","v":1584},1580,1480,{"$f":"AL111+AL111*Титул.лист!$A$1","v":1628},{"$f":"AM111+AM111*Титул.лист!$P$2","v":1628},1630,2583.5460000000003,{"$f":"AP111+AP111*Титул.лист!$A$1","v":2841.9006000000004},{"$f":"AQ111+AQ111*Титул.лист!$P$2","v":2841.9006000000004},2840,2943.2200000000003,{"$f":"AT111+AT111*Титул.лист!$A$1","v":3237.5420000000004},{"$f":"AU111+AU111*Титул.лист!$P$2","v":3237.5420000000004},3240,2337.86,{"$f":"AX111+AX111*Титул.лист!$A$1","v":2571.6460000000002},{"$f":"AY111+AY111*Титул.лист!$P$2","v":2571.6460000000002},2570,2975.42,{"$f":"BB111+BB111*Титул.лист!$A$1","v":3272.962},{"$f":"BC111+BC111*Титул.лист!$P$2","v":3272.962},3270,4199.0200000000004,{"$f":"BF111+BF111*Титул.лист!$A$1","v":4618.9220000000005},{"$f":"BG111+BG111*Титул.лист!$P$2","v":4618.9220000000005},4620]
[null,null,400,null,"1305-40",1020,{"$f":"F112+F112*Титул.лист!$A$1","v":1122},{"$f":"G112+G112*Титул.лист!$P$2","v":1122},1120,1090,{"$f":"J112+J112*Титул.лист!$A$1","v":1199},{"$f":"K112+K112*Титул.лист!$P$2","v":1199},1200,1410,{"$f":"N112+N112*Титул.лист!$A$1","v":1551},{"$f":"O112+O112*Титул.лист!$P$2","v":1551},1550,1470,{"$f":"R112+R112*Титул.лист!$A$1","v":1617},{"$f":"S112+S112*Титул.лист!$P$2","v":1617},1620,1700,{"$f":"V112+V112*Титул.лист!$A$1","v":1870},{"$f":"W112+W112*Титул.лист!$P$2","v":1870},1870,1770,{"$f":"Z112+Z112*Титул.лист!$A$1","v":1947},{"$f":"AA112+AA112*Титул.лист!$P$2","v":1947},1950,1440,{"$f":"AD112+AD112*Титул.лист!$A$1","v":1584},{"$f":"AE112+AE112*Титул.лист!$P$2","v":1584},1580,1560,{"$f":"AH112+AH112*Титул.лист!$A$1","v":1716},{"$f":"AI112+AI112*Титул.лист!$P$2","v":1716},1720,1620,{"$f":"AL112+AL112*Титул.лист!$A$1","v":1782},{"$f":"AM112+AM112*Титул.лист!$P$2","v":1782},1780,2872.6239999999998,{"$f":"AP112+AP112*Титул.лист!$A$1","v":3159.8863999999999},{"$f":"AQ112+AQ112*Титул.лист!$P$2","v":3159.8863999999999},3160,3283.6800000000003,{"$f":"AT112+AT112*Титул.лист!$A$1","v":3612.0480000000002},{"$f":"AU112+AU112*Титул.лист!$P$2","v":3612.0480000000002},3610,2591.84,{"$f":"AX112+AX112*Титул.лист!$A$1","v":2851.0240000000003},{"$f":"AY112+AY112*Титул.лист!$P$2","v":2851.0240000000003},2850,3320.48,{"$f":"BB112+BB112*Титул.лист!$A$1","v":3652.5280000000002},{"$f":"BC112+BC112*Титул.лист!$P$2","v":3652.5280000000002},3650,4718.88,{"$f":"BF112+BF112*Титул.лист!$A$1","v":5190.768},{"$f":"BG112+BG112*Титул.лист!$P$2","v":5190.768},5190]
[null,null,450,null,"1305-45",1080,{"$f":"F113+F113*Титул.лист!$A$1","v":1188},{"$f":"G113+G113*Титул.лист!$P$2","v":1188},1190,1140,{"$f":"J113+J113*Титул.лист!$A$1","v":1254},{"$f":"K113+K113*Титул.лист!$P$2","v":1254},1250,1520,{"$f":"N113+N113*Титул.лист!$A$1","v":1672},{"$f":"O113+O113*Титул.лист!$P$2","v":1672},1670,1580,{"$f":"R113+R113*Титул.лист!$A$1","v":1738},{"$f":"S113+S113*Титул.лист!$P$2","v":1738},1740,1850,{"$f":"V113+V113*Титул.лист!$A$1","v":2035},{"$f":"W113+W113*Титул.лист!$P$2","v":2035},2040,1910,{"$f":"Z113+Z113*Титул.лист!$A$1","v":2101},{"$f":"AA113+AA113*Титул.лист!$P$2","v":2101},2100,1560,{"$f":"AD113+AD113*Титул.лист!$A$1","v":1716},{"$f":"AE113+AE113*Титул.лист!$P$2","v":1716},1720,1700,{"$f":"AH113+AH113*Титул.лист!$A$1","v":1870},{"$f":"AI113+AI113*Титул.лист!$P$2","v":1870},1870,1760.0000000000002,{"$f":"AL113+AL113*Титул.лист!$A$1","v":1936.0000000000002},{"$f":"AM113+AM113*Титул.лист!$P$2","v":1936.0000000000002},1940,3171.7020000000002,{"$f":"AP113+AP113*Титул.лист!$A$1","v":3488.8722000000002},{"$f":"AQ113+AQ113*Титул.лист!$P$2","v":3488.8722000000002},3490,3634.1400000000003,{"$f":"AT113+AT113*Титул.лист!$A$1","v":3997.5540000000005},{"$f":"AU113+AU113*Титул.лист!$P$2","v":3997.5540000000005},4000,2855.82,{"$f":"AX113+AX113*Титул.лист!$A$1","v":3141.402},{"$f":"AY113+AY113*Титул.лист!$P$2","v":3141.402},3140,3675.54,{"$f":"BB113+BB113*Титул.лист!$A$1","v":4043.0940000000001},{"$f":"BC113+BC113*Титул.лист!$P$2","v":4043.0940000000001},4040,5248.74,{"$f":"BF113+BF113*Титул.лист!$A$1","v":5773.6139999999996},{"$f":"BG113+BG113*Титул.лист!$P$2","v":5773.6139999999996},5770]
[null,null,500,null,"1305-50",1170,{"$f":"F114+F114*Титул.лист!$A$1","v":1287},{"$f":"G114+G114*Титул.лист!$P$2","v":1287},1290,1220,{"$f":"J114+J114*Титул.лист!$A$1","v":1342},{"$f":"K114+K114*Титул.лист!$P$2","v":1342},1340,1650.0000000000002,{"$f":"N114+N114*Титул.лист!$A$1","v":1815.0000000000002},{"$f":"O114+O114*Титул.лист!$P$2","v":1815.0000000000002},1820,1700,{"$f":"R114+R114*Титул.лист!$A$1","v":1870},{"$f":"S114+S114*Титул.лист!$P$2","v":1870},1870,2020,{"$f":"V114+V114*Титул.лист!$A$1","v":2222},{"$f":"W114+W114*Титул.лист!$P$2","v":2222},2220,2080,{"$f":"Z114+Z114*Титул.лист!$A$1","v":2288},{"$f":"AA114+AA114*Титул.лист!$P$2","v":2288},2290,1690,{"$f":"AD114+AD114*Титул.лист!$A$1","v":1859},{"$f":"AE114+AE114*Титул.лист!$P$2","v":1859},1860,1850,{"$f":"AH114+AH114*Титул.лист!$A$1","v":2035},{"$f":"AI114+AI114*Титул.лист!$P$2","v":2035},2040,1910,{"$f":"AL114+AL114*Титул.лист!$A$1","v":2101},{"$f":"AM114+AM114*Титул.лист!$P$2","v":2101},2100,3480.7799999999997,{"$f":"AP114+AP114*Титул.лист!$A$1","v":3828.8579999999997},{"$f":"AQ114+AQ114*Титул.лист!$P$2","v":3828.8579999999997},3830,3994.6,{"$f":"AT114+AT114*Титул.лист!$A$1","v":4394.0599999999995},{"$f":"AU114+AU114*Титул.лист!$P$2","v":4394.0599999999995},4390,3129.8,{"$f":"AX114+AX114*Титул.лист!$A$1","v":3442.78},{"$f":"AY114+AY114*Титул.лист!$P$2","v":3442.78},3440,4040.6,{"$f":"BB114+BB114*Титул.лист!$A$1","v":4444.66},{"$f":"BC114+BC114*Титул.лист!$P$2","v":4444.66},4440,5788.6,{"$f":"BF114+BF114*Титул.лист!$A$1","v":6367.46},{"$f":"BG114+BG114*Титул.лист!$P$2","v":6367.46},6370]
[null,null,550,null,"1305-55",1210,{"$f":"F115+F115*Титул.лист!$A$1","v":1331},{"$f":"G115+G115*Титул.лист!$P$2","v":1331},1330,1300,{"$f":"J115+J115*Титул.лист!$A$1","v":1430},{"$f":"K115+K115*Титул.лист!$P$2","v":1430},1430,1800,{"$f":"N115+N115*Титул.лист!$A$1","v":1980},{"$f":"O115+O115*Титул.лист!$P$2","v":1980},1980,1870,{"$f":"R115+R115*Титул.лист!$A$1","v":2057},{"$f":"S115+S115*Титул.лист!$P$2","v":2057},2060,2250,{"$f":"V115+V115*Титул.лист!$A$1","v":2475},{"$f":"W115+W115*Титул.лист!$P$2","v":2475},2480,2320,{"$f":"Z115+Z115*Титул.лист!$A$1","v":2552},{"$f":"AA115+AA115*Титул.лист!$P$2","v":2552},2550,1870,{"$f":"AD115+AD115*Титул.лист!$A$1","v":2057},{"$f":"AE115+AE115*Титул.лист!$P$2","v":2057},2060,2050,{"$f":"AH115+AH115*Титул.лист!$A$1","v":2255},{"$f":"AI115+AI115*Титул.лист!$P$2","v":2255},2260,2100,{"$f":"AL115+AL115*Титул.лист!$A$1","v":2310},{"$f":"AM115+AM115*Титул.лист!$P$2","v":2310},2310,3839.8580000000002,{"$f":"AP115+AP115*Титул.лист!$A$1","v":4223.8438000000006},{"$f":"AQ115+AQ115*Титул.лист!$P$2","v":4223.8438000000006},4220,4405.0599999999995,{"$f":"AT115+AT115*Титул.лист!$A$1","v":4845.5659999999998},{"$f":"AU115+AU115*Титул.лист!$P$2","v":4845.5659999999998},4850,3453.7799999999997,{"$f":"AX115+AX115*Титул.лист!$A$1","v":3799.1579999999999},{"$f":"AY115+AY115*Титул.лист!$P$2","v":3799.1579999999999},3800,4455.66,{"$f":"BB115+BB115*Титул.лист!$A$1","v":4901.2259999999997},{"$f":"BC115+BC115*Титул.лист!$P$2","v":4901.2259999999997},4900,6378.46,{"$f":"BF115+BF115*Титул.лист!$A$1","v":7016.3060000000005},{"$f":"BG115+BG115*Титул.лист!$P$2","v":7016.3060000000005},7020]
[null,null,600,null,"1305-60",1290,{"$f":"F116+F116*Титул.лист!$A$1","v":1419},{"$f":"G116+G116*Титул.лист!$P$2","v":1419},1420,1360,{"$f":"J116+J116*Титул.лист!$A$1","v":1496},{"$f":"K116+K116*Титул.лист!$P$2","v":1496},1500,1860,{"$f":"N116+N116*Титул.лист!$A$1","v":2046},{"$f":"O116+O116*Титул.лист!$P$2","v":2046},2050,1940,{"$f":"R116+R116*Титул.лист!$A$1","v":2134},{"$f":"S116+S116*Титул.лист!$P$2","v":2134},2130,2310,{"$f":"V116+V116*Титул.лист!$A$1","v":2541},{"$f":"W116+W116*Титул.лист!$P$2","v":2541},2540,2390,{"$f":"Z116+Z116*Титул.лист!$A$1","v":2629},{"$f":"AA116+AA116*Титул.лист!$P$2","v":2629},2630,1920,{"$f":"AD116+AD116*Титул.лист!$A$1","v":2112},{"$f":"AE116+AE116*Титул.лист!$P$2","v":2112},2110,2110,{"$f":"AH116+AH116*Титул.лист!$A$1","v":2321},{"$f":"AI116+AI116*Титул.лист!$P$2","v":2321},2320,2200,{"$f":"AL116+AL116*Титул.лист!$A$1","v":2420},{"$f":"AM116+AM116*Титул.лист!$P$2","v":2420},2420,4068.9359999999997,{"$f":"AP116+AP116*Титул.лист!$A$1","v":4475.8296},{"$f":"AQ116+AQ116*Титул.лист!$P$2","v":4475.8296},4480,4685.5200000000004,{"$f":"AT116+AT116*Титул.лист!$A$1","v":5154.0720000000001},{"$f":"AU116+AU116*Титул.лист!$P$2","v":5154.0720000000001},5150,3647.76,{"$f":"AX116+AX116*Титул.лист!$A$1","v":4012.5360000000001},{"$f":"AY116+AY116*Титул.лист!$P$2","v":4012.5360000000001},4010,4740.72,{"$f":"BB116+BB116*Титул.лист!$A$1","v":5214.7920000000004},{"$f":"BC116+BC116*Титул.лист!$P$2","v":5214.7920000000004},5210,6838.3200000000006,{"$f":"BF116+BF116*Титул.лист!$A$1","v":7522.152000000001},{"$f":"BG116+BG116*Титул.лист!$P$2","v":7522.152000000001},7520]
[null,"Шкаф настенный 2д",600,"h 600","1423-60",990.00000000000011,{"$f":"F117+F117*Титул.лист!$A$1","v":1089.0000000000002},{"$f":"G117+G117*Титул.лист!$P$2","v":1089.0000000000002},1090,1080,{"$f":"J117+J117*Титул.лист!$A$1","v":1188},{"$f":"K117+K117*Титул.лист!$P$2","v":1188},1190,1380,{"$f":"N117+N117*Титул.лист!$A$1","v":1518},{"$f":"O117+O117*Титул.лист!$P$2","v":1518},1520,1460,{"$f":"R117+R117*Титул.лист!$A$1","v":1606},{"$f":"S117+S117*Титул.лист!$P$2","v":1606},1610,1670,{"$f":"V117+V117*Титул.лист!$A$1","v":1837},{"$f":"W117+W117*Титул.лист!$P$2","v":1837},1840,1760.0000000000002,{"$f":"Z117+Z117*Титул.лист!$A$1","v":1936.0000000000002},{"$f":"AA117+AA117*Титул.лист!$P$2","v":1936.0000000000002},1940,1400,{"$f":"AD117+AD117*Титул.лист!$A$1","v":1540},{"$f":"AE117+AE117*Титул.лист!$P$2","v":1540},1540,1520,{"$f":"AH117+AH117*Титул.лист!$A$1","v":1672},{"$f":"AI117+AI117*Титул.лист!$P$2","v":1672},1670,1560,{"$f":"AL117+AL117*Титул.лист!$A$1","v":1716},{"$f":"AM117+AM117*Титул.лист!$P$2","v":1716},1720,2807.6,{"$f":"AP117+AP117*Титул.лист!$A$1","v":3088.3599999999997},{"$f":"AQ117+AQ117*Титул.лист!$P$2","v":3088.3599999999997},3090,3203.6,{"$f":"AT117+AT117*Титул.лист!$A$1","v":3523.96},{"$f":"AU117+AU117*Титул.лист!$P$2","v":3523.96},3520,2526.8000000000002,{"$f":"AX117+AX117*Титул.лист!$A$1","v":2779.48},{"$f":"AY117+AY117*Титул.лист!$P$2","v":2779.48},2780,3239.6,{"$f":"BB117+BB117*Титул.лист!$A$1","v":3563.56},{"$f":"BC117+BC117*Титул.лист!$P$2","v":3563.56},3560,4607.6000000000004,{"$f":"BF117+BF117*Титул.лист!$A$1","v":5068.3600000000006},{"$f":"BG117+BG117*Титул.лист!$P$2","v":5068.3600000000006},5070]
[null,null,700,null,"1423-70",1090,{"$f":"F118+F118*Титул.лист!$A$1","v":1199},{"$f":"G118+G118*Титул.лист!$P$2","v":1199},1200,1180,{"$f":"J118+J118*Титул.лист!$A$1","v":1298},{"$f":"K118+K118*Титул.лист!$P$2","v":1298},1300,1530,{"$f":"N118+N118*Титул.лист!$A$1","v":1683},{"$f":"O118+O118*Титул.лист!$P$2","v":1683},1680,1620,{"$f":"R118+R118*Титул.лист!$A$1","v":1782},{"$f":"S118+S118*Титул.лист!$P$2","v":1782},1780,1870.0000000000002,{"$f":"V118+V118*Титул.лист!$A$1","v":2057.0000000000005},{"$f":"W118+W118*Титул.лист!$P$2","v":2057.0000000000005},2060,1960,{"$f":"Z118+Z118*Титул.лист!$A$1","v":2156},{"$f":"AA118+AA118*Титул.лист!$P$2","v":2156},2160,1560,{"$f":"AD118+AD118*Титул.лист!$A$1","v":1716},{"$f":"AE118+AE118*Титул.лист!$P$2","v":1716},1720,1700,{"$f":"AH118+AH118*Титул.лист!$A$1","v":1870},{"$f":"AI118+AI118*Титул.лист!$P$2","v":1870},1870,1770,{"$f":"AL118+AL118*Титул.лист!$A$1","v":1947},{"$f":"AM118+AM118*Титул.лист!$P$2","v":1947},1950,3202.2,{"$f":"AP118+AP118*Титул.лист!$A$1","v":3522.42},{"$f":"AQ118+AQ118*Титул.лист!$P$2","v":3522.42},3520,3664.2,{"$f":"AT118+AT118*Титул.лист!$A$1","v":4030.62},{"$f":"AU118+AU118*Титул.лист!$P$2","v":4030.62},4030,2874.6,{"$f":"AX118+AX118*Титул.лист!$A$1","v":3162.06},{"$f":"AY118+AY118*Титул.лист!$P$2","v":3162.06},3160,3706.2,{"$f":"BB118+BB118*Титул.лист!$A$1","v":4076.8199999999997},{"$f":"BC118+BC118*Титул.лист!$P$2","v":4076.8199999999997},4080,5302.2,{"$f":"BF118+BF118*Титул.лист!$A$1","v":5832.42},{"$f":"BG118+BG118*Титул.лист!$P$2","v":5832.42},5830]
[null,null,800,null,"1423-80",1190,{"$f":"F119+F119*Титул.лист!$A$1","v":1309},{"$f":"G119+G119*Титул.лист!$P$2","v":1309},1310,1290,{"$f":"J119+J119*Титул.лист!$A$1","v":1419},{"$f":"K119+K119*Титул.лист!$P$2","v":1419},1420,1683.0000000000002,{"$f":"N119+N119*Титул.лист!$A$1","v":1851.3000000000002},{"$f":"O119+O119*Титул.лист!$P$2","v":1851.3000000000002},1850,1780,{"$f":"R119+R119*Титул.лист!$A$1","v":1958},{"$f":"S119+S119*Титул.лист!$P$2","v":1958},1960,2070,{"$f":"V119+V119*Титул.лист!$A$1","v":2277},{"$f":"W119+W119*Титул.лист!$P$2","v":2277},2280,2170,{"$f":"Z119+Z119*Титул.лист!$A$1","v":2387},{"$f":"AA119+AA119*Титул.лист!$P$2","v":2387},2390,1730,{"$f":"AD119+AD119*Титул.лист!$A$1","v":1903},{"$f":"AE119+AE119*Титул.лист!$P$2","v":1903},1900,1890,{"$f":"AH119+AH119*Титул.лист!$A$1","v":2079},{"$f":"AI119+AI119*Титул.лист!$P$2","v":2079},2080,1960,{"$f":"AL119+AL119*Титул.лист!$A$1","v":2156},{"$f":"AM119+AM119*Титул.лист!$P$2","v":2156},2160,3606.8,{"$f":"AP119+AP119*Титул.лист!$A$1","v":3967.4800000000005},{"$f":"AQ119+AQ119*Титул.лист!$P$2","v":3967.4800000000005},3970,4134.7999999999993,{"$f":"AT119+AT119*Титул.лист!$A$1","v":4548.2799999999988},{"$f":"AU119+AU119*Титул.лист!$P$2","v":4548.2799999999988},4550,3232.3999999999996,{"$f":"AX119+AX119*Титул.лист!$A$1","v":3555.6399999999994},{"$f":"AY119+AY119*Титул.лист!$P$2","v":3555.6399999999994},3560,4182.7999999999993,{"$f":"BB119+BB119*Титул.лист!$A$1","v":4601.079999999999},{"$f":"BC119+BC119*Титул.лист!$P$2","v":4601.079999999999},4600,6006.8,{"$f":"BF119+BF119*Титул.лист!$A$1","v":6607.4800000000005},{"$f":"BG119+BG119*Титул.лист!$P$2","v":6607.4800000000005},6610]
[null,null,500,"h 720","1401-50",980,{"$f":"F120+F120*Титул.лист!$A$1","v":1078},{"$f":"G120+G120*Титул.лист!$P$2","v":1078},1080,1070,{"$f":"J120+J120*Титул.лист!$A$1","v":1177},{"$f":"K120+K120*Титул.лист!$P$2","v":1177},1180,1364,{"$f":"N120+N120*Титул.лист!$A$1","v":1500.4},{"$f":"O120+O120*Титул.лист!$P$2","v":1500.4},1500,1450,{"$f":"R120+R120*Титул.лист!$A$1","v":1595},{"$f":"S120+S120*Титул.лист!$P$2","v":1595},1600,1660,{"$f":"V120+V120*Титул.лист!$A$1","v":1826},{"$f":"W120+W120*Титул.лист!$P$2","v":1826},1830,1750,{"$f":"Z120+Z120*Титул.лист!$A$1","v":1925},{"$f":"AA120+AA120*Титул.лист!$P$2","v":1925},1930,1390,{"$f":"AD120+AD120*Титул.лист!$A$1","v":1529},{"$f":"AE120+AE120*Титул.лист!$P$2","v":1529},1530,1510,{"$f":"AH120+AH120*Титул.лист!$A$1","v":1661},{"$f":"AI120+AI120*Титул.лист!$P$2","v":1661},1660,1550,{"$f":"AL120+AL120*Титул.лист!$A$1","v":1705},{"$f":"AM120+AM120*Титул.лист!$P$2","v":1705},1710,2789.7799999999997,{"$f":"AP120+AP120*Титул.лист!$A$1","v":3068.7579999999998},{"$f":"AQ120+AQ120*Титул.лист!$P$2","v":3068.7579999999998},3070,3193.6000000000004,{"$f":"AT120+AT120*Титул.лист!$A$1","v":3512.9600000000005},{"$f":"AU120+AU120*Титул.лист!$P$2","v":3512.9600000000005},3510,2516.8000000000002,{"$f":"AX120+AX120*Титул.лист!$A$1","v":2768.48},{"$f":"AY120+AY120*Титул.лист!$P$2","v":2768.48},2770,3229.6000000000004,{"$f":"BB120+BB120*Титул.лист!$A$1","v":3552.5600000000004},{"$f":"BC120+BC120*Титул.лист!$P$2","v":3552.5600000000004},3550,4597.6000000000004,{"$f":"BF120+BF120*Титул.лист!$A$1","v":5057.3600000000006},{"$f":"BG120+BG120*Титул.лист!$P$2","v":5057.3600000000006},5060]
[null,null,600,null,"1401-60",1080,{"$f":"F121+F121*Титул.лист!$A$1","v":1188},{"$f":"G121+G121*Титул.лист!$P$2","v":1188},1190,1180,{"$f":"J121+J121*Титул.лист!$A$1","v":1298},{"$f":"K121+K121*Титул.лист!$P$2","v":1298},1300,1540.0000000000002,{"$f":"N121+N121*Титул.лист!$A$1","v":1694.0000000000002},{"$f":"O121+O121*Титул.лист!$P$2","v":1694.0000000000002},1690,1640,{"$f":"R121+R121*Титул.лист!$A$1","v":1804},{"$f":"S121+S121*Титул.лист!$P$2","v":1804},1800,1880,{"$f":"V121+V121*Титул.лист!$A$1","v":2068},{"$f":"W121+W121*Титул.лист!$P$2","v":2068},2070,1980.0000000000002,{"$f":"Z121+Z121*Титул.лист!$A$1","v":2178.0000000000005},{"$f":"AA121+AA121*Титул.лист!$P$2","v":2178.0000000000005},2180,1560,{"$f":"AD121+AD121*Титул.лист!$A$1","v":1716},{"$f":"AE121+AE121*Титул.лист!$P$2","v":1716},1720,1720,{"$f":"AH121+AH121*Титул.лист!$A$1","v":1892},{"$f":"AI121+AI121*Титул.лист!$P$2","v":1892},1890,1770,{"$f":"AL121+AL121*Титул.лист!$A$1","v":1947},{"$f":"AM121+AM121*Титул.лист!$P$2","v":1947},1950,3239.7359999999999,{"$f":"AP121+AP121*Титул.лист!$A$1","v":3563.7096000000001},{"$f":"AQ121+AQ121*Титул.лист!$P$2","v":3563.7096000000001},3560,3724.32,{"$f":"AT121+AT121*Титул.лист!$A$1","v":4096.7520000000004},{"$f":"AU121+AU121*Титул.лист!$P$2","v":4096.7520000000004},4100,2912.16,{"$f":"AX121+AX121*Титул.лист!$A$1","v":3203.3759999999997},{"$f":"AY121+AY121*Титул.лист!$P$2","v":3203.3759999999997},3200,3767.5200000000004,{"$f":"BB121+BB121*Титул.лист!$A$1","v":4144.2720000000008},{"$f":"BC121+BC121*Титул.лист!$P$2","v":4144.2720000000008},4140,5409.1200000000008,{"$f":"BF121+BF121*Титул.лист!$A$1","v":5950.0320000000011},{"$f":"BG121+BG121*Титул.лист!$P$2","v":5950.0320000000011},5950]
[null,null,700,null,"1401-70",1210,{"$f":"F122+F122*Титул.лист!$A$1","v":1331},{"$f":"G122+G122*Титул.лист!$P$2","v":1331},1330,1320,{"$f":"J122+J122*Титул.лист!$A$1","v":1452},{"$f":"K122+K122*Титул.лист!$P$2","v":1452},1450,1740,{"$f":"N122+N122*Титул.лист!$A$1","v":1914},{"$f":"O122+O122*Титул.лист!$P$2","v":1914},1910,1850,{"$f":"R122+R122*Титул.лист!$A$1","v":2035},{"$f":"S122+S122*Титул.лист!$P$2","v":2035},2040,2140,{"$f":"V122+V122*Титул.лист!$A$1","v":2354},{"$f":"W122+W122*Титул.лист!$P$2","v":2354},2350,2250,{"$f":"Z122+Z122*Титул.лист!$A$1","v":2475},{"$f":"AA122+AA122*Титул.лист!$P$2","v":2475},2480,1790,{"$f":"AD122+AD122*Титул.лист!$A$1","v":1969},{"$f":"AE122+AE122*Титул.лист!$P$2","v":1969},1970,1960,{"$f":"AH122+AH122*Титул.лист!$A$1","v":2156},{"$f":"AI122+AI122*Титул.лист!$P$2","v":2156},2160,2030,{"$f":"AL122+AL122*Титул.лист!$A$1","v":2233},{"$f":"AM122+AM122*Титул.лист!$P$2","v":2233},2230,3749.692,{"$f":"AP122+AP122*Титул.лист!$A$1","v":4124.6612000000005},{"$f":"AQ122+AQ122*Титул.лист!$P$2","v":4124.6612000000005},4120,4315.04,{"$f":"AT122+AT122*Титул.лист!$A$1","v":4746.5439999999999},{"$f":"AU122+AU122*Титул.лист!$P$2","v":4746.5439999999999},4750,3367.52,{"$f":"AX122+AX122*Титул.лист!$A$1","v":3704.2719999999999},{"$f":"AY122+AY122*Титул.лист!$P$2","v":3704.2719999999999},3700,4365.4400000000005,{"$f":"BB122+BB122*Титул.лист!$A$1","v":4801.9840000000004},{"$f":"BC122+BC122*Титул.лист!$P$2","v":4801.9840000000004},4800,6280.64,{"$f":"BF122+BF122*Титул.лист!$A$1","v":6908.7040000000006},{"$f":"BG122+BG122*Титул.лист!$P$2","v":6908.7040000000006},6910]
[null,null,800,null,"1401-80",1300,{"$f":"F123+F123*Титул.лист!$A$1","v":1430},{"$f":"G123+G123*Титул.лист!$P$2","v":1430},1430,1410,{"$f":"J123+J123*Титул.лист!$A$1","v":1551},{"$f":"K123+K123*Титул.лист!$P$2","v":1551},1550,1910,{"$f":"N123+N123*Титул.лист!$A$1","v":2101},{"$f":"O123+O123*Титул.лист!$P$2","v":2101},2100,2020,{"$f":"R123+R123*Титул.лист!$A$1","v":2222},{"$f":"S123+S123*Титул.лист!$P$2","v":2222},2220,2390,{"$f":"V123+V123*Титул.лист!$A$1","v":2629},{"$f":"W123+W123*Титул.лист!$P$2","v":2629},2630,2500,{"$f":"Z123+Z123*Титул.лист!$A$1","v":2750},{"$f":"AA123+AA123*Титул.лист!$P$2","v":2750},2750,1970,{"$f":"AD123+AD123*Титул.лист!$A$1","v":2167},{"$f":"AE123+AE123*Титул.лист!$P$2","v":2167},2170,2160,{"$f":"AH123+AH123*Титул.лист!$A$1","v":2376},{"$f":"AI123+AI123*Титул.лист!$P$2","v":2376},2380,2240,{"$f":"AL123+AL123*Титул.лист!$A$1","v":2464},{"$f":"AM123+AM123*Титул.лист!$P$2","v":2464},2460,4209.6479999999992,{"$f":"AP123+AP123*Титул.лист!$A$1","v":4630.612799999999},{"$f":"AQ123+AQ123*Титул.лист!$P$2","v":4630.612799999999},4630,4855.76,{"$f":"AT123+AT123*Титул.лист!$A$1","v":5341.3360000000002},{"$f":"AU123+AU123*Титул.лист!$P$2","v":5341.3360000000002},5340,3772.88,{"$f":"AX123+AX123*Титул.лист!$A$1","v":4150.1679999999997},{"$f":"AY123+AY123*Титул.лист!$P$2","v":4150.1679999999997},4150,4913.3600000000006,{"$f":"BB123+BB123*Титул.лист!$A$1","v":5404.6960000000008},{"$f":"BC123+BC123*Титул.лист!$P$2","v":5404.6960000000008},5400,7102.1600000000008,{"$f":"BF123+BF123*Титул.лист!$A$1","v":7812.3760000000011},{"$f":"BG123+BG123*Титул.лист!$P$2","v":7812.3760000000011},7810]
[null,null,500,"h 920","1406-50",1210,{"$f":"F124+F124*Титул.лист!$A$1","v":1331},{"$f":"G124+G124*Титул.лист!$P$2","v":1331},1330,1320,{"$f":"J124+J124*Титул.лист!$A$1","v":1452},{"$f":"K124+K124*Титул.лист!$P$2","v":1452},1450,1690,{"$f":"N124+N124*Титул.лист!$A$1","v":1859},{"$f":"O124+O124*Титул.лист!$P$2","v":1859},1860,1800,{"$f":"R124+R124*Титул.лист!$A$1","v":1980},{"$f":"S124+S124*Титул.лист!$P$2","v":1980},1980,2070,{"$f":"V124+V124*Титул.лист!$A$1","v":2277},{"$f":"W124+W124*Титул.лист!$P$2","v":2277},2280,2180,{"$f":"Z124+Z124*Титул.лист!$A$1","v":2398},{"$f":"AA124+AA124*Титул.лист!$P$2","v":2398},2400,1730,{"$f":"AD124+AD124*Титул.лист!$A$1","v":1903},{"$f":"AE124+AE124*Титул.лист!$P$2","v":1903},1900,1880,{"$f":"AH124+AH124*Титул.лист!$A$1","v":2068},{"$f":"AI124+AI124*Титул.лист!$P$2","v":2068},2070,1950,{"$f":"AL124+AL124*Титул.лист!$A$1","v":2145},{"$f":"AM124+AM124*Титул.лист!$P$2","v":2145},2150,3520.7799999999997,{"$f":"AP124+AP124*Титул.лист!$A$1","v":3872.8579999999997},{"$f":"AQ124+AQ124*Титул.лист!$P$2","v":3872.8579999999997},3870,4034.6,{"$f":"AT124+AT124*Титул.лист!$A$1","v":4438.0599999999995},{"$f":"AU124+AU124*Титул.лист!$P$2","v":4438.0599999999995},4440,3169.8,{"$f":"AX124+AX124*Титул.лист!$A$1","v":3486.78},{"$f":"AY124+AY124*Титул.лист!$P$2","v":3486.78},3490,4080.6,{"$f":"BB124+BB124*Титул.лист!$A$1","v":4488.66},{"$f":"BC124+BC124*Титул.лист!$P$2","v":4488.66},4490,5828.6,{"$f":"BF124+BF124*Титул.лист!$A$1","v":6411.46},{"$f":"BG124+BG124*Титул.лист!$P$2","v":6411.46},6410]
[null,null,600,null,"1406-60",1342,{"$f":"F125+F125*Титул.лист!$A$1","v":1476.2},{"$f":"G125+G125*Титул.лист!$P$2","v":1476.2},1480,1450,{"$f":"J125+J125*Титул.лист!$A$1","v":1595},{"$f":"K125+K125*Титул.лист!$P$2","v":1595},1600,1910,{"$f":"N125+N125*Титул.лист!$A$1","v":2101},{"$f":"O125+O125*Титул.лист!$P$2","v":2101},2100,2020,{"$f":"R125+R125*Титул.лист!$A$1","v":2222},{"$f":"S125+S125*Титул.лист!$P$2","v":2222},2220,2360,{"$f":"V125+V125*Титул.лист!$A$1","v":2596},{"$f":"W125+W125*Титул.лист!$P$2","v":2596},2600,2480,{"$f":"Z125+Z125*Титул.лист!$A$1","v":2728},{"$f":"AA125+AA125*Титул.лист!$P$2","v":2728},2730,1960,{"$f":"AD125+AD125*Титул.лист!$A$1","v":2156},{"$f":"AE125+AE125*Титул.лист!$P$2","v":2156},2160,2140,{"$f":"AH125+AH125*Титул.лист!$A$1","v":2354},{"$f":"AI125+AI125*Титул.лист!$P$2","v":2354},2350,2220,{"$f":"AL125+AL125*Титул.лист!$A$1","v":2442},{"$f":"AM125+AM125*Титул.лист!$P$2","v":2442},2440,4108.9359999999997,{"$f":"AP125+AP125*Титул.лист!$A$1","v":4519.8296},{"$f":"AQ125+AQ125*Титул.лист!$P$2","v":4519.8296},4520,4725.5200000000004,{"$f":"AT125+AT125*Титул.лист!$A$1","v":5198.0720000000001},{"$f":"AU125+AU125*Титул.лист!$P$2","v":5198.0720000000001},5200,3687.76,{"$f":"AX125+AX125*Титул.лист!$A$1","v":4056.5360000000001},{"$f":"AY125+AY125*Титул.лист!$P$2","v":4056.5360000000001},4060,4780.72,{"$f":"BB125+BB125*Титул.лист!$A$1","v":5258.7920000000004},{"$f":"BC125+BC125*Титул.лист!$P$2","v":5258.7920000000004},5260,6878.3200000000006,{"$f":"BF125+BF125*Титул.лист!$A$1","v":7566.152000000001},{"$f":"BG125+BG125*Титул.лист!$P$2","v":7566.152000000001},7570]
[null,null,700,null,"1406-70",1480,{"$f":"F126+F126*Титул.лист!$A$1","v":1628},{"$f":"G126+G126*Титул.лист!$P$2","v":1628},1630,1610,{"$f":"J126+J126*Титул.лист!$A$1","v":1771},{"$f":"K126+K126*Титул.лист!$P$2","v":1771},1770,2170,{"$f":"N126+N126*Титул.лист!$A$1","v":2387},{"$f":"O126+O126*Титул.лист!$P$2","v":2387},2390,2290,{"$f":"R126+R126*Титул.лист!$A$1","v":2519},{"$f":"S126+S126*Титул.лист!$P$2","v":2519},2520,2680,{"$f":"V126+V126*Титул.лист!$A$1","v":2948},{"$f":"W126+W126*Титул.лист!$P$2","v":2948},2950,2800,{"$f":"Z126+Z126*Титул.лист!$A$1","v":3080},{"$f":"AA126+AA126*Титул.лист!$P$2","v":3080},3080,2210,{"$f":"AD126+AD126*Титул.лист!$A$1","v":2431},{"$f":"AE126+AE126*Титул.лист!$P$2","v":2431},2430,2430,{"$f":"AH126+AH126*Титул.лист!$A$1","v":2673},{"$f":"AI126+AI126*Титул.лист!$P$2","v":2673},2670,2520,{"$f":"AL126+AL126*Титул.лист!$A$1","v":2772},{"$f":"AM126+AM126*Титул.лист!$P$2","v":2772},2770,4717.0920000000006,{"$f":"AP126+AP126*Титул.лист!$A$1","v":5188.8012000000008},{"$f":"AQ126+AQ126*Титул.лист!$P$2","v":5188.8012000000008},5190,5436.4400000000005,{"$f":"AT126+AT126*Титул.лист!$A$1","v":5980.0840000000007},{"$f":"AU126+AU126*Титул.лист!$P$2","v":5980.0840000000007},5980,4225.72,{"$f":"AX126+AX126*Титул.лист!$A$1","v":4648.2920000000004},{"$f":"AY126+AY126*Титул.лист!$P$2","v":4648.2920000000004},4650,5500.84,{"$f":"BB126+BB126*Титул.лист!$A$1","v":6050.924},{"$f":"BC126+BC126*Титул.лист!$P$2","v":6050.924},6050,7948.04,{"$f":"BF126+BF126*Титул.лист!$A$1","v":8742.844000000001},{"$f":"BG126+BG126*Титул.лист!$P$2","v":8742.844000000001},8740]
[null,null,800,null,"1406-80",1620,{"$f":"F127+F127*Титул.лист!$A$1","v":1782},{"$f":"G127+G127*Титул.лист!$P$2","v":1782},1780,1750,{"$f":"J127+J127*Титул.лист!$A$1","v":1925},{"$f":"K127+K127*Титул.лист!$P$2","v":1925},1930,2390,{"$f":"N127+N127*Титул.лист!$A$1","v":2629},{"$f":"O127+O127*Титул.лист!$P$2","v":2629},2630,2520,{"$f":"R127+R127*Титул.лист!$A$1","v":2772},{"$f":"S127+S127*Титул.лист!$P$2","v":2772},2770,2980,{"$f":"V127+V127*Титул.лист!$A$1","v":3278},{"$f":"W127+W127*Титул.лист!$P$2","v":3278},3280,3110,{"$f":"Z127+Z127*Титул.лист!$A$1","v":3421},{"$f":"AA127+AA127*Титул.лист!$P$2","v":3421},3420,2450,{"$f":"AD127+AD127*Титул.лист!$A$1","v":2695},{"$f":"AE127+AE127*Титул.лист!$P$2","v":2695},2700,2710,{"$f":"AH127+AH127*Титул.лист!$A$1","v":2981},{"$f":"AI127+AI127*Титул.лист!$P$2","v":2981},2980,2800,{"$f":"AL127+AL127*Титул.лист!$A$1","v":3080},{"$f":"AM127+AM127*Титул.лист!$P$2","v":3080},3080,5315.2479999999996,{"$f":"AP127+AP127*Титул.лист!$A$1","v":5846.7727999999997},{"$f":"AQ127+AQ127*Титул.лист!$P$2","v":5846.7727999999997},5850,6137.3600000000006,{"$f":"AT127+AT127*Титул.лист!$A$1","v":6751.0960000000005},{"$f":"AU127+AU127*Титул.лист!$P$2","v":6751.0960000000005},6750,4753.68,{"$f":"AX127+AX127*Титул.лист!$A$1","v":5229.0480000000007},{"$f":"AY127+AY127*Титул.лист!$P$2","v":5229.0480000000007},5230,6210.96,{"$f":"BB127+BB127*Титул.лист!$A$1","v":6832.0560000000005},{"$f":"BC127+BC127*Титул.лист!$P$2","v":6832.0560000000005},6830,9007.76,{"$f":"BF127+BF127*Титул.лист!$A$1","v":9908.5360000000001},{"$f":"BG127+BG127*Титул.лист!$P$2","v":9908.5360000000001},9910]
[null,"Шкаф настенный 1д 1 стекло",300,"h 540","1318-30с",820,{"$f":"F128+F128*Титул.лист!$A$1","v":902},{"$f":"G128+G128*Титул.лист!$P$2","v":902},900,880,{"$f":"J128+J128*Титул.лист!$A$1","v":968},{"$f":"K128+K128*Титул.лист!$P$2","v":968},970,990,{"$f":"N128+N128*Титул.лист!$A$1","v":1089},{"$f":"O128+O128*Титул.лист!$P$2","v":1089},1090,1050,{"$f":"R128+R128*Титул.лист!$A$1","v":1155},{"$f":"S128+S128*Титул.лист!$P$2","v":1155},1160,1125,{"$f":"V128+V128*Титул.лист!$A$1","v":1237.5},{"$f":"W128+W128*Титул.лист!$P$2","v":1237.5},1240,1190,{"$f":"Z128+Z128*Титул.лист!$A$1","v":1309},{"$f":"AA128+AA128*Титул.лист!$P$2","v":1309},1310,960,{"$f":"AD128+AD128*Титул.лист!$A$1","v":1056},{"$f":"AE128+AE128*Титул.лист!$P$2","v":1056},1060,100,{"$f":"AH128+AH128*Титул.лист!$A$1","v":110},{"$f":"AI128+AI128*Титул.лист!$P$2","v":110},110,1030,{"$f":"AL128+AL128*Титул.лист!$A$1","v":1133},{"$f":"AM128+AM128*Титул.лист!$P$2","v":1133},1130,1593.42,{"$f":"AP128+AP128*Титул.лист!$A$1","v":1752.7620000000002},{"$f":"AQ128+AQ128*Титул.лист!$P$2","v":1752.7620000000002},1750,1771.62,{"$f":"AT128+AT128*Титул.лист!$A$1","v":1948.7819999999999},{"$f":"AU128+AU128*Титул.лист!$P$2","v":1948.7819999999999},1950,1467.06,{"$f":"AX128+AX128*Титул.лист!$A$1","v":1613.7659999999998},{"$f":"AY128+AY128*Титул.лист!$P$2","v":1613.7659999999998},1610,1787.8200000000002,{"$f":"BB128+BB128*Титул.лист!$A$1","v":1966.6020000000003},{"$f":"BC128+BC128*Титул.лист!$P$2","v":1966.6020000000003},1970,2403.42,{"$f":"BF128+BF128*Титул.лист!$A$1","v":2643.7620000000002},{"$f":"BG128+BG128*Титул.лист!$P$2","v":2643.7620000000002},2640]
[null,null,350,null,"1318-35с",900,{"$f":"F129+F129*Титул.лист!$A$1","v":990},{"$f":"G129+G129*Титул.лист!$P$2","v":990},990,960,{"$f":"J129+J129*Титул.лист!$A$1","v":1056},{"$f":"K129+K129*Титул.лист!$P$2","v":1056},1060,1090,{"$f":"N129+N129*Титул.лист!$A$1","v":1199},{"$f":"O129+O129*Титул.лист!$P$2","v":1199},1200,1160,{"$f":"R129+R129*Титул.лист!$A$1","v":1276},{"$f":"S129+S129*Титул.лист!$P$2","v":1276},1280,1260,{"$f":"V129+V129*Титул.лист!$A$1","v":1386},{"$f":"W129+W129*Титул.лист!$P$2","v":1386},1390,1315,{"$f":"Z129+Z129*Титул.лист!$A$1","v":1446.5},{"$f":"AA129+AA129*Титул.лист!$P$2","v":1446.5},1450,1070,{"$f":"AD129+AD129*Титул.лист!$A$1","v":1177},{"$f":"AE129+AE129*Титул.лист!$P$2","v":1177},1180,1125,{"$f":"AH129+AH129*Титул.лист!$A$1","v":1237.5},{"$f":"AI129+AI129*Титул.лист!$P$2","v":1237.5},1240,1160,{"$f":"AL129+AL129*Титул.лист!$A$1","v":1276},{"$f":"AM129+AM129*Титул.лист!$P$2","v":1276},1280,1808.99,{"$f":"AP129+AP129*Титул.лист!$A$1","v":1989.8890000000001},{"$f":"AQ129+AQ129*Титул.лист!$P$2","v":1989.8890000000001},1990,2016.8899999999999,{"$f":"AT129+AT129*Титул.лист!$A$1","v":2218.5789999999997},{"$f":"AU129+AU129*Титул.лист!$P$2","v":2218.5789999999997},2220,1661.5700000000002,{"$f":"AX129+AX129*Титул.лист!$A$1","v":1827.7270000000003},{"$f":"AY129+AY129*Титул.лист!$P$2","v":1827.7270000000003},1830,2035.79,{"$f":"BB129+BB129*Титул.лист!$A$1","v":2239.3690000000001},{"$f":"BC129+BC129*Титул.лист!$P$2","v":2239.3690000000001},2240,2753.99,{"$f":"BF129+BF129*Титул.лист!$A$1","v":3029.3889999999997},{"$f":"BG129+BG129*Титул.лист!$P$2","v":3029.3889999999997},3030]
[null,null,400,null,"1318-40с",855,{"$f":"F130+F130*Титул.лист!$A$1","v":940.5},{"$f":"G130+G130*Титул.лист!$P$2","v":940.5},940,910,{"$f":"J130+J130*Титул.лист!$A$1","v":1001},{"$f":"K130+K130*Титул.лист!$P$2","v":1001},1000,1090,{"$f":"N130+N130*Титул.лист!$A$1","v":1199},{"$f":"O130+O130*Титул.лист!$P$2","v":1199},1200,1150,{"$f":"R130+R130*Титул.лист!$A$1","v":1265},{"$f":"S130+S130*Титул.лист!$P$2","v":1265},1270,1260,{"$f":"V130+V130*Титул.лист!$A$1","v":1386},{"$f":"W130+W130*Титул.лист!$P$2","v":1386},1390,1315,{"$f":"Z130+Z130*Титул.лист!$A$1","v":1446.5},{"$f":"AA130+AA130*Титул.лист!$P$2","v":1446.5},1450,1035,{"$f":"AD130+AD130*Титул.лист!$A$1","v":1138.5},{"$f":"AE130+AE130*Титул.лист!$P$2","v":1138.5},1140,1100,{"$f":"AH130+AH130*Титул.лист!$A$1","v":1210},{"$f":"AI130+AI130*Титул.лист!$P$2","v":1210},1210,1130,{"$f":"AL130+AL130*Титул.лист!$A$1","v":1243},{"$f":"AM130+AM130*Титул.лист!$P$2","v":1243},1240,1879.56,{"$f":"AP130+AP130*Титул.лист!$A$1","v":2067.5160000000001},{"$f":"AQ130+AQ130*Титул.лист!$P$2","v":2067.5160000000001},2070,2117.16,{"$f":"AT130+AT130*Титул.лист!$A$1","v":2328.8759999999997},{"$f":"AU130+AU130*Титул.лист!$P$2","v":2328.8759999999997},2330,1711.08,{"$f":"AX130+AX130*Титул.лист!$A$1","v":1882.1879999999999},{"$f":"AY130+AY130*Титул.лист!$P$2","v":1882.1879999999999},1880,2138.7600000000002,{"$f":"BB130+BB130*Титул.лист!$A$1","v":2352.6360000000004},{"$f":"BC130+BC130*Титул.лист!$P$2","v":2352.6360000000004},2350,2959.56,{"$f":"BF130+BF130*Титул.лист!$A$1","v":3255.5160000000001},{"$f":"BG130+BG130*Титул.лист!$P$2","v":3255.5160000000001},3260]
[null,null,450,null,"1318-45с",910,{"$f":"F131+F131*Титул.лист!$A$1","v":1001},{"$f":"G131+G131*Титул.лист!$P$2","v":1001},1000,990,{"$f":"J131+J131*Титул.лист!$A$1","v":1089},{"$f":"K131+K131*Титул.лист!$P$2","v":1089},1090,1170,{"$f":"N131+N131*Титул.лист!$A$1","v":1287},{"$f":"O131+O131*Титул.лист!$P$2","v":1287},1290,1250,{"$f":"R131+R131*Титул.лист!$A$1","v":1375},{"$f":"S131+S131*Титул.лист!$P$2","v":1375},1380,1370,{"$f":"V131+V131*Титул.лист!$A$1","v":1507},{"$f":"W131+W131*Титул.лист!$P$2","v":1507},1510,1140,{"$f":"Z131+Z131*Титул.лист!$A$1","v":1254},{"$f":"AA131+AA131*Титул.лист!$P$2","v":1254},1250,1130,{"$f":"AD131+AD131*Титул.лист!$A$1","v":1243},{"$f":"AE131+AE131*Титул.лист!$P$2","v":1243},1240,1215,{"$f":"AH131+AH131*Титул.лист!$A$1","v":1336.5},{"$f":"AI131+AI131*Титул.лист!$P$2","v":1336.5},1340,1260,{"$f":"AL131+AL131*Титул.лист!$A$1","v":1386},{"$f":"AM131+AM131*Титул.лист!$P$2","v":1386},1390,2080.13,{"$f":"AP131+AP131*Титул.лист!$A$1","v":2288.143},{"$f":"AQ131+AQ131*Титул.лист!$P$2","v":2288.143},2290,2347.4300000000003,{"$f":"AT131+AT131*Титул.лист!$A$1","v":2582.1730000000002},{"$f":"AU131+AU131*Титул.лист!$P$2","v":2582.1730000000002},2580,1890.5900000000001,{"$f":"AX131+AX131*Титул.лист!$A$1","v":2079.6490000000003},{"$f":"AY131+AY131*Титул.лист!$P$2","v":2079.6490000000003},2080,2371.73,{"$f":"BB131+BB131*Титул.лист!$A$1","v":2608.9030000000002},{"$f":"BC131+BC131*Титул.лист!$P$2","v":2608.9030000000002},2610,3295.13,{"$f":"BF131+BF131*Титул.лист!$A$1","v":3624.643},{"$f":"BG131+BG131*Титул.лист!$P$2","v":3624.643},3620]
[null,null,500,null,"1318-50с",980,{"$f":"F132+F132*Титул.лист!$A$1","v":1078},{"$f":"G132+G132*Титул.лист!$P$2","v":1078},{"$f":"ROUND(H132,-1)","v":1080},1060,{"$f":"J132+J132*Титул.лист!$A$1","v":1166},{"$f":"K132+K132*Титул.лист!$P$2","v":1166},{"$f":"ROUND(L132,-1)","v":1170},1260,{"$f":"N132+N132*Титул.лист!$A$1","v":1386},{"$f":"O132+O132*Титул.лист!$P$2","v":1386},{"$f":"ROUND(P132,-1)","v":1390},1330,{"$f":"R132+R132*Титул.лист!$A$1","v":1463},{"$f":"S132+S132*Титул.лист!$P$2","v":1463},{"$f":"ROUND(T132,-1)","v":1460},1470,{"$f":"V132+V132*Титул.лист!$A$1","v":1617},{"$f":"W132+W132*Титул.лист!$P$2","v":1617},{"$f":"ROUND(X132,-1)","v":1620},1550,{"$f":"Z132+Z132*Титул.лист!$A$1","v":1705},{"$f":"AA132+AA132*Титул.лист!$P$2","v":1705},{"$f":"ROUND(AB132,-1)","v":1710},1230,{"$f":"AD132+AD132*Титул.лист!$A$1","v":1353},{"$f":"AE132+AE132*Титул.лист!$P$2","v":1353},{"$f":"ROUND(AF132,-1)","v":1350},1320,{"$f":"AH132+AH132*Титул.лист!$A$1","v":1452},{"$f":"AI132+AI132*Титул.лист!$P$2","v":1452},{"$f":"ROUND(AJ132,-1)","v":1450},1370,{"$f":"AL132+AL132*Титул.лист!$A$1","v":1507},{"$f":"AM132+AM132*Титул.лист!$P$2","v":1507},{"$f":"ROUND(AN132,-1)","v":1510},2285.6999999999998,{"$f":"AP132+AP132*Титул.лист!$A$1","v":2514.27},{"$f":"AQ132+AQ132*Титул.лист!$P$2","v":2514.27},{"$f":"ROUND(AR132,-1)","v":2510},2582.6999999999998,{"$f":"AT132+AT132*Титул.лист!$A$1","v":2840.97},{"$f":"AU132+AU132*Титул.лист!$P$2","v":2840.97},{"$f":"ROUND(AV132,-1)","v":2840},2075.1,{"$f":"AX132+AX132*Титул.лист!$A$1","v":2282.6099999999997},{"$f":"AY132+AY132*Титул.лист!$P$2","v":2282.6099999999997},{"$f":"ROUND(AZ132,-1)","v":2280},2609.6999999999998,{"$f":"BB132+BB132*Титул.лист!$A$1","v":2870.6699999999996},{"$f":"BC132+BC132*Титул.лист!$P$2","v":2870.6699999999996},{"$f":"ROUND(BD132,-1)","v":2870},3635.7000000000003,{"$f":"BF132+BF132*Титул.лист!$A$1","v":3999.2700000000004},{"$f":"BG132+BG132*Титул.лист!$P$2","v":3999.2700000000004},{"$f":"ROUND(BH132,-1)","v":4000}]
[null,null,600,null,"1318-60с",1115,{"$f":"F133+F133*Титул.лист!$A$1","v":1226.5},{"$f":"G133+G133*Титул.лист!$P$2","v":1226.5},1230,1200,{"$f":"J133+J133*Титул.лист!$A$1","v":1320},{"$f":"K133+K133*Титул.лист!$P$2","v":1320},1320,1460,{"$f":"N133+N133*Титул.лист!$A$1","v":1606},{"$f":"O133+O133*Титул.лист!$P$2","v":1606},1610,1530,{"$f":"R133+R133*Титул.лист!$A$1","v":1683},{"$f":"S133+S133*Титул.лист!$P$2","v":1683},1680,1720,{"$f":"V133+V133*Титул.лист!$A$1","v":1892},{"$f":"W133+W133*Титул.лист!$P$2","v":1892},1890,1800,{"$f":"Z133+Z133*Титул.лист!$A$1","v":1980},{"$f":"AA133+AA133*Титул.лист!$P$2","v":1980},1980,1420,{"$f":"AD133+AD133*Титул.лист!$A$1","v":1562},{"$f":"AE133+AE133*Титул.лист!$P$2","v":1562},1560,1530,{"$f":"AH133+AH133*Титул.лист!$A$1","v":1683},{"$f":"AI133+AI133*Титул.лист!$P$2","v":1683},1680,1575,{"$f":"AL133+AL133*Титул.лист!$A$1","v":1732.5},{"$f":"AM133+AM133*Титул.лист!$P$2","v":1732.5},1730,2686.84,{"$f":"AP133+AP133*Титул.лист!$A$1","v":2955.5240000000003},{"$f":"AQ133+AQ133*Титул.лист!$P$2","v":2955.5240000000003},2960,3043.24,{"$f":"AT133+AT133*Титул.лист!$A$1","v":3347.5639999999999},{"$f":"AU133+AU133*Титул.лист!$P$2","v":3347.5639999999999},3350,2434.12,{"$f":"AX133+AX133*Титул.лист!$A$1","v":2677.5319999999997},{"$f":"AY133+AY133*Титул.лист!$P$2","v":2677.5319999999997},2680,3075.6400000000003,{"$f":"BB133+BB133*Титул.лист!$A$1","v":3383.2040000000006},{"$f":"BC133+BC133*Титул.лист!$P$2","v":3383.2040000000006},3380,4306.84,{"$f":"BF133+BF133*Титул.лист!$A$1","v":4737.5240000000003},{"$f":"BG133+BG133*Титул.лист!$P$2","v":4737.5240000000003},4740]
[null,null,300,"h 600","1316-30с",910,{"$f":"F134+F134*Титул.лист!$A$1","v":1001},{"$f":"G134+G134*Титул.лист!$P$2","v":1001},1000,980,{"$f":"J134+J134*Титул.лист!$A$1","v":1078},{"$f":"K134+K134*Титул.лист!$P$2","v":1078},1080,1100,{"$f":"N134+N134*Титул.лист!$A$1","v":1210},{"$f":"O134+O134*Титул.лист!$P$2","v":1210},1210,1170,{"$f":"R134+R134*Титул.лист!$A$1","v":1287},{"$f":"S134+S134*Титул.лист!$P$2","v":1287},1290,1250,{"$f":"V134+V134*Титул.лист!$A$1","v":1375},{"$f":"W134+W134*Титул.лист!$P$2","v":1375},1380,1320,{"$f":"Z134+Z134*Титул.лист!$A$1","v":1452},{"$f":"AA134+AA134*Титул.лист!$P$2","v":1452},1450,1070,{"$f":"AD134+AD134*Титул.лист!$A$1","v":1177},{"$f":"AE134+AE134*Титул.лист!$P$2","v":1177},1180,1120,{"$f":"AH134+AH134*Титул.лист!$A$1","v":1232},{"$f":"AI134+AI134*Титул.лист!$P$2","v":1232},1230,1140,{"$f":"AL134+AL134*Титул.лист!$A$1","v":1254},{"$f":"AM134+AM134*Титул.лист!$P$2","v":1254},1250,1773.8,{"$f":"AP134+AP134*Титул.лист!$A$1","v":1951.1799999999998},{"$f":"AQ134+AQ134*Титул.лист!$P$2","v":1951.1799999999998},1950,1971.8,{"$f":"AT134+AT134*Титул.лист!$A$1","v":2168.98},{"$f":"AU134+AU134*Титул.лист!$P$2","v":2168.98},2170,1633.4,{"$f":"AX134+AX134*Титул.лист!$A$1","v":1796.7400000000002},{"$f":"AY134+AY134*Титул.лист!$P$2","v":1796.7400000000002},1800,1989.8,{"$f":"BB134+BB134*Титул.лист!$A$1","v":2188.7799999999997},{"$f":"BC134+BC134*Титул.лист!$P$2","v":2188.7799999999997},2190,2673.8,{"$f":"BF134+BF134*Титул.лист!$A$1","v":2941.1800000000003},{"$f":"BG134+BG134*Титул.лист!$P$2","v":2941.1800000000003},2940]
[null,null,350,null,"1316-35с",1000,{"$f":"F135+F135*Титул.лист!$A$1","v":1100},{"$f":"G135+G135*Титул.лист!$P$2","v":1100},1100,1070,{"$f":"J135+J135*Титул.лист!$A$1","v":1177},{"$f":"K135+K135*Титул.лист!$P$2","v":1177},1180,1220,{"$f":"N135+N135*Титул.лист!$A$1","v":1342},{"$f":"O135+O135*Титул.лист!$P$2","v":1342},1340,1290,{"$f":"R135+R135*Титул.лист!$A$1","v":1419},{"$f":"S135+S135*Титул.лист!$P$2","v":1419},1420,1400,{"$f":"V135+V135*Титул.лист!$A$1","v":1540},{"$f":"W135+W135*Титул.лист!$P$2","v":1540},1540,1460,{"$f":"Z135+Z135*Титул.лист!$A$1","v":1606},{"$f":"AA135+AA135*Титул.лист!$P$2","v":1606},1610,1190,{"$f":"AD135+AD135*Титул.лист!$A$1","v":1309},{"$f":"AE135+AE135*Титул.лист!$P$2","v":1309},1310,1250,{"$f":"AH135+AH135*Титул.лист!$A$1","v":1375},{"$f":"AI135+AI135*Титул.лист!$P$2","v":1375},1380,1290,{"$f":"AL135+AL135*Титул.лист!$A$1","v":1419},{"$f":"AM135+AM135*Титул.лист!$P$2","v":1419},1420,2011.1,{"$f":"AP135+AP135*Титул.лист!$A$1","v":2212.21},{"$f":"AQ135+AQ135*Титул.лист!$P$2","v":2212.21},2210,2242.1,{"$f":"AT135+AT135*Титул.лист!$A$1","v":2466.31},{"$f":"AU135+AU135*Титул.лист!$P$2","v":2466.31},2470,1847.3,{"$f":"AX135+AX135*Титул.лист!$A$1","v":2032.03},{"$f":"AY135+AY135*Титул.лист!$P$2","v":2032.03},2030,2263.1,{"$f":"BB135+BB135*Титул.лист!$A$1","v":2489.41},{"$f":"BC135+BC135*Титул.лист!$P$2","v":2489.41},2490,3061.1,{"$f":"BF135+BF135*Титул.лист!$A$1","v":3367.21},{"$f":"BG135+BG135*Титул.лист!$P$2","v":3367.21},3370]
[null,null,400,null,"1316-40с",950,{"$f":"F136+F136*Титул.лист!$A$1","v":1045},{"$f":"G136+G136*Титул.лист!$P$2","v":1045},1050,1010,{"$f":"J136+J136*Титул.лист!$A$1","v":1111},{"$f":"K136+K136*Титул.лист!$P$2","v":1111},1110,1210,{"$f":"N136+N136*Титул.лист!$A$1","v":1331},{"$f":"O136+O136*Титул.лист!$P$2","v":1331},1330,1280,{"$f":"R136+R136*Титул.лист!$A$1","v":1408},{"$f":"S136+S136*Титул.лист!$P$2","v":1408},1410,1400,{"$f":"V136+V136*Титул.лист!$A$1","v":1540},{"$f":"W136+W136*Титул.лист!$P$2","v":1540},1540,1460,{"$f":"Z136+Z136*Титул.лист!$A$1","v":1606},{"$f":"AA136+AA136*Титул.лист!$P$2","v":1606},1610,1150,{"$f":"AD136+AD136*Титул.лист!$A$1","v":1265},{"$f":"AE136+AE136*Титул.лист!$P$2","v":1265},1270,1230,{"$f":"AH136+AH136*Титул.лист!$A$1","v":1353},{"$f":"AI136+AI136*Титул.лист!$P$2","v":1353},1350,1260,{"$f":"AL136+AL136*Титул.лист!$A$1","v":1386},{"$f":"AM136+AM136*Титул.лист!$P$2","v":1386},1390,2088.4,{"$f":"AP136+AP136*Титул.лист!$A$1","v":2297.2400000000002},{"$f":"AQ136+AQ136*Титул.лист!$P$2","v":2297.2400000000002},2300,2352.3999999999996,{"$f":"AT136+AT136*Титул.лист!$A$1","v":2587.6399999999994},{"$f":"AU136+AU136*Титул.лист!$P$2","v":2587.6399999999994},2590,1901.1999999999998,{"$f":"AX136+AX136*Титул.лист!$A$1","v":2091.3199999999997},{"$f":"AY136+AY136*Титул.лист!$P$2","v":2091.3199999999997},2090,2376.3999999999996,{"$f":"BB136+BB136*Титул.лист!$A$1","v":2614.0399999999995},{"$f":"BC136+BC136*Титул.лист!$P$2","v":2614.0399999999995},2610,3288.4,{"$f":"BF136+BF136*Титул.лист!$A$1","v":3617.2400000000002},{"$f":"BG136+BG136*Титул.лист!$P$2","v":3617.2400000000002},3620]
[null,null,450,null,"1316-45с",1020,{"$f":"F137+F137*Титул.лист!$A$1","v":1122},{"$f":"G137+G137*Титул.лист!$P$2","v":1122},1120,1110,{"$f":"J137+J137*Титул.лист!$A$1","v":1221},{"$f":"K137+K137*Титул.лист!$P$2","v":1221},1220,1300,{"$f":"N137+N137*Титул.лист!$A$1","v":1430},{"$f":"O137+O137*Титул.лист!$P$2","v":1430},1430,1390,{"$f":"R137+R137*Титул.лист!$A$1","v":1529},{"$f":"S137+S137*Титул.лист!$P$2","v":1529},1530,1520,{"$f":"V137+V137*Титул.лист!$A$1","v":1672},{"$f":"W137+W137*Титул.лист!$P$2","v":1672},1670,1610,{"$f":"Z137+Z137*Титул.лист!$A$1","v":1771},{"$f":"AA137+AA137*Титул.лист!$P$2","v":1771},1770,1260,{"$f":"AD137+AD137*Титул.лист!$A$1","v":1386},{"$f":"AE137+AE137*Титул.лист!$P$2","v":1386},1390,1350,{"$f":"AH137+AH137*Титул.лист!$A$1","v":1485},{"$f":"AI137+AI137*Титул.лист!$P$2","v":1485},1490,1400,{"$f":"AL137+AL137*Титул.лист!$A$1","v":1540},{"$f":"AM137+AM137*Титул.лист!$P$2","v":1540},1540,2315.6999999999998,{"$f":"AP137+AP137*Титул.лист!$A$1","v":2547.27},{"$f":"AQ137+AQ137*Титул.лист!$P$2","v":2547.27},2550,2612.6999999999998,{"$f":"AT137+AT137*Титул.лист!$A$1","v":2873.97},{"$f":"AU137+AU137*Титул.лист!$P$2","v":2873.97},2870,2105.1,{"$f":"AX137+AX137*Титул.лист!$A$1","v":2315.6099999999997},{"$f":"AY137+AY137*Титул.лист!$P$2","v":2315.6099999999997},2320,2639.7,{"$f":"BB137+BB137*Титул.лист!$A$1","v":2903.6699999999996},{"$f":"BC137+BC137*Титул.лист!$P$2","v":2903.6699999999996},2900,3665.7,{"$f":"BF137+BF137*Титул.лист!$A$1","v":4032.27},{"$f":"BG137+BG137*Титул.лист!$P$2","v":4032.27},4030]
[null,null,500,null,"1316-50с",1090,{"$f":"F138+F138*Титул.лист!$A$1","v":1199},{"$f":"G138+G138*Титул.лист!$P$2","v":1199},1200,1180,{"$f":"J138+J138*Титул.лист!$A$1","v":1298},{"$f":"K138+K138*Титул.лист!$P$2","v":1298},1300,1400,{"$f":"N138+N138*Титул.лист!$A$1","v":1540},{"$f":"O138+O138*Титул.лист!$P$2","v":1540},1540,1480,{"$f":"R138+R138*Титул.лист!$A$1","v":1628},{"$f":"S138+S138*Титул.лист!$P$2","v":1628},1630,1640,{"$f":"V138+V138*Титул.лист!$A$1","v":1804},{"$f":"W138+W138*Титул.лист!$P$2","v":1804},1800,1730,{"$f":"Z138+Z138*Титул.лист!$A$1","v":1903},{"$f":"AA138+AA138*Титул.лист!$P$2","v":1903},1900,1370,{"$f":"AD138+AD138*Титул.лист!$A$1","v":1507},{"$f":"AE138+AE138*Титул.лист!$P$2","v":1507},1510,1470,{"$f":"AH138+AH138*Титул.лист!$A$1","v":1617},{"$f":"AI138+AI138*Титул.лист!$P$2","v":1617},1620,1520,{"$f":"AL138+AL138*Титул.лист!$A$1","v":1672},{"$f":"AM138+AM138*Титул.лист!$P$2","v":1672},1670,2543,{"$f":"AP138+AP138*Титул.лист!$A$1","v":2797.3},{"$f":"AQ138+AQ138*Титул.лист!$P$2","v":2797.3},2800,2873,{"$f":"AT138+AT138*Титул.лист!$A$1","v":3160.3},{"$f":"AU138+AU138*Титул.лист!$P$2","v":3160.3},3160,2309,{"$f":"AX138+AX138*Титул.лист!$A$1","v":2539.9},{"$f":"AY138+AY138*Титул.лист!$P$2","v":2539.9},2540,2903,{"$f":"BB138+BB138*Титул.лист!$A$1","v":3193.3},{"$f":"BC138+BC138*Титул.лист!$P$2","v":3193.3},3190,4043,{"$f":"BF138+BF138*Титул.лист!$A$1","v":4447.3},{"$f":"BG138+BG138*Титул.лист!$P$2","v":4447.3},4450]
[null,null,600,null,"1316-60с",1240,{"$f":"F139+F139*Титул.лист!$A$1","v":1364},{"$f":"G139+G139*Титул.лист!$P$2","v":1364},1360,1330,{"$f":"J139+J139*Титул.лист!$A$1","v":1463},{"$f":"K139+K139*Титул.лист!$P$2","v":1463},1460,1620,{"$f":"N139+N139*Титул.лист!$A$1","v":1782},{"$f":"O139+O139*Титул.лист!$P$2","v":1782},1780,1700,{"$f":"R139+R139*Титул.лист!$A$1","v":1870},{"$f":"S139+S139*Титул.лист!$P$2","v":1870},1870,1910,{"$f":"V139+V139*Титул.лист!$A$1","v":2101},{"$f":"W139+W139*Титул.лист!$P$2","v":2101},2100,2000,{"$f":"Z139+Z139*Титул.лист!$A$1","v":2200},{"$f":"AA139+AA139*Титул.лист!$P$2","v":2200},2200,1580,{"$f":"AD139+AD139*Титул.лист!$A$1","v":1738},{"$f":"AE139+AE139*Титул.лист!$P$2","v":1738},1740,1700,{"$f":"AH139+AH139*Титул.лист!$A$1","v":1870},{"$f":"AI139+AI139*Титул.лист!$P$2","v":1870},1870,1750,{"$f":"AL139+AL139*Титул.лист!$A$1","v":1925},{"$f":"AM139+AM139*Титул.лист!$P$2","v":1925},1930,2987.6,{"$f":"AP139+AP139*Титул.лист!$A$1","v":3286.3599999999997},{"$f":"AQ139+AQ139*Титул.лист!$P$2","v":3286.3599999999997},3290,3383.6,{"$f":"AT139+AT139*Титул.лист!$A$1","v":3721.96},{"$f":"AU139+AU139*Титул.лист!$P$2","v":3721.96},3720,2706.8,{"$f":"AX139+AX139*Титул.лист!$A$1","v":2977.48},{"$f":"AY139+AY139*Титул.лист!$P$2","v":2977.48},2980,3419.6,{"$f":"BB139+BB139*Титул.лист!$A$1","v":3761.56},{"$f":"BC139+BC139*Титул.лист!$P$2","v":3761.56},3760,4787.6000000000004,{"$f":"BF139+BF139*Титул.лист!$A$1","v":5266.3600000000006},{"$f":"BG139+BG139*Титул.лист!$P$2","v":5266.3600000000006},5270]
[null,null,300,"h 720","1301-30с",900,{"$f":"F140+F140*Титул.лист!$A$1","v":990},{"$f":"G140+G140*Титул.лист!$P$2","v":990},990,970,{"$f":"J140+J140*Титул.лист!$A$1","v":1067},{"$f":"K140+K140*Титул.лист!$P$2","v":1067},1070,1130,{"$f":"N140+N140*Титул.лист!$A$1","v":1243},{"$f":"O140+O140*Титул.лист!$P$2","v":1243},1240,1200,{"$f":"R140+R140*Титул.лист!$A$1","v":1320},{"$f":"S140+S140*Титул.лист!$P$2","v":1320},1320,1310,{"$f":"V140+V140*Титул.лист!$A$1","v":1441},{"$f":"W140+W140*Титул.лист!$P$2","v":1441},1440,1370,{"$f":"Z140+Z140*Титул.лист!$A$1","v":1507},{"$f":"AA140+AA140*Титул.лист!$P$2","v":1507},1510,1070,{"$f":"AD140+AD140*Титул.лист!$A$1","v":1177},{"$f":"AE140+AE140*Титул.лист!$P$2","v":1177},1180,1140,{"$f":"AH140+AH140*Титул.лист!$A$1","v":1254},{"$f":"AI140+AI140*Титул.лист!$P$2","v":1254},1250,1180,{"$f":"AL140+AL140*Титул.лист!$A$1","v":1298},{"$f":"AM140+AM140*Титул.лист!$P$2","v":1298},1300,1909.8679999999999,{"$f":"AP140+AP140*Титул.лист!$A$1","v":2100.8548000000001},{"$f":"AQ140+AQ140*Титул.лист!$P$2","v":2100.8548000000001},2100,2152.16,{"$f":"AT140+AT140*Титул.лист!$A$1","v":2367.3759999999997},{"$f":"AU140+AU140*Титул.лист!$P$2","v":2367.3759999999997},2370,1746.08,{"$f":"AX140+AX140*Титул.лист!$A$1","v":1920.6879999999999},{"$f":"AY140+AY140*Титул.лист!$P$2","v":1920.6879999999999},1920,2173.7600000000002,{"$f":"BB140+BB140*Титул.лист!$A$1","v":2391.1360000000004},{"$f":"BC140+BC140*Титул.лист!$P$2","v":2391.1360000000004},2390,2994.5600000000004,{"$f":"BF140+BF140*Титул.лист!$A$1","v":3294.0160000000005},{"$f":"BG140+BG140*Титул.лист!$P$2","v":3294.0160000000005},3290]
[null,null,350,null,"1301-35с",980,{"$f":"F141+F141*Титул.лист!$A$1","v":1078},{"$f":"G141+G141*Титул.лист!$P$2","v":1078},1080,1060,{"$f":"J141+J141*Титул.лист!$A$1","v":1166},{"$f":"K141+K141*Титул.лист!$P$2","v":1166},1170,1240,{"$f":"N141+N141*Титул.лист!$A$1","v":1364},{"$f":"O141+O141*Титул.лист!$P$2","v":1364},1360,1320,{"$f":"R141+R141*Титул.лист!$A$1","v":1452},{"$f":"S141+S141*Титул.лист!$P$2","v":1452},1450,1450,{"$f":"V141+V141*Титул.лист!$A$1","v":1595},{"$f":"W141+W141*Титул.лист!$P$2","v":1595},1600,1530,{"$f":"Z141+Z141*Титул.лист!$A$1","v":1683},{"$f":"AA141+AA141*Титул.лист!$P$2","v":1683},1680,1200,{"$f":"AD141+AD141*Титул.лист!$A$1","v":1320},{"$f":"AE141+AE141*Титул.лист!$P$2","v":1320},1320,1280,{"$f":"AH141+AH141*Титул.лист!$A$1","v":1408},{"$f":"AI141+AI141*Титул.лист!$P$2","v":1408},1410,1320,{"$f":"AL141+AL141*Титул.лист!$A$1","v":1452},{"$f":"AM141+AM141*Титул.лист!$P$2","v":1452},1450,2179.846,{"$f":"AP141+AP141*Титул.лист!$A$1","v":2397.8306000000002},{"$f":"AQ141+AQ141*Титул.лист!$P$2","v":2397.8306000000002},2400,2462.52,{"$f":"AT141+AT141*Титул.лист!$A$1","v":2708.7719999999999},{"$f":"AU141+AU141*Титул.лист!$P$2","v":2708.7719999999999},2710,1988.76,{"$f":"AX141+AX141*Титул.лист!$A$1","v":2187.636},{"$f":"AY141+AY141*Титул.лист!$P$2","v":2187.636},2190,2487.7200000000003,{"$f":"BB141+BB141*Титул.лист!$A$1","v":2736.4920000000002},{"$f":"BC141+BC141*Титул.лист!$P$2","v":2736.4920000000002},2740,3445.32,{"$f":"BF141+BF141*Титул.лист!$A$1","v":3789.8520000000003},{"$f":"BG141+BG141*Титул.лист!$P$2","v":3789.8520000000003},3790]
[null,null,400,null,"1301-40с",1060,{"$f":"F142+F142*Титул.лист!$A$1","v":1166},{"$f":"G142+G142*Титул.лист!$P$2","v":1166},1170,1140,{"$f":"J142+J142*Титул.лист!$A$1","v":1254},{"$f":"K142+K142*Титул.лист!$P$2","v":1254},1250,1350,{"$f":"N142+N142*Титул.лист!$A$1","v":1485},{"$f":"O142+O142*Титул.лист!$P$2","v":1485},1490,1440,{"$f":"R142+R142*Титул.лист!$A$1","v":1584},{"$f":"S142+S142*Титул.лист!$P$2","v":1584},1580,1580,{"$f":"V142+V142*Титул.лист!$A$1","v":1738},{"$f":"W142+W142*Титул.лист!$P$2","v":1738},1740,1670,{"$f":"Z142+Z142*Титул.лист!$A$1","v":1837},{"$f":"AA142+AA142*Титул.лист!$P$2","v":1837},1840,1330,{"$f":"AD142+AD142*Титул.лист!$A$1","v":1463},{"$f":"AE142+AE142*Титул.лист!$P$2","v":1463},1460,1430.0000000000002,{"$f":"AH142+AH142*Титул.лист!$A$1","v":1573.0000000000002},{"$f":"AI142+AI142*Титул.лист!$P$2","v":1573.0000000000002},1570,1460,{"$f":"AL142+AL142*Титул.лист!$A$1","v":1606},{"$f":"AM142+AM142*Титул.лист!$P$2","v":1606},1610,2449.8239999999996,{"$f":"AP142+AP142*Титул.лист!$A$1","v":2694.8063999999995},{"$f":"AQ142+AQ142*Титул.лист!$P$2","v":2694.8063999999995},2690,2772.88,{"$f":"AT142+AT142*Титул.лист!$A$1","v":3050.1680000000001},{"$f":"AU142+AU142*Титул.лист!$P$2","v":3050.1680000000001},3050,2231.44,{"$f":"AX142+AX142*Титул.лист!$A$1","v":2454.5839999999998},{"$f":"AY142+AY142*Титул.лист!$P$2","v":2454.5839999999998},2450,2801.6800000000003,{"$f":"BB142+BB142*Титул.лист!$A$1","v":3081.8480000000004},{"$f":"BC142+BC142*Титул.лист!$P$2","v":3081.8480000000004},3080,3896.0800000000004,{"$f":"BF142+BF142*Титул.лист!$A$1","v":4285.6880000000001},{"$f":"BG142+BG142*Титул.лист!$P$2","v":4285.6880000000001},4290]
[null,null,450,null,"1301-45с",1130,{"$f":"F143+F143*Титул.лист!$A$1","v":1243},{"$f":"G143+G143*Титул.лист!$P$2","v":1243},1240,1220,{"$f":"J143+J143*Титул.лист!$A$1","v":1342},{"$f":"K143+K143*Титул.лист!$P$2","v":1342},1340,1470,{"$f":"N143+N143*Титул.лист!$A$1","v":1617},{"$f":"O143+O143*Титул.лист!$P$2","v":1617},1620,1560,{"$f":"R143+R143*Титул.лист!$A$1","v":1716},{"$f":"S143+S143*Титул.лист!$P$2","v":1716},1720,1740,{"$f":"V143+V143*Титул.лист!$A$1","v":1914},{"$f":"W143+W143*Титул.лист!$P$2","v":1914},1910,1830,{"$f":"Z143+Z143*Титул.лист!$A$1","v":2013},{"$f":"AA143+AA143*Титул.лист!$P$2","v":2013},2010,1440,{"$f":"AD143+AD143*Титул.лист!$A$1","v":1584},{"$f":"AE143+AE143*Титул.лист!$P$2","v":1584},1580,1550,{"$f":"AH143+AH143*Титул.лист!$A$1","v":1705},{"$f":"AI143+AI143*Титул.лист!$P$2","v":1705},1710,1610,{"$f":"AL143+AL143*Титул.лист!$A$1","v":1771},{"$f":"AM143+AM143*Титул.лист!$P$2","v":1771},1770,2699.8019999999997,{"$f":"AP143+AP143*Титул.лист!$A$1","v":2969.7821999999996},{"$f":"AQ143+AQ143*Титул.лист!$P$2","v":2969.7821999999996},2970,3063.24,{"$f":"AT143+AT143*Титул.лист!$A$1","v":3369.5639999999999},{"$f":"AU143+AU143*Титул.лист!$P$2","v":3369.5639999999999},3370,2454.12,{"$f":"AX143+AX143*Титул.лист!$A$1","v":2699.5319999999997},{"$f":"AY143+AY143*Титул.лист!$P$2","v":2699.5319999999997},2700,3095.6400000000003,{"$f":"BB143+BB143*Титул.лист!$A$1","v":3405.2040000000006},{"$f":"BC143+BC143*Титул.лист!$P$2","v":3405.2040000000006},3410,4326.84,{"$f":"BF143+BF143*Титул.лист!$A$1","v":4759.5240000000003},{"$f":"BG143+BG143*Титул.лист!$P$2","v":4759.5240000000003},4760]
[null,null,500,null,"1301-50с",1220,{"$f":"F144+F144*Титул.лист!$A$1","v":1342},{"$f":"G144+G144*Титул.лист!$P$2","v":1342},1340,1320,{"$f":"J144+J144*Титул.лист!$A$1","v":1452},{"$f":"K144+K144*Титул.лист!$P$2","v":1452},1450,1590,{"$f":"N144+N144*Титул.лист!$A$1","v":1749},{"$f":"O144+O144*Титул.лист!$P$2","v":1749},1750,1690,{"$f":"R144+R144*Титул.лист!$A$1","v":1859},{"$f":"S144+S144*Титул.лист!$P$2","v":1859},1860,1890,{"$f":"V144+V144*Титул.лист!$A$1","v":2079},{"$f":"W144+W144*Титул.лист!$P$2","v":2079},2080,1990,{"$f":"Z144+Z144*Титул.лист!$A$1","v":2189},{"$f":"AA144+AA144*Титул.лист!$P$2","v":2189},2190,1560,{"$f":"AD144+AD144*Титул.лист!$A$1","v":1716},{"$f":"AE144+AE144*Титул.лист!$P$2","v":1716},1720,1680,{"$f":"AH144+AH144*Титул.лист!$A$1","v":1848},{"$f":"AI144+AI144*Титул.лист!$P$2","v":1848},1850,1730,{"$f":"AL144+AL144*Титул.лист!$A$1","v":1903},{"$f":"AM144+AM144*Титул.лист!$P$2","v":1903},1900,2959.7799999999997,{"$f":"AP144+AP144*Титул.лист!$A$1","v":3255.7579999999998},{"$f":"AQ144+AQ144*Титул.лист!$P$2","v":3255.7579999999998},3260,3363.6000000000004,{"$f":"AT144+AT144*Титул.лист!$A$1","v":3699.9600000000005},{"$f":"AU144+AU144*Титул.лист!$P$2","v":3699.9600000000005},3700,2686.8,{"$f":"AX144+AX144*Титул.лист!$A$1","v":2955.48},{"$f":"AY144+AY144*Титул.лист!$P$2","v":2955.48},2960,3399.6000000000004,{"$f":"BB144+BB144*Титул.лист!$A$1","v":3739.5600000000004},{"$f":"BC144+BC144*Титул.лист!$P$2","v":3739.5600000000004},3740,4767.6000000000004,{"$f":"BF144+BF144*Титул.лист!$A$1","v":5244.3600000000006},{"$f":"BG144+BG144*Титул.лист!$P$2","v":5244.3600000000006},5240]
[null,null,550,null,"1301-55с",1300,{"$f":"F145+F145*Титул.лист!$A$1","v":1430},{"$f":"G145+G145*Титул.лист!$P$2","v":1430},1430,1400,{"$f":"J145+J145*Титул.лист!$A$1","v":1540},{"$f":"K145+K145*Титул.лист!$P$2","v":1540},1540,1800,{"$f":"N145+N145*Титул.лист!$A$1","v":1980},{"$f":"O145+O145*Титул.лист!$P$2","v":1980},1980,1900,{"$f":"R145+R145*Титул.лист!$A$1","v":2090},{"$f":"S145+S145*Титул.лист!$P$2","v":2090},2090,2100,{"$f":"V145+V145*Титул.лист!$A$1","v":2310},{"$f":"W145+W145*Титул.лист!$P$2","v":2310},2310,2200,{"$f":"Z145+Z145*Титул.лист!$A$1","v":2420},{"$f":"AA145+AA145*Титул.лист!$P$2","v":2420},2420,1700,{"$f":"AD145+AD145*Титул.лист!$A$1","v":1870},{"$f":"AE145+AE145*Титул.лист!$P$2","v":1870},1870,1900,{"$f":"AH145+AH145*Титул.лист!$A$1","v":2090},{"$f":"AI145+AI145*Титул.лист!$P$2","v":2090},2090,1950,{"$f":"AL145+AL145*Титул.лист!$A$1","v":2145},{"$f":"AM145+AM145*Титул.лист!$P$2","v":2145},2150,3239.7579999999998,{"$f":"AP145+AP145*Титул.лист!$A$1","v":3563.7338},{"$f":"AQ145+AQ145*Титул.лист!$P$2","v":3563.7338},3560,3683.96,{"$f":"AT145+AT145*Титул.лист!$A$1","v":4052.3560000000002},{"$f":"AU145+AU145*Титул.лист!$P$2","v":4052.3560000000002},4050,2939.48,{"$f":"AX145+AX145*Титул.лист!$A$1","v":3233.4279999999999},{"$f":"AY145+AY145*Титул.лист!$P$2","v":3233.4279999999999},3230,3723.5600000000004,{"$f":"BB145+BB145*Титул.лист!$A$1","v":4095.9160000000006},{"$f":"BC145+BC145*Титул.лист!$P$2","v":4095.9160000000006},4100,5228.3600000000006,{"$f":"BF145+BF145*Титул.лист!$A$1","v":5751.1960000000008},{"$f":"BG145+BG145*Титул.лист!$P$2","v":5751.1960000000008},5750]
[null,null,600,null,"1301-60с",1370,{"$f":"F146+F146*Титул.лист!$A$1","v":1507},{"$f":"G146+G146*Титул.лист!$P$2","v":1507},1510,1470,{"$f":"J146+J146*Титул.лист!$A$1","v":1617},{"$f":"K146+K146*Титул.лист!$P$2","v":1617},1620,1840,{"$f":"N146+N146*Титул.лист!$A$1","v":2024},{"$f":"O146+O146*Титул.лист!$P$2","v":2024},2020,1940,{"$f":"R146+R146*Титул.лист!$A$1","v":2134},{"$f":"S146+S146*Титул.лист!$P$2","v":2134},2130,2180,{"$f":"V146+V146*Титул.лист!$A$1","v":2398},{"$f":"W146+W146*Титул.лист!$P$2","v":2398},2400,2280,{"$f":"Z146+Z146*Титул.лист!$A$1","v":2508},{"$f":"AA146+AA146*Титул.лист!$P$2","v":2508},2510,1780,{"$f":"AD146+AD146*Титул.лист!$A$1","v":1958},{"$f":"AE146+AE146*Титул.лист!$P$2","v":1958},1960,1940,{"$f":"AH146+AH146*Титул.лист!$A$1","v":2134},{"$f":"AI146+AI146*Титул.лист!$P$2","v":2134},2130,1990,{"$f":"AL146+AL146*Титул.лист!$A$1","v":2189},{"$f":"AM146+AM146*Титул.лист!$P$2","v":2189},2190,3459.7359999999999,{"$f":"AP146+AP146*Титул.лист!$A$1","v":3805.7096000000001},{"$f":"AQ146+AQ146*Титул.лист!$P$2","v":3805.7096000000001},3810,3944.32,{"$f":"AT146+AT146*Титул.лист!$A$1","v":4338.7520000000004},{"$f":"AU146+AU146*Титул.лист!$P$2","v":4338.7520000000004},4340,3132.16,{"$f":"AX146+AX146*Титул.лист!$A$1","v":3445.3759999999997},{"$f":"AY146+AY146*Титул.лист!$P$2","v":3445.3759999999997},3450,3987.5200000000004,{"$f":"BB146+BB146*Титул.лист!$A$1","v":4386.2720000000008},{"$f":"BC146+BC146*Титул.лист!$P$2","v":4386.2720000000008},4390,5629.1200000000008,{"$f":"BF146+BF146*Титул.лист!$A$1","v":6192.0320000000011},{"$f":"BG146+BG146*Титул.лист!$P$2","v":6192.0320000000011},6190]
[null,null,300,"h 920","1305-30с",1100,{"$f":"F147+F147*Титул.лист!$A$1","v":1210},{"$f":"G147+G147*Титул.лист!$P$2","v":1210},1210,1200,{"$f":"J147+J147*Титул.лист!$A$1","v":1320},{"$f":"K147+K147*Титул.лист!$P$2","v":1320},1320,1400,{"$f":"N147+N147*Титул.лист!$A$1","v":1540},{"$f":"O147+O147*Титул.лист!$P$2","v":1540},1540,1500,{"$f":"R147+R147*Титул.лист!$A$1","v":1650},{"$f":"S147+S147*Титул.лист!$P$2","v":1650},1650,1620,{"$f":"V147+V147*Титул.лист!$A$1","v":1782},{"$f":"W147+W147*Титул.лист!$P$2","v":1782},1780,1720,{"$f":"Z147+Z147*Титул.лист!$A$1","v":1892},{"$f":"AA147+AA147*Титул.лист!$P$2","v":1892},1890,1330,{"$f":"AD147+AD147*Титул.лист!$A$1","v":1463},{"$f":"AE147+AE147*Титул.лист!$P$2","v":1463},1460,1420,{"$f":"AH147+AH147*Титул.лист!$A$1","v":1562},{"$f":"AI147+AI147*Титул.лист!$P$2","v":1562},1560,1460,{"$f":"AL147+AL147*Титул.лист!$A$1","v":1606},{"$f":"AM147+AM147*Титул.лист!$P$2","v":1606},1610,2404.4679999999998,{"$f":"AP147+AP147*Титул.лист!$A$1","v":2644.9148},{"$f":"AQ147+AQ147*Титул.лист!$P$2","v":2644.9148},2640,2712.76,{"$f":"AT147+AT147*Титул.лист!$A$1","v":2984.0360000000001},{"$f":"AU147+AU147*Титул.лист!$P$2","v":2984.0360000000001},2980,2193.88,{"$f":"AX147+AX147*Титул.лист!$A$1","v":2413.268},{"$f":"AY147+AY147*Титул.лист!$P$2","v":2413.268},2410,2740.36,{"$f":"BB147+BB147*Титул.лист!$A$1","v":3014.3960000000002},{"$f":"BC147+BC147*Титул.лист!$P$2","v":3014.3960000000002},3010,3789.1600000000003,{"$f":"BF147+BF147*Титул.лист!$A$1","v":4168.076},{"$f":"BG147+BG147*Титул.лист!$P$2","v":4168.076},4170]
[null,null,350,null,"1305-35с",1220,{"$f":"F148+F148*Титул.лист!$A$1","v":1342},{"$f":"G148+G148*Титул.лист!$P$2","v":1342},1340,1320,{"$f":"J148+J148*Титул.лист!$A$1","v":1452},{"$f":"K148+K148*Титул.лист!$P$2","v":1452},1450,1560,{"$f":"N148+N148*Титул.лист!$A$1","v":1716},{"$f":"O148+O148*Титул.лист!$P$2","v":1716},1720,1660,{"$f":"R148+R148*Титул.лист!$A$1","v":1826},{"$f":"S148+S148*Титул.лист!$P$2","v":1826},1830,1830,{"$f":"V148+V148*Титул.лист!$A$1","v":2013},{"$f":"W148+W148*Титул.лист!$P$2","v":2013},2010,1920,{"$f":"Z148+Z148*Титул.лист!$A$1","v":2112},{"$f":"AA148+AA148*Титул.лист!$P$2","v":2112},2110,1520,{"$f":"AD148+AD148*Титул.лист!$A$1","v":1672},{"$f":"AE148+AE148*Титул.лист!$P$2","v":1672},1670,1630,{"$f":"AH148+AH148*Титул.лист!$A$1","v":1793},{"$f":"AI148+AI148*Титул.лист!$P$2","v":1793},1790,1670,{"$f":"AL148+AL148*Титул.лист!$A$1","v":1837},{"$f":"AM148+AM148*Титул.лист!$P$2","v":1837},1840,2773.5460000000003,{"$f":"AP148+AP148*Титул.лист!$A$1","v":3050.9006000000004},{"$f":"AQ148+AQ148*Титул.лист!$P$2","v":3050.9006000000004},3050,3133.2200000000003,{"$f":"AT148+AT148*Титул.лист!$A$1","v":3446.5420000000004},{"$f":"AU148+AU148*Титул.лист!$P$2","v":3446.5420000000004},3450,2383.88,{"$f":"AX148+AX148*Титул.лист!$A$1","v":2622.268},{"$f":"AY148+AY148*Титул.лист!$P$2","v":2622.268},2620,3165.42,{"$f":"BB148+BB148*Титул.лист!$A$1","v":3481.962},{"$f":"BC148+BC148*Титул.лист!$P$2","v":3481.962},3480,4389.0200000000004,{"$f":"BF148+BF148*Титул.лист!$A$1","v":4827.9220000000005},{"$f":"BG148+BG148*Титул.лист!$P$2","v":4827.9220000000005},4830]
[null,null,400,null,"1305-40с",1310,{"$f":"F149+F149*Титул.лист!$A$1","v":1441},{"$f":"G149+G149*Титул.лист!$P$2","v":1441},1440,1420,{"$f":"J149+J149*Титул.лист!$A$1","v":1562},{"$f":"K149+K149*Титул.лист!$P$2","v":1562},1560,1690,{"$f":"N149+N149*Титул.лист!$A$1","v":1859},{"$f":"O149+O149*Титул.лист!$P$2","v":1859},1860,1800,{"$f":"R149+R149*Титул.лист!$A$1","v":1980},{"$f":"S149+S149*Титул.лист!$P$2","v":1980},1980,1990,{"$f":"V149+V149*Титул.лист!$A$1","v":2189},{"$f":"W149+W149*Титул.лист!$P$2","v":2189},2190,2100,{"$f":"Z149+Z149*Титул.лист!$A$1","v":2310},{"$f":"AA149+AA149*Титул.лист!$P$2","v":2310},2310,1650.0000000000002,{"$f":"AD149+AD149*Титул.лист!$A$1","v":1815.0000000000002},{"$f":"AE149+AE149*Титул.лист!$P$2","v":1815.0000000000002},1820,1770,{"$f":"AH149+AH149*Титул.лист!$A$1","v":1947},{"$f":"AI149+AI149*Титул.лист!$P$2","v":1947},1950,1830,{"$f":"AL149+AL149*Титул.лист!$A$1","v":2013},{"$f":"AM149+AM149*Титул.лист!$P$2","v":2013},2010,3082.6240000000003,{"$f":"AP149+AP149*Титул.лист!$A$1","v":3390.8864000000003},{"$f":"AQ149+AQ149*Титул.лист!$P$2","v":3390.8864000000003},3390,3493.6800000000003,{"$f":"AT149+AT149*Титул.лист!$A$1","v":3843.0480000000002},{"$f":"AU149+AU149*Титул.лист!$P$2","v":3843.0480000000002},3840,2657.86,{"$f":"AX149+AX149*Титул.лист!$A$1","v":2923.6460000000002},{"$f":"AY149+AY149*Титул.лист!$P$2","v":2923.6460000000002},2920,3530.4800000000005,{"$f":"BB149+BB149*Титул.лист!$A$1","v":3883.5280000000007},{"$f":"BC149+BC149*Титул.лист!$P$2","v":3883.5280000000007},3880,4928.88,{"$f":"BF149+BF149*Титул.лист!$A$1","v":5421.768},{"$f":"BG149+BG149*Титул.лист!$P$2","v":5421.768},5420]
[null,null,450,null,"1305-45с",1430.0000000000002,{"$f":"F150+F150*Титул.лист!$A$1","v":1573.0000000000002},{"$f":"G150+G150*Титул.лист!$P$2","v":1573.0000000000002},1570,1530,{"$f":"J150+J150*Титул.лист!$A$1","v":1683},{"$f":"K150+K150*Титул.лист!$P$2","v":1683},1680,1870.0000000000002,{"$f":"N150+N150*Титул.лист!$A$1","v":2057.0000000000005},{"$f":"O150+O150*Титул.лист!$P$2","v":2057.0000000000005},2060,1970,{"$f":"R150+R150*Титул.лист!$A$1","v":2167},{"$f":"S150+S150*Титул.лист!$P$2","v":2167},2170,2200,{"$f":"V150+V150*Титул.лист!$A$1","v":2420},{"$f":"W150+W150*Титул.лист!$P$2","v":2420},2420,2300,{"$f":"Z150+Z150*Титул.лист!$A$1","v":2530},{"$f":"AA150+AA150*Титул.лист!$P$2","v":2530},2530,1810,{"$f":"AD150+AD150*Титул.лист!$A$1","v":1991},{"$f":"AE150+AE150*Титул.лист!$P$2","v":1991},1990,1960,{"$f":"AH150+AH150*Титул.лист!$A$1","v":2156},{"$f":"AI150+AI150*Титул.лист!$P$2","v":2156},2160,2010,{"$f":"AL150+AL150*Титул.лист!$A$1","v":2211},{"$f":"AM150+AM150*Титул.лист!$P$2","v":2211},2210,3421.7020000000002,{"$f":"AP150+AP150*Титул.лист!$A$1","v":3763.8722000000002},{"$f":"AQ150+AQ150*Титул.лист!$P$2","v":3763.8722000000002},3760,3884.1400000000003,{"$f":"AT150+AT150*Титул.лист!$A$1","v":4272.5540000000001},{"$f":"AU150+AU150*Титул.лист!$P$2","v":4272.5540000000001},4270,2961.84,{"$f":"AX150+AX150*Титул.лист!$A$1","v":3258.0240000000003},{"$f":"AY150+AY150*Титул.лист!$P$2","v":3258.0240000000003},3260,3925.54,{"$f":"BB150+BB150*Титул.лист!$A$1","v":4318.0940000000001},{"$f":"BC150+BC150*Титул.лист!$P$2","v":4318.0940000000001},4320,5498.74,{"$f":"BF150+BF150*Титул.лист!$A$1","v":6048.6139999999996},{"$f":"BG150+BG150*Титул.лист!$P$2","v":6048.6139999999996},6050]
[null,null,500,null,"1305-50с",1540.0000000000002,{"$f":"F151+F151*Титул.лист!$A$1","v":1694.0000000000002},{"$f":"G151+G151*Титул.лист!$P$2","v":1694.0000000000002},1690,1650.0000000000002,{"$f":"J151+J151*Титул.лист!$A$1","v":1815.0000000000002},{"$f":"K151+K151*Титул.лист!$P$2","v":1815.0000000000002},1820,2020,{"$f":"N151+N151*Титул.лист!$A$1","v":2222},{"$f":"O151+O151*Титул.лист!$P$2","v":2222},2220,2130,{"$f":"R151+R151*Титул.лист!$A$1","v":2343},{"$f":"S151+S151*Титул.лист!$P$2","v":2343},2340,2400,{"$f":"V151+V151*Титул.лист!$A$1","v":2640},{"$f":"W151+W151*Титул.лист!$P$2","v":2640},2640,2510,{"$f":"Z151+Z151*Титул.лист!$A$1","v":2761},{"$f":"AA151+AA151*Титул.лист!$P$2","v":2761},2760,1980.0000000000002,{"$f":"AD151+AD151*Титул.лист!$A$1","v":2178.0000000000005},{"$f":"AE151+AE151*Титул.лист!$P$2","v":2178.0000000000005},2180,2130,{"$f":"AH151+AH151*Титул.лист!$A$1","v":2343},{"$f":"AI151+AI151*Титул.лист!$P$2","v":2343},2340,2200,{"$f":"AL151+AL151*Титул.лист!$A$1","v":2420},{"$f":"AM151+AM151*Титул.лист!$P$2","v":2420},2420,3770.78,{"$f":"AP151+AP151*Титул.лист!$A$1","v":4147.8580000000002},{"$f":"AQ151+AQ151*Титул.лист!$P$2","v":4147.8580000000002},4150,4284.6000000000004,{"$f":"AT151+AT151*Титул.лист!$A$1","v":4713.0600000000004},{"$f":"AU151+AU151*Титул.лист!$P$2","v":4713.0600000000004},4710,3275.8200000000006,{"$f":"AX151+AX151*Титул.лист!$A$1","v":3603.402000000001},{"$f":"AY151+AY151*Титул.лист!$P$2","v":3603.402000000001},3600,4330.6000000000004,{"$f":"BB151+BB151*Титул.лист!$A$1","v":4763.6600000000008},{"$f":"BC151+BC151*Титул.лист!$P$2","v":4763.6600000000008},4760,6078.6,{"$f":"BF151+BF151*Титул.лист!$A$1","v":6686.46},{"$f":"BG151+BG151*Титул.лист!$P$2","v":6686.46},6690]
[null,null,550,null,"1305-55с",1700,{"$f":"F152+F152*Титул.лист!$A$1","v":1870},{"$f":"G152+G152*Титул.лист!$P$2","v":1870},1870,1800,{"$f":"J152+J152*Титул.лист!$A$1","v":1980},{"$f":"K152+K152*Титул.лист!$P$2","v":1980},1980,2300,{"$f":"N152+N152*Титул.лист!$A$1","v":2530},{"$f":"O152+O152*Титул.лист!$P$2","v":2530},2530,2400,{"$f":"R152+R152*Титул.лист!$A$1","v":2640},{"$f":"S152+S152*Титул.лист!$P$2","v":2640},2640,2700,{"$f":"V152+V152*Титул.лист!$A$1","v":2970},{"$f":"W152+W152*Титул.лист!$P$2","v":2970},2970,2830,{"$f":"Z152+Z152*Титул.лист!$A$1","v":3113},{"$f":"AA152+AA152*Титул.лист!$P$2","v":3113},3110,2130,{"$f":"AD152+AD152*Титул.лист!$A$1","v":2343},{"$f":"AE152+AE152*Титул.лист!$P$2","v":2343},2340,2290,{"$f":"AH152+AH152*Титул.лист!$A$1","v":2519},{"$f":"AI152+AI152*Титул.лист!$P$2","v":2519},2520,2370,{"$f":"AL152+AL152*Титул.лист!$A$1","v":2607},{"$f":"AM152+AM152*Титул.лист!$P$2","v":2607},2610,4089.8580000000002,{"$f":"AP152+AP152*Титул.лист!$A$1","v":4498.8438000000006},{"$f":"AQ152+AQ152*Титул.лист!$P$2","v":4498.8438000000006},4500,4655.0599999999995,{"$f":"AT152+AT152*Титул.лист!$A$1","v":5120.5659999999998},{"$f":"AU152+AU152*Титул.лист!$P$2","v":5120.5659999999998},5120,3559.8,{"$f":"AX152+AX152*Титул.лист!$A$1","v":3915.78},{"$f":"AY152+AY152*Титул.лист!$P$2","v":3915.78},3920,4705.66,{"$f":"BB152+BB152*Титул.лист!$A$1","v":5176.2259999999997},{"$f":"BC152+BC152*Титул.лист!$P$2","v":5176.2259999999997},5180,6628.46,{"$f":"BF152+BF152*Титул.лист!$A$1","v":7291.3060000000005},{"$f":"BG152+BG152*Титул.лист!$P$2","v":7291.3060000000005},7290]
[null,null,600,null,"1305-60с",1750,{"$f":"F153+F153*Титул.лист!$A$1","v":1925},{"$f":"G153+G153*Титул.лист!$P$2","v":1925},1930,1870.0000000000002,{"$f":"J153+J153*Титул.лист!$A$1","v":2057.0000000000005},{"$f":"K153+K153*Титул.лист!$P$2","v":2057.0000000000005},2060,2320,{"$f":"N153+N153*Титул.лист!$A$1","v":2552},{"$f":"O153+O153*Титул.лист!$P$2","v":2552},2550,2440,{"$f":"R153+R153*Титул.лист!$A$1","v":2684},{"$f":"S153+S153*Титул.лист!$P$2","v":2684},2680,2770,{"$f":"V153+V153*Титул.лист!$A$1","v":3047},{"$f":"W153+W153*Титул.лист!$P$2","v":3047},3050,2890,{"$f":"Z153+Z153*Титул.лист!$A$1","v":3179},{"$f":"AA153+AA153*Титул.лист!$P$2","v":3179},3180,2280,{"$f":"AD153+AD153*Титул.лист!$A$1","v":2508},{"$f":"AE153+AE153*Титул.лист!$P$2","v":2508},2510,2460,{"$f":"AH153+AH153*Титул.лист!$A$1","v":2706},{"$f":"AI153+AI153*Титул.лист!$P$2","v":2706},2710,2550,{"$f":"AL153+AL153*Титул.лист!$A$1","v":2805},{"$f":"AM153+AM153*Титул.лист!$P$2","v":2805},2810,4428.9359999999997,{"$f":"AP153+AP153*Титул.лист!$A$1","v":4871.8296},{"$f":"AQ153+AQ153*Титул.лист!$P$2","v":4871.8296},4870,5045.5200000000004,{"$f":"AT153+AT153*Титул.лист!$A$1","v":5550.0720000000001},{"$f":"AU153+AU153*Титул.лист!$P$2","v":5550.0720000000001},5550,3863.7799999999997,{"$f":"AX153+AX153*Титул.лист!$A$1","v":4250.1579999999994},{"$f":"AY153+AY153*Титул.лист!$P$2","v":4250.1579999999994},4250,5100.72,{"$f":"BB153+BB153*Титул.лист!$A$1","v":5610.7920000000004},{"$f":"BC153+BC153*Титул.лист!$P$2","v":5610.7920000000004},5610,7198.3200000000006,{"$f":"BF153+BF153*Титул.лист!$A$1","v":7918.152000000001},{"$f":"BG153+BG153*Титул.лист!$P$2","v":7918.152000000001},7920]
[null,"Шкаф 2 дв.2 стекла",600,"h 720","1401-60с",1420,{"$f":"F154+F154*Титул.лист!$A$1","v":1562},{"$f":"G154+G154*Титул.лист!$P$2","v":1562},1560,1570,{"$f":"J154+J154*Титул.лист!$A$1","v":1727},{"$f":"K154+K154*Титул.лист!$P$2","v":1727},1730,1880,{"$f":"N154+N154*Титул.лист!$A$1","v":2068},{"$f":"O154+O154*Титул.лист!$P$2","v":2068},2070,2030,{"$f":"R154+R154*Титул.лист!$A$1","v":2233},{"$f":"S154+S154*Титул.лист!$P$2","v":2233},2230,2220,{"$f":"V154+V154*Титул.лист!$A$1","v":2442},{"$f":"W154+W154*Титул.лист!$P$2","v":2442},2440,2380,{"$f":"Z154+Z154*Титул.лист!$A$1","v":2618},{"$f":"AA154+AA154*Титул.лист!$P$2","v":2618},2620,1780,{"$f":"AD154+AD154*Титул.лист!$A$1","v":1958},{"$f":"AE154+AE154*Титул.лист!$P$2","v":1958},1960,1940,{"$f":"AH154+AH154*Титул.лист!$A$1","v":2134},{"$f":"AI154+AI154*Титул.лист!$P$2","v":2134},2130,1990,{"$f":"AL154+AL154*Титул.лист!$A$1","v":2189},{"$f":"AM154+AM154*Титул.лист!$P$2","v":2189},2190,3459.7359999999999,{"$f":"AP154+AP154*Титул.лист!$A$1","v":3805.7096000000001},{"$f":"AQ154+AQ154*Титул.лист!$P$2","v":3805.7096000000001},3810,3944.32,{"$f":"AT154+AT154*Титул.лист!$A$1","v":4338.7520000000004},{"$f":"AU154+AU154*Титул.лист!$P$2","v":4338.7520000000004},4340,3132.16,{"$f":"AX154+AX154*Титул.лист!$A$1","v":3445.3759999999997},{"$f":"AY154+AY154*Титул.лист!$P$2","v":3445.3759999999997},3450,3987.5200000000004,{"$f":"BB154+BB154*Титул.лист!$A$1","v":4386.2720000000008},{"$f":"BC154+BC154*Титул.лист!$P$2","v":4386.2720000000008},4390,5629.1200000000008,{"$f":"BF154+BF154*Титул.лист!$A$1","v":6192.0320000000011},{"$f":"BG154+BG154*Титул.лист!$P$2","v":6192.0320000000011},6190]
[null,null,700,null,"1401-70с",1620,{"$f":"F155+F155*Титул.лист!$A$1","v":1782},{"$f":"G155+G155*Титул.лист!$P$2","v":1782},1780,1780,{"$f":"J155+J155*Титул.лист!$A$1","v":1958},{"$f":"K155+K155*Титул.лист!$P$2","v":1958},1960,2140,{"$f":"N155+N155*Титул.лист!$A$1","v":2354},{"$f":"O155+O155*Титул.лист!$P$2","v":2354},2350,2310,{"$f":"R155+R155*Титул.лист!$A$1","v":2541},{"$f":"S155+S155*Титул.лист!$P$2","v":2541},2540,2550,{"$f":"V155+V155*Титул.лист!$A$1","v":2805},{"$f":"W155+W155*Титул.лист!$P$2","v":2805},2810,2720,{"$f":"Z155+Z155*Титул.лист!$A$1","v":2992},{"$f":"AA155+AA155*Титул.лист!$P$2","v":2992},2990,2070,{"$f":"AD155+AD155*Титул.лист!$A$1","v":2277},{"$f":"AE155+AE155*Титул.лист!$P$2","v":2277},2280,2230,{"$f":"AH155+AH155*Титул.лист!$A$1","v":2453},{"$f":"AI155+AI155*Титул.лист!$P$2","v":2453},2450,2310,{"$f":"AL155+AL155*Титул.лист!$A$1","v":2541},{"$f":"AM155+AM155*Титул.лист!$P$2","v":2541},2540,4029.692,{"$f":"AP155+AP155*Титул.лист!$A$1","v":4432.6612000000005},{"$f":"AQ155+AQ155*Титул.лист!$P$2","v":4432.6612000000005},4430,4595.04,{"$f":"AT155+AT155*Титул.лист!$A$1","v":5054.5439999999999},{"$f":"AU155+AU155*Титул.лист!$P$2","v":5054.5439999999999},5050,3647.52,{"$f":"AX155+AX155*Титул.лист!$A$1","v":4012.2719999999999},{"$f":"AY155+AY155*Титул.лист!$P$2","v":4012.2719999999999},4010,4645.4400000000005,{"$f":"BB155+BB155*Титул.лист!$A$1","v":5109.9840000000004},{"$f":"BC155+BC155*Титул.лист!$P$2","v":5109.9840000000004},5110,6560.64,{"$f":"BF155+BF155*Титул.лист!$A$1","v":7216.7040000000006},{"$f":"BG155+BG155*Титул.лист!$P$2","v":7216.7040000000006},7220]
[null,null,800,null,"1401-80с",1770,{"$f":"F156+F156*Титул.лист!$A$1","v":1947},{"$f":"G156+G156*Титул.лист!$P$2","v":1947},1950,1950,{"$f":"J156+J156*Титул.лист!$A$1","v":2145},{"$f":"K156+K156*Титул.лист!$P$2","v":2145},2150,2390,{"$f":"N156+N156*Титул.лист!$A$1","v":2629},{"$f":"O156+O156*Титул.лист!$P$2","v":2629},2630,2560,{"$f":"R156+R156*Титул.лист!$A$1","v":2816},{"$f":"S156+S156*Титул.лист!$P$2","v":2816},2820,2860.0000000000005,{"$f":"V156+V156*Титул.лист!$A$1","v":3146.0000000000005},{"$f":"W156+W156*Титул.лист!$P$2","v":3146.0000000000005},3150,3040,{"$f":"Z156+Z156*Титул.лист!$A$1","v":3344},{"$f":"AA156+AA156*Титул.лист!$P$2","v":3344},3340,2310,{"$f":"AD156+AD156*Титул.лист!$A$1","v":2541},{"$f":"AE156+AE156*Титул.лист!$P$2","v":2541},2540,2500,{"$f":"AH156+AH156*Титул.лист!$A$1","v":2750},{"$f":"AI156+AI156*Титул.лист!$P$2","v":2750},2750,2580,{"$f":"AL156+AL156*Титул.лист!$A$1","v":2838},{"$f":"AM156+AM156*Титул.лист!$P$2","v":2838},2840,4549.6479999999992,{"$f":"AP156+AP156*Титул.лист!$A$1","v":5004.612799999999},{"$f":"AQ156+AQ156*Титул.лист!$P$2","v":5004.612799999999},5000,5195.76,{"$f":"AT156+AT156*Титул.лист!$A$1","v":5715.3360000000002},{"$f":"AU156+AU156*Титул.лист!$P$2","v":5715.3360000000002},5720,4112.88,{"$f":"AX156+AX156*Титул.лист!$A$1","v":4524.1679999999997},{"$f":"AY156+AY156*Титул.лист!$P$2","v":4524.1679999999997},4520,5253.3600000000006,{"$f":"BB156+BB156*Титул.лист!$A$1","v":5778.6960000000008},{"$f":"BC156+BC156*Титул.лист!$P$2","v":5778.6960000000008},5780,7442.1600000000008,{"$f":"BF156+BF156*Титул.лист!$A$1","v":8186.3760000000011},{"$f":"BG156+BG156*Титул.лист!$P$2","v":8186.3760000000011},8190]
[null,null,600,"h 920","1406-60с",1790,{"$f":"F157+F157*Титул.лист!$A$1","v":1969},{"$f":"G157+G157*Титул.лист!$P$2","v":1969},1970,1980.0000000000002,{"$f":"J157+J157*Титул.лист!$A$1","v":2178.0000000000005},{"$f":"K157+K157*Титул.лист!$P$2","v":2178.0000000000005},2180,2360,{"$f":"N157+N157*Титул.лист!$A$1","v":2596},{"$f":"O157+O157*Титул.лист!$P$2","v":2596},2600,2550,{"$f":"R157+R157*Титул.лист!$A$1","v":2805},{"$f":"S157+S157*Титул.лист!$P$2","v":2805},2810,2820,{"$f":"V157+V157*Титул.лист!$A$1","v":3102},{"$f":"W157+W157*Титул.лист!$P$2","v":3102},3100,3000,{"$f":"Z157+Z157*Титул.лист!$A$1","v":3300},{"$f":"AA157+AA157*Титул.лист!$P$2","v":3300},3300,2250,{"$f":"AD157+AD157*Титул.лист!$A$1","v":2475},{"$f":"AE157+AE157*Титул.лист!$P$2","v":2475},2480,2440,{"$f":"AH157+AH157*Титул.лист!$A$1","v":2684},{"$f":"AI157+AI157*Титул.лист!$P$2","v":2684},2680,2520,{"$f":"AL157+AL157*Титул.лист!$A$1","v":2772},{"$f":"AM157+AM157*Титул.лист!$P$2","v":2772},2770,4398.9359999999997,{"$f":"AP157+AP157*Титул.лист!$A$1","v":4838.8296},{"$f":"AQ157+AQ157*Титул.лист!$P$2","v":4838.8296},4840,5015.5200000000004,{"$f":"AT157+AT157*Титул.лист!$A$1","v":5517.0720000000001},{"$f":"AU157+AU157*Титул.лист!$P$2","v":5517.0720000000001},5520,3977.76,{"$f":"AX157+AX157*Титул.лист!$A$1","v":4375.5360000000001},{"$f":"AY157+AY157*Титул.лист!$P$2","v":4375.5360000000001},4380,5070.72,{"$f":"BB157+BB157*Титул.лист!$A$1","v":5577.7920000000004},{"$f":"BC157+BC157*Титул.лист!$P$2","v":5577.7920000000004},5580,7168.3200000000006,{"$f":"BF157+BF157*Титул.лист!$A$1","v":7885.152000000001},{"$f":"BG157+BG157*Титул.лист!$P$2","v":7885.152000000001},7890]
[null,null,700,null,"1406-70с",2010,{"$f":"F158+F158*Титул.лист!$A$1","v":2211},{"$f":"G158+G158*Титул.лист!$P$2","v":2211},2210,2210,{"$f":"J158+J158*Титул.лист!$A$1","v":2431},{"$f":"K158+K158*Титул.лист!$P$2","v":2431},2430,2690,{"$f":"N158+N158*Титул.лист!$A$1","v":2959},{"$f":"O158+O158*Титул.лист!$P$2","v":2959},2960,2890,{"$f":"R158+R158*Титул.лист!$A$1","v":3179},{"$f":"S158+S158*Титул.лист!$P$2","v":3179},3180,3210,{"$f":"V158+V158*Титул.лист!$A$1","v":3531},{"$f":"W158+W158*Титул.лист!$P$2","v":3531},3530,3410.0000000000005,{"$f":"Z158+Z158*Титул.лист!$A$1","v":3751.0000000000005},{"$f":"AA158+AA158*Титул.лист!$P$2","v":3751.0000000000005},3750,2570,{"$f":"AD158+AD158*Титул.лист!$A$1","v":2827},{"$f":"AE158+AE158*Титул.лист!$P$2","v":2827},2830,2790,{"$f":"AH158+AH158*Титул.лист!$A$1","v":3069},{"$f":"AI158+AI158*Титул.лист!$P$2","v":3069},3070,2880,{"$f":"AL158+AL158*Титул.лист!$A$1","v":3168},{"$f":"AM158+AM158*Титул.лист!$P$2","v":3168},3170,5077.0920000000006,{"$f":"AP158+AP158*Титул.лист!$A$1","v":5584.8012000000008},{"$f":"AQ158+AQ158*Титул.лист!$P$2","v":5584.8012000000008},5580,5796.4400000000005,{"$f":"AT158+AT158*Титул.лист!$A$1","v":6376.0840000000007},{"$f":"AU158+AU158*Титул.лист!$P$2","v":6376.0840000000007},6380,4585.72,{"$f":"AX158+AX158*Титул.лист!$A$1","v":5044.2920000000004},{"$f":"AY158+AY158*Титул.лист!$P$2","v":5044.2920000000004},5040,5860.84,{"$f":"BB158+BB158*Титул.лист!$A$1","v":6446.924},{"$f":"BC158+BC158*Титул.лист!$P$2","v":6446.924},6450,8308.0400000000009,{"$f":"BF158+BF158*Титул.лист!$A$1","v":9138.844000000001},{"$f":"BG158+BG158*Титул.лист!$P$2","v":9138.844000000001},9140]
[null,null,800,null,"1406-80с",2230,{"$f":"F159+F159*Титул.лист!$A$1","v":2453},{"$f":"G159+G159*Титул.лист!$P$2","v":2453},2450,2440,{"$f":"J159+J159*Титул.лист!$A$1","v":2684},{"$f":"K159+K159*Титул.лист!$P$2","v":2684},2680,3000,{"$f":"N159+N159*Титул.лист!$A$1","v":3300},{"$f":"O159+O159*Титул.лист!$P$2","v":3300},3300,3210,{"$f":"R159+R159*Титул.лист!$A$1","v":3531},{"$f":"S159+S159*Титул.лист!$P$2","v":3531},3530,3600,{"$f":"V159+V159*Титул.лист!$A$1","v":3960},{"$f":"W159+W159*Титул.лист!$P$2","v":3960},3960,3810,{"$f":"Z159+Z159*Титул.лист!$A$1","v":4191},{"$f":"AA159+AA159*Титул.лист!$P$2","v":4191},4190,2890,{"$f":"AD159+AD159*Титул.лист!$A$1","v":3179},{"$f":"AE159+AE159*Титул.лист!$P$2","v":3179},3180,3150,{"$f":"AH159+AH159*Титул.лист!$A$1","v":3465},{"$f":"AI159+AI159*Титул.лист!$P$2","v":3465},3470,3240,{"$f":"AL159+AL159*Титул.лист!$A$1","v":3564},{"$f":"AM159+AM159*Титул.лист!$P$2","v":3564},3560,5755.2479999999996,{"$f":"AP159+AP159*Титул.лист!$A$1","v":6330.7727999999997},{"$f":"AQ159+AQ159*Титул.лист!$P$2","v":6330.7727999999997},6330,6577.3600000000006,{"$f":"AT159+AT159*Титул.лист!$A$1","v":7235.0960000000005},{"$f":"AU159+AU159*Титул.лист!$P$2","v":7235.0960000000005},7240,5193.68,{"$f":"AX159+AX159*Титул.лист!$A$1","v":5713.0480000000007},{"$f":"AY159+AY159*Титул.лист!$P$2","v":5713.0480000000007},5710,6650.96,{"$f":"BB159+BB159*Титул.лист!$A$1","v":7316.0560000000005},{"$f":"BC159+BC159*Титул.лист!$P$2","v":7316.0560000000005},7320,9447.76,{"$f":"BF159+BF159*Титул.лист!$A$1","v":10392.536},{"$f":"BG159+BG159*Титул.лист!$P$2","v":10392.536},10390]
[null,"Шкаф антресольный 2 дв(горизонт)",400,"h 600","1424-40",1070,{"$f":"F160+F160*Титул.лист!$A$1","v":1177},{"$f":"G160+G160*Титул.лист!$P$2","v":1177},1180,1150,{"$f":"J160+J160*Титул.лист!$A$1","v":1265},{"$f":"K160+K160*Титул.лист!$P$2","v":1265},1270,1320,{"$f":"N160+N160*Титул.лист!$A$1","v":1452},{"$f":"O160+O160*Титул.лист!$P$2","v":1452},1450,1410,{"$f":"R160+R160*Титул.лист!$A$1","v":1551},{"$f":"S160+S160*Титул.лист!$P$2","v":1551},1550,1520,{"$f":"V160+V160*Титул.лист!$A$1","v":1672},{"$f":"W160+W160*Титул.лист!$P$2","v":1672},1670,1610,{"$f":"Z160+Z160*Титул.лист!$A$1","v":1771},{"$f":"AA160+AA160*Титул.лист!$P$2","v":1771},1770,1300,{"$f":"AD160+AD160*Титул.лист!$A$1","v":1430},{"$f":"AE160+AE160*Титул.лист!$P$2","v":1430},1430,1370,{"$f":"AH160+AH160*Титул.лист!$A$1","v":1507},{"$f":"AI160+AI160*Титул.лист!$P$2","v":1507},1510,1410,{"$f":"AL160+AL160*Титул.лист!$A$1","v":1551},{"$f":"AM160+AM160*Титул.лист!$P$2","v":1551},1550,2238.4,{"$f":"AP160+AP160*Титул.лист!$A$1","v":2462.2400000000002},{"$f":"AQ160+AQ160*Титул.лист!$P$2","v":2462.2400000000002},2460,2502.3999999999996,{"$f":"AT160+AT160*Титул.лист!$A$1","v":2752.6399999999994},{"$f":"AU160+AU160*Титул.лист!$P$2","v":2752.6399999999994},2750,2051.1999999999998,{"$f":"AX160+AX160*Титул.лист!$A$1","v":2256.3199999999997},{"$f":"AY160+AY160*Титул.лист!$P$2","v":2256.3199999999997},2260,2526.3999999999996,{"$f":"BB160+BB160*Титул.лист!$A$1","v":2779.0399999999995},{"$f":"BC160+BC160*Титул.лист!$P$2","v":2779.0399999999995},2780,3438.4,{"$f":"BF160+BF160*Титул.лист!$A$1","v":3782.2400000000002},{"$f":"BG160+BG160*Титул.лист!$P$2","v":3782.2400000000002},3780]
[null,null,500,null,"1424-50",1180,{"$f":"F161+F161*Титул.лист!$A$1","v":1298},{"$f":"G161+G161*Титул.лист!$P$2","v":1298},1300,1260,{"$f":"J161+J161*Титул.лист!$A$1","v":1386},{"$f":"K161+K161*Титул.лист!$P$2","v":1386},1390,1500,{"$f":"N161+N161*Титул.лист!$A$1","v":1650},{"$f":"O161+O161*Титул.лист!$P$2","v":1650},1650,1580,{"$f":"R161+R161*Титул.лист!$A$1","v":1738},{"$f":"S161+S161*Титул.лист!$P$2","v":1738},1740,1740,{"$f":"V161+V161*Титул.лист!$A$1","v":1914},{"$f":"W161+W161*Титул.лист!$P$2","v":1914},1910,1826.0000000000002,{"$f":"Z161+Z161*Титул.лист!$A$1","v":2008.6000000000004},{"$f":"AA161+AA161*Титул.лист!$P$2","v":2008.6000000000004},2010,1470,{"$f":"AD161+AD161*Титул.лист!$A$1","v":1617},{"$f":"AE161+AE161*Титул.лист!$P$2","v":1617},1620,1570,{"$f":"AH161+AH161*Титул.лист!$A$1","v":1727},{"$f":"AI161+AI161*Титул.лист!$P$2","v":1727},1730,1620,{"$f":"AL161+AL161*Титул.лист!$A$1","v":1782},{"$f":"AM161+AM161*Титул.лист!$P$2","v":1782},1780,2643,{"$f":"AP161+AP161*Титул.лист!$A$1","v":2907.3},{"$f":"AQ161+AQ161*Титул.лист!$P$2","v":2907.3},2910,2973,{"$f":"AT161+AT161*Титул.лист!$A$1","v":3270.3},{"$f":"AU161+AU161*Титул.лист!$P$2","v":3270.3},3270,2409,{"$f":"AX161+AX161*Титул.лист!$A$1","v":2649.9},{"$f":"AY161+AY161*Титул.лист!$P$2","v":2649.9},2650,3003,{"$f":"BB161+BB161*Титул.лист!$A$1","v":3303.3},{"$f":"BC161+BC161*Титул.лист!$P$2","v":3303.3},3300,4143,{"$f":"BF161+BF161*Титул.лист!$A$1","v":4557.3},{"$f":"BG161+BG161*Титул.лист!$P$2","v":4557.3},4560]
[null,null,600,null,"1424-60",1310,{"$f":"F162+F162*Титул.лист!$A$1","v":1441},{"$f":"G162+G162*Титул.лист!$P$2","v":1441},1440,1410,{"$f":"J162+J162*Титул.лист!$A$1","v":1551},{"$f":"K162+K162*Титул.лист!$P$2","v":1551},1550,1690,{"$f":"N162+N162*Титул.лист!$A$1","v":1859},{"$f":"O162+O162*Титул.лист!$P$2","v":1859},1860,1790,{"$f":"R162+R162*Титул.лист!$A$1","v":1969},{"$f":"S162+S162*Титул.лист!$P$2","v":1969},1970,1990,{"$f":"V162+V162*Титул.лист!$A$1","v":2189},{"$f":"W162+W162*Титул.лист!$P$2","v":2189},2190,2090,{"$f":"Z162+Z162*Титул.лист!$A$1","v":2299},{"$f":"AA162+AA162*Титул.лист!$P$2","v":2299},2300,1660,{"$f":"AD162+AD162*Титул.лист!$A$1","v":1826},{"$f":"AE162+AE162*Титул.лист!$P$2","v":1826},1830,1780,{"$f":"AH162+AH162*Титул.лист!$A$1","v":1958},{"$f":"AI162+AI162*Титул.лист!$P$2","v":1958},1960,1830,{"$f":"AL162+AL162*Титул.лист!$A$1","v":2013},{"$f":"AM162+AM162*Титул.лист!$P$2","v":2013},2010,3067.6,{"$f":"AP162+AP162*Титул.лист!$A$1","v":3374.3599999999997},{"$f":"AQ162+AQ162*Титул.лист!$P$2","v":3374.3599999999997},3370,3463.6,{"$f":"AT162+AT162*Титул.лист!$A$1","v":3809.96},{"$f":"AU162+AU162*Титул.лист!$P$2","v":3809.96},3810,2786.8,{"$f":"AX162+AX162*Титул.лист!$A$1","v":3065.48},{"$f":"AY162+AY162*Титул.лист!$P$2","v":3065.48},3070,3499.6,{"$f":"BB162+BB162*Титул.лист!$A$1","v":3849.56},{"$f":"BC162+BC162*Титул.лист!$P$2","v":3849.56},3850,4867.6000000000004,{"$f":"BF162+BF162*Титул.лист!$A$1","v":5354.3600000000006},{"$f":"BG162+BG162*Титул.лист!$P$2","v":5354.3600000000006},5350]
[null,null,700,null,"1424-70",1580,{"$f":"F163+F163*Титул.лист!$A$1","v":1738},{"$f":"G163+G163*Титул.лист!$P$2","v":1738},1740,1705.0000000000002,{"$f":"J163+J163*Титул.лист!$A$1","v":1875.5000000000002},{"$f":"K163+K163*Титул.лист!$P$2","v":1875.5000000000002},1880,2020,{"$f":"N163+N163*Титул.лист!$A$1","v":2222},{"$f":"O163+O163*Титул.лист!$P$2","v":2222},2220,2140,{"$f":"R163+R163*Титул.лист!$A$1","v":2354},{"$f":"S163+S163*Титул.лист!$P$2","v":2354},2350,2360,{"$f":"V163+V163*Титул.лист!$A$1","v":2596},{"$f":"W163+W163*Титул.лист!$P$2","v":2596},2600,2486,{"$f":"Z163+Z163*Титул.лист!$A$1","v":2734.6},{"$f":"AA163+AA163*Титул.лист!$P$2","v":2734.6},2730,2000,{"$f":"AD163+AD163*Титул.лист!$A$1","v":2200},{"$f":"AE163+AE163*Титул.лист!$P$2","v":2200},2200,2140,{"$f":"AH163+AH163*Титул.лист!$A$1","v":2354},{"$f":"AI163+AI163*Титул.лист!$P$2","v":2354},2350,2210,{"$f":"AL163+AL163*Титул.лист!$A$1","v":2431},{"$f":"AM163+AM163*Титул.лист!$P$2","v":2431},2430,3642.2,{"$f":"AP163+AP163*Титул.лист!$A$1","v":4006.42},{"$f":"AQ163+AQ163*Титул.лист!$P$2","v":4006.42},4010,4104.2,{"$f":"AT163+AT163*Титул.лист!$A$1","v":4514.62},{"$f":"AU163+AU163*Титул.лист!$P$2","v":4514.62},4510,3314.6,{"$f":"AX163+AX163*Титул.лист!$A$1","v":3646.06},{"$f":"AY163+AY163*Титул.лист!$P$2","v":3646.06},3650,4146.2,{"$f":"BB163+BB163*Титул.лист!$A$1","v":4560.82},{"$f":"BC163+BC163*Титул.лист!$P$2","v":4560.82},4560,5742.2,{"$f":"BF163+BF163*Титул.лист!$A$1","v":6316.42},{"$f":"BG163+BG163*Титул.лист!$P$2","v":6316.42},6320]
[null,null,800,null,"1424-80",1730,{"$f":"F164+F164*Титул.лист!$A$1","v":1903},{"$f":"G164+G164*Титул.лист!$P$2","v":1903},1900,1870.0000000000002,{"$f":"J164+J164*Титул.лист!$A$1","v":2057.0000000000005},{"$f":"K164+K164*Титул.лист!$P$2","v":2057.0000000000005},2060,2220,{"$f":"N164+N164*Титул.лист!$A$1","v":2442},{"$f":"O164+O164*Титул.лист!$P$2","v":2442},2440,2360,{"$f":"R164+R164*Титул.лист!$A$1","v":2596},{"$f":"S164+S164*Титул.лист!$P$2","v":2596},2600,2610,{"$f":"V164+V164*Титул.лист!$A$1","v":2871},{"$f":"W164+W164*Титул.лист!$P$2","v":2871},2870,2750,{"$f":"Z164+Z164*Титул.лист!$A$1","v":3025},{"$f":"AA164+AA164*Титул.лист!$P$2","v":3025},3030,2200,{"$f":"AD164+AD164*Титул.лист!$A$1","v":2420},{"$f":"AE164+AE164*Титул.лист!$P$2","v":2420},2420,2370,{"$f":"AH164+AH164*Титул.лист!$A$1","v":2607},{"$f":"AI164+AI164*Титул.лист!$P$2","v":2607},2610,2430,{"$f":"AL164+AL164*Титул.лист!$A$1","v":2673},{"$f":"AM164+AM164*Титул.лист!$P$2","v":2673},2670,4076.8,{"$f":"AP164+AP164*Титул.лист!$A$1","v":4484.4800000000005},{"$f":"AQ164+AQ164*Титул.лист!$P$2","v":4484.4800000000005},4480,4604.7999999999993,{"$f":"AT164+AT164*Титул.лист!$A$1","v":5065.2799999999988},{"$f":"AU164+AU164*Титул.лист!$P$2","v":5065.2799999999988},5070,3702.3999999999996,{"$f":"AX164+AX164*Титул.лист!$A$1","v":4072.6399999999994},{"$f":"AY164+AY164*Титул.лист!$P$2","v":4072.6399999999994},4070,4652.7999999999993,{"$f":"BB164+BB164*Титул.лист!$A$1","v":5118.079999999999},{"$f":"BC164+BC164*Титул.лист!$P$2","v":5118.079999999999},5120,6476.8,{"$f":"BF164+BF164*Титул.лист!$A$1","v":7124.4800000000005},{"$f":"BG164+BG164*Титул.лист!$P$2","v":7124.4800000000005},7120]
[null,null,400,"h 720","1413-40",1060,{"$f":"F165+F165*Титул.лист!$A$1","v":1166},{"$f":"G165+G165*Титул.лист!$P$2","v":1166},1170,1130,{"$f":"J165+J165*Титул.лист!$A$1","v":1243},{"$f":"K165+K165*Титул.лист!$P$2","v":1243},1240,1350,{"$f":"N165+N165*Титул.лист!$A$1","v":1485},{"$f":"O165+O165*Титул.лист!$P$2","v":1485},1490,1430.0000000000002,{"$f":"R165+R165*Титул.лист!$A$1","v":1573.0000000000002},{"$f":"S165+S165*Титул.лист!$P$2","v":1573.0000000000002},1570,1580,{"$f":"V165+V165*Титул.лист!$A$1","v":1738},{"$f":"W165+W165*Титул.лист!$P$2","v":1738},1740,1660,{"$f":"Z165+Z165*Титул.лист!$A$1","v":1826},{"$f":"AA165+AA165*Титул.лист!$P$2","v":1826},1830,1390,{"$f":"AD165+AD165*Титул.лист!$A$1","v":1529},{"$f":"AE165+AE165*Титул.лист!$P$2","v":1529},1530,1480,{"$f":"AH165+AH165*Титул.лист!$A$1","v":1628},{"$f":"AI165+AI165*Титул.лист!$P$2","v":1628},1630,1520,{"$f":"AL165+AL165*Титул.лист!$A$1","v":1672},{"$f":"AM165+AM165*Титул.лист!$P$2","v":1672},1670,2509.8239999999996,{"$f":"AP165+AP165*Титул.лист!$A$1","v":2760.8063999999995},{"$f":"AQ165+AQ165*Титул.лист!$P$2","v":2760.8063999999995},2760,2832.88,{"$f":"AT165+AT165*Титул.лист!$A$1","v":3116.1680000000001},{"$f":"AU165+AU165*Титул.лист!$P$2","v":3116.1680000000001},3120,2291.44,{"$f":"AX165+AX165*Титул.лист!$A$1","v":2520.5839999999998},{"$f":"AY165+AY165*Титул.лист!$P$2","v":2520.5839999999998},2520,2861.6800000000003,{"$f":"BB165+BB165*Титул.лист!$A$1","v":3147.8480000000004},{"$f":"BC165+BC165*Титул.лист!$P$2","v":3147.8480000000004},3150,3956.0800000000004,{"$f":"BF165+BF165*Титул.лист!$A$1","v":4351.6880000000001},{"$f":"BG165+BG165*Титул.лист!$P$2","v":4351.6880000000001},4350]
[null,null,450,null,"1413-45",1100,{"$f":"F166+F166*Титул.лист!$A$1","v":1210},{"$f":"G166+G166*Титул.лист!$P$2","v":1210},1210,1200,{"$f":"J166+J166*Титул.лист!$A$1","v":1320},{"$f":"K166+K166*Титул.лист!$P$2","v":1320},1320,1500,{"$f":"N166+N166*Титул.лист!$A$1","v":1650},{"$f":"O166+O166*Титул.лист!$P$2","v":1650},1650,1600,{"$f":"R166+R166*Титул.лист!$A$1","v":1760},{"$f":"S166+S166*Титул.лист!$P$2","v":1760},1760,1800,{"$f":"V166+V166*Титул.лист!$A$1","v":1980},{"$f":"W166+W166*Титул.лист!$P$2","v":1980},1980,1870,{"$f":"Z166+Z166*Титул.лист!$A$1","v":2057},{"$f":"AA166+AA166*Титул.лист!$P$2","v":2057},2060,1500,{"$f":"AD166+AD166*Титул.лист!$A$1","v":1650},{"$f":"AE166+AE166*Титул.лист!$P$2","v":1650},1650,1650,{"$f":"AH166+AH166*Титул.лист!$A$1","v":1815},{"$f":"AI166+AI166*Титул.лист!$P$2","v":1815},1820,1700,{"$f":"AL166+AL166*Титул.лист!$A$1","v":1870},{"$f":"AM166+AM166*Титул.лист!$P$2","v":1870},1870,2759.8019999999997,{"$f":"AP166+AP166*Титул.лист!$A$1","v":3035.7821999999996},{"$f":"AQ166+AQ166*Титул.лист!$P$2","v":3035.7821999999996},3040,3123.24,{"$f":"AT166+AT166*Титул.лист!$A$1","v":3435.5639999999999},{"$f":"AU166+AU166*Титул.лист!$P$2","v":3435.5639999999999},3440,2514.12,{"$f":"AX166+AX166*Титул.лист!$A$1","v":2765.5319999999997},{"$f":"AY166+AY166*Титул.лист!$P$2","v":2765.5319999999997},2770,3155.6400000000003,{"$f":"BB166+BB166*Титул.лист!$A$1","v":3471.2040000000006},{"$f":"BC166+BC166*Титул.лист!$P$2","v":3471.2040000000006},3470,4386.84,{"$f":"BF166+BF166*Титул.лист!$A$1","v":4825.5240000000003},{"$f":"BG166+BG166*Титул.лист!$P$2","v":4825.5240000000003},4830]
[null,null,500,null,"1413-50",1150,{"$f":"F167+F167*Титул.лист!$A$1","v":1265},{"$f":"G167+G167*Титул.лист!$P$2","v":1265},1270,1230,{"$f":"J167+J167*Титул.лист!$A$1","v":1353},{"$f":"K167+K167*Титул.лист!$P$2","v":1353},1350,1540.0000000000002,{"$f":"N167+N167*Титул.лист!$A$1","v":1694.0000000000002},{"$f":"O167+O167*Титул.лист!$P$2","v":1694.0000000000002},1690,1620,{"$f":"R167+R167*Титул.лист!$A$1","v":1782},{"$f":"S167+S167*Титул.лист!$P$2","v":1782},1780,1840,{"$f":"V167+V167*Титул.лист!$A$1","v":2024},{"$f":"W167+W167*Титул.лист!$P$2","v":2024},2020,1910,{"$f":"Z167+Z167*Титул.лист!$A$1","v":2101},{"$f":"AA167+AA167*Титул.лист!$P$2","v":2101},2100,1560,{"$f":"AD167+AD167*Титул.лист!$A$1","v":1716},{"$f":"AE167+AE167*Титул.лист!$P$2","v":1716},1720,1680,{"$f":"AH167+AH167*Титул.лист!$A$1","v":1848},{"$f":"AI167+AI167*Титул.лист!$P$2","v":1848},1850,1730,{"$f":"AL167+AL167*Титул.лист!$A$1","v":1903},{"$f":"AM167+AM167*Титул.лист!$P$2","v":1903},1900,2959.7799999999997,{"$f":"AP167+AP167*Титул.лист!$A$1","v":3255.7579999999998},{"$f":"AQ167+AQ167*Титул.лист!$P$2","v":3255.7579999999998},3260,3363.6000000000004,{"$f":"AT167+AT167*Титул.лист!$A$1","v":3699.9600000000005},{"$f":"AU167+AU167*Титул.лист!$P$2","v":3699.9600000000005},3700,2686.8,{"$f":"AX167+AX167*Титул.лист!$A$1","v":2955.48},{"$f":"AY167+AY167*Титул.лист!$P$2","v":2955.48},2960,3399.6000000000004,{"$f":"BB167+BB167*Титул.лист!$A$1","v":3739.5600000000004},{"$f":"BC167+BC167*Титул.лист!$P$2","v":3739.5600000000004},3740,4767.6000000000004,{"$f":"BF167+BF167*Титул.лист!$A$1","v":5244.3600000000006},{"$f":"BG167+BG167*Титул.лист!$P$2","v":5244.3600000000006},5240]
[null,null,550,null,"1413-55",1200,{"$f":"F168+F168*Титул.лист!$A$1","v":1320},{"$f":"G168+G168*Титул.лист!$P$2","v":1320},1320,1300,{"$f":"J168+J168*Титул.лист!$A$1","v":1430},{"$f":"K168+K168*Титул.лист!$P$2","v":1430},1430,1700,{"$f":"N168+N168*Титул.лист!$A$1","v":1870},{"$f":"O168+O168*Титул.лист!$P$2","v":1870},1870,1780,{"$f":"R168+R168*Титул.лист!$A$1","v":1958},{"$f":"S168+S168*Титул.лист!$P$2","v":1958},1960,2000,{"$f":"V168+V168*Титул.лист!$A$1","v":2200},{"$f":"W168+W168*Титул.лист!$P$2","v":2200},2200,2100,{"$f":"Z168+Z168*Титул.лист!$A$1","v":2310},{"$f":"AA168+AA168*Титул.лист!$P$2","v":2310},2310,1700,{"$f":"AD168+AD168*Титул.лист!$A$1","v":1870},{"$f":"AE168+AE168*Титул.лист!$P$2","v":1870},1870,1870,{"$f":"AH168+AH168*Титул.лист!$A$1","v":2057},{"$f":"AI168+AI168*Титул.лист!$P$2","v":2057},2060,1930,{"$f":"AL168+AL168*Титул.лист!$A$1","v":2123},{"$f":"AM168+AM168*Титул.лист!$P$2","v":2123},2120,3239.7579999999998,{"$f":"AP168+AP168*Титул.лист!$A$1","v":3563.7338},{"$f":"AQ168+AQ168*Титул.лист!$P$2","v":3563.7338},3560,3683.96,{"$f":"AT168+AT168*Титул.лист!$A$1","v":4052.3560000000002},{"$f":"AU168+AU168*Титул.лист!$P$2","v":4052.3560000000002},4050,2939.48,{"$f":"AX168+AX168*Титул.лист!$A$1","v":3233.4279999999999},{"$f":"AY168+AY168*Титул.лист!$P$2","v":3233.4279999999999},3230,3723.5600000000004,{"$f":"BB168+BB168*Титул.лист!$A$1","v":4095.9160000000006},{"$f":"BC168+BC168*Титул.лист!$P$2","v":4095.9160000000006},4100,5228.3600000000006,{"$f":"BF168+BF168*Титул.лист!$A$1","v":5751.1960000000008},{"$f":"BG168+BG168*Титул.лист!$P$2","v":5751.1960000000008},5750]
[null,null,600,null,"1413-60",1260,{"$f":"F169+F169*Титул.лист!$A$1","v":1386},{"$f":"G169+G169*Титул.лист!$P$2","v":1386},1390,1350,{"$f":"J169+J169*Титул.лист!$A$1","v":1485},{"$f":"K169+K169*Титул.лист!$P$2","v":1485},1490,1730,{"$f":"N169+N169*Титул.лист!$A$1","v":1903},{"$f":"O169+O169*Титул.лист!$P$2","v":1903},1900,1810,{"$f":"R169+R169*Титул.лист!$A$1","v":1991},{"$f":"S169+S169*Титул.лист!$P$2","v":1991},1990,2070,{"$f":"V169+V169*Титул.лист!$A$1","v":2277},{"$f":"W169+W169*Титул.лист!$P$2","v":2277},2280,2160,{"$f":"Z169+Z169*Титул.лист!$A$1","v":2376},{"$f":"AA169+AA169*Титул.лист!$P$2","v":2376},2380,1750,{"$f":"AD169+AD169*Титул.лист!$A$1","v":1925},{"$f":"AE169+AE169*Титул.лист!$P$2","v":1925},1930,1900,{"$f":"AH169+AH169*Титул.лист!$A$1","v":2090},{"$f":"AI169+AI169*Титул.лист!$P$2","v":2090},2090,1960,{"$f":"AL169+AL169*Титул.лист!$A$1","v":2156},{"$f":"AM169+AM169*Титул.лист!$P$2","v":2156},2160,3429.7359999999999,{"$f":"AP169+AP169*Титул.лист!$A$1","v":3772.7096000000001},{"$f":"AQ169+AQ169*Титул.лист!$P$2","v":3772.7096000000001},3770,3914.32,{"$f":"AT169+AT169*Титул.лист!$A$1","v":4305.7520000000004},{"$f":"AU169+AU169*Титул.лист!$P$2","v":4305.7520000000004},4310,3102.16,{"$f":"AX169+AX169*Титул.лист!$A$1","v":3412.3759999999997},{"$f":"AY169+AY169*Титул.лист!$P$2","v":3412.3759999999997},3410,3957.5200000000004,{"$f":"BB169+BB169*Титул.лист!$A$1","v":4353.2720000000008},{"$f":"BC169+BC169*Титул.лист!$P$2","v":4353.2720000000008},4350,5599.1200000000008,{"$f":"BF169+BF169*Титул.лист!$A$1","v":6159.0320000000011},{"$f":"BG169+BG169*Титул.лист!$P$2","v":6159.0320000000011},6160]
[null,null,700,null,"1413-70",1550,{"$f":"F170+F170*Титул.лист!$A$1","v":1705},{"$f":"G170+G170*Титул.лист!$P$2","v":1705},1710,1660,{"$f":"J170+J170*Титул.лист!$A$1","v":1826},{"$f":"K170+K170*Титул.лист!$P$2","v":1826},1830,2080,{"$f":"N170+N170*Титул.лист!$A$1","v":2288},{"$f":"O170+O170*Титул.лист!$P$2","v":2288},2290,2190,{"$f":"R170+R170*Титул.лист!$A$1","v":2409},{"$f":"S170+S170*Титул.лист!$P$2","v":2409},2410,2490,{"$f":"V170+V170*Титул.лист!$A$1","v":2739},{"$f":"W170+W170*Титул.лист!$P$2","v":2739},2740,2600,{"$f":"Z170+Z170*Титул.лист!$A$1","v":2860},{"$f":"AA170+AA170*Титул.лист!$P$2","v":2860},2860,2130,{"$f":"AD170+AD170*Титул.лист!$A$1","v":2343},{"$f":"AE170+AE170*Титул.лист!$P$2","v":2343},2340,2300,{"$f":"AH170+AH170*Титул.лист!$A$1","v":2530},{"$f":"AI170+AI170*Титул.лист!$P$2","v":2530},2530,2380,{"$f":"AL170+AL170*Титул.лист!$A$1","v":2618},{"$f":"AM170+AM170*Титул.лист!$P$2","v":2618},2620,4089.692,{"$f":"AP170+AP170*Титул.лист!$A$1","v":4498.6612000000005},{"$f":"AQ170+AQ170*Титул.лист!$P$2","v":4498.6612000000005},4500,4655.04,{"$f":"AT170+AT170*Титул.лист!$A$1","v":5120.5439999999999},{"$f":"AU170+AU170*Титул.лист!$P$2","v":5120.5439999999999},5120,3707.52,{"$f":"AX170+AX170*Титул.лист!$A$1","v":4078.2719999999999},{"$f":"AY170+AY170*Титул.лист!$P$2","v":4078.2719999999999},4080,4705.4400000000005,{"$f":"BB170+BB170*Титул.лист!$A$1","v":5175.9840000000004},{"$f":"BC170+BC170*Титул.лист!$P$2","v":5175.9840000000004},5180,6620.64,{"$f":"BF170+BF170*Титул.лист!$A$1","v":7282.7040000000006},{"$f":"BG170+BG170*Титул.лист!$P$2","v":7282.7040000000006},7280]
[null,null,800,null,"1413-80",1650.0000000000002,{"$f":"F171+F171*Титул.лист!$A$1","v":1815.0000000000002},{"$f":"G171+G171*Титул.лист!$P$2","v":1815.0000000000002},1820,1760.0000000000002,{"$f":"J171+J171*Титул.лист!$A$1","v":1936.0000000000002},{"$f":"K171+K171*Титул.лист!$P$2","v":1936.0000000000002},1940,2270,{"$f":"N171+N171*Титул.лист!$A$1","v":2497},{"$f":"O171+O171*Титул.лист!$P$2","v":2497},2500,2380,{"$f":"R171+R171*Титул.лист!$A$1","v":2618},{"$f":"S171+S171*Титул.лист!$P$2","v":2618},2620,2740,{"$f":"V171+V171*Титул.лист!$A$1","v":3014},{"$f":"W171+W171*Титул.лист!$P$2","v":3014},3010,2850,{"$f":"Z171+Z171*Титул.лист!$A$1","v":3135},{"$f":"AA171+AA171*Титул.лист!$P$2","v":3135},3140,2310,{"$f":"AD171+AD171*Титул.лист!$A$1","v":2541},{"$f":"AE171+AE171*Титул.лист!$P$2","v":2541},2540,2500,{"$f":"AH171+AH171*Титул.лист!$A$1","v":2750},{"$f":"AI171+AI171*Титул.лист!$P$2","v":2750},2750,2580,{"$f":"AL171+AL171*Титул.лист!$A$1","v":2838},{"$f":"AM171+AM171*Титул.лист!$P$2","v":2838},2840,4549.6479999999992,{"$f":"AP171+AP171*Титул.лист!$A$1","v":5004.612799999999},{"$f":"AQ171+AQ171*Титул.лист!$P$2","v":5004.612799999999},5000,5195.76,{"$f":"AT171+AT171*Титул.лист!$A$1","v":5715.3360000000002},{"$f":"AU171+AU171*Титул.лист!$P$2","v":5715.3360000000002},5720,4112.88,{"$f":"AX171+AX171*Титул.лист!$A$1","v":4524.1679999999997},{"$f":"AY171+AY171*Титул.лист!$P$2","v":4524.1679999999997},4520,5253.3600000000006,{"$f":"BB171+BB171*Титул.лист!$A$1","v":5778.6960000000008},{"$f":"BC171+BC171*Титул.лист!$P$2","v":5778.6960000000008},5780,7442.1600000000008,{"$f":"BF171+BF171*Титул.лист!$A$1","v":8186.3760000000011},{"$f":"BG171+BG171*Титул.лист!$P$2","v":8186.3760000000011},8190]
[null,null,400,"h 920","1421-40",1190,{"$f":"F172+F172*Титул.лист!$A$1","v":1309},{"$f":"G172+G172*Титул.лист!$P$2","v":1309},1310,1260,{"$f":"J172+J172*Титул.лист!$A$1","v":1386},{"$f":"K172+K172*Титул.лист!$P$2","v":1386},1390,1570,{"$f":"N172+N172*Титул.лист!$A$1","v":1727},{"$f":"O172+O172*Титул.лист!$P$2","v":1727},1730,1650.0000000000002,{"$f":"R172+R172*Титул.лист!$A$1","v":1815.0000000000002},{"$f":"S172+S172*Титул.лист!$P$2","v":1815.0000000000002},1820,1870.0000000000002,{"$f":"V172+V172*Титул.лист!$A$1","v":2057.0000000000005},{"$f":"W172+W172*Титул.лист!$P$2","v":2057.0000000000005},2060,1950,{"$f":"Z172+Z172*Титул.лист!$A$1","v":2145},{"$f":"AA172+AA172*Титул.лист!$P$2","v":2145},2150,1590,{"$f":"AD172+AD172*Титул.лист!$A$1","v":1749},{"$f":"AE172+AE172*Титул.лист!$P$2","v":1749},1750,1720,{"$f":"AH172+AH172*Титул.лист!$A$1","v":1892},{"$f":"AI172+AI172*Титул.лист!$P$2","v":1892},1890,1770,{"$f":"AL172+AL172*Титул.лист!$A$1","v":1947},{"$f":"AM172+AM172*Титул.лист!$P$2","v":1947},1950,3022.6239999999998,{"$f":"AP172+AP172*Титул.лист!$A$1","v":3324.8863999999999},{"$f":"AQ172+AQ172*Титул.лист!$P$2","v":3324.8863999999999},3320,3433.6800000000003,{"$f":"AT172+AT172*Титул.лист!$A$1","v":3777.0480000000002},{"$f":"AU172+AU172*Титул.лист!$P$2","v":3777.0480000000002},3780,2741.84,{"$f":"AX172+AX172*Титул.лист!$A$1","v":3016.0240000000003},{"$f":"AY172+AY172*Титул.лист!$P$2","v":3016.0240000000003},3020,3470.48,{"$f":"BB172+BB172*Титул.лист!$A$1","v":3817.5280000000002},{"$f":"BC172+BC172*Титул.лист!$P$2","v":3817.5280000000002},3820,4868.88,{"$f":"BF172+BF172*Титул.лист!$A$1","v":5355.768},{"$f":"BG172+BG172*Титул.лист!$P$2","v":5355.768},5360]
[null,null,450,null,"1421-45",1250,{"$f":"F173+F173*Титул.лист!$A$1","v":1375},{"$f":"G173+G173*Титул.лист!$P$2","v":1375},1380,1350,{"$f":"J173+J173*Титул.лист!$A$1","v":1485},{"$f":"K173+K173*Титул.лист!$P$2","v":1485},1490,1750,{"$f":"N173+N173*Титул.лист!$A$1","v":1925},{"$f":"O173+O173*Титул.лист!$P$2","v":1925},1930,1850,{"$f":"R173+R173*Титул.лист!$A$1","v":2035},{"$f":"S173+S173*Титул.лист!$P$2","v":2035},2040,2100,{"$f":"V173+V173*Титул.лист!$A$1","v":2310},{"$f":"W173+W173*Титул.лист!$P$2","v":2310},2310,2200,{"$f":"Z173+Z173*Титул.лист!$A$1","v":2420},{"$f":"AA173+AA173*Титул.лист!$P$2","v":2420},2420,1800,{"$f":"AD173+AD173*Титул.лист!$A$1","v":1980},{"$f":"AE173+AE173*Титул.лист!$P$2","v":1980},1980,1950,{"$f":"AH173+AH173*Титул.лист!$A$1","v":2145},{"$f":"AI173+AI173*Титул.лист!$P$2","v":2145},2150,2000,{"$f":"AL173+AL173*Титул.лист!$A$1","v":2200},{"$f":"AM173+AM173*Титул.лист!$P$2","v":2200},2200,3411.7020000000002,{"$f":"AP173+AP173*Титул.лист!$A$1","v":3752.8722000000002},{"$f":"AQ173+AQ173*Титул.лист!$P$2","v":3752.8722000000002},3750,3874.1400000000003,{"$f":"AT173+AT173*Титул.лист!$A$1","v":4261.5540000000001},{"$f":"AU173+AU173*Титул.лист!$P$2","v":4261.5540000000001},4260,3095.82,{"$f":"AX173+AX173*Титул.лист!$A$1","v":3405.402},{"$f":"AY173+AY173*Титул.лист!$P$2","v":3405.402},3410,3915.54,{"$f":"BB173+BB173*Титул.лист!$A$1","v":4307.0940000000001},{"$f":"BC173+BC173*Титул.лист!$P$2","v":4307.0940000000001},4310,5488.74,{"$f":"BF173+BF173*Титул.лист!$A$1","v":6037.6139999999996},{"$f":"BG173+BG173*Титул.лист!$P$2","v":6037.6139999999996},6040]
[null,null,500,null,"1421-50",1300,{"$f":"F174+F174*Титул.лист!$A$1","v":1430},{"$f":"G174+G174*Титул.лист!$P$2","v":1430},1430,1390,{"$f":"J174+J174*Титул.лист!$A$1","v":1529},{"$f":"K174+K174*Титул.лист!$P$2","v":1529},1530,1790,{"$f":"N174+N174*Титул.лист!$A$1","v":1969},{"$f":"O174+O174*Титул.лист!$P$2","v":1969},1970,1880,{"$f":"R174+R174*Титул.лист!$A$1","v":2068},{"$f":"S174+S174*Титул.лист!$P$2","v":2068},2070,2170,{"$f":"V174+V174*Титул.лист!$A$1","v":2387},{"$f":"W174+W174*Титул.лист!$P$2","v":2387},2390,2250,{"$f":"Z174+Z174*Титул.лист!$A$1","v":2475},{"$f":"AA174+AA174*Титул.лист!$P$2","v":2475},2480,1830,{"$f":"AD174+AD174*Титул.лист!$A$1","v":2013},{"$f":"AE174+AE174*Титул.лист!$P$2","v":2013},2010,1980.0000000000002,{"$f":"AH174+AH174*Титул.лист!$A$1","v":2178.0000000000005},{"$f":"AI174+AI174*Титул.лист!$P$2","v":2178.0000000000005},2180,2050,{"$f":"AL174+AL174*Титул.лист!$A$1","v":2255},{"$f":"AM174+AM174*Титул.лист!$P$2","v":2255},2260,3620.7799999999997,{"$f":"AP174+AP174*Титул.лист!$A$1","v":3982.8579999999997},{"$f":"AQ174+AQ174*Титул.лист!$P$2","v":3982.8579999999997},3980,4134.6000000000004,{"$f":"AT174+AT174*Титул.лист!$A$1","v":4548.0600000000004},{"$f":"AU174+AU174*Титул.лист!$P$2","v":4548.0600000000004},4550,3269.8,{"$f":"AX174+AX174*Титул.лист!$A$1","v":3596.78},{"$f":"AY174+AY174*Титул.лист!$P$2","v":3596.78},3600,4180.6000000000004,{"$f":"BB174+BB174*Титул.лист!$A$1","v":4598.6600000000008},{"$f":"BC174+BC174*Титул.лист!$P$2","v":4598.6600000000008},4600,5928.6,{"$f":"BF174+BF174*Титул.лист!$A$1","v":6521.46},{"$f":"BG174+BG174*Титул.лист!$P$2","v":6521.46},6520]
[null,null,550,null,"1421-55",1400,{"$f":"F175+F175*Титул.лист!$A$1","v":1540},{"$f":"G175+G175*Титул.лист!$P$2","v":1540},1540,1500,{"$f":"J175+J175*Титул.лист!$A$1","v":1650},{"$f":"K175+K175*Титул.лист!$P$2","v":1650},1650,1950,{"$f":"N175+N175*Титул.лист!$A$1","v":2145},{"$f":"O175+O175*Титул.лист!$P$2","v":2145},2150,2080,{"$f":"R175+R175*Титул.лист!$A$1","v":2288},{"$f":"S175+S175*Титул.лист!$P$2","v":2288},2290,2400,{"$f":"V175+V175*Титул.лист!$A$1","v":2640},{"$f":"W175+W175*Титул.лист!$P$2","v":2640},2640,2500,{"$f":"Z175+Z175*Титул.лист!$A$1","v":2750},{"$f":"AA175+AA175*Титул.лист!$P$2","v":2750},2750,2000,{"$f":"AD175+AD175*Титул.лист!$A$1","v":2200},{"$f":"AE175+AE175*Титул.лист!$P$2","v":2200},2200,2200,{"$f":"AH175+AH175*Титул.лист!$A$1","v":2420},{"$f":"AI175+AI175*Титул.лист!$P$2","v":2420},2420,2270,{"$f":"AL175+AL175*Титул.лист!$A$1","v":2497},{"$f":"AM175+AM175*Титул.лист!$P$2","v":2497},2500,3969.8580000000002,{"$f":"AP175+AP175*Титул.лист!$A$1","v":4366.8438000000006},{"$f":"AQ175+AQ175*Титул.лист!$P$2","v":4366.8438000000006},4370,4535.0599999999995,{"$f":"AT175+AT175*Титул.лист!$A$1","v":4988.5659999999998},{"$f":"AU175+AU175*Титул.лист!$P$2","v":4988.5659999999998},4990,3583.7799999999997,{"$f":"AX175+AX175*Титул.лист!$A$1","v":3942.1579999999999},{"$f":"AY175+AY175*Титул.лист!$P$2","v":3942.1579999999999},3940,4585.66,{"$f":"BB175+BB175*Титул.лист!$A$1","v":5044.2259999999997},{"$f":"BC175+BC175*Титул.лист!$P$2","v":5044.2259999999997},5040,6508.46,{"$f":"BF175+BF175*Титул.лист!$A$1","v":7159.3060000000005},{"$f":"BG175+BG175*Титул.лист!$P$2","v":7159.3060000000005},7160]
[null,null,600,null,"1421-60",1420,{"$f":"F176+F176*Титул.лист!$A$1","v":1562},{"$f":"G176+G176*Титул.лист!$P$2","v":1562},1560,1530,{"$f":"J176+J176*Титул.лист!$A$1","v":1683},{"$f":"K176+K176*Титул.лист!$P$2","v":1683},1680,2000,{"$f":"N176+N176*Титул.лист!$A$1","v":2200},{"$f":"O176+O176*Титул.лист!$P$2","v":2200},2200,2110,{"$f":"R176+R176*Титул.лист!$A$1","v":2321},{"$f":"S176+S176*Титул.лист!$P$2","v":2321},2320,2450,{"$f":"V176+V176*Титул.лист!$A$1","v":2695},{"$f":"W176+W176*Титул.лист!$P$2","v":2695},2700,2560,{"$f":"Z176+Z176*Титул.лист!$A$1","v":2816},{"$f":"AA176+AA176*Титул.лист!$P$2","v":2816},2820,2050,{"$f":"AD176+AD176*Титул.лист!$A$1","v":2255},{"$f":"AE176+AE176*Титул.лист!$P$2","v":2255},2260,2230,{"$f":"AH176+AH176*Титул.лист!$A$1","v":2453},{"$f":"AI176+AI176*Титул.лист!$P$2","v":2453},2450,2320,{"$f":"AL176+AL176*Титул.лист!$A$1","v":2552},{"$f":"AM176+AM176*Титул.лист!$P$2","v":2552},2550,4198.9359999999997,{"$f":"AP176+AP176*Титул.лист!$A$1","v":4618.8296},{"$f":"AQ176+AQ176*Титул.лист!$P$2","v":4618.8296},4620,4815.5200000000004,{"$f":"AT176+AT176*Титул.лист!$A$1","v":5297.0720000000001},{"$f":"AU176+AU176*Титул.лист!$P$2","v":5297.0720000000001},5300,3777.76,{"$f":"AX176+AX176*Титул.лист!$A$1","v":4155.5360000000001},{"$f":"AY176+AY176*Титул.лист!$P$2","v":4155.5360000000001},4160,4870.72,{"$f":"BB176+BB176*Титул.лист!$A$1","v":5357.7920000000004},{"$f":"BC176+BC176*Титул.лист!$P$2","v":5357.7920000000004},5360,6968.3200000000006,{"$f":"BF176+BF176*Титул.лист!$A$1","v":7665.152000000001},{"$f":"BG176+BG176*Титул.лист!$P$2","v":7665.152000000001},7670]
[null,null,700,null,"1421-70",1730,{"$f":"F177+F177*Титул.лист!$A$1","v":1903},{"$f":"G177+G177*Титул.лист!$P$2","v":1903},1900,1840,{"$f":"J177+J177*Титул.лист!$A$1","v":2024},{"$f":"K177+K177*Титул.лист!$P$2","v":2024},2020,2410,{"$f":"N177+N177*Титул.лист!$A$1","v":2651},{"$f":"O177+O177*Титул.лист!$P$2","v":2651},2650,2520,{"$f":"R177+R177*Титул.лист!$A$1","v":2772},{"$f":"S177+S177*Титул.лист!$P$2","v":2772},2770,2930,{"$f":"V177+V177*Титул.лист!$A$1","v":3223},{"$f":"W177+W177*Титул.лист!$P$2","v":3223},3220,3040,{"$f":"Z177+Z177*Титул.лист!$A$1","v":3344},{"$f":"AA177+AA177*Титул.лист!$P$2","v":3344},3340,2460,{"$f":"AD177+AD177*Титул.лист!$A$1","v":2706},{"$f":"AE177+AE177*Титул.лист!$P$2","v":2706},2710,2680,{"$f":"AH177+AH177*Титул.лист!$A$1","v":2948},{"$f":"AI177+AI177*Титул.лист!$P$2","v":2948},2950,2770,{"$f":"AL177+AL177*Титул.лист!$A$1","v":3047},{"$f":"AM177+AM177*Титул.лист!$P$2","v":3047},3050,4967.0920000000006,{"$f":"AP177+AP177*Титул.лист!$A$1","v":5463.8012000000008},{"$f":"AQ177+AQ177*Титул.лист!$P$2","v":5463.8012000000008},5460,5686.4400000000005,{"$f":"AT177+AT177*Титул.лист!$A$1","v":6255.0840000000007},{"$f":"AU177+AU177*Титул.лист!$P$2","v":6255.0840000000007},6260,4475.72,{"$f":"AX177+AX177*Титул.лист!$A$1","v":4923.2920000000004},{"$f":"AY177+AY177*Титул.лист!$P$2","v":4923.2920000000004},4920,5750.84,{"$f":"BB177+BB177*Титул.лист!$A$1","v":6325.924},{"$f":"BC177+BC177*Титул.лист!$P$2","v":6325.924},6330,8198.0400000000009,{"$f":"BF177+BF177*Титул.лист!$A$1","v":9017.844000000001},{"$f":"BG177+BG177*Титул.лист!$P$2","v":9017.844000000001},9020]
[null,null,800,null,"1421-80",1840,{"$f":"F178+F178*Титул.лист!$A$1","v":2024},{"$f":"G178+G178*Титул.лист!$P$2","v":2024},2020,1960,{"$f":"J178+J178*Титул.лист!$A$1","v":2156},{"$f":"K178+K178*Титул.лист!$P$2","v":2156},2160,2610,{"$f":"N178+N178*Титул.лист!$A$1","v":2871},{"$f":"O178+O178*Титул.лист!$P$2","v":2871},2870,2730,{"$f":"R178+R178*Титул.лист!$A$1","v":3003},{"$f":"S178+S178*Титул.лист!$P$2","v":3003},3000,3200,{"$f":"V178+V178*Титул.лист!$A$1","v":3520},{"$f":"W178+W178*Титул.лист!$P$2","v":3520},3520,3320,{"$f":"Z178+Z178*Титул.лист!$A$1","v":3652},{"$f":"AA178+AA178*Титул.лист!$P$2","v":3652},3650,2670,{"$f":"AD178+AD178*Титул.лист!$A$1","v":2937},{"$f":"AE178+AE178*Титул.лист!$P$2","v":2937},2940,2930,{"$f":"AH178+AH178*Титул.лист!$A$1","v":3223},{"$f":"AI178+AI178*Титул.лист!$P$2","v":3223},3220,3020,{"$f":"AL178+AL178*Титул.лист!$A$1","v":3322},{"$f":"AM178+AM178*Титул.лист!$P$2","v":3322},3320,5535.2479999999996,{"$f":"AP178+AP178*Титул.лист!$A$1","v":6088.7727999999997},{"$f":"AQ178+AQ178*Титул.лист!$P$2","v":6088.7727999999997},6090,6357.3600000000006,{"$f":"AT178+AT178*Титул.лист!$A$1","v":6993.0960000000005},{"$f":"AU178+AU178*Титул.лист!$P$2","v":6993.0960000000005},6990,4973.68,{"$f":"AX178+AX178*Титул.лист!$A$1","v":5471.0480000000007},{"$f":"AY178+AY178*Титул.лист!$P$2","v":5471.0480000000007},5470,6430.96,{"$f":"BB178+BB178*Титул.лист!$A$1","v":7074.0560000000005},{"$f":"BC178+BC178*Титул.лист!$P$2","v":7074.0560000000005},7070,9227.76,{"$f":"BF178+BF178*Титул.лист!$A$1","v":10150.536},{"$f":"BG178+BG178*Титул.лист!$P$2","v":10150.536},10150]
[null,"Шкаф антресольный 2дв.1 стекло(горизонт)",400,"h 600","1425-40гс",1150,{"$f":"F179+F179*Титул.лист!$A$1","v":1265},{"$f":"G179+G179*Титул.лист!$P$2","v":1265},1270,1240,{"$f":"J179+J179*Титул.лист!$A$1","v":1364},{"$f":"K179+K179*Титул.лист!$P$2","v":1364},1360,1410,{"$f":"N179+N179*Титул.лист!$A$1","v":1551},{"$f":"O179+O179*Титул.лист!$P$2","v":1551},1550,1500,{"$f":"R179+R179*Титул.лист!$A$1","v":1650},{"$f":"S179+S179*Титул.лист!$P$2","v":1650},1650,1610,{"$f":"V179+V179*Титул.лист!$A$1","v":1771},{"$f":"W179+W179*Титул.лист!$P$2","v":1771},1770,1690,{"$f":"Z179+Z179*Титул.лист!$A$1","v":1859},{"$f":"AA179+AA179*Титул.лист!$P$2","v":1859},1860,1350,{"$f":"AD179+AD179*Титул.лист!$A$1","v":1485},{"$f":"AE179+AE179*Титул.лист!$P$2","v":1485},1490,1430.0000000000002,{"$f":"AH179+AH179*Титул.лист!$A$1","v":1573.0000000000002},{"$f":"AI179+AI179*Титул.лист!$P$2","v":1573.0000000000002},1570,1460,{"$f":"AL179+AL179*Титул.лист!$A$1","v":1606},{"$f":"AM179+AM179*Титул.лист!$P$2","v":1606},1610,2288.4,{"$f":"AP179+AP179*Титул.лист!$A$1","v":2517.2400000000002},{"$f":"AQ179+AQ179*Титул.лист!$P$2","v":2517.2400000000002},2520,2552.3999999999996,{"$f":"AT179+AT179*Титул.лист!$A$1","v":2807.6399999999994},{"$f":"AU179+AU179*Титул.лист!$P$2","v":2807.6399999999994},2810,2101.1999999999998,{"$f":"AX179+AX179*Титул.лист!$A$1","v":2311.3199999999997},{"$f":"AY179+AY179*Титул.лист!$P$2","v":2311.3199999999997},2310,2576.3999999999996,{"$f":"BB179+BB179*Титул.лист!$A$1","v":2834.0399999999995},{"$f":"BC179+BC179*Титул.лист!$P$2","v":2834.0399999999995},2830,3488.4,{"$f":"BF179+BF179*Титул.лист!$A$1","v":3837.2400000000002},{"$f":"BG179+BG179*Титул.лист!$P$2","v":3837.2400000000002},3840]
[null,null,500,null,"1425-50гс",1320,{"$f":"F180+F180*Титул.лист!$A$1","v":1452},{"$f":"G180+G180*Титул.лист!$P$2","v":1452},1450,1420,{"$f":"J180+J180*Титул.лист!$A$1","v":1562},{"$f":"K180+K180*Титул.лист!$P$2","v":1562},1560,1640,{"$f":"N180+N180*Титул.лист!$A$1","v":1804},{"$f":"O180+O180*Титул.лист!$P$2","v":1804},1800,1740,{"$f":"R180+R180*Титул.лист!$A$1","v":1914},{"$f":"S180+S180*Титул.лист!$P$2","v":1914},1910,1880,{"$f":"V180+V180*Титул.лист!$A$1","v":2068},{"$f":"W180+W180*Титул.лист!$P$2","v":2068},2070,1980.0000000000002,{"$f":"Z180+Z180*Титул.лист!$A$1","v":2178.0000000000005},{"$f":"AA180+AA180*Титул.лист!$P$2","v":2178.0000000000005},2180,1560,{"$f":"AD180+AD180*Титул.лист!$A$1","v":1716},{"$f":"AE180+AE180*Титул.лист!$P$2","v":1716},1720,1660,{"$f":"AH180+AH180*Титул.лист!$A$1","v":1826},{"$f":"AI180+AI180*Титул.лист!$P$2","v":1826},1830,1700,{"$f":"AL180+AL180*Титул.лист!$A$1","v":1870},{"$f":"AM180+AM180*Титул.лист!$P$2","v":1870},1870,2733,{"$f":"AP180+AP180*Титул.лист!$A$1","v":3006.3},{"$f":"AQ180+AQ180*Титул.лист!$P$2","v":3006.3},3010,3063,{"$f":"AT180+AT180*Титул.лист!$A$1","v":3369.3},{"$f":"AU180+AU180*Титул.лист!$P$2","v":3369.3},3370,2499,{"$f":"AX180+AX180*Титул.лист!$A$1","v":2748.9},{"$f":"AY180+AY180*Титул.лист!$P$2","v":2748.9},2750,3093,{"$f":"BB180+BB180*Титул.лист!$A$1","v":3402.3},{"$f":"BC180+BC180*Титул.лист!$P$2","v":3402.3},3400,4233,{"$f":"BF180+BF180*Титул.лист!$A$1","v":4656.3},{"$f":"BG180+BG180*Титул.лист!$P$2","v":4656.3},4660]
[null,null,600,null,"1425-60гс",1450,{"$f":"F181+F181*Титул.лист!$A$1","v":1595},{"$f":"G181+G181*Титул.лист!$P$2","v":1595},1600,1580,{"$f":"J181+J181*Титул.лист!$A$1","v":1738},{"$f":"K181+K181*Титул.лист!$P$2","v":1738},1740,1840,{"$f":"N181+N181*Титул.лист!$A$1","v":2024},{"$f":"O181+O181*Титул.лист!$P$2","v":2024},2020,1970,{"$f":"R181+R181*Титул.лист!$A$1","v":2167},{"$f":"S181+S181*Титул.лист!$P$2","v":2167},2170,2130,{"$f":"V181+V181*Титул.лист!$A$1","v":2343},{"$f":"W181+W181*Титул.лист!$P$2","v":2343},2340,2270,{"$f":"Z181+Z181*Титул.лист!$A$1","v":2497},{"$f":"AA181+AA181*Титул.лист!$P$2","v":2497},2500,1760.0000000000002,{"$f":"AD181+AD181*Титул.лист!$A$1","v":1936.0000000000002},{"$f":"AE181+AE181*Титул.лист!$P$2","v":1936.0000000000002},1940,1880,{"$f":"AH181+AH181*Титул.лист!$A$1","v":2068},{"$f":"AI181+AI181*Титул.лист!$P$2","v":2068},2070,1920,{"$f":"AL181+AL181*Титул.лист!$A$1","v":2112},{"$f":"AM181+AM181*Титул.лист!$P$2","v":2112},2110,3167.6000000000004,{"$f":"AP181+AP181*Титул.лист!$A$1","v":3484.3600000000006},{"$f":"AQ181+AQ181*Титул.лист!$P$2","v":3484.3600000000006},3480,3563.6000000000004,{"$f":"AT181+AT181*Титул.лист!$A$1","v":3919.9600000000005},{"$f":"AU181+AU181*Титул.лист!$P$2","v":3919.9600000000005},3920,2886.8,{"$f":"AX181+AX181*Титул.лист!$A$1","v":3175.48},{"$f":"AY181+AY181*Титул.лист!$P$2","v":3175.48},3180,3599.6000000000004,{"$f":"BB181+BB181*Титул.лист!$A$1","v":3959.5600000000004},{"$f":"BC181+BC181*Титул.лист!$P$2","v":3959.5600000000004},3960,4967.6000000000004,{"$f":"BF181+BF181*Титул.лист!$A$1","v":5464.3600000000006},{"$f":"BG181+BG181*Титул.лист!$P$2","v":5464.3600000000006},5460]
[null,null,700,null,"1425-70гс",1770,{"$f":"F182+F182*Титул.лист!$A$1","v":1947},{"$f":"G182+G182*Титул.лист!$P$2","v":1947},1950,1910,{"$f":"J182+J182*Титул.лист!$A$1","v":2101},{"$f":"K182+K182*Титул.лист!$P$2","v":2101},2100,2210,{"$f":"N182+N182*Титул.лист!$A$1","v":2431},{"$f":"O182+O182*Титул.лист!$P$2","v":2431},2430,2350,{"$f":"R182+R182*Титул.лист!$A$1","v":2585},{"$f":"S182+S182*Титул.лист!$P$2","v":2585},2590,2550,{"$f":"V182+V182*Титул.лист!$A$1","v":2805},{"$f":"W182+W182*Титул.лист!$P$2","v":2805},2810,2690,{"$f":"Z182+Z182*Титул.лист!$A$1","v":2959},{"$f":"AA182+AA182*Титул.лист!$P$2","v":2959},2960,2120,{"$f":"AD182+AD182*Титул.лист!$A$1","v":2332},{"$f":"AE182+AE182*Титул.лист!$P$2","v":2332},2330,2270,{"$f":"AH182+AH182*Титул.лист!$A$1","v":2497},{"$f":"AI182+AI182*Титул.лист!$P$2","v":2497},2500,2330,{"$f":"AL182+AL182*Титул.лист!$A$1","v":2563},{"$f":"AM182+AM182*Титул.лист!$P$2","v":2563},2560,3762.2,{"$f":"AP182+AP182*Титул.лист!$A$1","v":4138.42},{"$f":"AQ182+AQ182*Титул.лист!$P$2","v":4138.42},4140,4224.2,{"$f":"AT182+AT182*Титул.лист!$A$1","v":4646.62},{"$f":"AU182+AU182*Титул.лист!$P$2","v":4646.62},4650,3434.6,{"$f":"AX182+AX182*Титул.лист!$A$1","v":3778.06},{"$f":"AY182+AY182*Титул.лист!$P$2","v":3778.06},3780,4266.2,{"$f":"BB182+BB182*Титул.лист!$A$1","v":4692.82},{"$f":"BC182+BC182*Титул.лист!$P$2","v":4692.82},4690,5862.2,{"$f":"BF182+BF182*Титул.лист!$A$1","v":6448.42},{"$f":"BG182+BG182*Титул.лист!$P$2","v":6448.42},6450]
[null,null,800,null,"1425-80гс",1920,{"$f":"F183+F183*Титул.лист!$A$1","v":2112},{"$f":"G183+G183*Титул.лист!$P$2","v":2112},2110,2090,{"$f":"J183+J183*Титул.лист!$A$1","v":2299},{"$f":"K183+K183*Титул.лист!$P$2","v":2299},2300,2420,{"$f":"N183+N183*Титул.лист!$A$1","v":2662},{"$f":"O183+O183*Титул.лист!$P$2","v":2662},2660,2580,{"$f":"R183+R183*Титул.лист!$A$1","v":2838},{"$f":"S183+S183*Титул.лист!$P$2","v":2838},2840,2800,{"$f":"V183+V183*Титул.лист!$A$1","v":3080},{"$f":"W183+W183*Титул.лист!$P$2","v":3080},3080,2970.0000000000005,{"$f":"Z183+Z183*Титул.лист!$A$1","v":3267.0000000000005},{"$f":"AA183+AA183*Титул.лист!$P$2","v":3267.0000000000005},3270,2330,{"$f":"AD183+AD183*Титул.лист!$A$1","v":2563},{"$f":"AE183+AE183*Титул.лист!$P$2","v":2563},2560,2500,{"$f":"AH183+AH183*Титул.лист!$A$1","v":2750},{"$f":"AI183+AI183*Титул.лист!$P$2","v":2750},2750,2560,{"$f":"AL183+AL183*Титул.лист!$A$1","v":2816},{"$f":"AM183+AM183*Титул.лист!$P$2","v":2816},2820,4206.8,{"$f":"AP183+AP183*Титул.лист!$A$1","v":4627.4800000000005},{"$f":"AQ183+AQ183*Титул.лист!$P$2","v":4627.4800000000005},4630,4734.7999999999993,{"$f":"AT183+AT183*Титул.лист!$A$1","v":5208.2799999999988},{"$f":"AU183+AU183*Титул.лист!$P$2","v":5208.2799999999988},5210,3832.3999999999996,{"$f":"AX183+AX183*Титул.лист!$A$1","v":4215.6399999999994},{"$f":"AY183+AY183*Титул.лист!$P$2","v":4215.6399999999994},4220,4782.7999999999993,{"$f":"BB183+BB183*Титул.лист!$A$1","v":5261.079999999999},{"$f":"BC183+BC183*Титул.лист!$P$2","v":5261.079999999999},5260,6606.8,{"$f":"BF183+BF183*Титул.лист!$A$1","v":7267.4800000000005},{"$f":"BG183+BG183*Титул.лист!$P$2","v":7267.4800000000005},7270]
[null,null,400,"h 720","1413-40гс",1170,{"$f":"F184+F184*Титул.лист!$A$1","v":1287},{"$f":"G184+G184*Титул.лист!$P$2","v":1287},1290,1250,{"$f":"J184+J184*Титул.лист!$A$1","v":1375},{"$f":"K184+K184*Титул.лист!$P$2","v":1375},1380,1460,{"$f":"N184+N184*Титул.лист!$A$1","v":1606},{"$f":"O184+O184*Титул.лист!$P$2","v":1606},1610,1550,{"$f":"R184+R184*Титул.лист!$A$1","v":1705},{"$f":"S184+S184*Титул.лист!$P$2","v":1705},1710,1690,{"$f":"V184+V184*Титул.лист!$A$1","v":1859},{"$f":"W184+W184*Титул.лист!$P$2","v":1859},1860,1780,{"$f":"Z184+Z184*Титул.лист!$A$1","v":1958},{"$f":"AA184+AA184*Титул.лист!$P$2","v":1958},1960,1450,{"$f":"AD184+AD184*Титул.лист!$A$1","v":1595},{"$f":"AE184+AE184*Титул.лист!$P$2","v":1595},1600,1550,{"$f":"AH184+AH184*Титул.лист!$A$1","v":1705},{"$f":"AI184+AI184*Титул.лист!$P$2","v":1705},1710,1580,{"$f":"AL184+AL184*Титул.лист!$A$1","v":1738},{"$f":"AM184+AM184*Титул.лист!$P$2","v":1738},1740,2569.8239999999996,{"$f":"AP184+AP184*Титул.лист!$A$1","v":2826.8063999999995},{"$f":"AQ184+AQ184*Титул.лист!$P$2","v":2826.8063999999995},2830,2892.88,{"$f":"AT184+AT184*Титул.лист!$A$1","v":3182.1680000000001},{"$f":"AU184+AU184*Титул.лист!$P$2","v":3182.1680000000001},3180,2351.44,{"$f":"AX184+AX184*Титул.лист!$A$1","v":2586.5839999999998},{"$f":"AY184+AY184*Титул.лист!$P$2","v":2586.5839999999998},2590,2921.6800000000003,{"$f":"BB184+BB184*Титул.лист!$A$1","v":3213.8480000000004},{"$f":"BC184+BC184*Титул.лист!$P$2","v":3213.8480000000004},3210,4016.0800000000004,{"$f":"BF184+BF184*Титул.лист!$A$1","v":4417.6880000000001},{"$f":"BG184+BG184*Титул.лист!$P$2","v":4417.6880000000001},4420]
[null,null,450,null,"1413-45гс",1200,{"$f":"F185+F185*Титул.лист!$A$1","v":1320},{"$f":"G185+G185*Титул.лист!$P$2","v":1320},1320,1300,{"$f":"J185+J185*Титул.лист!$A$1","v":1430},{"$f":"K185+K185*Титул.лист!$P$2","v":1430},1430,1600,{"$f":"N185+N185*Титул.лист!$A$1","v":1760},{"$f":"O185+O185*Титул.лист!$P$2","v":1760},1760,1700,{"$f":"R185+R185*Титул.лист!$A$1","v":1870},{"$f":"S185+S185*Титул.лист!$P$2","v":1870},1870,1900,{"$f":"V185+V185*Титул.лист!$A$1","v":2090},{"$f":"W185+W185*Титул.лист!$P$2","v":2090},2090,2000,{"$f":"Z185+Z185*Титул.лист!$A$1","v":2200},{"$f":"AA185+AA185*Титул.лист!$P$2","v":2200},2200,1600,{"$f":"AD185+AD185*Титул.лист!$A$1","v":1760},{"$f":"AE185+AE185*Титул.лист!$P$2","v":1760},1760,1700,{"$f":"AH185+AH185*Титул.лист!$A$1","v":1870},{"$f":"AI185+AI185*Титул.лист!$P$2","v":1870},1870,1750,{"$f":"AL185+AL185*Титул.лист!$A$1","v":1925},{"$f":"AM185+AM185*Титул.лист!$P$2","v":1925},1930,2859.8019999999997,{"$f":"AP185+AP185*Титул.лист!$A$1","v":3145.7821999999996},{"$f":"AQ185+AQ185*Титул.лист!$P$2","v":3145.7821999999996},3150,3223.24,{"$f":"AT185+AT185*Титул.лист!$A$1","v":3545.5639999999999},{"$f":"AU185+AU185*Титул.лист!$P$2","v":3545.5639999999999},3550,2614.12,{"$f":"AX185+AX185*Титул.лист!$A$1","v":2875.5319999999997},{"$f":"AY185+AY185*Титул.лист!$P$2","v":2875.5319999999997},2880,3255.6400000000003,{"$f":"BB185+BB185*Титул.лист!$A$1","v":3581.2040000000006},{"$f":"BC185+BC185*Титул.лист!$P$2","v":3581.2040000000006},3580,4486.84,{"$f":"BF185+BF185*Титул.лист!$A$1","v":4935.5240000000003},{"$f":"BG185+BG185*Титул.лист!$P$2","v":4935.5240000000003},4940]
[null,null,500,null,"1413-50гс",1290,{"$f":"F186+F186*Титул.лист!$A$1","v":1419},{"$f":"G186+G186*Титул.лист!$P$2","v":1419},1420,1390,{"$f":"J186+J186*Титул.лист!$A$1","v":1529},{"$f":"K186+K186*Титул.лист!$P$2","v":1529},1530,1670,{"$f":"N186+N186*Титул.лист!$A$1","v":1837},{"$f":"O186+O186*Титул.лист!$P$2","v":1837},1840,1770,{"$f":"R186+R186*Титул.лист!$A$1","v":1947},{"$f":"S186+S186*Титул.лист!$P$2","v":1947},1950,1970,{"$f":"V186+V186*Титул.лист!$A$1","v":2167},{"$f":"W186+W186*Титул.лист!$P$2","v":2167},2170,2070,{"$f":"Z186+Z186*Титул.лист!$A$1","v":2277},{"$f":"AA186+AA186*Титул.лист!$P$2","v":2277},2280,1650.0000000000002,{"$f":"AD186+AD186*Титул.лист!$A$1","v":1815.0000000000002},{"$f":"AE186+AE186*Титул.лист!$P$2","v":1815.0000000000002},1820,1770,{"$f":"AH186+AH186*Титул.лист!$A$1","v":1947},{"$f":"AI186+AI186*Титул.лист!$P$2","v":1947},1950,1810,{"$f":"AL186+AL186*Титул.лист!$A$1","v":1991},{"$f":"AM186+AM186*Титул.лист!$P$2","v":1991},1990,3049.78,{"$f":"AP186+AP186*Титул.лист!$A$1","v":3354.7580000000003},{"$f":"AQ186+AQ186*Титул.лист!$P$2","v":3354.7580000000003},3350,3453.6000000000004,{"$f":"AT186+AT186*Титул.лист!$A$1","v":3798.9600000000005},{"$f":"AU186+AU186*Титул.лист!$P$2","v":3798.9600000000005},3800,2776.8,{"$f":"AX186+AX186*Титул.лист!$A$1","v":3054.48},{"$f":"AY186+AY186*Титул.лист!$P$2","v":3054.48},3050,3489.6000000000004,{"$f":"BB186+BB186*Титул.лист!$A$1","v":3838.5600000000004},{"$f":"BC186+BC186*Титул.лист!$P$2","v":3838.5600000000004},3840,4857.6000000000004,{"$f":"BF186+BF186*Титул.лист!$A$1","v":5343.3600000000006},{"$f":"BG186+BG186*Титул.лист!$P$2","v":5343.3600000000006},5340]
[null,null,550,null,"1413-55гс",1350,{"$f":"F187+F187*Титул.лист!$A$1","v":1485},{"$f":"G187+G187*Титул.лист!$P$2","v":1485},1490,1450,{"$f":"J187+J187*Титул.лист!$A$1","v":1595},{"$f":"K187+K187*Титул.лист!$P$2","v":1595},1600,1800,{"$f":"N187+N187*Титул.лист!$A$1","v":1980},{"$f":"O187+O187*Титул.лист!$P$2","v":1980},1980,1950,{"$f":"R187+R187*Титул.лист!$A$1","v":2145},{"$f":"S187+S187*Титул.лист!$P$2","v":2145},2150,2150,{"$f":"V187+V187*Титул.лист!$A$1","v":2365},{"$f":"W187+W187*Титул.лист!$P$2","v":2365},2370,2250,{"$f":"Z187+Z187*Титул.лист!$A$1","v":2475},{"$f":"AA187+AA187*Титул.лист!$P$2","v":2475},2480,1800,{"$f":"AD187+AD187*Титул.лист!$A$1","v":1980},{"$f":"AE187+AE187*Титул.лист!$P$2","v":1980},1980,1950,{"$f":"AH187+AH187*Титул.лист!$A$1","v":2145},{"$f":"AI187+AI187*Титул.лист!$P$2","v":2145},2150,2000,{"$f":"AL187+AL187*Титул.лист!$A$1","v":2200},{"$f":"AM187+AM187*Титул.лист!$P$2","v":2200},2200,3339.7579999999998,{"$f":"AP187+AP187*Титул.лист!$A$1","v":3673.7338},{"$f":"AQ187+AQ187*Титул.лист!$P$2","v":3673.7338},3670,3783.96,{"$f":"AT187+AT187*Титул.лист!$A$1","v":4162.3559999999998},{"$f":"AU187+AU187*Титул.лист!$P$2","v":4162.3559999999998},4160,3039.48,{"$f":"AX187+AX187*Титул.лист!$A$1","v":3343.4279999999999},{"$f":"AY187+AY187*Титул.лист!$P$2","v":3343.4279999999999},3340,3823.5600000000004,{"$f":"BB187+BB187*Титул.лист!$A$1","v":4205.9160000000002},{"$f":"BC187+BC187*Титул.лист!$P$2","v":4205.9160000000002},4210,5328.3600000000006,{"$f":"BF187+BF187*Титул.лист!$A$1","v":5861.1960000000008},{"$f":"BG187+BG187*Титул.лист!$P$2","v":5861.1960000000008},5860]
[null,null,600,null,"1413-60гс",1430.0000000000002,{"$f":"F188+F188*Титул.лист!$A$1","v":1573.0000000000002},{"$f":"G188+G188*Титул.лист!$P$2","v":1573.0000000000002},1570,1540.0000000000002,{"$f":"J188+J188*Титул.лист!$A$1","v":1694.0000000000002},{"$f":"K188+K188*Титул.лист!$P$2","v":1694.0000000000002},1690,1890,{"$f":"N188+N188*Титул.лист!$A$1","v":2079},{"$f":"O188+O188*Титул.лист!$P$2","v":2079},2080,2000,{"$f":"R188+R188*Титул.лист!$A$1","v":2200},{"$f":"S188+S188*Титул.лист!$P$2","v":2200},2200,2230,{"$f":"V188+V188*Титул.лист!$A$1","v":2453},{"$f":"W188+W188*Титул.лист!$P$2","v":2453},2450,2340,{"$f":"Z188+Z188*Титул.лист!$A$1","v":2574},{"$f":"AA188+AA188*Титул.лист!$P$2","v":2574},2570,1860,{"$f":"AD188+AD188*Титул.лист!$A$1","v":2046},{"$f":"AE188+AE188*Титул.лист!$P$2","v":2046},2050,2010,{"$f":"AH188+AH188*Титул.лист!$A$1","v":2211},{"$f":"AI188+AI188*Титул.лист!$P$2","v":2211},2210,2070,{"$f":"AL188+AL188*Титул.лист!$A$1","v":2277},{"$f":"AM188+AM188*Титул.лист!$P$2","v":2277},2280,3539.7359999999999,{"$f":"AP188+AP188*Титул.лист!$A$1","v":3893.7096000000001},{"$f":"AQ188+AQ188*Титул.лист!$P$2","v":3893.7096000000001},3890,4024.32,{"$f":"AT188+AT188*Титул.лист!$A$1","v":4426.7520000000004},{"$f":"AU188+AU188*Титул.лист!$P$2","v":4426.7520000000004},4430,3212.16,{"$f":"AX188+AX188*Титул.лист!$A$1","v":3533.3759999999997},{"$f":"AY188+AY188*Титул.лист!$P$2","v":3533.3759999999997},3530,4067.5200000000004,{"$f":"BB188+BB188*Титул.лист!$A$1","v":4474.2720000000008},{"$f":"BC188+BC188*Титул.лист!$P$2","v":4474.2720000000008},4470,5709.1200000000008,{"$f":"BF188+BF188*Титул.лист!$A$1","v":6280.0320000000011},{"$f":"BG188+BG188*Титул.лист!$P$2","v":6280.0320000000011},6280]
[null,null,650,null,"1413-65гс",1700,{"$f":"F189+F189*Титул.лист!$A$1","v":1870},{"$f":"G189+G189*Титул.лист!$P$2","v":1870},1870,1800,{"$f":"J189+J189*Титул.лист!$A$1","v":1980},{"$f":"K189+K189*Титул.лист!$P$2","v":1980},1980,2200,{"$f":"N189+N189*Титул.лист!$A$1","v":2420},{"$f":"O189+O189*Титул.лист!$P$2","v":2420},2420,2350,{"$f":"R189+R189*Титул.лист!$A$1","v":2585},{"$f":"S189+S189*Титул.лист!$P$2","v":2585},2590,2600,{"$f":"V189+V189*Титул.лист!$A$1","v":2860},{"$f":"W189+W189*Титул.лист!$P$2","v":2860},2860,2750,{"$f":"Z189+Z189*Титул.лист!$A$1","v":3025},{"$f":"AA189+AA189*Титул.лист!$P$2","v":3025},3030,2200,{"$f":"AD189+AD189*Титул.лист!$A$1","v":2420},{"$f":"AE189+AE189*Титул.лист!$P$2","v":2420},2420,2400,{"$f":"AH189+AH189*Титул.лист!$A$1","v":2640},{"$f":"AI189+AI189*Титул.лист!$P$2","v":2640},2640,2450,{"$f":"AL189+AL189*Титул.лист!$A$1","v":2695},{"$f":"AM189+AM189*Титул.лист!$P$2","v":2695},2700,4019.7139999999999,{"$f":"AP189+AP189*Титул.лист!$A$1","v":4421.6854000000003},{"$f":"AQ189+AQ189*Титул.лист!$P$2","v":4421.6854000000003},4420,4544.68,{"$f":"AT189+AT189*Титул.лист!$A$1","v":4999.1480000000001},{"$f":"AU189+AU189*Титул.лист!$P$2","v":4999.1480000000001},5000,3664.84,{"$f":"AX189+AX189*Титул.лист!$A$1","v":4031.3240000000001},{"$f":"AY189+AY189*Титул.лист!$P$2","v":4031.3240000000001},4030,4591.4799999999996,{"$f":"BB189+BB189*Титул.лист!$A$1","v":5050.6279999999997},{"$f":"BC189+BC189*Титул.лист!$P$2","v":5050.6279999999997},5050,6369.88,{"$f":"BF189+BF189*Титул.лист!$A$1","v":7006.8680000000004},{"$f":"BG189+BG189*Титул.лист!$P$2","v":7006.8680000000004},7010]
[null,null,700,null,"1413-70гс",1750,{"$f":"F190+F190*Титул.лист!$A$1","v":1925},{"$f":"G190+G190*Титул.лист!$P$2","v":1925},1930,1880,{"$f":"J190+J190*Титул.лист!$A$1","v":2068},{"$f":"K190+K190*Титул.лист!$P$2","v":2068},2070,2280,{"$f":"N190+N190*Титул.лист!$A$1","v":2508},{"$f":"O190+O190*Титул.лист!$P$2","v":2508},2510,2410,{"$f":"R190+R190*Титул.лист!$A$1","v":2651},{"$f":"S190+S190*Титул.лист!$P$2","v":2651},2650,2680,{"$f":"V190+V190*Титул.лист!$A$1","v":2948},{"$f":"W190+W190*Титул.лист!$P$2","v":2948},2950,2820,{"$f":"Z190+Z190*Титул.лист!$A$1","v":3102},{"$f":"AA190+AA190*Титул.лист!$P$2","v":3102},3100,2270,{"$f":"AD190+AD190*Титул.лист!$A$1","v":2497},{"$f":"AE190+AE190*Титул.лист!$P$2","v":2497},2500,2430,{"$f":"AH190+AH190*Титул.лист!$A$1","v":2673},{"$f":"AI190+AI190*Титул.лист!$P$2","v":2673},2670,2510,{"$f":"AL190+AL190*Титул.лист!$A$1","v":2761},{"$f":"AM190+AM190*Титул.лист!$P$2","v":2761},2760,4229.692,{"$f":"AP190+AP190*Титул.лист!$A$1","v":4652.6612000000005},{"$f":"AQ190+AQ190*Титул.лист!$P$2","v":4652.6612000000005},4650,4795.04,{"$f":"AT190+AT190*Титул.лист!$A$1","v":5274.5439999999999},{"$f":"AU190+AU190*Титул.лист!$P$2","v":5274.5439999999999},5270,3847.52,{"$f":"AX190+AX190*Титул.лист!$A$1","v":4232.2719999999999},{"$f":"AY190+AY190*Титул.лист!$P$2","v":4232.2719999999999},4230,4845.4400000000005,{"$f":"BB190+BB190*Титул.лист!$A$1","v":5329.9840000000004},{"$f":"BC190+BC190*Титул.лист!$P$2","v":5329.9840000000004},5330,6760.64,{"$f":"BF190+BF190*Титул.лист!$A$1","v":7436.7040000000006},{"$f":"BG190+BG190*Титул.лист!$P$2","v":7436.7040000000006},7440]
[null,null,800,null,"1413-80гс",1870.0000000000002,{"$f":"F191+F191*Титул.лист!$A$1","v":2057.0000000000005},{"$f":"G191+G191*Титул.лист!$P$2","v":2057.0000000000005},2060,2010,{"$f":"J191+J191*Титул.лист!$A$1","v":2211},{"$f":"K191+K191*Титул.лист!$P$2","v":2211},2210,2490,{"$f":"N191+N191*Титул.лист!$A$1","v":2739},{"$f":"O191+O191*Титул.лист!$P$2","v":2739},2740,2630,{"$f":"R191+R191*Титул.лист!$A$1","v":2893},{"$f":"S191+S191*Титул.лист!$P$2","v":2893},2890,2960,{"$f":"V191+V191*Титул.лист!$A$1","v":3256},{"$f":"W191+W191*Титул.лист!$P$2","v":3256},3260,3100,{"$f":"Z191+Z191*Титул.лист!$A$1","v":3410},{"$f":"AA191+AA191*Титул.лист!$P$2","v":3410},3410,2460,{"$f":"AD191+AD191*Титул.лист!$A$1","v":2706},{"$f":"AE191+AE191*Титул.лист!$P$2","v":2706},2710,2650,{"$f":"AH191+AH191*Титул.лист!$A$1","v":2915},{"$f":"AI191+AI191*Титул.лист!$P$2","v":2915},2920,2740,{"$f":"AL191+AL191*Титул.лист!$A$1","v":3014},{"$f":"AM191+AM191*Титул.лист!$P$2","v":3014},3010,4699.6479999999992,{"$f":"AP191+AP191*Титул.лист!$A$1","v":5169.612799999999},{"$f":"AQ191+AQ191*Титул.лист!$P$2","v":5169.612799999999},5170,5345.76,{"$f":"AT191+AT191*Титул.лист!$A$1","v":5880.3360000000002},{"$f":"AU191+AU191*Титул.лист!$P$2","v":5880.3360000000002},5880,4262.88,{"$f":"AX191+AX191*Титул.лист!$A$1","v":4689.1679999999997},{"$f":"AY191+AY191*Титул.лист!$P$2","v":4689.1679999999997},4690,5403.3600000000006,{"$f":"BB191+BB191*Титул.лист!$A$1","v":5943.6960000000008},{"$f":"BC191+BC191*Титул.лист!$P$2","v":5943.6960000000008},5940,7592.1600000000008,{"$f":"BF191+BF191*Титул.лист!$A$1","v":8351.3760000000002},{"$f":"BG191+BG191*Титул.лист!$P$2","v":8351.3760000000002},8350]
[null,null,400,"h 920","1421-40гс",1340,{"$f":"F192+F192*Титул.лист!$A$1","v":1474},{"$f":"G192+G192*Титул.лист!$P$2","v":1474},1470,1430.0000000000002,{"$f":"J192+J192*Титул.лист!$A$1","v":1573.0000000000002},{"$f":"K192+K192*Титул.лист!$P$2","v":1573.0000000000002},1570,1730,{"$f":"N192+N192*Титул.лист!$A$1","v":1903},{"$f":"O192+O192*Титул.лист!$P$2","v":1903},1900,1810,{"$f":"R192+R192*Титул.лист!$A$1","v":1991},{"$f":"S192+S192*Титул.лист!$P$2","v":1991},1990,2020,{"$f":"V192+V192*Титул.лист!$A$1","v":2222},{"$f":"W192+W192*Титул.лист!$P$2","v":2222},2220,2110,{"$f":"Z192+Z192*Титул.лист!$A$1","v":2321},{"$f":"AA192+AA192*Титул.лист!$P$2","v":2321},2320,1690,{"$f":"AD192+AD192*Титул.лист!$A$1","v":1859},{"$f":"AE192+AE192*Титул.лист!$P$2","v":1859},1860,1815.0000000000002,{"$f":"AH192+AH192*Титул.лист!$A$1","v":1996.5000000000002},{"$f":"AI192+AI192*Титул.лист!$P$2","v":1996.5000000000002},2000,1870.0000000000002,{"$f":"AL192+AL192*Титул.лист!$A$1","v":2057.0000000000005},{"$f":"AM192+AM192*Титул.лист!$P$2","v":2057.0000000000005},2060,3122.6239999999998,{"$f":"AP192+AP192*Титул.лист!$A$1","v":3434.8863999999999},{"$f":"AQ192+AQ192*Титул.лист!$P$2","v":3434.8863999999999},3430,3533.6800000000003,{"$f":"AT192+AT192*Титул.лист!$A$1","v":3887.0480000000002},{"$f":"AU192+AU192*Титул.лист!$P$2","v":3887.0480000000002},3890,2841.84,{"$f":"AX192+AX192*Титул.лист!$A$1","v":3126.0240000000003},{"$f":"AY192+AY192*Титул.лист!$P$2","v":3126.0240000000003},3130,3570.48,{"$f":"BB192+BB192*Титул.лист!$A$1","v":3927.5280000000002},{"$f":"BC192+BC192*Титул.лист!$P$2","v":3927.5280000000002},3930,4968.88,{"$f":"BF192+BF192*Титул.лист!$A$1","v":5465.768},{"$f":"BG192+BG192*Титул.лист!$P$2","v":5465.768},5470]
[null,null,450,null,"1421-45гс",1400,{"$f":"F193+F193*Титул.лист!$A$1","v":1540},{"$f":"G193+G193*Титул.лист!$P$2","v":1540},1540,1500,{"$f":"J193+J193*Титул.лист!$A$1","v":1650},{"$f":"K193+K193*Титул.лист!$P$2","v":1650},1650,1900,{"$f":"N193+N193*Титул.лист!$A$1","v":2090},{"$f":"O193+O193*Титул.лист!$P$2","v":2090},2090,2000,{"$f":"R193+R193*Титул.лист!$A$1","v":2200},{"$f":"S193+S193*Титул.лист!$P$2","v":2200},2200,2250,{"$f":"V193+V193*Титул.лист!$A$1","v":2475},{"$f":"W193+W193*Титул.лист!$P$2","v":2475},2480,2350,{"$f":"Z193+Z193*Титул.лист!$A$1","v":2585},{"$f":"AA193+AA193*Титул.лист!$P$2","v":2585},2590,1900,{"$f":"AD193+AD193*Титул.лист!$A$1","v":2090},{"$f":"AE193+AE193*Титул.лист!$P$2","v":2090},2090,2050,{"$f":"AH193+AH193*Титул.лист!$A$1","v":2255},{"$f":"AI193+AI193*Титул.лист!$P$2","v":2255},2260,2100,{"$f":"AL193+AL193*Титул.лист!$A$1","v":2310},{"$f":"AM193+AM193*Титул.лист!$P$2","v":2310},2310,3511.7020000000002,{"$f":"AP193+AP193*Титул.лист!$A$1","v":3862.8722000000002},{"$f":"AQ193+AQ193*Титул.лист!$P$2","v":3862.8722000000002},3860,3974.1400000000003,{"$f":"AT193+AT193*Титул.лист!$A$1","v":4371.5540000000001},{"$f":"AU193+AU193*Титул.лист!$P$2","v":4371.5540000000001},4370,3195.82,{"$f":"AX193+AX193*Титул.лист!$A$1","v":3515.402},{"$f":"AY193+AY193*Титул.лист!$P$2","v":3515.402},3520,4015.54,{"$f":"BB193+BB193*Титул.лист!$A$1","v":4417.0940000000001},{"$f":"BC193+BC193*Титул.лист!$P$2","v":4417.0940000000001},4420,5588.74,{"$f":"BF193+BF193*Титул.лист!$A$1","v":6147.6139999999996},{"$f":"BG193+BG193*Титул.лист!$P$2","v":6147.6139999999996},6150]
[null,null,500,null,"1421-50гс",1480,{"$f":"F194+F194*Титул.лист!$A$1","v":1628},{"$f":"G194+G194*Титул.лист!$P$2","v":1628},1630,1590,{"$f":"J194+J194*Титул.лист!$A$1","v":1749},{"$f":"K194+K194*Титул.лист!$P$2","v":1749},1750,1980.0000000000002,{"$f":"N194+N194*Титул.лист!$A$1","v":2178.0000000000005},{"$f":"O194+O194*Титул.лист!$P$2","v":2178.0000000000005},2180,2090,{"$f":"R194+R194*Титул.лист!$A$1","v":2299},{"$f":"S194+S194*Титул.лист!$P$2","v":2299},2300,2350,{"$f":"V194+V194*Титул.лист!$A$1","v":2585},{"$f":"W194+W194*Титул.лист!$P$2","v":2585},2590,2460,{"$f":"Z194+Z194*Титул.лист!$A$1","v":2706},{"$f":"AA194+AA194*Титул.лист!$P$2","v":2706},2710,1960,{"$f":"AD194+AD194*Титул.лист!$A$1","v":2156},{"$f":"AE194+AE194*Титул.лист!$P$2","v":2156},2160,2112,{"$f":"AH194+AH194*Титул.лист!$A$1","v":2323.1999999999998},{"$f":"AI194+AI194*Титул.лист!$P$2","v":2323.1999999999998},2320,2180,{"$f":"AL194+AL194*Титул.лист!$A$1","v":2398},{"$f":"AM194+AM194*Титул.лист!$P$2","v":2398},2400,3750.7799999999997,{"$f":"AP194+AP194*Титул.лист!$A$1","v":4125.8580000000002},{"$f":"AQ194+AQ194*Титул.лист!$P$2","v":4125.8580000000002},4130,4264.6000000000004,{"$f":"AT194+AT194*Титул.лист!$A$1","v":4691.0600000000004},{"$f":"AU194+AU194*Титул.лист!$P$2","v":4691.0600000000004},4690,3399.8,{"$f":"AX194+AX194*Титул.лист!$A$1","v":3739.78},{"$f":"AY194+AY194*Титул.лист!$P$2","v":3739.78},3740,4310.6000000000004,{"$f":"BB194+BB194*Титул.лист!$A$1","v":4741.6600000000008},{"$f":"BC194+BC194*Титул.лист!$P$2","v":4741.6600000000008},4740,6058.6,{"$f":"BF194+BF194*Титул.лист!$A$1","v":6664.46},{"$f":"BG194+BG194*Титул.лист!$P$2","v":6664.46},6660]
[null,null,550,null,"1421-55гс",1600,{"$f":"F195+F195*Титул.лист!$A$1","v":1760},{"$f":"G195+G195*Титул.лист!$P$2","v":1760},1760,1700,{"$f":"J195+J195*Титул.лист!$A$1","v":1870},{"$f":"K195+K195*Титул.лист!$P$2","v":1870},1870,2200,{"$f":"N195+N195*Титул.лист!$A$1","v":2420},{"$f":"O195+O195*Титул.лист!$P$2","v":2420},2420,2300,{"$f":"R195+R195*Титул.лист!$A$1","v":2530},{"$f":"S195+S195*Титул.лист!$P$2","v":2530},2530,2600,{"$f":"V195+V195*Титул.лист!$A$1","v":2860},{"$f":"W195+W195*Титул.лист!$P$2","v":2860},2860,2700,{"$f":"Z195+Z195*Титул.лист!$A$1","v":2970},{"$f":"AA195+AA195*Титул.лист!$P$2","v":2970},2970,2100,{"$f":"AD195+AD195*Титул.лист!$A$1","v":2310},{"$f":"AE195+AE195*Титул.лист!$P$2","v":2310},2310,2300,{"$f":"AH195+AH195*Титул.лист!$A$1","v":2530},{"$f":"AI195+AI195*Титул.лист!$P$2","v":2530},2530,2380,{"$f":"AL195+AL195*Титул.лист!$A$1","v":2618},{"$f":"AM195+AM195*Титул.лист!$P$2","v":2618},2620,4069.8580000000002,{"$f":"AP195+AP195*Титул.лист!$A$1","v":4476.8438000000006},{"$f":"AQ195+AQ195*Титул.лист!$P$2","v":4476.8438000000006},4480,4635.0599999999995,{"$f":"AT195+AT195*Титул.лист!$A$1","v":5098.5659999999998},{"$f":"AU195+AU195*Титул.лист!$P$2","v":5098.5659999999998},5100,3683.7799999999997,{"$f":"AX195+AX195*Титул.лист!$A$1","v":4052.1579999999999},{"$f":"AY195+AY195*Титул.лист!$P$2","v":4052.1579999999999},4050,4685.66,{"$f":"BB195+BB195*Титул.лист!$A$1","v":5154.2259999999997},{"$f":"BC195+BC195*Титул.лист!$P$2","v":5154.2259999999997},5150,6608.46,{"$f":"BF195+BF195*Титул.лист!$A$1","v":7269.3060000000005},{"$f":"BG195+BG195*Титул.лист!$P$2","v":7269.3060000000005},7270]
[null,null,600,null,"1421-60гс",1640,{"$f":"F196+F196*Титул.лист!$A$1","v":1804},{"$f":"G196+G196*Титул.лист!$P$2","v":1804},{"$f":"ROUND(H196,-1)","v":1800},1770,{"$f":"J196+J196*Титул.лист!$A$1","v":1947},{"$f":"K196+K196*Титул.лист!$P$2","v":1947},{"$f":"ROUND(L196,-1)","v":1950},2220,{"$f":"N196+N196*Титул.лист!$A$1","v":2442},{"$f":"O196+O196*Титул.лист!$P$2","v":2442},{"$f":"ROUND(P196,-1)","v":2440},2350,{"$f":"R196+R196*Титул.лист!$A$1","v":2585},{"$f":"S196+S196*Титул.лист!$P$2","v":2585},{"$f":"ROUND(T196,-1)","v":2590},2670,{"$f":"V196+V196*Титул.лист!$A$1","v":2937},{"$f":"W196+W196*Титул.лист!$P$2","v":2937},{"$f":"ROUND(X196,-1)","v":2940},2800,{"$f":"Z196+Z196*Титул.лист!$A$1","v":3080},{"$f":"AA196+AA196*Титул.лист!$P$2","v":3080},{"$f":"ROUND(AB196,-1)","v":3080},2200,{"$f":"AD196+AD196*Титул.лист!$A$1","v":2420},{"$f":"AE196+AE196*Титул.лист!$P$2","v":2420},{"$f":"ROUND(AF196,-1)","v":2420},2387,{"$f":"AH196+AH196*Титул.лист!$A$1","v":2625.7},{"$f":"AI196+AI196*Титул.лист!$P$2","v":2625.7},{"$f":"ROUND(AJ196,-1)","v":2630},2480,{"$f":"AL196+AL196*Титул.лист!$A$1","v":2728},{"$f":"AM196+AM196*Титул.лист!$P$2","v":2728},{"$f":"ROUND(AN196,-1)","v":2730},4348.9359999999997,{"$f":"AP196+AP196*Титул.лист!$A$1","v":4783.8296},{"$f":"AQ196+AQ196*Титул.лист!$P$2","v":4783.8296},{"$f":"ROUND(AR196,-1)","v":4780},4965.5200000000004,{"$f":"AT196+AT196*Титул.лист!$A$1","v":5462.0720000000001},{"$f":"AU196+AU196*Титул.лист!$P$2","v":5462.0720000000001},{"$f":"ROUND(AV196,-1)","v":5460},3927.76,{"$f":"AX196+AX196*Титул.лист!$A$1","v":4320.5360000000001},{"$f":"AY196+AY196*Титул.лист!$P$2","v":4320.5360000000001},{"$f":"ROUND(AZ196,-1)","v":4320},5020.72,{"$f":"BB196+BB196*Титул.лист!$A$1","v":5522.7920000000004},{"$f":"BC196+BC196*Титул.лист!$P$2","v":5522.7920000000004},{"$f":"ROUND(BD196,-1)","v":5520},7118.3200000000006,{"$f":"BF196+BF196*Титул.лист!$A$1","v":7830.152000000001},{"$f":"BG196+BG196*Титул.лист!$P$2","v":7830.152000000001},{"$f":"ROUND(BH196,-1)","v":7830}]
[null,null,650,null,"1421-65гс",1900,{"$f":"F197+F197*Титул.лист!$A$1","v":2090},{"$f":"G197+G197*Титул.лист!$P$2","v":2090},2090,2100,{"$f":"J197+J197*Титул.лист!$A$1","v":2310},{"$f":"K197+K197*Титул.лист!$P$2","v":2310},2310,2600,{"$f":"N197+N197*Титул.лист!$A$1","v":2860},{"$f":"O197+O197*Титул.лист!$P$2","v":2860},2860,2700,{"$f":"R197+R197*Титул.лист!$A$1","v":2970},{"$f":"S197+S197*Титул.лист!$P$2","v":2970},2970,3100,{"$f":"V197+V197*Титул.лист!$A$1","v":3410},{"$f":"W197+W197*Титул.лист!$P$2","v":3410},3410,3220,{"$f":"Z197+Z197*Титул.лист!$A$1","v":3542},{"$f":"AA197+AA197*Титул.лист!$P$2","v":3542},3540,2600,{"$f":"AD197+AD197*Титул.лист!$A$1","v":2860},{"$f":"AE197+AE197*Титул.лист!$P$2","v":2860},2860,2800,{"$f":"AH197+AH197*Титул.лист!$A$1","v":3080},{"$f":"AI197+AI197*Титул.лист!$P$2","v":3080},3080,2900,{"$f":"AL197+AL197*Титул.лист!$A$1","v":3190},{"$f":"AM197+AM197*Титул.лист!$P$2","v":3190},3190,4928.0140000000001,{"$f":"AP197+AP197*Титул.лист!$A$1","v":5420.8154000000004},{"$f":"AQ197+AQ197*Титул.лист!$P$2","v":5420.8154000000004},5420,5595.98,{"$f":"AT197+AT197*Титул.лист!$A$1","v":6155.5779999999995},{"$f":"AU197+AU197*Титул.лист!$P$2","v":6155.5779999999995},6160,4471.74,{"$f":"AX197+AX197*Титул.лист!$A$1","v":4918.9139999999998},{"$f":"AY197+AY197*Титул.лист!$P$2","v":4918.9139999999998},4920,5655.78,{"$f":"BB197+BB197*Титул.лист!$A$1","v":6221.3580000000002},{"$f":"BC197+BC197*Титул.лист!$P$2","v":6221.3580000000002},6220,7928.1799999999994,{"$f":"BF197+BF197*Титул.лист!$A$1","v":8720.9979999999996},{"$f":"BG197+BG197*Титул.лист!$P$2","v":8720.9979999999996},8720]
[null,null,700,null,"1421-70гс",1980.0000000000002,{"$f":"F198+F198*Титул.лист!$A$1","v":2178.0000000000005},{"$f":"G198+G198*Титул.лист!$P$2","v":2178.0000000000005},2180,2120,{"$f":"J198+J198*Титул.лист!$A$1","v":2332},{"$f":"K198+K198*Титул.лист!$P$2","v":2332},2330,2660,{"$f":"N198+N198*Титул.лист!$A$1","v":2926},{"$f":"O198+O198*Титул.лист!$P$2","v":2926},2930,2800,{"$f":"R198+R198*Титул.лист!$A$1","v":3080},{"$f":"S198+S198*Титул.лист!$P$2","v":3080},3080,3180,{"$f":"V198+V198*Титул.лист!$A$1","v":3498},{"$f":"W198+W198*Титул.лист!$P$2","v":3498},3500,3320,{"$f":"Z198+Z198*Титул.лист!$A$1","v":3652},{"$f":"AA198+AA198*Титул.лист!$P$2","v":3652},3650,2650,{"$f":"AD198+AD198*Титул.лист!$A$1","v":2915},{"$f":"AE198+AE198*Титул.лист!$P$2","v":2915},2920,2870,{"$f":"AH198+AH198*Титул.лист!$A$1","v":3157},{"$f":"AI198+AI198*Титул.лист!$P$2","v":3157},3160,2960,{"$f":"AL198+AL198*Титул.лист!$A$1","v":3256},{"$f":"AM198+AM198*Титул.лист!$P$2","v":3256},3260,5157.0920000000006,{"$f":"AP198+AP198*Титул.лист!$A$1","v":5672.8012000000008},{"$f":"AQ198+AQ198*Титул.лист!$P$2","v":5672.8012000000008},5670,5876.4400000000005,{"$f":"AT198+AT198*Титул.лист!$A$1","v":6464.0840000000007},{"$f":"AU198+AU198*Титул.лист!$P$2","v":6464.0840000000007},6460,4665.72,{"$f":"AX198+AX198*Титул.лист!$A$1","v":5132.2920000000004},{"$f":"AY198+AY198*Титул.лист!$P$2","v":5132.2920000000004},5130,5940.84,{"$f":"BB198+BB198*Титул.лист!$A$1","v":6534.924},{"$f":"BC198+BC198*Титул.лист!$P$2","v":6534.924},6530,8388.0400000000009,{"$f":"BF198+BF198*Титул.лист!$A$1","v":9226.844000000001},{"$f":"BG198+BG198*Титул.лист!$P$2","v":9226.844000000001},9230]
[null,null,800,null,"1421-80гс",2130,{"$f":"F199+F199*Титул.лист!$A$1","v":2343},{"$f":"G199+G199*Титул.лист!$P$2","v":2343},2340,2300,{"$f":"J199+J199*Титул.лист!$A$1","v":2530},{"$f":"K199+K199*Титул.лист!$P$2","v":2530},2530,2900,{"$f":"N199+N199*Титул.лист!$A$1","v":3190},{"$f":"O199+O199*Титул.лист!$P$2","v":3190},3190,3070,{"$f":"R199+R199*Титул.лист!$A$1","v":3377},{"$f":"S199+S199*Титул.лист!$P$2","v":3377},3380,3500,{"$f":"V199+V199*Титул.лист!$A$1","v":3850},{"$f":"W199+W199*Титул.лист!$P$2","v":3850},3850,3660,{"$f":"Z199+Z199*Титул.лист!$A$1","v":4026},{"$f":"AA199+AA199*Титул.лист!$P$2","v":4026},4030,2890,{"$f":"AD199+AD199*Титул.лист!$A$1","v":3179},{"$f":"AE199+AE199*Титул.лист!$P$2","v":3179},3180,3150,{"$f":"AH199+AH199*Титул.лист!$A$1","v":3465},{"$f":"AI199+AI199*Титул.лист!$P$2","v":3465},3470,3240,{"$f":"AL199+AL199*Титул.лист!$A$1","v":3564},{"$f":"AM199+AM199*Титул.лист!$P$2","v":3564},3560,5755.2479999999996,{"$f":"AP199+AP199*Титул.лист!$A$1","v":6330.7727999999997},{"$f":"AQ199+AQ199*Титул.лист!$P$2","v":6330.7727999999997},6330,6577.3600000000006,{"$f":"AT199+AT199*Титул.лист!$A$1","v":7235.0960000000005},{"$f":"AU199+AU199*Титул.лист!$P$2","v":7235.0960000000005},7240,5193.68,{"$f":"AX199+AX199*Титул.лист!$A$1","v":5713.0480000000007},{"$f":"AY199+AY199*Титул.лист!$P$2","v":5713.0480000000007},5710,6650.96,{"$f":"BB199+BB199*Титул.лист!$A$1","v":7316.0560000000005},{"$f":"BC199+BC199*Титул.лист!$P$2","v":7316.0560000000005},7320,9447.76,{"$f":"BF199+BF199*Титул.лист!$A$1","v":10392.536},{"$f":"BG199+BG199*Титул.лист!$P$2","v":10392.536},10390]
[null,"Шкаф антресольный 2дв.2 стекла(горизонт)",400,"h 720","1413-40с",1280,{"$f":"F200+F200*Титул.лист!$A$1","v":1408},{"$f":"G200+G200*Титул.лист!$P$2","v":1408},1410,1370,{"$f":"J200+J200*Титул.лист!$A$1","v":1507},{"$f":"K200+K200*Титул.лист!$P$2","v":1507},1510,1570,{"$f":"N200+N200*Титул.лист!$A$1","v":1727},{"$f":"O200+O200*Титул.лист!$P$2","v":1727},1730,1670,{"$f":"R200+R200*Титул.лист!$A$1","v":1837},{"$f":"S200+S200*Титул.лист!$P$2","v":1837},1840,1800,{"$f":"V200+V200*Титул.лист!$A$1","v":1980},{"$f":"W200+W200*Титул.лист!$P$2","v":1980},1980,1900,{"$f":"Z200+Z200*Титул.лист!$A$1","v":2090},{"$f":"AA200+AA200*Титул.лист!$P$2","v":2090},2090,1530,{"$f":"AD200+AD200*Титул.лист!$A$1","v":1683},{"$f":"AE200+AE200*Титул.лист!$P$2","v":1683},1680,1630,{"$f":"AH200+AH200*Титул.лист!$A$1","v":1793},{"$f":"AI200+AI200*Титул.лист!$P$2","v":1793},1790,1660,{"$f":"AL200+AL200*Титул.лист!$A$1","v":1826},{"$f":"AM200+AM200*Титул.лист!$P$2","v":1826},1830,2649.8239999999996,{"$f":"AP200+AP200*Титул.лист!$A$1","v":2914.8063999999995},{"$f":"AQ200+AQ200*Титул.лист!$P$2","v":2914.8063999999995},2910,2972.88,{"$f":"AT200+AT200*Титул.лист!$A$1","v":3270.1680000000001},{"$f":"AU200+AU200*Титул.лист!$P$2","v":3270.1680000000001},3270,2431.44,{"$f":"AX200+AX200*Титул.лист!$A$1","v":2674.5839999999998},{"$f":"AY200+AY200*Титул.лист!$P$2","v":2674.5839999999998},2670,3001.6800000000003,{"$f":"BB200+BB200*Титул.лист!$A$1","v":3301.8480000000004},{"$f":"BC200+BC200*Титул.лист!$P$2","v":3301.8480000000004},3300,4096.08,{"$f":"BF200+BF200*Титул.лист!$A$1","v":4505.6880000000001},{"$f":"BG200+BG200*Титул.лист!$P$2","v":4505.6880000000001},4510]
[null,null,450,null,"1413-45с",1400,{"$f":"F201+F201*Титул.лист!$A$1","v":1540},{"$f":"G201+G201*Титул.лист!$P$2","v":1540},1540,1500,{"$f":"J201+J201*Титул.лист!$A$1","v":1650},{"$f":"K201+K201*Титул.лист!$P$2","v":1650},1650,1800,{"$f":"N201+N201*Титул.лист!$A$1","v":1980},{"$f":"O201+O201*Титул.лист!$P$2","v":1980},1980,1900,{"$f":"R201+R201*Титул.лист!$A$1","v":2090},{"$f":"S201+S201*Титул.лист!$P$2","v":2090},2090,2050,{"$f":"V201+V201*Титул.лист!$A$1","v":2255},{"$f":"W201+W201*Титул.лист!$P$2","v":2255},2260,2200,{"$f":"Z201+Z201*Титул.лист!$A$1","v":2420},{"$f":"AA201+AA201*Титул.лист!$P$2","v":2420},2420,1700,{"$f":"AD201+AD201*Титул.лист!$A$1","v":1870},{"$f":"AE201+AE201*Титул.лист!$P$2","v":1870},1870,1800,{"$f":"AH201+AH201*Титул.лист!$A$1","v":1980},{"$f":"AI201+AI201*Титул.лист!$P$2","v":1980},1980,1850,{"$f":"AL201+AL201*Титул.лист!$A$1","v":2035},{"$f":"AM201+AM201*Титул.лист!$P$2","v":2035},2040,2959.8019999999997,{"$f":"AP201+AP201*Титул.лист!$A$1","v":3255.7821999999996},{"$f":"AQ201+AQ201*Титул.лист!$P$2","v":3255.7821999999996},3260,3323.24,{"$f":"AT201+AT201*Титул.лист!$A$1","v":3655.5639999999999},{"$f":"AU201+AU201*Титул.лист!$P$2","v":3655.5639999999999},3660,2714.12,{"$f":"AX201+AX201*Титул.лист!$A$1","v":2985.5319999999997},{"$f":"AY201+AY201*Титул.лист!$P$2","v":2985.5319999999997},2990,3355.6400000000003,{"$f":"BB201+BB201*Титул.лист!$A$1","v":3691.2040000000006},{"$f":"BC201+BC201*Титул.лист!$P$2","v":3691.2040000000006},3690,4586.84,{"$f":"BF201+BF201*Титул.лист!$A$1","v":5045.5240000000003},{"$f":"BG201+BG201*Титул.лист!$P$2","v":5045.5240000000003},5050]
[null,null,500,null,"1413-50с",1440,{"$f":"F202+F202*Титул.лист!$A$1","v":1584},{"$f":"G202+G202*Титул.лист!$P$2","v":1584},1580,1560,{"$f":"J202+J202*Титул.лист!$A$1","v":1716},{"$f":"K202+K202*Титул.лист!$P$2","v":1716},1720,1830,{"$f":"N202+N202*Титул.лист!$A$1","v":2013},{"$f":"O202+O202*Титул.лист!$P$2","v":2013},2010,1950,{"$f":"R202+R202*Титул.лист!$A$1","v":2145},{"$f":"S202+S202*Титул.лист!$P$2","v":2145},2150,2120,{"$f":"V202+V202*Титул.лист!$A$1","v":2332},{"$f":"W202+W202*Титул.лист!$P$2","v":2332},2330,2240,{"$f":"Z202+Z202*Титул.лист!$A$1","v":2464},{"$f":"AA202+AA202*Титул.лист!$P$2","v":2464},2460,1760.0000000000002,{"$f":"AD202+AD202*Титул.лист!$A$1","v":1936.0000000000002},{"$f":"AE202+AE202*Титул.лист!$P$2","v":1936.0000000000002},1940,1880,{"$f":"AH202+AH202*Титул.лист!$A$1","v":2068},{"$f":"AI202+AI202*Титул.лист!$P$2","v":2068},2070,1920,{"$f":"AL202+AL202*Титул.лист!$A$1","v":2112},{"$f":"AM202+AM202*Титул.лист!$P$2","v":2112},2110,3159.78,{"$f":"AP202+AP202*Титул.лист!$A$1","v":3475.7580000000003},{"$f":"AQ202+AQ202*Титул.лист!$P$2","v":3475.7580000000003},3480,3563.6000000000004,{"$f":"AT202+AT202*Титул.лист!$A$1","v":3919.9600000000005},{"$f":"AU202+AU202*Титул.лист!$P$2","v":3919.9600000000005},3920,2886.8,{"$f":"AX202+AX202*Титул.лист!$A$1","v":3175.48},{"$f":"AY202+AY202*Титул.лист!$P$2","v":3175.48},3180,3599.6000000000004,{"$f":"BB202+BB202*Титул.лист!$A$1","v":3959.5600000000004},{"$f":"BC202+BC202*Титул.лист!$P$2","v":3959.5600000000004},3960,4967.6000000000004,{"$f":"BF202+BF202*Титул.лист!$A$1","v":5464.3600000000006},{"$f":"BG202+BG202*Титул.лист!$P$2","v":5464.3600000000006},5460]
[null,null,550,null,"1413-55с",1600,{"$f":"F203+F203*Титул.лист!$A$1","v":1760},{"$f":"G203+G203*Титул.лист!$P$2","v":1760},1760,1700,{"$f":"J203+J203*Титул.лист!$A$1","v":1870},{"$f":"K203+K203*Титул.лист!$P$2","v":1870},1870,2000,{"$f":"N203+N203*Титул.лист!$A$1","v":2200},{"$f":"O203+O203*Титул.лист!$P$2","v":2200},2200,2150,{"$f":"R203+R203*Титул.лист!$A$1","v":2365},{"$f":"S203+S203*Титул.лист!$P$2","v":2365},2370,2350,{"$f":"V203+V203*Титул.лист!$A$1","v":2585},{"$f":"W203+W203*Титул.лист!$P$2","v":2585},2590,2500,{"$f":"Z203+Z203*Титул.лист!$A$1","v":2750},{"$f":"AA203+AA203*Титул.лист!$P$2","v":2750},2750,1900,{"$f":"AD203+AD203*Титул.лист!$A$1","v":2090},{"$f":"AE203+AE203*Титул.лист!$P$2","v":2090},2090,2100,{"$f":"AH203+AH203*Титул.лист!$A$1","v":2310},{"$f":"AI203+AI203*Титул.лист!$P$2","v":2310},2310,2100,{"$f":"AL203+AL203*Титул.лист!$A$1","v":2310},{"$f":"AM203+AM203*Титул.лист!$P$2","v":2310},2310,3439.7579999999998,{"$f":"AP203+AP203*Титул.лист!$A$1","v":3783.7338},{"$f":"AQ203+AQ203*Титул.лист!$P$2","v":3783.7338},3780,3883.96,{"$f":"AT203+AT203*Титул.лист!$A$1","v":4272.3559999999998},{"$f":"AU203+AU203*Титул.лист!$P$2","v":4272.3559999999998},4270,3139.48,{"$f":"AX203+AX203*Титул.лист!$A$1","v":3453.4279999999999},{"$f":"AY203+AY203*Титул.лист!$P$2","v":3453.4279999999999},3450,3923.5600000000004,{"$f":"BB203+BB203*Титул.лист!$A$1","v":4315.9160000000002},{"$f":"BC203+BC203*Титул.лист!$P$2","v":4315.9160000000002},4320,5428.3600000000006,{"$f":"BF203+BF203*Титул.лист!$A$1","v":5971.1960000000008},{"$f":"BG203+BG203*Титул.лист!$P$2","v":5971.1960000000008},5970]
[null,null,600,null,"1413-60с",1620,{"$f":"F204+F204*Титул.лист!$A$1","v":1782},{"$f":"G204+G204*Титул.лист!$P$2","v":1782},1780,1750,{"$f":"J204+J204*Титул.лист!$A$1","v":1925},{"$f":"K204+K204*Титул.лист!$P$2","v":1925},1930,2080,{"$f":"N204+N204*Титул.лист!$A$1","v":2288},{"$f":"O204+O204*Титул.лист!$P$2","v":2288},2290,2210,{"$f":"R204+R204*Титул.лист!$A$1","v":2431},{"$f":"S204+S204*Титул.лист!$P$2","v":2431},2430,2420,{"$f":"V204+V204*Титул.лист!$A$1","v":2662},{"$f":"W204+W204*Титул.лист!$P$2","v":2662},2660,2550,{"$f":"Z204+Z204*Титул.лист!$A$1","v":2805},{"$f":"AA204+AA204*Титул.лист!$P$2","v":2805},2810,1990,{"$f":"AD204+AD204*Титул.лист!$A$1","v":2189},{"$f":"AE204+AE204*Титул.лист!$P$2","v":2189},2190,2140,{"$f":"AH204+AH204*Титул.лист!$A$1","v":2354},{"$f":"AI204+AI204*Титул.лист!$P$2","v":2354},2350,2200,{"$f":"AL204+AL204*Титул.лист!$A$1","v":2420},{"$f":"AM204+AM204*Титул.лист!$P$2","v":2420},2420,3669.7359999999999,{"$f":"AP204+AP204*Титул.лист!$A$1","v":4036.7096000000001},{"$f":"AQ204+AQ204*Титул.лист!$P$2","v":4036.7096000000001},4040,4154.32,{"$f":"AT204+AT204*Титул.лист!$A$1","v":4569.7519999999995},{"$f":"AU204+AU204*Титул.лист!$P$2","v":4569.7519999999995},4570,3342.16,{"$f":"AX204+AX204*Титул.лист!$A$1","v":3676.3759999999997},{"$f":"AY204+AY204*Титул.лист!$P$2","v":3676.3759999999997},3680,4197.5200000000004,{"$f":"BB204+BB204*Титул.лист!$A$1","v":4617.2720000000008},{"$f":"BC204+BC204*Титул.лист!$P$2","v":4617.2720000000008},4620,5839.1200000000008,{"$f":"BF204+BF204*Титул.лист!$A$1","v":6423.0320000000011},{"$f":"BG204+BG204*Титул.лист!$P$2","v":6423.0320000000011},6420]
[null,null,650,null,"1413-65с",1900,{"$f":"F205+F205*Титул.лист!$A$1","v":2090},{"$f":"G205+G205*Титул.лист!$P$2","v":2090},2090,2050,{"$f":"J205+J205*Титул.лист!$A$1","v":2255},{"$f":"K205+K205*Титул.лист!$P$2","v":2255},2260,2400,{"$f":"N205+N205*Титул.лист!$A$1","v":2640},{"$f":"O205+O205*Титул.лист!$P$2","v":2640},2640,2600,{"$f":"R205+R205*Титул.лист!$A$1","v":2860},{"$f":"S205+S205*Титул.лист!$P$2","v":2860},2860,2800,{"$f":"V205+V205*Титул.лист!$A$1","v":3080},{"$f":"W205+W205*Титул.лист!$P$2","v":3080},3080,3000,{"$f":"Z205+Z205*Титул.лист!$A$1","v":3300},{"$f":"AA205+AA205*Титул.лист!$P$2","v":3300},3300,2350,{"$f":"AD205+AD205*Титул.лист!$A$1","v":2585},{"$f":"AE205+AE205*Титул.лист!$P$2","v":2585},2590,2500,{"$f":"AH205+AH205*Титул.лист!$A$1","v":2750},{"$f":"AI205+AI205*Титул.лист!$P$2","v":2750},2750,2600,{"$f":"AL205+AL205*Титул.лист!$A$1","v":2860},{"$f":"AM205+AM205*Титул.лист!$P$2","v":2860},2860,4169.7139999999999,{"$f":"AP205+AP205*Титул.лист!$A$1","v":4586.6854000000003},{"$f":"AQ205+AQ205*Титул.лист!$P$2","v":4586.6854000000003},4590,4694.68,{"$f":"AT205+AT205*Титул.лист!$A$1","v":5164.1480000000001},{"$f":"AU205+AU205*Титул.лист!$P$2","v":5164.1480000000001},5160,3814.84,{"$f":"AX205+AX205*Титул.лист!$A$1","v":4196.3240000000005},{"$f":"AY205+AY205*Титул.лист!$P$2","v":4196.3240000000005},4200,4741.4799999999996,{"$f":"BB205+BB205*Титул.лист!$A$1","v":5215.6279999999997},{"$f":"BC205+BC205*Титул.лист!$P$2","v":5215.6279999999997},5220,6519.88,{"$f":"BF205+BF205*Титул.лист!$A$1","v":7171.8680000000004},{"$f":"BG205+BG205*Титул.лист!$P$2","v":7171.8680000000004},7170]
[null,null,700,null,"1413-70с",1960,{"$f":"F206+F206*Титул.лист!$A$1","v":2156},{"$f":"G206+G206*Титул.лист!$P$2","v":2156},2160,2120,{"$f":"J206+J206*Титул.лист!$A$1","v":2332},{"$f":"K206+K206*Титул.лист!$P$2","v":2332},2330,2490,{"$f":"N206+N206*Титул.лист!$A$1","v":2739},{"$f":"O206+O206*Титул.лист!$P$2","v":2739},2740,2650,{"$f":"R206+R206*Титул.лист!$A$1","v":2915},{"$f":"S206+S206*Титул.лист!$P$2","v":2915},2920,2890,{"$f":"V206+V206*Титул.лист!$A$1","v":3179},{"$f":"W206+W206*Титул.лист!$P$2","v":3179},3180,3060,{"$f":"Z206+Z206*Титул.лист!$A$1","v":3366},{"$f":"AA206+AA206*Титул.лист!$P$2","v":3366},3370,2410,{"$f":"AD206+AD206*Титул.лист!$A$1","v":2651},{"$f":"AE206+AE206*Титул.лист!$P$2","v":2651},2650,2570,{"$f":"AH206+AH206*Титул.лист!$A$1","v":2827},{"$f":"AI206+AI206*Титул.лист!$P$2","v":2827},2830,2650,{"$f":"AL206+AL206*Титул.лист!$A$1","v":2915},{"$f":"AM206+AM206*Титул.лист!$P$2","v":2915},2920,4369.692,{"$f":"AP206+AP206*Титул.лист!$A$1","v":4806.6612000000005},{"$f":"AQ206+AQ206*Титул.лист!$P$2","v":4806.6612000000005},4810,4935.04,{"$f":"AT206+AT206*Титул.лист!$A$1","v":5428.5439999999999},{"$f":"AU206+AU206*Титул.лист!$P$2","v":5428.5439999999999},5430,3987.52,{"$f":"AX206+AX206*Титул.лист!$A$1","v":4386.2719999999999},{"$f":"AY206+AY206*Титул.лист!$P$2","v":4386.2719999999999},4390,4985.4400000000005,{"$f":"BB206+BB206*Титул.лист!$A$1","v":5483.9840000000004},{"$f":"BC206+BC206*Титул.лист!$P$2","v":5483.9840000000004},5480,6900.64,{"$f":"BF206+BF206*Титул.лист!$A$1","v":7590.7040000000006},{"$f":"BG206+BG206*Титул.лист!$P$2","v":7590.7040000000006},7590]
[null,null,750,null,"1413-75с",2050,{"$f":"F207+F207*Титул.лист!$A$1","v":2255},{"$f":"G207+G207*Титул.лист!$P$2","v":2255},2260,2250,{"$f":"J207+J207*Титул.лист!$A$1","v":2475},{"$f":"K207+K207*Титул.лист!$P$2","v":2475},2480,2700,{"$f":"N207+N207*Титул.лист!$A$1","v":2970},{"$f":"O207+O207*Титул.лист!$P$2","v":2970},2970,2850,{"$f":"R207+R207*Титул.лист!$A$1","v":3135},{"$f":"S207+S207*Титул.лист!$P$2","v":3135},3140,3150,{"$f":"V207+V207*Титул.лист!$A$1","v":3465},{"$f":"W207+W207*Титул.лист!$P$2","v":3465},3470,3300,{"$f":"Z207+Z207*Титул.лист!$A$1","v":3630},{"$f":"AA207+AA207*Титул.лист!$P$2","v":3630},3630,2550,{"$f":"AD207+AD207*Титул.лист!$A$1","v":2805},{"$f":"AE207+AE207*Титул.лист!$P$2","v":2805},2810,2750,{"$f":"AH207+AH207*Титул.лист!$A$1","v":3025},{"$f":"AI207+AI207*Титул.лист!$P$2","v":3025},3030,2850,{"$f":"AL207+AL207*Титул.лист!$A$1","v":3135},{"$f":"AM207+AM207*Титул.лист!$P$2","v":3135},3140,4649.67,{"$f":"AP207+AP207*Титул.лист!$A$1","v":5114.6369999999997},{"$f":"AQ207+AQ207*Титул.лист!$P$2","v":5114.6369999999997},5110,5255.4,{"$f":"AT207+AT207*Титул.лист!$A$1","v":5780.94},{"$f":"AU207+AU207*Титул.лист!$P$2","v":5780.94},5780,4240.2,{"$f":"AX207+AX207*Титул.лист!$A$1","v":4664.2199999999993},{"$f":"AY207+AY207*Титул.лист!$P$2","v":4664.2199999999993},4660,5309.4,{"$f":"BB207+BB207*Титул.лист!$A$1","v":5840.3399999999992},{"$f":"BC207+BC207*Титул.лист!$P$2","v":5840.3399999999992},5840,7361.4000000000005,{"$f":"BF207+BF207*Титул.лист!$A$1","v":8097.5400000000009},{"$f":"BG207+BG207*Титул.лист!$P$2","v":8097.5400000000009},8100]
[null,null,800,null,"1413-80с",2120,{"$f":"F208+F208*Титул.лист!$A$1","v":2332},{"$f":"G208+G208*Титул.лист!$P$2","v":2332},2330,2300,{"$f":"J208+J208*Титул.лист!$A$1","v":2530},{"$f":"K208+K208*Титул.лист!$P$2","v":2530},2530,2740,{"$f":"N208+N208*Титул.лист!$A$1","v":3014},{"$f":"O208+O208*Титул.лист!$P$2","v":3014},3010,2910,{"$f":"R208+R208*Титул.лист!$A$1","v":3201},{"$f":"S208+S208*Титул.лист!$P$2","v":3201},3200,3210,{"$f":"V208+V208*Титул.лист!$A$1","v":3531},{"$f":"W208+W208*Титул.лист!$P$2","v":3531},3530,3390,{"$f":"Z208+Z208*Титул.лист!$A$1","v":3729},{"$f":"AA208+AA208*Титул.лист!$P$2","v":3729},3730,2640,{"$f":"AD208+AD208*Титул.лист!$A$1","v":2904},{"$f":"AE208+AE208*Титул.лист!$P$2","v":2904},2900,2830,{"$f":"AH208+AH208*Титул.лист!$A$1","v":3113},{"$f":"AI208+AI208*Титул.лист!$P$2","v":3113},3110,2910,{"$f":"AL208+AL208*Титул.лист!$A$1","v":3201},{"$f":"AM208+AM208*Титул.лист!$P$2","v":3201},3200,4879.6479999999992,{"$f":"AP208+AP208*Титул.лист!$A$1","v":5367.612799999999},{"$f":"AQ208+AQ208*Титул.лист!$P$2","v":5367.612799999999},5370,5525.76,{"$f":"AT208+AT208*Титул.лист!$A$1","v":6078.3360000000002},{"$f":"AU208+AU208*Титул.лист!$P$2","v":6078.3360000000002},6080,4442.88,{"$f":"AX208+AX208*Титул.лист!$A$1","v":4887.1679999999997},{"$f":"AY208+AY208*Титул.лист!$P$2","v":4887.1679999999997},4890,5583.3600000000006,{"$f":"BB208+BB208*Титул.лист!$A$1","v":6141.6960000000008},{"$f":"BC208+BC208*Титул.лист!$P$2","v":6141.6960000000008},6140,7772.1600000000008,{"$f":"BF208+BF208*Титул.лист!$A$1","v":8549.3760000000002},{"$f":"BG208+BG208*Титул.лист!$P$2","v":8549.3760000000002},8550]
[null,null,300,"h 920","1421-30с",1536,{"$f":"F209+F209*Титул.лист!$A$1","v":1689.6},{"$f":"G209+G209*Титул.лист!$P$2","v":1689.6},1690,1644,{"$f":"J209+J209*Титул.лист!$A$1","v":1808.4},{"$f":"K209+K209*Титул.лист!$P$2","v":1808.4},1810,1884,{"$f":"N209+N209*Титул.лист!$A$1","v":2072.4},{"$f":"O209+O209*Титул.лист!$P$2","v":2072.4},2070,2004,{"$f":"R209+R209*Титул.лист!$A$1","v":2204.4},{"$f":"S209+S209*Титул.лист!$P$2","v":2204.4},2200,2160,{"$f":"V209+V209*Титул.лист!$A$1","v":2376},{"$f":"W209+W209*Титул.лист!$P$2","v":2376},2380,2280,{"$f":"Z209+Z209*Титул.лист!$A$1","v":2508},{"$f":"AA209+AA209*Титул.лист!$P$2","v":2508},2510,1836,{"$f":"AD209+AD209*Титул.лист!$A$1","v":2019.6},{"$f":"AE209+AE209*Титул.лист!$P$2","v":2019.6},2020,1956,{"$f":"AH209+AH209*Титул.лист!$A$1","v":2151.6},{"$f":"AI209+AI209*Титул.лист!$P$2","v":2151.6},2150,1992,{"$f":"AL209+AL209*Титул.лист!$A$1","v":2191.1999999999998},{"$f":"AM209+AM209*Титул.лист!$P$2","v":2191.1999999999998},2190,2910.4679999999998,{"$f":"AP209+AP209*Титул.лист!$A$1","v":3201.5147999999999},{"$f":"AQ209+AQ209*Титул.лист!$P$2","v":3201.5147999999999},3200,3218.76,{"$f":"AT209+AT209*Титул.лист!$A$1","v":3540.6360000000004},{"$f":"AU209+AU209*Титул.лист!$P$2","v":3540.6360000000004},3540,2699.88,{"$f":"AX209+AX209*Титул.лист!$A$1","v":2969.8679999999999},{"$f":"AY209+AY209*Титул.лист!$P$2","v":2969.8679999999999},2970,3246.36,{"$f":"BB209+BB209*Титул.лист!$A$1","v":3570.9960000000001},{"$f":"BC209+BC209*Титул.лист!$P$2","v":3570.9960000000001},3570,4295.16,{"$f":"BF209+BF209*Титул.лист!$A$1","v":4724.6759999999995},{"$f":"BG209+BG209*Титул.лист!$P$2","v":4724.6759999999995},4720]
[null,null,350,null,"1421-35с",1680,{"$f":"F210+F210*Титул.лист!$A$1","v":1848},{"$f":"G210+G210*Титул.лист!$P$2","v":1848},1850,1800,{"$f":"J210+J210*Титул.лист!$A$1","v":1980},{"$f":"K210+K210*Титул.лист!$P$2","v":1980},1980,2160,{"$f":"N210+N210*Титул.лист!$A$1","v":2376},{"$f":"O210+O210*Титул.лист!$P$2","v":2376},2380,2280,{"$f":"R210+R210*Титул.лист!$A$1","v":2508},{"$f":"S210+S210*Титул.лист!$P$2","v":2508},2510,2460,{"$f":"V210+V210*Титул.лист!$A$1","v":2706},{"$f":"W210+W210*Титул.лист!$P$2","v":2706},2710,2640,{"$f":"Z210+Z210*Титул.лист!$A$1","v":2904},{"$f":"AA210+AA210*Титул.лист!$P$2","v":2904},2900,2040,{"$f":"AD210+AD210*Титул.лист!$A$1","v":2244},{"$f":"AE210+AE210*Титул.лист!$P$2","v":2244},2240,2160,{"$f":"AH210+AH210*Титул.лист!$A$1","v":2376},{"$f":"AI210+AI210*Титул.лист!$P$2","v":2376},2380,2220,{"$f":"AL210+AL210*Титул.лист!$A$1","v":2442},{"$f":"AM210+AM210*Титул.лист!$P$2","v":2442},2440,3293.5460000000003,{"$f":"AP210+AP210*Титул.лист!$A$1","v":3622.9006000000004},{"$f":"AQ210+AQ210*Титул.лист!$P$2","v":3622.9006000000004},3620,3653.2200000000003,{"$f":"AT210+AT210*Титул.лист!$A$1","v":4018.5420000000004},{"$f":"AU210+AU210*Титул.лист!$P$2","v":4018.5420000000004},4020,3047.86,{"$f":"AX210+AX210*Титул.лист!$A$1","v":3352.6460000000002},{"$f":"AY210+AY210*Титул.лист!$P$2","v":3352.6460000000002},3350,3685.42,{"$f":"BB210+BB210*Титул.лист!$A$1","v":4053.962},{"$f":"BC210+BC210*Титул.лист!$P$2","v":4053.962},4050,4909.0200000000004,{"$f":"BF210+BF210*Титул.лист!$A$1","v":5399.9220000000005},{"$f":"BG210+BG210*Титул.лист!$P$2","v":5399.9220000000005},5400]
[null,null,400,null,"1421-40с",1728,{"$f":"F211+F211*Титул.лист!$A$1","v":1900.8},{"$f":"G211+G211*Титул.лист!$P$2","v":1900.8},1900,1872,{"$f":"J211+J211*Титул.лист!$A$1","v":2059.1999999999998},{"$f":"K211+K211*Титул.лист!$P$2","v":2059.1999999999998},2060,2196,{"$f":"N211+N211*Титул.лист!$A$1","v":2415.6},{"$f":"O211+O211*Титул.лист!$P$2","v":2415.6},2420,2340,{"$f":"R211+R211*Титул.лист!$A$1","v":2574},{"$f":"S211+S211*Титул.лист!$P$2","v":2574},2570,2544,{"$f":"V211+V211*Титул.лист!$A$1","v":2798.4},{"$f":"W211+W211*Титул.лист!$P$2","v":2798.4},2800,2688,{"$f":"Z211+Z211*Титул.лист!$A$1","v":2956.8},{"$f":"AA211+AA211*Титул.лист!$P$2","v":2956.8},2960,2112.0000000000005,{"$f":"AD211+AD211*Титул.лист!$A$1","v":2323.2000000000007},{"$f":"AE211+AE211*Титул.лист!$P$2","v":2323.2000000000007},2320,2256,{"$f":"AH211+AH211*Титул.лист!$A$1","v":2481.6},{"$f":"AI211+AI211*Титул.лист!$P$2","v":2481.6},2480,2304,{"$f":"AL211+AL211*Титул.лист!$A$1","v":2534.4},{"$f":"AM211+AM211*Титул.лист!$P$2","v":2534.4},2530,3544.6240000000007,{"$f":"AP211+AP211*Титул.лист!$A$1","v":3899.086400000001},{"$f":"AQ211+AQ211*Титул.лист!$P$2","v":3899.086400000001},3900,3955.6800000000003,{"$f":"AT211+AT211*Титул.лист!$A$1","v":4351.2480000000005},{"$f":"AU211+AU211*Титул.лист!$P$2","v":4351.2480000000005},4350,3263.84,{"$f":"AX211+AX211*Титул.лист!$A$1","v":3590.2240000000002},{"$f":"AY211+AY211*Титул.лист!$P$2","v":3590.2240000000002},3590,3992.4800000000005,{"$f":"BB211+BB211*Титул.лист!$A$1","v":4391.728000000001},{"$f":"BC211+BC211*Титул.лист!$P$2","v":4391.728000000001},4390,5390.880000000001,{"$f":"BF211+BF211*Титул.лист!$A$1","v":5929.9680000000008},{"$f":"BG211+BG211*Титул.лист!$P$2","v":5929.9680000000008},5930]
[null,null,450,null,"1421-45с",1920,{"$f":"F212+F212*Титул.лист!$A$1","v":2112},{"$f":"G212+G212*Титул.лист!$P$2","v":2112},2110,2040,{"$f":"J212+J212*Титул.лист!$A$1","v":2244},{"$f":"K212+K212*Титул.лист!$P$2","v":2244},2240,2400,{"$f":"N212+N212*Титул.лист!$A$1","v":2640},{"$f":"O212+O212*Титул.лист!$P$2","v":2640},2640,2580,{"$f":"R212+R212*Титул.лист!$A$1","v":2838},{"$f":"S212+S212*Титул.лист!$P$2","v":2838},2840,2820,{"$f":"V212+V212*Титул.лист!$A$1","v":3102},{"$f":"W212+W212*Титул.лист!$P$2","v":3102},3100,3000,{"$f":"Z212+Z212*Титул.лист!$A$1","v":3300},{"$f":"AA212+AA212*Титул.лист!$P$2","v":3300},3300,2280,{"$f":"AD212+AD212*Титул.лист!$A$1","v":2508},{"$f":"AE212+AE212*Титул.лист!$P$2","v":2508},2510,2520,{"$f":"AH212+AH212*Титул.лист!$A$1","v":2772},{"$f":"AI212+AI212*Титул.лист!$P$2","v":2772},2770,2520,{"$f":"AL212+AL212*Титул.лист!$A$1","v":2772},{"$f":"AM212+AM212*Титул.лист!$P$2","v":2772},2770,3891.7020000000002,{"$f":"AP212+AP212*Титул.лист!$A$1","v":4280.8721999999998},{"$f":"AQ212+AQ212*Титул.лист!$P$2","v":4280.8721999999998},4280,4354.1400000000003,{"$f":"AT212+AT212*Титул.лист!$A$1","v":4789.5540000000001},{"$f":"AU212+AU212*Титул.лист!$P$2","v":4789.5540000000001},4790,3575.82,{"$f":"AX212+AX212*Титул.лист!$A$1","v":3933.402},{"$f":"AY212+AY212*Титул.лист!$P$2","v":3933.402},3930,4395.54,{"$f":"BB212+BB212*Титул.лист!$A$1","v":4835.0940000000001},{"$f":"BC212+BC212*Титул.лист!$P$2","v":4835.0940000000001},4840,5968.74,{"$f":"BF212+BF212*Титул.лист!$A$1","v":6565.6139999999996},{"$f":"BG212+BG212*Титул.лист!$P$2","v":6565.6139999999996},6570]
[null,null,500,null,"1421-50с",1944,{"$f":"F213+F213*Титул.лист!$A$1","v":2138.4},{"$f":"G213+G213*Титул.лист!$P$2","v":2138.4},2140,2100,{"$f":"J213+J213*Титул.лист!$A$1","v":2310},{"$f":"K213+K213*Титул.лист!$P$2","v":2310},2310,2496,{"$f":"N213+N213*Титул.лист!$A$1","v":2745.6},{"$f":"O213+O213*Титул.лист!$P$2","v":2745.6},2750,2652,{"$f":"R213+R213*Титул.лист!$A$1","v":2917.2},{"$f":"S213+S213*Титул.лист!$P$2","v":2917.2},2920,2904,{"$f":"V213+V213*Титул.лист!$A$1","v":3194.4},{"$f":"W213+W213*Титул.лист!$P$2","v":3194.4},3190,3060,{"$f":"Z213+Z213*Титул.лист!$A$1","v":3366},{"$f":"AA213+AA213*Титул.лист!$P$2","v":3366},3370,2388,{"$f":"AD213+AD213*Титул.лист!$A$1","v":2626.8},{"$f":"AE213+AE213*Титул.лист!$P$2","v":2626.8},2630,2568,{"$f":"AH213+AH213*Титул.лист!$A$1","v":2824.8},{"$f":"AI213+AI213*Титул.лист!$P$2","v":2824.8},2820,2640,{"$f":"AL213+AL213*Титул.лист!$A$1","v":2904},{"$f":"AM213+AM213*Титул.лист!$P$2","v":2904},2900,4178.78,{"$f":"AP213+AP213*Титул.лист!$A$1","v":4596.6579999999994},{"$f":"AQ213+AQ213*Титул.лист!$P$2","v":4596.6579999999994},4600,4692.6000000000004,{"$f":"AT213+AT213*Титул.лист!$A$1","v":5161.8600000000006},{"$f":"AU213+AU213*Титул.лист!$P$2","v":5161.8600000000006},5160,3827.8,{"$f":"AX213+AX213*Титул.лист!$A$1","v":4210.58},{"$f":"AY213+AY213*Титул.лист!$P$2","v":4210.58},4210,4738.6000000000004,{"$f":"BB213+BB213*Титул.лист!$A$1","v":5212.46},{"$f":"BC213+BC213*Титул.лист!$P$2","v":5212.46},5210,6486.6,{"$f":"BF213+BF213*Титул.лист!$A$1","v":7135.26},{"$f":"BG213+BG213*Титул.лист!$P$2","v":7135.26},7140]
[null,null,550,null,"1421-55с",2280,{"$f":"F214+F214*Титул.лист!$A$1","v":2508},{"$f":"G214+G214*Титул.лист!$P$2","v":2508},2510,2460,{"$f":"J214+J214*Титул.лист!$A$1","v":2706},{"$f":"K214+K214*Титул.лист!$P$2","v":2706},2710,2880,{"$f":"N214+N214*Титул.лист!$A$1","v":3168},{"$f":"O214+O214*Титул.лист!$P$2","v":3168},3170,3120,{"$f":"R214+R214*Титул.лист!$A$1","v":3432},{"$f":"S214+S214*Титул.лист!$P$2","v":3432},3430,3360,{"$f":"V214+V214*Титул.лист!$A$1","v":3696},{"$f":"W214+W214*Титул.лист!$P$2","v":3696},3700,3600,{"$f":"Z214+Z214*Титул.лист!$A$1","v":3960},{"$f":"AA214+AA214*Титул.лист!$P$2","v":3960},3960,2820,{"$f":"AD214+AD214*Титул.лист!$A$1","v":3102},{"$f":"AE214+AE214*Титул.лист!$P$2","v":3102},3100,3000,{"$f":"AH214+AH214*Титул.лист!$A$1","v":3300},{"$f":"AI214+AI214*Титул.лист!$P$2","v":3300},3300,3120,{"$f":"AL214+AL214*Титул.лист!$A$1","v":3432},{"$f":"AM214+AM214*Титул.лист!$P$2","v":3432},3430,4789.8580000000002,{"$f":"AP214+AP214*Титул.лист!$A$1","v":5268.8438000000006},{"$f":"AQ214+AQ214*Титул.лист!$P$2","v":5268.8438000000006},5270,5355.0599999999995,{"$f":"AT214+AT214*Титул.лист!$A$1","v":5890.5659999999998},{"$f":"AU214+AU214*Титул.лист!$P$2","v":5890.5659999999998},5890,4403.78,{"$f":"AX214+AX214*Титул.лист!$A$1","v":4844.1579999999994},{"$f":"AY214+AY214*Титул.лист!$P$2","v":4844.1579999999994},4840,5405.66,{"$f":"BB214+BB214*Титул.лист!$A$1","v":5946.2259999999997},{"$f":"BC214+BC214*Титул.лист!$P$2","v":5946.2259999999997},5950,7328.46,{"$f":"BF214+BF214*Титул.лист!$A$1","v":8061.3060000000005},{"$f":"BG214+BG214*Титул.лист!$P$2","v":8061.3060000000005},8060]
[null,null,600,null,"1421-60с",2352,{"$f":"F215+F215*Титул.лист!$A$1","v":2587.1999999999998},{"$f":"G215+G215*Титул.лист!$P$2","v":2587.1999999999998},2590,2544,{"$f":"J215+J215*Титул.лист!$A$1","v":2798.4},{"$f":"K215+K215*Титул.лист!$P$2","v":2798.4},2800,2988,{"$f":"N215+N215*Титул.лист!$A$1","v":3286.8},{"$f":"O215+O215*Титул.лист!$P$2","v":3286.8},3290,3180,{"$f":"R215+R215*Титул.лист!$A$1","v":3498},{"$f":"S215+S215*Титул.лист!$P$2","v":3498},3500,3468,{"$f":"V215+V215*Титул.лист!$A$1","v":3814.8},{"$f":"W215+W215*Титул.лист!$P$2","v":3814.8},3810,3672,{"$f":"Z215+Z215*Титул.лист!$A$1","v":4039.2},{"$f":"AA215+AA215*Титул.лист!$P$2","v":4039.2},4040,2892,{"$f":"AD215+AD215*Титул.лист!$A$1","v":3181.2},{"$f":"AE215+AE215*Титул.лист!$P$2","v":3181.2},3180,3084,{"$f":"AH215+AH215*Титул.лист!$A$1","v":3392.4},{"$f":"AI215+AI215*Титул.лист!$P$2","v":3392.4},3390,3180,{"$f":"AL215+AL215*Титул.лист!$A$1","v":3498},{"$f":"AM215+AM215*Титул.лист!$P$2","v":3498},3500,5040.9359999999997,{"$f":"AP215+AP215*Титул.лист!$A$1","v":5545.0295999999998},{"$f":"AQ215+AQ215*Титул.лист!$P$2","v":5545.0295999999998},5550,5657.52,{"$f":"AT215+AT215*Титул.лист!$A$1","v":6223.2720000000008},{"$f":"AU215+AU215*Титул.лист!$P$2","v":6223.2720000000008},6220,4619.76,{"$f":"AX215+AX215*Титул.лист!$A$1","v":5081.7359999999999},{"$f":"AY215+AY215*Титул.лист!$P$2","v":5081.7359999999999},5080,5712.72,{"$f":"BB215+BB215*Титул.лист!$A$1","v":6283.9920000000002},{"$f":"BC215+BC215*Титул.лист!$P$2","v":6283.9920000000002},6280,7810.3200000000006,{"$f":"BF215+BF215*Титул.лист!$A$1","v":8591.3520000000008},{"$f":"BG215+BG215*Титул.лист!$P$2","v":8591.3520000000008},8590]
[null,null,650,null,"1421-65с",2460,{"$f":"F216+F216*Титул.лист!$A$1","v":2706},{"$f":"G216+G216*Титул.лист!$P$2","v":2706},2710,2700,{"$f":"J216+J216*Титул.лист!$A$1","v":2970},{"$f":"K216+K216*Титул.лист!$P$2","v":2970},2970,3240,{"$f":"N216+N216*Титул.лист!$A$1","v":3564},{"$f":"O216+O216*Титул.лист!$P$2","v":3564},3560,3420,{"$f":"R216+R216*Титул.лист!$A$1","v":3762},{"$f":"S216+S216*Титул.лист!$P$2","v":3762},3760,3780,{"$f":"V216+V216*Титул.лист!$A$1","v":4158},{"$f":"W216+W216*Титул.лист!$P$2","v":4158},4160,3960,{"$f":"Z216+Z216*Титул.лист!$A$1","v":4356},{"$f":"AA216+AA216*Титул.лист!$P$2","v":4356},4360,3060,{"$f":"AD216+AD216*Титул.лист!$A$1","v":3366},{"$f":"AE216+AE216*Титул.лист!$P$2","v":3366},3370,3300,{"$f":"AH216+AH216*Титул.лист!$A$1","v":3630},{"$f":"AI216+AI216*Титул.лист!$P$2","v":3630},3630,3420,{"$f":"AL216+AL216*Титул.лист!$A$1","v":3762},{"$f":"AM216+AM216*Титул.лист!$P$2","v":3762},3760,5388.0140000000001,{"$f":"AP216+AP216*Титул.лист!$A$1","v":5926.8154000000004},{"$f":"AQ216+AQ216*Титул.лист!$P$2","v":5926.8154000000004},5930,6055.98,{"$f":"AT216+AT216*Титул.лист!$A$1","v":6661.5779999999995},{"$f":"AU216+AU216*Титул.лист!$P$2","v":6661.5779999999995},6660,4931.74,{"$f":"AX216+AX216*Титул.лист!$A$1","v":5424.9139999999998},{"$f":"AY216+AY216*Титул.лист!$P$2","v":5424.9139999999998},5420,6115.78,{"$f":"BB216+BB216*Титул.лист!$A$1","v":6727.3580000000002},{"$f":"BC216+BC216*Титул.лист!$P$2","v":6727.3580000000002},6730,8388.18,{"$f":"BF216+BF216*Титул.лист!$A$1","v":9226.9979999999996},{"$f":"BG216+BG216*Титул.лист!$P$2","v":9226.9979999999996},9230]
[null,null,700,null,"1421-70с",2544,{"$f":"F217+F217*Титул.лист!$A$1","v":2798.4},{"$f":"G217+G217*Титул.лист!$P$2","v":2798.4},2800,2760,{"$f":"J217+J217*Титул.лист!$A$1","v":3036},{"$f":"K217+K217*Титул.лист!$P$2","v":3036},3040,3288,{"$f":"N217+N217*Титул.лист!$A$1","v":3616.8},{"$f":"O217+O217*Титул.лист!$P$2","v":3616.8},3620,3492,{"$f":"R217+R217*Титул.лист!$A$1","v":3841.2},{"$f":"S217+S217*Титул.лист!$P$2","v":3841.2},3840,3852,{"$f":"V217+V217*Титул.лист!$A$1","v":4237.2},{"$f":"W217+W217*Титул.лист!$P$2","v":4237.2},4240,4068,{"$f":"Z217+Z217*Титул.лист!$A$1","v":4474.8},{"$f":"AA217+AA217*Титул.лист!$P$2","v":4474.8},4470,3168,{"$f":"AD217+AD217*Титул.лист!$A$1","v":3484.8},{"$f":"AE217+AE217*Титул.лист!$P$2","v":3484.8},3480,3396,{"$f":"AH217+AH217*Титул.лист!$A$1","v":3735.6},{"$f":"AI217+AI217*Титул.лист!$P$2","v":3735.6},3740,3492,{"$f":"AL217+AL217*Титул.лист!$A$1","v":3841.2},{"$f":"AM217+AM217*Титул.лист!$P$2","v":3841.2},3840,5675.0920000000006,{"$f":"AP217+AP217*Титул.лист!$A$1","v":6242.601200000001},{"$f":"AQ217+AQ217*Титул.лист!$P$2","v":6242.601200000001},6240,6394.4400000000005,{"$f":"AT217+AT217*Титул.лист!$A$1","v":7033.8840000000009},{"$f":"AU217+AU217*Титул.лист!$P$2","v":7033.8840000000009},7030,5183.72,{"$f":"AX217+AX217*Титул.лист!$A$1","v":5702.0920000000006},{"$f":"AY217+AY217*Титул.лист!$P$2","v":5702.0920000000006},5700,6458.84,{"$f":"BB217+BB217*Титул.лист!$A$1","v":7104.7240000000002},{"$f":"BC217+BC217*Титул.лист!$P$2","v":7104.7240000000002},7100,8906.0400000000009,{"$f":"BF217+BF217*Титул.лист!$A$1","v":9796.6440000000002},{"$f":"BG217+BG217*Титул.лист!$P$2","v":9796.6440000000002},9800]
[null,null,750,null,"1421-75с",1843.2,{"$f":"F218+F218*Титул.лист!$A$1","v":2027.52},{"$f":"G218+G218*Титул.лист!$P$2","v":2027.52},2030,1972.8,{"$f":"J218+J218*Титул.лист!$A$1","v":2170.08},{"$f":"K218+K218*Титул.лист!$P$2","v":2170.08},2170,2260.8000000000002,{"$f":"N218+N218*Титул.лист!$A$1","v":2486.88},{"$f":"O218+O218*Титул.лист!$P$2","v":2486.88},2490,2404.8000000000002,{"$f":"R218+R218*Титул.лист!$A$1","v":2645.28},{"$f":"S218+S218*Титул.лист!$P$2","v":2645.28},2650,2592,{"$f":"V218+V218*Титул.лист!$A$1","v":2851.2},{"$f":"W218+W218*Титул.лист!$P$2","v":2851.2},2850,2736,{"$f":"Z218+Z218*Титул.лист!$A$1","v":3009.6},{"$f":"AA218+AA218*Титул.лист!$P$2","v":3009.6},3010,2203.1999999999998,{"$f":"AD218+AD218*Титул.лист!$A$1","v":2423.52},{"$f":"AE218+AE218*Титул.лист!$P$2","v":2423.52},2420,2347.1999999999998,{"$f":"AH218+AH218*Титул.лист!$A$1","v":2581.9199999999996},{"$f":"AI218+AI218*Титул.лист!$P$2","v":2581.9199999999996},2580,2390.4,{"$f":"AL218+AL218*Титул.лист!$A$1","v":2629.44},{"$f":"AM218+AM218*Титул.лист!$P$2","v":2629.44},2630,4889.37,{"$f":"AP218+AP218*Титул.лист!$A$1","v":5378.3069999999998},{"$f":"AQ218+AQ218*Титул.лист!$P$2","v":5378.3069999999998},5380,5660.1,{"$f":"AT218+AT218*Титул.лист!$A$1","v":6226.1100000000006},{"$f":"AU218+AU218*Титул.лист!$P$2","v":6226.1100000000006},6230,4362.8999999999996,{"$f":"AX218+AX218*Титул.лист!$A$1","v":4799.1899999999996},{"$f":"AY218+AY218*Титул.лист!$P$2","v":4799.1899999999996},4800,5729.1,{"$f":"BB218+BB218*Титул.лист!$A$1","v":6302.01},{"$f":"BC218+BC218*Титул.лист!$P$2","v":6302.01},6300,8351.1,{"$f":"BF218+BF218*Титул.лист!$A$1","v":9186.2100000000009},{"$f":"BG218+BG218*Титул.лист!$P$2","v":9186.2100000000009},9190]
[null,null,800,null,"1421-80с",2016,{"$f":"F219+F219*Титул.лист!$A$1","v":2217.6},{"$f":"G219+G219*Титул.лист!$P$2","v":2217.6},2220,2160,{"$f":"J219+J219*Титул.лист!$A$1","v":2376},{"$f":"K219+K219*Титул.лист!$P$2","v":2376},2380,2592,{"$f":"N219+N219*Титул.лист!$A$1","v":2851.2},{"$f":"O219+O219*Титул.лист!$P$2","v":2851.2},2850,2736,{"$f":"R219+R219*Титул.лист!$A$1","v":3009.6},{"$f":"S219+S219*Титул.лист!$P$2","v":3009.6},3010,2952,{"$f":"V219+V219*Титул.лист!$A$1","v":3247.2},{"$f":"W219+W219*Титул.лист!$P$2","v":3247.2},3250,3168,{"$f":"Z219+Z219*Титул.лист!$A$1","v":3484.8},{"$f":"AA219+AA219*Титул.лист!$P$2","v":3484.8},3480,2448,{"$f":"AD219+AD219*Титул.лист!$A$1","v":2692.8},{"$f":"AE219+AE219*Титул.лист!$P$2","v":2692.8},2690,2592,{"$f":"AH219+AH219*Титул.лист!$A$1","v":2851.2},{"$f":"AI219+AI219*Титул.лист!$P$2","v":2851.2},2850,2664,{"$f":"AL219+AL219*Титул.лист!$A$1","v":2930.4},{"$f":"AM219+AM219*Титул.лист!$P$2","v":2930.4},2930,5313.2479999999996,{"$f":"AP219+AP219*Титул.лист!$A$1","v":5844.5727999999999},{"$f":"AQ219+AQ219*Титул.лист!$P$2","v":5844.5727999999999},5840,6135.3600000000006,{"$f":"AT219+AT219*Титул.лист!$A$1","v":6748.8960000000006},{"$f":"AU219+AU219*Титул.лист!$P$2","v":6748.8960000000006},6750,4751.68,{"$f":"AX219+AX219*Титул.лист!$A$1","v":5226.848},{"$f":"AY219+AY219*Титул.лист!$P$2","v":5226.848},5230,6208.96,{"$f":"BB219+BB219*Титул.лист!$A$1","v":6829.8559999999998},{"$f":"BC219+BC219*Титул.лист!$P$2","v":6829.8559999999998},6830,9005.76,{"$f":"BF219+BF219*Титул.лист!$A$1","v":9906.3359999999993},{"$f":"BG219+BG219*Титул.лист!$P$2","v":9906.3359999999993},9910]
[null,"Шкаф антресольный \"BLUM\"Aventos 2 дв.",600,"h 720","1426-60",8460,{"$f":"F220+F220*Титул.лист!$A$1","v":9306},{"$f":"G220+G220*Титул.лист!$P$2","v":9306},9310,8550,{"$f":"J220+J220*Титул.лист!$A$1","v":9405},{"$f":"K220+K220*Титул.лист!$P$2","v":9405},9410,8930,{"$f":"N220+N220*Титул.лист!$A$1","v":9823},{"$f":"O220+O220*Титул.лист!$P$2","v":9823},9820,9010,{"$f":"R220+R220*Титул.лист!$A$1","v":9911},{"$f":"S220+S220*Титул.лист!$P$2","v":9911},9910,9270,{"$f":"V220+V220*Титул.лист!$A$1","v":10197},{"$f":"W220+W220*Титул.лист!$P$2","v":10197},10200,9360,{"$f":"Z220+Z220*Титул.лист!$A$1","v":10296},{"$f":"AA220+AA220*Титул.лист!$P$2","v":10296},10300,8950,{"$f":"AD220+AD220*Титул.лист!$A$1","v":9845},{"$f":"AE220+AE220*Титул.лист!$P$2","v":9845},9850,9100,{"$f":"AH220+AH220*Титул.лист!$A$1","v":10010},{"$f":"AI220+AI220*Титул.лист!$P$2","v":10010},10010,9160,{"$f":"AL220+AL220*Титул.лист!$A$1","v":10076},{"$f":"AM220+AM220*Титул.лист!$P$2","v":10076},10080,10629.736000000001,{"$f":"AP220+AP220*Титул.лист!$A$1","v":11692.7096},{"$f":"AQ220+AQ220*Титул.лист!$P$2","v":11692.7096},11690,11114.32,{"$f":"AT220+AT220*Титул.лист!$A$1","v":12225.752},{"$f":"AU220+AU220*Титул.лист!$P$2","v":12225.752},12230,10302.16,{"$f":"AX220+AX220*Титул.лист!$A$1","v":11332.376},{"$f":"AY220+AY220*Титул.лист!$P$2","v":11332.376},11330,11157.52,{"$f":"BB220+BB220*Титул.лист!$A$1","v":12273.272000000001},{"$f":"BC220+BC220*Титул.лист!$P$2","v":12273.272000000001},12270,12799.12,{"$f":"BF220+BF220*Титул.лист!$A$1","v":14079.032000000001},{"$f":"BG220+BG220*Титул.лист!$P$2","v":14079.032000000001},14080]
[null,null,700,null,"1426-70",null,{"$f":"F221+F221*Титул.лист!$A$1","v":0},{"$f":"G221+G221*Титул.лист!$P$2","v":0},null,null,null,null,null,null,null,null,null,null,null,null,null,null,null,null,null,null,null,null,null,9330,{"$f":"AD221+AD221*Титул.лист!$A$1","v":10263},{"$f":"AE221+AE221*Титул.лист!$P$2","v":10263},10260,9500,{"$f":"AH221+AH221*Титул.лист!$A$1","v":10450},{"$f":"AI221+AI221*Титул.лист!$P$2","v":10450},10450,9580,{"$f":"AL221+AL221*Титул.лист!$A$1","v":10538},{"$f":"AM221+AM221*Титул.лист!$P$2","v":10538},10540,11289.691999999999,{"$f":"AP221+AP221*Титул.лист!$A$1","v":12418.661199999999},{"$f":"AQ221+AQ221*Титул.лист!$P$2","v":12418.661199999999},12420,11855.04,{"$f":"AT221+AT221*Титул.лист!$A$1","v":13040.544000000002},{"$f":"AU221+AU221*Титул.лист!$P$2","v":13040.544000000002},13040,10907.52,{"$f":"AX221+AX221*Титул.лист!$A$1","v":11998.272000000001},{"$f":"AY221+AY221*Титул.лист!$P$2","v":11998.272000000001},12000,11905.44,{"$f":"BB221+BB221*Титул.лист!$A$1","v":13095.984},{"$f":"BC221+BC221*Титул.лист!$P$2","v":13095.984},13100,13820.64,{"$f":"BF221+BF221*Титул.лист!$A$1","v":15202.704},{"$f":"BG221+BG221*Титул.лист!$P$2","v":15202.704},15200]
[null,null,800,null,"1426-80",null,{"$f":"F222+F222*Титул.лист!$A$1","v":0},{"$f":"G222+G222*Титул.лист!$P$2","v":0},null,null,null,null,null,null,null,null,null,null,null,null,null,null,null,null,null,null,null,null,null,9510,{"$f":"AD222+AD222*Титул.лист!$A$1","v":10461},{"$f":"AE222+AE222*Титул.лист!$P$2","v":10461},10460,9700,{"$f":"AH222+AH222*Титул.лист!$A$1","v":10670},{"$f":"AI222+AI222*Титул.лист!$P$2","v":10670},10670,9780,{"$f":"AL222+AL222*Титул.лист!$A$1","v":10758},{"$f":"AM222+AM222*Титул.лист!$P$2","v":10758},10760,11749.647999999999,{"$f":"AP222+AP222*Титул.лист!$A$1","v":12924.612799999999},{"$f":"AQ222+AQ222*Титул.лист!$P$2","v":12924.612799999999},12920,12395.76,{"$f":"AT222+AT222*Титул.лист!$A$1","v":13635.335999999999},{"$f":"AU222+AU222*Титул.лист!$P$2","v":13635.335999999999},13640,11312.880000000001,{"$f":"AX222+AX222*Титул.лист!$A$1","v":12444.168000000001},{"$f":"AY222+AY222*Титул.лист!$P$2","v":12444.168000000001},12440,12453.36,{"$f":"BB222+BB222*Титул.лист!$A$1","v":13698.696},{"$f":"BC222+BC222*Титул.лист!$P$2","v":13698.696},13700,14642.16,{"$f":"BF222+BF222*Титул.лист!$A$1","v":16106.376},{"$f":"BG222+BG222*Титул.лист!$P$2","v":16106.376},16110]
[null,null,600,"h 920","1427-60",null,{"$f":"F223+F223*Титул.лист!$A$1","v":0},{"$f":"G223+G223*Титул.лист!$P$2","v":0},null,null,null,null,null,null,null,null,null,null,null,null,null,null,null,null,null,null,null,null,null,9250,{"$f":"AD223+AD223*Титул.лист!$A$1","v":10175},{"$f":"AE223+AE223*Титул.лист!$P$2","v":10175},10180,9430,{"$f":"AH223+AH223*Титул.лист!$A$1","v":10373},{"$f":"AI223+AI223*Титул.лист!$P$2","v":10373},10370,9520,{"$f":"AL223+AL223*Титул.лист!$A$1","v":10472},{"$f":"AM223+AM223*Титул.лист!$P$2","v":10472},10470,11398.936,{"$f":"AP223+AP223*Титул.лист!$A$1","v":12538.829599999999},{"$f":"AQ223+AQ223*Титул.лист!$P$2","v":12538.829599999999},12540,12015.52,{"$f":"AT223+AT223*Титул.лист!$A$1","v":13217.072},{"$f":"AU223+AU223*Титул.лист!$P$2","v":13217.072},13220,10977.76,{"$f":"AX223+AX223*Титул.лист!$A$1","v":12075.536},{"$f":"AY223+AY223*Титул.лист!$P$2","v":12075.536},12080,12070.720000000001,{"$f":"BB223+BB223*Титул.лист!$A$1","v":13277.792000000001},{"$f":"BC223+BC223*Титул.лист!$P$2","v":13277.792000000001},13280,14168.32,{"$f":"BF223+BF223*Титул.лист!$A$1","v":15585.152},{"$f":"BG223+BG223*Титул.лист!$P$2","v":15585.152},15590]
[null,null,700,null,"1427-70",null,{"$f":"F224+F224*Титул.лист!$A$1","v":0},{"$f":"G224+G224*Титул.лист!$P$2","v":0},null,null,null,null,null,null,null,null,null,null,null,null,null,null,null,null,null,null,null,null,null,9660,{"$f":"AD224+AD224*Титул.лист!$A$1","v":10626},{"$f":"AE224+AE224*Титул.лист!$P$2","v":10626},10630,9880,{"$f":"AH224+AH224*Титул.лист!$A$1","v":10868},{"$f":"AI224+AI224*Титул.лист!$P$2","v":10868},10870,9970,{"$f":"AL224+AL224*Титул.лист!$A$1","v":10967},{"$f":"AM224+AM224*Титул.лист!$P$2","v":10967},10970,12167.092000000001,{"$f":"AP224+AP224*Титул.лист!$A$1","v":13383.8012},{"$f":"AQ224+AQ224*Титул.лист!$P$2","v":13383.8012},13380,12886.44,{"$f":"AT224+AT224*Титул.лист!$A$1","v":14175.084000000001},{"$f":"AU224+AU224*Титул.лист!$P$2","v":14175.084000000001},14180,11675.720000000001,{"$f":"AX224+AX224*Титул.лист!$A$1","v":12843.292000000001},{"$f":"AY224+AY224*Титул.лист!$P$2","v":12843.292000000001},12840,12950.84,{"$f":"BB224+BB224*Титул.лист!$A$1","v":14245.924000000001},{"$f":"BC224+BC224*Титул.лист!$P$2","v":14245.924000000001},14250,15398.04,{"$f":"BF224+BF224*Титул.лист!$A$1","v":16937.844000000001},{"$f":"BG224+BG224*Титул.лист!$P$2","v":16937.844000000001},16940]
[null,null,800,null,"1427-80",null,{"$f":"F225+F225*Титул.лист!$A$1","v":0},{"$f":"G225+G225*Титул.лист!$P$2","v":0},null,null,null,null,null,null,null,null,null,null,null,null,null,null,null,null,null,null,null,null,null,9870,{"$f":"AD225+AD225*Титул.лист!$A$1","v":10857},{"$f":"AE225+AE225*Титул.лист!$P$2","v":10857},10860,10130,{"$f":"AH225+AH225*Титул.лист!$A$1","v":11143},{"$f":"AI225+AI225*Титул.лист!$P$2","v":11143},11140,10220,{"$f":"AL225+AL225*Титул.лист!$A$1","v":11242},{"$f":"AM225+AM225*Титул.лист!$P$2","v":11242},11240,12735.248,{"$f":"AP225+AP225*Титул.лист!$A$1","v":14008.772799999999},{"$f":"AQ225+AQ225*Титул.лист!$P$2","v":14008.772799999999},14010,13557.36,{"$f":"AT225+AT225*Титул.лист!$A$1","v":14913.096000000001},{"$f":"AU225+AU225*Титул.лист!$P$2","v":14913.096000000001},14910,12173.68,{"$f":"AX225+AX225*Титул.лист!$A$1","v":13391.048000000001},{"$f":"AY225+AY225*Титул.лист!$P$2","v":13391.048000000001},13390,13630.96,{"$f":"BB225+BB225*Титул.лист!$A$1","v":14994.055999999999},{"$f":"BC225+BC225*Титул.лист!$P$2","v":14994.055999999999},14990,16427.760000000002,{"$f":"BF225+BF225*Титул.лист!$A$1","v":18070.536000000004},{"$f":"BG225+BG225*Титул.лист!$P$2","v":18070.536000000004},18070]
[null,"Шкаф антресольный \"BLUM\"Aventos 2 дв.1 ст.",600,"h 720","1426-60гс",null,{"$f":"F226+F226*Титул.лист!$A$1","v":0},{"$f":"G226+G226*Титул.лист!$P$2","v":0},null,null,null,null,null,null,null,null,null,null,null,null,null,null,null,null,null,null,null,null,null,9060,{"$f":"AD226+AD226*Титул.лист!$A$1","v":9966},{"$f":"AE226+AE226*Титул.лист!$P$2","v":9966},9970,9210,{"$f":"AH226+AH226*Титул.лист!$A$1","v":10131},{"$f":"AI226+AI226*Титул.лист!$P$2","v":10131},10130,9270,{"$f":"AL226+AL226*Титул.лист!$A$1","v":10197},{"$f":"AM226+AM226*Титул.лист!$P$2","v":10197},10200,10739.736000000001,{"$f":"AP226+AP226*Титул.лист!$A$1","v":11813.7096},{"$f":"AQ226+AQ226*Титул.лист!$P$2","v":11813.7096},11810,11224.32,{"$f":"AT226+AT226*Титул.лист!$A$1","v":12346.752},{"$f":"AU226+AU226*Титул.лист!$P$2","v":12346.752},12350,10412.16,{"$f":"AX226+AX226*Титул.лист!$A$1","v":11453.376},{"$f":"AY226+AY226*Титул.лист!$P$2","v":11453.376},11450,11267.52,{"$f":"BB226+BB226*Титул.лист!$A$1","v":12394.272000000001},{"$f":"BC226+BC226*Титул.лист!$P$2","v":12394.272000000001},12390,12909.12,{"$f":"BF226+BF226*Титул.лист!$A$1","v":14200.032000000001},{"$f":"BG226+BG226*Титул.лист!$P$2","v":14200.032000000001},14200]
[null,null,700,null,"1426-70гс",null,{"$f":"F227+F227*Титул.лист!$A$1","v":0},{"$f":"G227+G227*Титул.лист!$P$2","v":0},null,null,null,null,null,null,null,null,null,null,null,null,null,null,null,null,null,null,null,null,null,9470,{"$f":"AD227+AD227*Титул.лист!$A$1","v":10417},{"$f":"AE227+AE227*Титул.лист!$P$2","v":10417},10420,9630,{"$f":"AH227+AH227*Титул.лист!$A$1","v":10593},{"$f":"AI227+AI227*Титул.лист!$P$2","v":10593},10590,9710,{"$f":"AL227+AL227*Титул.лист!$A$1","v":10681},{"$f":"AM227+AM227*Титул.лист!$P$2","v":10681},10680,11429.691999999999,{"$f":"AP227+AP227*Титул.лист!$A$1","v":12572.661199999999},{"$f":"AQ227+AQ227*Титул.лист!$P$2","v":12572.661199999999},12570,11995.04,{"$f":"AT227+AT227*Титул.лист!$A$1","v":13194.544000000002},{"$f":"AU227+AU227*Титул.лист!$P$2","v":13194.544000000002},13190,11047.52,{"$f":"AX227+AX227*Титул.лист!$A$1","v":12152.272000000001},{"$f":"AY227+AY227*Титул.лист!$P$2","v":12152.272000000001},12150,12045.44,{"$f":"BB227+BB227*Титул.лист!$A$1","v":13249.984},{"$f":"BC227+BC227*Титул.лист!$P$2","v":13249.984},13250,13960.64,{"$f":"BF227+BF227*Титул.лист!$A$1","v":15356.704},{"$f":"BG227+BG227*Титул.лист!$P$2","v":15356.704},15360]
[null,null,800,null,"1426-80гс",null,{"$f":"F228+F228*Титул.лист!$A$1","v":0},{"$f":"G228+G228*Титул.лист!$P$2","v":0},null,null,null,null,null,null,null,null,null,null,null,null,null,null,null,null,null,null,null,null,null,9660,{"$f":"AD228+AD228*Титул.лист!$A$1","v":10626},{"$f":"AE228+AE228*Титул.лист!$P$2","v":10626},10630,9850,{"$f":"AH228+AH228*Титул.лист!$A$1","v":10835},{"$f":"AI228+AI228*Титул.лист!$P$2","v":10835},10840,9940,{"$f":"AL228+AL228*Титул.лист!$A$1","v":10934},{"$f":"AM228+AM228*Титул.лист!$P$2","v":10934},10930,11899.647999999999,{"$f":"AP228+AP228*Титул.лист!$A$1","v":13089.612799999999},{"$f":"AQ228+AQ228*Титул.лист!$P$2","v":13089.612799999999},13090,12545.76,{"$f":"AT228+AT228*Титул.лист!$A$1","v":13800.335999999999},{"$f":"AU228+AU228*Титул.лист!$P$2","v":13800.335999999999},13800,11462.880000000001,{"$f":"AX228+AX228*Титул.лист!$A$1","v":12609.168000000001},{"$f":"AY228+AY228*Титул.лист!$P$2","v":12609.168000000001},12610,12603.36,{"$f":"BB228+BB228*Титул.лист!$A$1","v":13863.696},{"$f":"BC228+BC228*Титул.лист!$P$2","v":13863.696},13860,14792.16,{"$f":"BF228+BF228*Титул.лист!$A$1","v":16271.376},{"$f":"BG228+BG228*Титул.лист!$P$2","v":16271.376},16270]
[null,null,600,"h 920","1427-60гс",null,{"$f":"F229+F229*Титул.лист!$A$1","v":0},{"$f":"G229+G229*Титул.лист!$P$2","v":0},null,null,null,null,null,null,null,null,null,null,null,null,null,null,null,null,null,null,null,null,null,9400,{"$f":"AD229+AD229*Титул.лист!$A$1","v":10340},{"$f":"AE229+AE229*Титул.лист!$P$2","v":10340},10340,9587,{"$f":"AH229+AH229*Титул.лист!$A$1","v":10545.7},{"$f":"AI229+AI229*Титул.лист!$P$2","v":10545.7},10550,9680,{"$f":"AL229+AL229*Титул.лист!$A$1","v":10648},{"$f":"AM229+AM229*Титул.лист!$P$2","v":10648},10650,11548.936,{"$f":"AP229+AP229*Титул.лист!$A$1","v":12703.829599999999},{"$f":"AQ229+AQ229*Титул.лист!$P$2","v":12703.829599999999},12700,12165.52,{"$f":"AT229+AT229*Титул.лист!$A$1","v":13382.072},{"$f":"AU229+AU229*Титул.лист!$P$2","v":13382.072},13380,11127.76,{"$f":"AX229+AX229*Титул.лист!$A$1","v":12240.536},{"$f":"AY229+AY229*Титул.лист!$P$2","v":12240.536},12240,12220.720000000001,{"$f":"BB229+BB229*Титул.лист!$A$1","v":13442.792000000001},{"$f":"BC229+BC229*Титул.лист!$P$2","v":13442.792000000001},13440,14318.32,{"$f":"BF229+BF229*Титул.лист!$A$1","v":15750.152},{"$f":"BG229+BG229*Титул.лист!$P$2","v":15750.152},15750]
[null,null,700,null,"1427-70гс",null,{"$f":"F230+F230*Титул.лист!$A$1","v":0},{"$f":"G230+G230*Титул.лист!$P$2","v":0},null,null,null,null,null,null,null,null,null,null,null,null,null,null,null,null,null,null,null,null,null,9850,{"$f":"AD230+AD230*Титул.лист!$A$1","v":10835},{"$f":"AE230+AE230*Титул.лист!$P$2","v":10835},10840,10070,{"$f":"AH230+AH230*Титул.лист!$A$1","v":11077},{"$f":"AI230+AI230*Титул.лист!$P$2","v":11077},11080,10160,{"$f":"AL230+AL230*Титул.лист!$A$1","v":11176},{"$f":"AM230+AM230*Титул.лист!$P$2","v":11176},11180,12357.092000000001,{"$f":"AP230+AP230*Титул.лист!$A$1","v":13592.801200000002},{"$f":"AQ230+AQ230*Титул.лист!$P$2","v":13592.801200000002},13590,13076.44,{"$f":"AT230+AT230*Титул.лист!$A$1","v":14384.084000000001},{"$f":"AU230+AU230*Титул.лист!$P$2","v":14384.084000000001},14380,11865.720000000001,{"$f":"AX230+AX230*Титул.лист!$A$1","v":13052.292000000001},{"$f":"AY230+AY230*Титул.лист!$P$2","v":13052.292000000001},13050,13140.84,{"$f":"BB230+BB230*Титул.лист!$A$1","v":14454.924000000001},{"$f":"BC230+BC230*Титул.лист!$P$2","v":14454.924000000001},14450,15588.04,{"$f":"BF230+BF230*Титул.лист!$A$1","v":17146.844000000001},{"$f":"BG230+BG230*Титул.лист!$P$2","v":17146.844000000001},17150]
[null,null,800,null,"1427-80гс",null,{"$f":"F231+F231*Титул.лист!$A$1","v":0},{"$f":"G231+G231*Титул.лист!$P$2","v":0},null,null,null,null,null,null,null,null,null,null,null,null,null,null,null,null,null,null,null,null,null,10090,{"$f":"AD231+AD231*Титул.лист!$A$1","v":11099},{"$f":"AE231+AE231*Титул.лист!$P$2","v":11099},11100,10350,{"$f":"AH231+AH231*Титул.лист!$A$1","v":11385},{"$f":"AI231+AI231*Титул.лист!$P$2","v":11385},11390,10440,{"$f":"AL231+AL231*Титул.лист!$A$1","v":11484},{"$f":"AM231+AM231*Титул.лист!$P$2","v":11484},11480,12955.248,{"$f":"AP231+AP231*Титул.лист!$A$1","v":14250.772799999999},{"$f":"AQ231+AQ231*Титул.лист!$P$2","v":14250.772799999999},14250,13777.36,{"$f":"AT231+AT231*Титул.лист!$A$1","v":15155.096000000001},{"$f":"AU231+AU231*Титул.лист!$P$2","v":15155.096000000001},15160,12393.68,{"$f":"AX231+AX231*Титул.лист!$A$1","v":13633.048000000001},{"$f":"AY231+AY231*Титул.лист!$P$2","v":13633.048000000001},13630,13850.96,{"$f":"BB231+BB231*Титул.лист!$A$1","v":15236.055999999999},{"$f":"BC231+BC231*Титул.лист!$P$2","v":15236.055999999999},15240,16647.760000000002,{"$f":"BF231+BF231*Титул.лист!$A$1","v":18312.536000000004},{"$f":"BG231+BG231*Титул.лист!$P$2","v":18312.536000000004},18310]
[null,null,900,null,"1427-90",null,{"$f":"F232+F232*Титул.лист!$A$1","v":0},{"$f":"G232+G232*Титул.лист!$P$2","v":0},null,null,null,null,null,null,null,null,null,null,null,null,null,null,null,null,null,null,null,null,null,8600,{"$f":"AD232+AD232*Титул.лист!$A$1","v":9460},{"$f":"AE232+AE232*Титул.лист!$P$2","v":9460},9460,8940,{"$f":"AH232+AH232*Титул.лист!$A$1","v":9834},{"$f":"AI232+AI232*Титул.лист!$P$2","v":9834},9830,9130,{"$f":"AL232+AL232*Титул.лист!$A$1","v":10043},{"$f":"AM232+AM232*Титул.лист!$P$2","v":10043},10040,null,{"$f":"AP232+AP232*Титул.лист!$A$1","v":0},{"$f":"AQ232+AQ232*Титул.лист!$P$2","v":0}]
[null,null,600,"h 720",1506,null,{"$f":"F233+F233*Титул.лист!$A$1","v":0},{"$f":"G233+G233*Титул.лист!$P$2","v":0},null,null,null,null,null,null,null,null,null,null,null,null,null,null,null,null,null,null,null,null,null,4160,{"$f":"AD233+AD233*Титул.лист!$A$1","v":4576},{"$f":"AE233+AE233*Титул.лист!$P$2","v":4576},4580,4350,{"$f":"AH233+AH233*Титул.лист!$A$1","v":4785},{"$f":"AI233+AI233*Титул.лист!$P$2","v":4785},4790,4720,{"$f":"AL233+AL233*Титул.лист!$A$1","v":5192},{"$f":"AM233+AM233*Титул.лист!$P$2","v":5192},5190,7300,{"$f":"AP233+AP233*Титул.лист!$A$1","v":8030},{"$f":"AQ233+AQ233*Титул.лист!$P$2","v":8030},8030,7800,{"$f":"AT233+AT233*Титул.лист!$A$1","v":8580},{"$f":"AU233+AU233*Титул.лист!$P$2","v":8580},8580,"нет",{"$f":"AX233+AX233*Титул.лист!$A$1","v":{"$error":"#VALUE!"}},{"$f":"AY233+AY233*Титул.лист!$P$2","v":{"$error":"#VALUE!"}}]
[null,null,600,"h 920",1507,null,{"$f":"F234+F234*Титул.лист!$A$1","v":0},{"$f":"G234+G234*Титул.лист!$P$2","v":0},null,null,null,null,null,null,null,null,null,null,null,null,null,null,null,null,null,null,null,null,null,5200,{"$f":"AD234+AD234*Титул.лист!$A$1","v":5720},{"$f":"AE234+AE234*Титул.лист!$P$2","v":5720},5720,5400,{"$f":"AH234+AH234*Титул.лист!$A$1","v":5940},{"$f":"AI234+AI234*Титул.лист!$P$2","v":5940},5940,5730,{"$f":"AL234+AL234*Титул.лист!$A$1","v":6303},{"$f":"AM234+AM234*Титул.лист!$P$2","v":6303},6300,7430,{"$f":"AP234+AP234*Титул.лист!$A$1","v":8173},{"$f":"AQ234+AQ234*Титул.лист!$P$2","v":8173},8170,8200,{"$f":"AT234+AT234*Титул.лист!$A$1","v":9020},{"$f":"AU234+AU234*Титул.лист!$P$2","v":9020},9020,"нет",{"$f":"AX234+AX234*Титул.лист!$A$1","v":{"$error":"#VALUE!"}},{"$f":"AY234+AY234*Титул.лист!$P$2","v":{"$error":"#VALUE!"}}]
[null,"Шкаф угловая трапеция\n1дв.",500,"h 600","1505-50",1070,{"$f":"F235+F235*Титул.лист!$A$1","v":1177},{"$f":"G235+G235*Титул.лист!$P$2","v":1177},1180,1110,{"$f":"J235+J235*Титул.лист!$A$1","v":1221},{"$f":"K235+K235*Титул.лист!$P$2","v":1221},1220,1250,{"$f":"N235+N235*Титул.лист!$A$1","v":1375},{"$f":"O235+O235*Титул.лист!$P$2","v":1375},1380,1300,{"$f":"R235+R235*Титул.лист!$A$1","v":1430},{"$f":"S235+S235*Титул.лист!$P$2","v":1430},1430,1410,{"$f":"V235+V235*Титул.лист!$A$1","v":1551},{"$f":"W235+W235*Титул.лист!$P$2","v":1551},1550,1450,{"$f":"Z235+Z235*Титул.лист!$A$1","v":1595},{"$f":"AA235+AA235*Титул.лист!$P$2","v":1595},1600,1280,{"$f":"AD235+AD235*Титул.лист!$A$1","v":1408},{"$f":"AE235+AE235*Титул.лист!$P$2","v":1408},1410,1330,{"$f":"AH235+AH235*Титул.лист!$A$1","v":1463},{"$f":"AI235+AI235*Титул.лист!$P$2","v":1463},1460,1350,{"$f":"AL235+AL235*Титул.лист!$A$1","v":1485},{"$f":"AM235+AM235*Титул.лист!$P$2","v":1485},1490,1890,{"$f":"AP235+AP235*Титул.лист!$A$1","v":2079},{"$f":"AQ235+AQ235*Титул.лист!$P$2","v":2079},2080,2060,{"$f":"AT235+AT235*Титул.лист!$A$1","v":2266},{"$f":"AU235+AU235*Титул.лист!$P$2","v":2266},2270,1770,{"$f":"AX235+AX235*Титул.лист!$A$1","v":1947},{"$f":"AY235+AY235*Титул.лист!$P$2","v":1947},1950,2100,{"$f":"BB235+BB235*Титул.лист!$A$1","v":2310},{"$f":"BC235+BC235*Титул.лист!$P$2","v":2310},2310,2670,{"$f":"BF235+BF235*Титул.лист!$A$1","v":2937},{"$f":"BG235+BG235*Титул.лист!$P$2","v":2937},2940]
[null,null,600,null,"1505-60",1330,{"$f":"F236+F236*Титул.лист!$A$1","v":1463},{"$f":"G236+G236*Титул.лист!$P$2","v":1463},1460,1370,{"$f":"J236+J236*Титул.лист!$A$1","v":1507},{"$f":"K236+K236*Титул.лист!$P$2","v":1507},1510,1610,{"$f":"N236+N236*Титул.лист!$A$1","v":1771},{"$f":"O236+O236*Титул.лист!$P$2","v":1771},1770,1650.0000000000002,{"$f":"R236+R236*Титул.лист!$A$1","v":1815.0000000000002},{"$f":"S236+S236*Титул.лист!$P$2","v":1815.0000000000002},1820,1810,{"$f":"V236+V236*Титул.лист!$A$1","v":1991},{"$f":"W236+W236*Титул.лист!$P$2","v":1991},1990,1860,{"$f":"Z236+Z236*Титул.лист!$A$1","v":2046},{"$f":"AA236+AA236*Титул.лист!$P$2","v":2046},2050,1630,{"$f":"AD236+AD236*Титул.лист!$A$1","v":1793},{"$f":"AE236+AE236*Титул.лист!$P$2","v":1793},1790,1720,{"$f":"AH236+AH236*Титул.лист!$A$1","v":1892},{"$f":"AI236+AI236*Титул.лист!$P$2","v":1892},1890,1750,{"$f":"AL236+AL236*Титул.лист!$A$1","v":1925},{"$f":"AM236+AM236*Титул.лист!$P$2","v":1925},1930,2580,{"$f":"AP236+AP236*Титул.лист!$A$1","v":2838},{"$f":"AQ236+AQ236*Титул.лист!$P$2","v":2838},2840,2840,{"$f":"AT236+AT236*Титул.лист!$A$1","v":3124},{"$f":"AU236+AU236*Титул.лист!$P$2","v":3124},3120,2390,{"$f":"AX236+AX236*Титул.лист!$A$1","v":2629},{"$f":"AY236+AY236*Титул.лист!$P$2","v":2629},2630,2870,{"$f":"BB236+BB236*Титул.лист!$A$1","v":3157},{"$f":"BC236+BC236*Титул.лист!$P$2","v":3157},3160,3780,{"$f":"BF236+BF236*Титул.лист!$A$1","v":4158},{"$f":"BG236+BG236*Титул.лист!$P$2","v":4158},4160]
[null,null,500,"h 720","1501-50",1150,{"$f":"F237+F237*Титул.лист!$A$1","v":1265},{"$f":"G237+G237*Титул.лист!$P$2","v":1265},1270,1210,{"$f":"J237+J237*Титул.лист!$A$1","v":1331},{"$f":"K237+K237*Титул.лист!$P$2","v":1331},1330,1390,{"$f":"N237+N237*Титул.лист!$A$1","v":1529},{"$f":"O237+O237*Титул.лист!$P$2","v":1529},1530,1440,{"$f":"R237+R237*Титул.лист!$A$1","v":1584},{"$f":"S237+S237*Титул.лист!$P$2","v":1584},1580,1560,{"$f":"V237+V237*Титул.лист!$A$1","v":1716},{"$f":"W237+W237*Титул.лист!$P$2","v":1716},1720,1620,{"$f":"Z237+Z237*Титул.лист!$A$1","v":1782},{"$f":"AA237+AA237*Титул.лист!$P$2","v":1782},1780,1400,{"$f":"AD237+AD237*Титул.лист!$A$1","v":1540},{"$f":"AE237+AE237*Титул.лист!$P$2","v":1540},1540,1470,{"$f":"AH237+AH237*Титул.лист!$A$1","v":1617},{"$f":"AI237+AI237*Титул.лист!$P$2","v":1617},1620,1510,{"$f":"AL237+AL237*Титул.лист!$A$1","v":1661},{"$f":"AM237+AM237*Титул.лист!$P$2","v":1661},1660,2140,{"$f":"AP237+AP237*Титул.лист!$A$1","v":2354},{"$f":"AQ237+AQ237*Титул.лист!$P$2","v":2354},2350,2220,{"$f":"AT237+AT237*Титул.лист!$A$1","v":2442},{"$f":"AU237+AU237*Титул.лист!$P$2","v":2442},2440,1990,{"$f":"AX237+AX237*Титул.лист!$A$1","v":2189},{"$f":"AY237+AY237*Титул.лист!$P$2","v":2189},2190,2360,{"$f":"BB237+BB237*Титул.лист!$A$1","v":2596},{"$f":"BC237+BC237*Титул.лист!$P$2","v":2596},2600,3070,{"$f":"BF237+BF237*Титул.лист!$A$1","v":3377},{"$f":"BG237+BG237*Титул.лист!$P$2","v":3377},3380]
[null,null,600,null,"1501-60",1430.0000000000002,{"$f":"F238+F238*Титул.лист!$A$1","v":1573.0000000000002},{"$f":"G238+G238*Титул.лист!$P$2","v":1573.0000000000002},1570,1480,{"$f":"J238+J238*Титул.лист!$A$1","v":1628},{"$f":"K238+K238*Титул.лист!$P$2","v":1628},1630,1750,{"$f":"N238+N238*Титул.лист!$A$1","v":1925},{"$f":"O238+O238*Титул.лист!$P$2","v":1925},1930,1800,{"$f":"R238+R238*Титул.лист!$A$1","v":1980},{"$f":"S238+S238*Титул.лист!$P$2","v":1980},1980,2000,{"$f":"V238+V238*Титул.лист!$A$1","v":2200},{"$f":"W238+W238*Титул.лист!$P$2","v":2200},2200,2060,{"$f":"Z238+Z238*Титул.лист!$A$1","v":2266},{"$f":"AA238+AA238*Титул.лист!$P$2","v":2266},2270,1780,{"$f":"AD238+AD238*Титул.лист!$A$1","v":1958},{"$f":"AE238+AE238*Титул.лист!$P$2","v":1958},1960,1890,{"$f":"AH238+AH238*Титул.лист!$A$1","v":2079},{"$f":"AI238+AI238*Титул.лист!$P$2","v":2079},2080,1940,{"$f":"AL238+AL238*Титул.лист!$A$1","v":2134},{"$f":"AM238+AM238*Титул.лист!$P$2","v":2134},2130,2920,{"$f":"AP238+AP238*Титул.лист!$A$1","v":3212},{"$f":"AQ238+AQ238*Титул.лист!$P$2","v":3212},3210,3230,{"$f":"AT238+AT238*Титул.лист!$A$1","v":3553},{"$f":"AU238+AU238*Титул.лист!$P$2","v":3553},3550,2690,{"$f":"AX238+AX238*Титул.лист!$A$1","v":2959},{"$f":"AY238+AY238*Титул.лист!$P$2","v":2959},2960,3260,{"$f":"BB238+BB238*Титул.лист!$A$1","v":3586},{"$f":"BC238+BC238*Титул.лист!$P$2","v":3586},3590,4350,{"$f":"BF238+BF238*Титул.лист!$A$1","v":4785},{"$f":"BG238+BG238*Титул.лист!$P$2","v":4785},4790]
[null,null,500,"h 920","1504-50",1460,{"$f":"F239+F239*Титул.лист!$A$1","v":1606},{"$f":"G239+G239*Титул.лист!$P$2","v":1606},1610,1520,{"$f":"J239+J239*Титул.лист!$A$1","v":1672},{"$f":"K239+K239*Титул.лист!$P$2","v":1672},1670,1760.0000000000002,{"$f":"N239+N239*Титул.лист!$A$1","v":1936.0000000000002},{"$f":"O239+O239*Титул.лист!$P$2","v":1936.0000000000002},1940,1810,{"$f":"R239+R239*Титул.лист!$A$1","v":1991},{"$f":"S239+S239*Титул.лист!$P$2","v":1991},1990,1980.0000000000002,{"$f":"V239+V239*Титул.лист!$A$1","v":2178.0000000000005},{"$f":"W239+W239*Титул.лист!$P$2","v":2178.0000000000005},2180,2030,{"$f":"Z239+Z239*Титул.лист!$A$1","v":2233},{"$f":"AA239+AA239*Титул.лист!$P$2","v":2233},2230,1770,{"$f":"AD239+AD239*Титул.лист!$A$1","v":1947},{"$f":"AE239+AE239*Титул.лист!$P$2","v":1947},1950,1860,{"$f":"AH239+AH239*Титул.лист!$A$1","v":2046},{"$f":"AI239+AI239*Титул.лист!$P$2","v":2046},2050,1900,{"$f":"AL239+AL239*Титул.лист!$A$1","v":2090},{"$f":"AM239+AM239*Титул.лист!$P$2","v":2090},2090,2710,{"$f":"AP239+AP239*Титул.лист!$A$1","v":2981},{"$f":"AQ239+AQ239*Титул.лист!$P$2","v":2981},2980,2970,{"$f":"AT239+AT239*Титул.лист!$A$1","v":3267},{"$f":"AU239+AU239*Титул.лист!$P$2","v":3267},3270,2520,{"$f":"AX239+AX239*Титул.лист!$A$1","v":2772},{"$f":"AY239+AY239*Титул.лист!$P$2","v":2772},2770,2990,{"$f":"BB239+BB239*Титул.лист!$A$1","v":3289},{"$f":"BC239+BC239*Титул.лист!$P$2","v":3289},3290,3900,{"$f":"BF239+BF239*Титул.лист!$A$1","v":4290},{"$f":"BG239+BG239*Титул.лист!$P$2","v":4290},4290]
[null,null,600,null,"1504-60",1810,{"$f":"F240+F240*Титул.лист!$A$1","v":1991},{"$f":"G240+G240*Титул.лист!$P$2","v":1991},1990,1870.0000000000002,{"$f":"J240+J240*Титул.лист!$A$1","v":2057.0000000000005},{"$f":"K240+K240*Титул.лист!$P$2","v":2057.0000000000005},2060,2240,{"$f":"N240+N240*Титул.лист!$A$1","v":2464},{"$f":"O240+O240*Титул.лист!$P$2","v":2464},2460,2300,{"$f":"R240+R240*Титул.лист!$A$1","v":2530},{"$f":"S240+S240*Титул.лист!$P$2","v":2530},2530,2560,{"$f":"V240+V240*Титул.лист!$A$1","v":2816},{"$f":"W240+W240*Титул.лист!$P$2","v":2816},2820,2620,{"$f":"Z240+Z240*Титул.лист!$A$1","v":2882},{"$f":"AA240+AA240*Титул.лист!$P$2","v":2882},2880,2270,{"$f":"AD240+AD240*Титул.лист!$A$1","v":2497},{"$f":"AE240+AE240*Титул.лист!$P$2","v":2497},2500,2400,{"$f":"AH240+AH240*Титул.лист!$A$1","v":2640},{"$f":"AI240+AI240*Титул.лист!$P$2","v":2640},2640,2450,{"$f":"AL240+AL240*Титул.лист!$A$1","v":2695},{"$f":"AM240+AM240*Титул.лист!$P$2","v":2695},2700,3720,{"$f":"AP240+AP240*Титул.лист!$A$1","v":4092},{"$f":"AQ240+AQ240*Титул.лист!$P$2","v":4092},4090,4130,{"$f":"AT240+AT240*Титул.лист!$A$1","v":4543},{"$f":"AU240+AU240*Титул.лист!$P$2","v":4543},4540,3430,{"$f":"AX240+AX240*Титул.лист!$A$1","v":3773},{"$f":"AY240+AY240*Титул.лист!$P$2","v":3773},3770,4160,{"$f":"BB240+BB240*Титул.лист!$A$1","v":4576},{"$f":"BC240+BC240*Титул.лист!$P$2","v":4576},4580,5570,{"$f":"BF240+BF240*Титул.лист!$A$1","v":6127},{"$f":"BG240+BG240*Титул.лист!$P$2","v":6127},6130]
[null,"Шкаф угловая трапеция 1 дв.1 стекло",500,"h 600","1505-50с",1210,{"$f":"F241+F241*Титул.лист!$A$1","v":1331},{"$f":"G241+G241*Титул.лист!$P$2","v":1331},1330,1280,{"$f":"J241+J241*Титул.лист!$A$1","v":1408},{"$f":"K241+K241*Титул.лист!$P$2","v":1408},1410,1400,{"$f":"N241+N241*Титул.лист!$A$1","v":1540},{"$f":"O241+O241*Титул.лист!$P$2","v":1540},1540,1460,{"$f":"R241+R241*Титул.лист!$A$1","v":1606},{"$f":"S241+S241*Титул.лист!$P$2","v":1606},1610,1550,{"$f":"V241+V241*Титул.лист!$A$1","v":1705},{"$f":"W241+W241*Титул.лист!$P$2","v":1705},1710,1620,{"$f":"Z241+Z241*Титул.лист!$A$1","v":1782},{"$f":"AA241+AA241*Титул.лист!$P$2","v":1782},1780,1360,{"$f":"AD241+AD241*Титул.лист!$A$1","v":1496},{"$f":"AE241+AE241*Титул.лист!$P$2","v":1496},1500,1420,{"$f":"AH241+AH241*Титул.лист!$A$1","v":1562},{"$f":"AI241+AI241*Титул.лист!$P$2","v":1562},1560,1440,{"$f":"AL241+AL241*Титул.лист!$A$1","v":1584},{"$f":"AM241+AM241*Титул.лист!$P$2","v":1584},1580,null,{"$f":"AP241+AP241*Титул.лист!$A$1","v":0},{"$f":"AQ241+AQ241*Титул.лист!$P$2","v":0}]
[null,null,600,null,"1505-60с",1540.0000000000002,{"$f":"F242+F242*Титул.лист!$A$1","v":1694.0000000000002},{"$f":"G242+G242*Титул.лист!$P$2","v":1694.0000000000002},1690,1610,{"$f":"J242+J242*Титул.лист!$A$1","v":1771},{"$f":"K242+K242*Титул.лист!$P$2","v":1771},1770,1810,{"$f":"N242+N242*Титул.лист!$A$1","v":1991},{"$f":"O242+O242*Титул.лист!$P$2","v":1991},1990,1880,{"$f":"R242+R242*Титул.лист!$A$1","v":2068},{"$f":"S242+S242*Титул.лист!$P$2","v":2068},2070,2020,{"$f":"V242+V242*Титул.лист!$A$1","v":2222},{"$f":"W242+W242*Титул.лист!$P$2","v":2222},2220,2090,{"$f":"Z242+Z242*Титул.лист!$A$1","v":2299},{"$f":"AA242+AA242*Титул.лист!$P$2","v":2299},2300,1770,{"$f":"AD242+AD242*Титул.лист!$A$1","v":1947},{"$f":"AE242+AE242*Титул.лист!$P$2","v":1947},1950,1860,{"$f":"AH242+AH242*Титул.лист!$A$1","v":2046},{"$f":"AI242+AI242*Титул.лист!$P$2","v":2046},2050,1890,{"$f":"AL242+AL242*Титул.лист!$A$1","v":2079},{"$f":"AM242+AM242*Титул.лист!$P$2","v":2079},2080,2720,{"$f":"AP242+AP242*Титул.лист!$A$1","v":2992},{"$f":"AQ242+AQ242*Титул.лист!$P$2","v":2992},2990,2980,{"$f":"AT242+AT242*Титул.лист!$A$1","v":3278},{"$f":"AU242+AU242*Титул.лист!$P$2","v":3278},3280,2530,{"$f":"AX242+AX242*Титул.лист!$A$1","v":2783},{"$f":"AY242+AY242*Титул.лист!$P$2","v":2783},2780,3010,{"$f":"BB242+BB242*Титул.лист!$A$1","v":3311},{"$f":"BC242+BC242*Титул.лист!$P$2","v":3311},3310,3920,{"$f":"BF242+BF242*Титул.лист!$A$1","v":4312},{"$f":"BG242+BG242*Титул.лист!$P$2","v":4312},4310]
[null,null,500,"h 720","1501-50с",1330,{"$f":"F243+F243*Титул.лист!$A$1","v":1463},{"$f":"G243+G243*Титул.лист!$P$2","v":1463},1460,1410,{"$f":"J243+J243*Титул.лист!$A$1","v":1551},{"$f":"K243+K243*Титул.лист!$P$2","v":1551},1550,1560,{"$f":"N243+N243*Титул.лист!$A$1","v":1716},{"$f":"O243+O243*Титул.лист!$P$2","v":1716},1720,1640,{"$f":"R243+R243*Титул.лист!$A$1","v":1804},{"$f":"S243+S243*Титул.лист!$P$2","v":1804},1800,1740,{"$f":"V243+V243*Титул.лист!$A$1","v":1914},{"$f":"W243+W243*Титул.лист!$P$2","v":1914},1910,1810,{"$f":"Z243+Z243*Титул.лист!$A$1","v":1991},{"$f":"AA243+AA243*Титул.лист!$P$2","v":1991},1990,1510,{"$f":"AD243+AD243*Титул.лист!$A$1","v":1661},{"$f":"AE243+AE243*Титул.лист!$P$2","v":1661},1660,1580,{"$f":"AH243+AH243*Титул.лист!$A$1","v":1738},{"$f":"AI243+AI243*Титул.лист!$P$2","v":1738},1740,1620,{"$f":"AL243+AL243*Титул.лист!$A$1","v":1782},{"$f":"AM243+AM243*Титул.лист!$P$2","v":1782},1780,null,{"$f":"AP243+AP243*Титул.лист!$A$1","v":0},{"$f":"AQ243+AQ243*Титул.лист!$P$2","v":0}]
[null,null,600,null,"1501-60с",1680,{"$f":"F244+F244*Титул.лист!$A$1","v":1848},{"$f":"G244+G244*Титул.лист!$P$2","v":1848},1850,1770,{"$f":"J244+J244*Титул.лист!$A$1","v":1947},{"$f":"K244+K244*Титул.лист!$P$2","v":1947},1950,2000,{"$f":"N244+N244*Титул.лист!$A$1","v":2200},{"$f":"O244+O244*Титул.лист!$P$2","v":2200},2200,2090,{"$f":"R244+R244*Титул.лист!$A$1","v":2299},{"$f":"S244+S244*Титул.лист!$P$2","v":2299},2300,2250,{"$f":"V244+V244*Титул.лист!$A$1","v":2475},{"$f":"W244+W244*Титул.лист!$P$2","v":2475},2480,2340,{"$f":"Z244+Z244*Титул.лист!$A$1","v":2574},{"$f":"AA244+AA244*Титул.лист!$P$2","v":2574},2570,1970,{"$f":"AD244+AD244*Титул.лист!$A$1","v":2167},{"$f":"AE244+AE244*Титул.лист!$P$2","v":2167},2170,2080,{"$f":"AH244+AH244*Титул.лист!$A$1","v":2288},{"$f":"AI244+AI244*Титул.лист!$P$2","v":2288},2290,2120,{"$f":"AL244+AL244*Титул.лист!$A$1","v":2332},{"$f":"AM244+AM244*Титул.лист!$P$2","v":2332},2330,3110,{"$f":"AP244+AP244*Титул.лист!$A$1","v":3421},{"$f":"AQ244+AQ244*Титул.лист!$P$2","v":3421},3420,3420,{"$f":"AT244+AT244*Титул.лист!$A$1","v":3762},{"$f":"AU244+AU244*Титул.лист!$P$2","v":3762},3760,2870,{"$f":"AX244+AX244*Титул.лист!$A$1","v":3157},{"$f":"AY244+AY244*Титул.лист!$P$2","v":3157},3160,3450,{"$f":"BB244+BB244*Титул.лист!$A$1","v":3795},{"$f":"BC244+BC244*Титул.лист!$P$2","v":3795},3800,4540,{"$f":"BF244+BF244*Титул.лист!$A$1","v":4994},{"$f":"BG244+BG244*Титул.лист!$P$2","v":4994},4990]
[null,null,500,"h 920","1504-50с",1680,{"$f":"F245+F245*Титул.лист!$A$1","v":1848},{"$f":"G245+G245*Титул.лист!$P$2","v":1848},1850,1780,{"$f":"J245+J245*Титул.лист!$A$1","v":1958},{"$f":"K245+K245*Титул.лист!$P$2","v":1958},1960,1980.0000000000002,{"$f":"N245+N245*Титул.лист!$A$1","v":2178.0000000000005},{"$f":"O245+O245*Титул.лист!$P$2","v":2178.0000000000005},2180,2080,{"$f":"R245+R245*Титул.лист!$A$1","v":2288},{"$f":"S245+S245*Титул.лист!$P$2","v":2288},2290,2200,{"$f":"V245+V245*Титул.лист!$A$1","v":2420},{"$f":"W245+W245*Титул.лист!$P$2","v":2420},2420,2300,{"$f":"Z245+Z245*Титул.лист!$A$1","v":2530},{"$f":"AA245+AA245*Титул.лист!$P$2","v":2530},2530,1910,{"$f":"AD245+AD245*Титул.лист!$A$1","v":2101},{"$f":"AE245+AE245*Титул.лист!$P$2","v":2101},2100,2000,{"$f":"AH245+AH245*Титул.лист!$A$1","v":2200},{"$f":"AI245+AI245*Титул.лист!$P$2","v":2200},2200,2050,{"$f":"AL245+AL245*Титул.лист!$A$1","v":2255},{"$f":"AM245+AM245*Титул.лист!$P$2","v":2255},2260,null,{"$f":"AP245+AP245*Титул.лист!$A$1","v":0},{"$f":"AQ245+AQ245*Титул.лист!$P$2","v":0}]
[null,null,600,null,"1504-60с",2140,{"$f":"F246+F246*Титул.лист!$A$1","v":2354},{"$f":"G246+G246*Титул.лист!$P$2","v":2354},2350,2240,{"$f":"J246+J246*Титул.лист!$A$1","v":2464},{"$f":"K246+K246*Титул.лист!$P$2","v":2464},2460,2570,{"$f":"N246+N246*Титул.лист!$A$1","v":2827},{"$f":"O246+O246*Титул.лист!$P$2","v":2827},2830,2670,{"$f":"R246+R246*Титул.лист!$A$1","v":2937},{"$f":"S246+S246*Титул.лист!$P$2","v":2937},2940,2890,{"$f":"V246+V246*Титул.лист!$A$1","v":3179},{"$f":"W246+W246*Титул.лист!$P$2","v":3179},3180,2990,{"$f":"Z246+Z246*Титул.лист!$A$1","v":3289},{"$f":"AA246+AA246*Титул.лист!$P$2","v":3289},3290,2510,{"$f":"AD246+AD246*Титул.лист!$A$1","v":2761},{"$f":"AE246+AE246*Титул.лист!$P$2","v":2761},2760,2640,{"$f":"AH246+AH246*Титул.лист!$A$1","v":2904},{"$f":"AI246+AI246*Титул.лист!$P$2","v":2904},2900,2690,{"$f":"AL246+AL246*Титул.лист!$A$1","v":2959},{"$f":"AM246+AM246*Титул.лист!$P$2","v":2959},2960,3960,{"$f":"AP246+AP246*Титул.лист!$A$1","v":4356},{"$f":"AQ246+AQ246*Титул.лист!$P$2","v":4356},4360,4370,{"$f":"AT246+AT246*Титул.лист!$A$1","v":4807},{"$f":"AU246+AU246*Титул.лист!$P$2","v":4807},4810,3670,{"$f":"AX246+AX246*Титул.лист!$A$1","v":4037},{"$f":"AY246+AY246*Титул.лист!$P$2","v":4037},4040,4400,{"$f":"BB246+BB246*Титул.лист!$A$1","v":4840},{"$f":"BC246+BC246*Титул.лист!$P$2","v":4840},4840,5810,{"$f":"BF246+BF246*Титул.лист!$A$1","v":6391},{"$f":"BG246+BG246*Титул.лист!$P$2","v":6391},6390]
[null,"Шкаф открытый ",200,"h 600","1317-20",450,{"$f":"F247+F247*Титул.лист!$A$1","v":495},{"$f":"G247+G247*Титул.лист!$P$2","v":495},500,450,{"$f":"J247+J247*Титул.лист!$A$1","v":495},{"$f":"K247+K247*Титул.лист!$P$2","v":495},500,450,{"$f":"N247+N247*Титул.лист!$A$1","v":495},{"$f":"O247+O247*Титул.лист!$P$2","v":495},500,450,{"$f":"R247+R247*Титул.лист!$A$1","v":495},{"$f":"S247+S247*Титул.лист!$P$2","v":495},500,450,{"$f":"V247+V247*Титул.лист!$A$1","v":495},{"$f":"W247+W247*Титул.лист!$P$2","v":495},500,450,{"$f":"Z247+Z247*Титул.лист!$A$1","v":495},{"$f":"AA247+AA247*Титул.лист!$P$2","v":495},500,450,{"$f":"AD247+AD247*Титул.лист!$A$1","v":495},{"$f":"AE247+AE247*Титул.лист!$P$2","v":495},500,450,{"$f":"AH247+AH247*Титул.лист!$A$1","v":495},{"$f":"AI247+AI247*Титул.лист!$P$2","v":495},500,450,{"$f":"AL247+AL247*Титул.лист!$A$1","v":495},{"$f":"AM247+AM247*Титул.лист!$P$2","v":495},500,450,{"$f":"AP247+AP247*Титул.лист!$A$1","v":495},{"$f":"AQ247+AQ247*Титул.лист!$P$2","v":495},500,450,{"$f":"AT247+AT247*Титул.лист!$A$1","v":495},{"$f":"AU247+AU247*Титул.лист!$P$2","v":495},500,450,{"$f":"AX247+AX247*Титул.лист!$A$1","v":495},{"$f":"AY247+AY247*Титул.лист!$P$2","v":495},500,450,{"$f":"BB247+BB247*Титул.лист!$A$1","v":495},{"$f":"BC247+BC247*Титул.лист!$P$2","v":495},500,450,{"$f":"BF247+BF247*Титул.лист!$A$1","v":495},{"$f":"BG247+BG247*Титул.лист!$P$2","v":495},500]
[null,null,300,null,"1317-30",540,{"$f":"F248+F248*Титул.лист!$A$1","v":594},{"$f":"G248+G248*Титул.лист!$P$2","v":594},590,540,{"$f":"J248+J248*Титул.лист!$A$1","v":594},{"$f":"K248+K248*Титул.лист!$P$2","v":594},590,540,{"$f":"N248+N248*Титул.лист!$A$1","v":594},{"$f":"O248+O248*Титул.лист!$P$2","v":594},590,540,{"$f":"R248+R248*Титул.лист!$A$1","v":594},{"$f":"S248+S248*Титул.лист!$P$2","v":594},590,540,{"$f":"V248+V248*Титул.лист!$A$1","v":594},{"$f":"W248+W248*Титул.лист!$P$2","v":594},590,540,{"$f":"Z248+Z248*Титул.лист!$A$1","v":594},{"$f":"AA248+AA248*Титул.лист!$P$2","v":594},590,540,{"$f":"AD248+AD248*Титул.лист!$A$1","v":594},{"$f":"AE248+AE248*Титул.лист!$P$2","v":594},590,540,{"$f":"AH248+AH248*Титул.лист!$A$1","v":594},{"$f":"AI248+AI248*Титул.лист!$P$2","v":594},590,540,{"$f":"AL248+AL248*Титул.лист!$A$1","v":594},{"$f":"AM248+AM248*Титул.лист!$P$2","v":594},590,540,{"$f":"AP248+AP248*Титул.лист!$A$1","v":594},{"$f":"AQ248+AQ248*Титул.лист!$P$2","v":594},590,540,{"$f":"AT248+AT248*Титул.лист!$A$1","v":594},{"$f":"AU248+AU248*Титул.лист!$P$2","v":594},590,540,{"$f":"AX248+AX248*Титул.лист!$A$1","v":594},{"$f":"AY248+AY248*Титул.лист!$P$2","v":594},590,540,{"$f":"BB248+BB248*Титул.лист!$A$1","v":594},{"$f":"BC248+BC248*Титул.лист!$P$2","v":594},590,540,{"$f":"BF248+BF248*Титул.лист!$A$1","v":594},{"$f":"BG248+BG248*Титул.лист!$P$2","v":594},590]
[null,null,400,null,"1317-40",600,{"$f":"F249+F249*Титул.лист!$A$1","v":660},{"$f":"G249+G249*Титул.лист!$P$2","v":660},660,600,{"$f":"J249+J249*Титул.лист!$A$1","v":660},{"$f":"K249+K249*Титул.лист!$P$2","v":660},660,600,{"$f":"N249+N249*Титул.лист!$A$1","v":660},{"$f":"O249+O249*Титул.лист!$P$2","v":660},660,600,{"$f":"R249+R249*Титул.лист!$A$1","v":660},{"$f":"S249+S249*Титул.лист!$P$2","v":660},660,600,{"$f":"V249+V249*Титул.лист!$A$1","v":660},{"$f":"W249+W249*Титул.лист!$P$2","v":660},660,600,{"$f":"Z249+Z249*Титул.лист!$A$1","v":660},{"$f":"AA249+AA249*Титул.лист!$P$2","v":660},660,600,{"$f":"AD249+AD249*Титул.лист!$A$1","v":660},{"$f":"AE249+AE249*Титул.лист!$P$2","v":660},660,600,{"$f":"AH249+AH249*Титул.лист!$A$1","v":660},{"$f":"AI249+AI249*Титул.лист!$P$2","v":660},660,600,{"$f":"AL249+AL249*Титул.лист!$A$1","v":660},{"$f":"AM249+AM249*Титул.лист!$P$2","v":660},660,600,{"$f":"AP249+AP249*Титул.лист!$A$1","v":660},{"$f":"AQ249+AQ249*Титул.лист!$P$2","v":660},660,600,{"$f":"AT249+AT249*Титул.лист!$A$1","v":660},{"$f":"AU249+AU249*Титул.лист!$P$2","v":660},660,600,{"$f":"AX249+AX249*Титул.лист!$A$1","v":660},{"$f":"AY249+AY249*Титул.лист!$P$2","v":660},660,600,{"$f":"BB249+BB249*Титул.лист!$A$1","v":660},{"$f":"BC249+BC249*Титул.лист!$P$2","v":660},660,600,{"$f":"BF249+BF249*Титул.лист!$A$1","v":660},{"$f":"BG249+BG249*Титул.лист!$P$2","v":660},660]
[null,null,200,"h 720","1313-20",510,{"$f":"F250+F250*Титул.лист!$A$1","v":561},{"$f":"G250+G250*Титул.лист!$P$2","v":561},560,510,{"$f":"J250+J250*Титул.лист!$A$1","v":561},{"$f":"K250+K250*Титул.лист!$P$2","v":561},560,510,{"$f":"N250+N250*Титул.лист!$A$1","v":561},{"$f":"O250+O250*Титул.лист!$P$2","v":561},560,510,{"$f":"R250+R250*Титул.лист!$A$1","v":561},{"$f":"S250+S250*Титул.лист!$P$2","v":561},560,510,{"$f":"V250+V250*Титул.лист!$A$1","v":561},{"$f":"W250+W250*Титул.лист!$P$2","v":561},560,510,{"$f":"Z250+Z250*Титул.лист!$A$1","v":561},{"$f":"AA250+AA250*Титул.лист!$P$2","v":561},560,510,{"$f":"AD250+AD250*Титул.лист!$A$1","v":561},{"$f":"AE250+AE250*Титул.лист!$P$2","v":561},560,510,{"$f":"AH250+AH250*Титул.лист!$A$1","v":561},{"$f":"AI250+AI250*Титул.лист!$P$2","v":561},560,510,{"$f":"AL250+AL250*Титул.лист!$A$1","v":561},{"$f":"AM250+AM250*Титул.лист!$P$2","v":561},560,510,{"$f":"AP250+AP250*Титул.лист!$A$1","v":561},{"$f":"AQ250+AQ250*Титул.лист!$P$2","v":561},560,510,{"$f":"AT250+AT250*Титул.лист!$A$1","v":561},{"$f":"AU250+AU250*Титул.лист!$P$2","v":561},560,510,{"$f":"AX250+AX250*Титул.лист!$A$1","v":561},{"$f":"AY250+AY250*Титул.лист!$P$2","v":561},560,510,{"$f":"BB250+BB250*Титул.лист!$A$1","v":561},{"$f":"BC250+BC250*Титул.лист!$P$2","v":561},560,510,{"$f":"BF250+BF250*Титул.лист!$A$1","v":561},{"$f":"BG250+BG250*Титул.лист!$P$2","v":561},560]
[null,null,250,null,"1313-25",530,{"$f":"F251+F251*Титул.лист!$A$1","v":583},{"$f":"G251+G251*Титул.лист!$P$2","v":583},580,530,{"$f":"J251+J251*Титул.лист!$A$1","v":583},{"$f":"K251+K251*Титул.лист!$P$2","v":583},580,530,{"$f":"N251+N251*Титул.лист!$A$1","v":583},{"$f":"O251+O251*Титул.лист!$P$2","v":583},580,530,{"$f":"R251+R251*Титул.лист!$A$1","v":583},{"$f":"S251+S251*Титул.лист!$P$2","v":583},580,530,{"$f":"V251+V251*Титул.лист!$A$1","v":583},{"$f":"W251+W251*Титул.лист!$P$2","v":583},580,530,{"$f":"Z251+Z251*Титул.лист!$A$1","v":583},{"$f":"AA251+AA251*Титул.лист!$P$2","v":583},580,530,{"$f":"AD251+AD251*Титул.лист!$A$1","v":583},{"$f":"AE251+AE251*Титул.лист!$P$2","v":583},580,530,{"$f":"AH251+AH251*Титул.лист!$A$1","v":583},{"$f":"AI251+AI251*Титул.лист!$P$2","v":583},580,530,{"$f":"AL251+AL251*Титул.лист!$A$1","v":583},{"$f":"AM251+AM251*Титул.лист!$P$2","v":583},580,530,{"$f":"AP251+AP251*Титул.лист!$A$1","v":583},{"$f":"AQ251+AQ251*Титул.лист!$P$2","v":583},580,530,{"$f":"AT251+AT251*Титул.лист!$A$1","v":583},{"$f":"AU251+AU251*Титул.лист!$P$2","v":583},580,530,{"$f":"AX251+AX251*Титул.лист!$A$1","v":583},{"$f":"AY251+AY251*Титул.лист!$P$2","v":583},580,530,{"$f":"BB251+BB251*Титул.лист!$A$1","v":583},{"$f":"BC251+BC251*Титул.лист!$P$2","v":583},580,530,{"$f":"BF251+BF251*Титул.лист!$A$1","v":583},{"$f":"BG251+BG251*Титул.лист!$P$2","v":583},580]
[null,null,300,null,"1313-30",570,{"$f":"F252+F252*Титул.лист!$A$1","v":627},{"$f":"G252+G252*Титул.лист!$P$2","v":627},630,570,{"$f":"J252+J252*Титул.лист!$A$1","v":627},{"$f":"K252+K252*Титул.лист!$P$2","v":627},630,570,{"$f":"N252+N252*Титул.лист!$A$1","v":627},{"$f":"O252+O252*Титул.лист!$P$2","v":627},630,570,{"$f":"R252+R252*Титул.лист!$A$1","v":627},{"$f":"S252+S252*Титул.лист!$P$2","v":627},630,570,{"$f":"V252+V252*Титул.лист!$A$1","v":627},{"$f":"W252+W252*Титул.лист!$P$2","v":627},630,570,{"$f":"Z252+Z252*Титул.лист!$A$1","v":627},{"$f":"AA252+AA252*Титул.лист!$P$2","v":627},630,570,{"$f":"AD252+AD252*Титул.лист!$A$1","v":627},{"$f":"AE252+AE252*Титул.лист!$P$2","v":627},630,570,{"$f":"AH252+AH252*Титул.лист!$A$1","v":627},{"$f":"AI252+AI252*Титул.лист!$P$2","v":627},630,570,{"$f":"AL252+AL252*Титул.лист!$A$1","v":627},{"$f":"AM252+AM252*Титул.лист!$P$2","v":627},630,570,{"$f":"AP252+AP252*Титул.лист!$A$1","v":627},{"$f":"AQ252+AQ252*Титул.лист!$P$2","v":627},630,570,{"$f":"AT252+AT252*Титул.лист!$A$1","v":627},{"$f":"AU252+AU252*Титул.лист!$P$2","v":627},630,570,{"$f":"AX252+AX252*Титул.лист!$A$1","v":627},{"$f":"AY252+AY252*Титул.лист!$P$2","v":627},630,570,{"$f":"BB252+BB252*Титул.лист!$A$1","v":627},{"$f":"BC252+BC252*Титул.лист!$P$2","v":627},630,570,{"$f":"BF252+BF252*Титул.лист!$A$1","v":627},{"$f":"BG252+BG252*Титул.лист!$P$2","v":627},630]
[null,null,400,null,"1313-40",660,{"$f":"F253+F253*Титул.лист!$A$1","v":726},{"$f":"G253+G253*Титул.лист!$P$2","v":726},730,660,{"$f":"J253+J253*Титул.лист!$A$1","v":726},{"$f":"K253+K253*Титул.лист!$P$2","v":726},730,660,{"$f":"N253+N253*Титул.лист!$A$1","v":726},{"$f":"O253+O253*Титул.лист!$P$2","v":726},730,660,{"$f":"R253+R253*Титул.лист!$A$1","v":726},{"$f":"S253+S253*Титул.лист!$P$2","v":726},730,660,{"$f":"V253+V253*Титул.лист!$A$1","v":726},{"$f":"W253+W253*Титул.лист!$P$2","v":726},730,660,{"$f":"Z253+Z253*Титул.лист!$A$1","v":726},{"$f":"AA253+AA253*Титул.лист!$P$2","v":726},730,660,{"$f":"AD253+AD253*Титул.лист!$A$1","v":726},{"$f":"AE253+AE253*Титул.лист!$P$2","v":726},730,660,{"$f":"AH253+AH253*Титул.лист!$A$1","v":726},{"$f":"AI253+AI253*Титул.лист!$P$2","v":726},730,660,{"$f":"AL253+AL253*Титул.лист!$A$1","v":726},{"$f":"AM253+AM253*Титул.лист!$P$2","v":726},730,660,{"$f":"AP253+AP253*Титул.лист!$A$1","v":726},{"$f":"AQ253+AQ253*Титул.лист!$P$2","v":726},730,660,{"$f":"AT253+AT253*Титул.лист!$A$1","v":726},{"$f":"AU253+AU253*Титул.лист!$P$2","v":726},730,660,{"$f":"AX253+AX253*Титул.лист!$A$1","v":726},{"$f":"AY253+AY253*Титул.лист!$P$2","v":726},730,660,{"$f":"BB253+BB253*Титул.лист!$A$1","v":726},{"$f":"BC253+BC253*Титул.лист!$P$2","v":726},730,660,{"$f":"BF253+BF253*Титул.лист!$A$1","v":726},{"$f":"BG253+BG253*Титул.лист!$P$2","v":726},730]
[null,null,200,"h 920","1314-20",580,{"$f":"F254+F254*Титул.лист!$A$1","v":638},{"$f":"G254+G254*Титул.лист!$P$2","v":638},640,580,{"$f":"J254+J254*Титул.лист!$A$1","v":638},{"$f":"K254+K254*Титул.лист!$P$2","v":638},640,580,{"$f":"N254+N254*Титул.лист!$A$1","v":638},{"$f":"O254+O254*Титул.лист!$P$2","v":638},640,580,{"$f":"R254+R254*Титул.лист!$A$1","v":638},{"$f":"S254+S254*Титул.лист!$P$2","v":638},640,580,{"$f":"V254+V254*Титул.лист!$A$1","v":638},{"$f":"W254+W254*Титул.лист!$P$2","v":638},640,580,{"$f":"Z254+Z254*Титул.лист!$A$1","v":638},{"$f":"AA254+AA254*Титул.лист!$P$2","v":638},640,580,{"$f":"AD254+AD254*Титул.лист!$A$1","v":638},{"$f":"AE254+AE254*Титул.лист!$P$2","v":638},640,580,{"$f":"AH254+AH254*Титул.лист!$A$1","v":638},{"$f":"AI254+AI254*Титул.лист!$P$2","v":638},640,580,{"$f":"AL254+AL254*Титул.лист!$A$1","v":638},{"$f":"AM254+AM254*Титул.лист!$P$2","v":638},640,580,{"$f":"AP254+AP254*Титул.лист!$A$1","v":638},{"$f":"AQ254+AQ254*Титул.лист!$P$2","v":638},640,580,{"$f":"AT254+AT254*Титул.лист!$A$1","v":638},{"$f":"AU254+AU254*Титул.лист!$P$2","v":638},640,580,{"$f":"AX254+AX254*Титул.лист!$A$1","v":638},{"$f":"AY254+AY254*Титул.лист!$P$2","v":638},640,580,{"$f":"BB254+BB254*Титул.лист!$A$1","v":638},{"$f":"BC254+BC254*Титул.лист!$P$2","v":638},640,580,{"$f":"BF254+BF254*Титул.лист!$A$1","v":638},{"$f":"BG254+BG254*Титул.лист!$P$2","v":638},640]
[null,null,300,null,"1314-30",650,{"$f":"F255+F255*Титул.лист!$A$1","v":715},{"$f":"G255+G255*Титул.лист!$P$2","v":715},720,650,{"$f":"J255+J255*Титул.лист!$A$1","v":715},{"$f":"K255+K255*Титул.лист!$P$2","v":715},720,650,{"$f":"N255+N255*Титул.лист!$A$1","v":715},{"$f":"O255+O255*Титул.лист!$P$2","v":715},720,650,{"$f":"R255+R255*Титул.лист!$A$1","v":715},{"$f":"S255+S255*Титул.лист!$P$2","v":715},720,650,{"$f":"V255+V255*Титул.лист!$A$1","v":715},{"$f":"W255+W255*Титул.лист!$P$2","v":715},720,650,{"$f":"Z255+Z255*Титул.лист!$A$1","v":715},{"$f":"AA255+AA255*Титул.лист!$P$2","v":715},720,650,{"$f":"AD255+AD255*Титул.лист!$A$1","v":715},{"$f":"AE255+AE255*Титул.лист!$P$2","v":715},720,650,{"$f":"AH255+AH255*Титул.лист!$A$1","v":715},{"$f":"AI255+AI255*Титул.лист!$P$2","v":715},720,650,{"$f":"AL255+AL255*Титул.лист!$A$1","v":715},{"$f":"AM255+AM255*Титул.лист!$P$2","v":715},720,650,{"$f":"AP255+AP255*Титул.лист!$A$1","v":715},{"$f":"AQ255+AQ255*Титул.лист!$P$2","v":715},720,650,{"$f":"AT255+AT255*Титул.лист!$A$1","v":715},{"$f":"AU255+AU255*Титул.лист!$P$2","v":715},720,650,{"$f":"AX255+AX255*Титул.лист!$A$1","v":715},{"$f":"AY255+AY255*Титул.лист!$P$2","v":715},720,650,{"$f":"BB255+BB255*Титул.лист!$A$1","v":715},{"$f":"BC255+BC255*Титул.лист!$P$2","v":715},720,650,{"$f":"BF255+BF255*Титул.лист!$A$1","v":715},{"$f":"BG255+BG255*Титул.лист!$P$2","v":715},720]
[null,null,400,null,"1314-40",740,{"$f":"F256+F256*Титул.лист!$A$1","v":814},{"$f":"G256+G256*Титул.лист!$P$2","v":814},810,740,{"$f":"J256+J256*Титул.лист!$A$1","v":814},{"$f":"K256+K256*Титул.лист!$P$2","v":814},810,740,{"$f":"N256+N256*Титул.лист!$A$1","v":814},{"$f":"O256+O256*Титул.лист!$P$2","v":814},810,740,{"$f":"R256+R256*Титул.лист!$A$1","v":814},{"$f":"S256+S256*Титул.лист!$P$2","v":814},810,740,{"$f":"V256+V256*Титул.лист!$A$1","v":814},{"$f":"W256+W256*Титул.лист!$P$2","v":814},810,740,{"$f":"Z256+Z256*Титул.лист!$A$1","v":814},{"$f":"AA256+AA256*Титул.лист!$P$2","v":814},810,740,{"$f":"AD256+AD256*Титул.лист!$A$1","v":814},{"$f":"AE256+AE256*Титул.лист!$P$2","v":814},810,740,{"$f":"AH256+AH256*Титул.лист!$A$1","v":814},{"$f":"AI256+AI256*Титул.лист!$P$2","v":814},810,740,{"$f":"AL256+AL256*Титул.лист!$A$1","v":814},{"$f":"AM256+AM256*Титул.лист!$P$2","v":814},810,740,{"$f":"AP256+AP256*Титул.лист!$A$1","v":814},{"$f":"AQ256+AQ256*Титул.лист!$P$2","v":814},810,740,{"$f":"AT256+AT256*Титул.лист!$A$1","v":814},{"$f":"AU256+AU256*Титул.лист!$P$2","v":814},810,740,{"$f":"AX256+AX256*Титул.лист!$A$1","v":814},{"$f":"AY256+AY256*Титул.лист!$P$2","v":814},810,740,{"$f":"BB256+BB256*Титул.лист!$A$1","v":814},{"$f":"BC256+BC256*Титул.лист!$P$2","v":814},810,740,{"$f":"BF256+BF256*Титул.лист!$A$1","v":814},{"$f":"BG256+BG256*Титул.лист!$P$2","v":814},810]
[null,"Полка открытая  Н=180*\nустанавливаются  к шкафам\nвысотой 540",300,"h 180","1901-30",297,{"$f":"F257+F257*Титул.лист!$A$1","v":326.7},{"$f":"G257+G257*Титул.лист!$P$2","v":326.7},330,297,{"$f":"J257+J257*Титул.лист!$A$1","v":326.7},{"$f":"K257+K257*Титул.лист!$P$2","v":326.7},330,297,{"$f":"N257+N257*Титул.лист!$A$1","v":326.7},{"$f":"O257+O257*Титул.лист!$P$2","v":326.7},330,297,{"$f":"R257+R257*Титул.лист!$A$1","v":326.7},{"$f":"S257+S257*Титул.лист!$P$2","v":326.7},330,297,{"$f":"V257+V257*Титул.лист!$A$1","v":326.7},{"$f":"W257+W257*Титул.лист!$P$2","v":326.7},330,297,{"$f":"Z257+Z257*Титул.лист!$A$1","v":326.7},{"$f":"AA257+AA257*Титул.лист!$P$2","v":326.7},330,297,{"$f":"AD257+AD257*Титул.лист!$A$1","v":326.7},{"$f":"AE257+AE257*Титул.лист!$P$2","v":326.7},330,297,{"$f":"AH257+AH257*Титул.лист!$A$1","v":326.7},{"$f":"AI257+AI257*Титул.лист!$P$2","v":326.7},330,297,{"$f":"AL257+AL257*Титул.лист!$A$1","v":326.7},{"$f":"AM257+AM257*Титул.лист!$P$2","v":326.7},330,297,{"$f":"AP257+AP257*Титул.лист!$A$1","v":326.7},{"$f":"AQ257+AQ257*Титул.лист!$P$2","v":326.7},330,297,{"$f":"AT257+AT257*Титул.лист!$A$1","v":326.7},{"$f":"AU257+AU257*Титул.лист!$P$2","v":326.7},330,297,{"$f":"AX257+AX257*Титул.лист!$A$1","v":326.7},{"$f":"AY257+AY257*Титул.лист!$P$2","v":326.7},330,297,{"$f":"BB257+BB257*Титул.лист!$A$1","v":326.7},{"$f":"BC257+BC257*Титул.лист!$P$2","v":326.7},330,297,{"$f":"BF257+BF257*Титул.лист!$A$1","v":326.7},{"$f":"BG257+BG257*Титул.лист!$P$2","v":326.7},330]
[null,null,350,null,"1901-35",316,{"$f":"F258+F258*Титул.лист!$A$1","v":347.6},{"$f":"G258+G258*Титул.лист!$P$2","v":347.6},350,316,{"$f":"J258+J258*Титул.лист!$A$1","v":347.6},{"$f":"K258+K258*Титул.лист!$P$2","v":347.6},350,316,{"$f":"N258+N258*Титул.лист!$A$1","v":347.6},{"$f":"O258+O258*Титул.лист!$P$2","v":347.6},350,316,{"$f":"R258+R258*Титул.лист!$A$1","v":347.6},{"$f":"S258+S258*Титул.лист!$P$2","v":347.6},350,316,{"$f":"V258+V258*Титул.лист!$A$1","v":347.6},{"$f":"W258+W258*Титул.лист!$P$2","v":347.6},350,316,{"$f":"Z258+Z258*Титул.лист!$A$1","v":347.6},{"$f":"AA258+AA258*Титул.лист!$P$2","v":347.6},350,316,{"$f":"AD258+AD258*Титул.лист!$A$1","v":347.6},{"$f":"AE258+AE258*Титул.лист!$P$2","v":347.6},350,316,{"$f":"AH258+AH258*Титул.лист!$A$1","v":347.6},{"$f":"AI258+AI258*Титул.лист!$P$2","v":347.6},350,316,{"$f":"AL258+AL258*Титул.лист!$A$1","v":347.6},{"$f":"AM258+AM258*Титул.лист!$P$2","v":347.6},350,316,{"$f":"AP258+AP258*Титул.лист!$A$1","v":347.6},{"$f":"AQ258+AQ258*Титул.лист!$P$2","v":347.6},350,316,{"$f":"AT258+AT258*Титул.лист!$A$1","v":347.6},{"$f":"AU258+AU258*Титул.лист!$P$2","v":347.6},350,316,{"$f":"AX258+AX258*Титул.лист!$A$1","v":347.6},{"$f":"AY258+AY258*Титул.лист!$P$2","v":347.6},350,316,{"$f":"BB258+BB258*Титул.лист!$A$1","v":347.6},{"$f":"BC258+BC258*Титул.лист!$P$2","v":347.6},350,316,{"$f":"BF258+BF258*Титул.лист!$A$1","v":347.6},{"$f":"BG258+BG258*Титул.лист!$P$2","v":347.6},350]
[null,null,400,null,"1901-40",341,{"$f":"F259+F259*Титул.лист!$A$1","v":375.1},{"$f":"G259+G259*Титул.лист!$P$2","v":375.1},380,341,{"$f":"J259+J259*Титул.лист!$A$1","v":375.1},{"$f":"K259+K259*Титул.лист!$P$2","v":375.1},380,341,{"$f":"N259+N259*Титул.лист!$A$1","v":375.1},{"$f":"O259+O259*Титул.лист!$P$2","v":375.1},380,341,{"$f":"R259+R259*Титул.лист!$A$1","v":375.1},{"$f":"S259+S259*Титул.лист!$P$2","v":375.1},380,341,{"$f":"V259+V259*Титул.лист!$A$1","v":375.1},{"$f":"W259+W259*Титул.лист!$P$2","v":375.1},380,341,{"$f":"Z259+Z259*Титул.лист!$A$1","v":375.1},{"$f":"AA259+AA259*Титул.лист!$P$2","v":375.1},380,341,{"$f":"AD259+AD259*Титул.лист!$A$1","v":375.1},{"$f":"AE259+AE259*Титул.лист!$P$2","v":375.1},380,341,{"$f":"AH259+AH259*Титул.лист!$A$1","v":375.1},{"$f":"AI259+AI259*Титул.лист!$P$2","v":375.1},380,341,{"$f":"AL259+AL259*Титул.лист!$A$1","v":375.1},{"$f":"AM259+AM259*Титул.лист!$P$2","v":375.1},380,341,{"$f":"AP259+AP259*Титул.лист!$A$1","v":375.1},{"$f":"AQ259+AQ259*Титул.лист!$P$2","v":375.1},380,341,{"$f":"AT259+AT259*Титул.лист!$A$1","v":375.1},{"$f":"AU259+AU259*Титул.лист!$P$2","v":375.1},380,341,{"$f":"AX259+AX259*Титул.лист!$A$1","v":375.1},{"$f":"AY259+AY259*Титул.лист!$P$2","v":375.1},380,341,{"$f":"BB259+BB259*Титул.лист!$A$1","v":375.1},{"$f":"BC259+BC259*Титул.лист!$P$2","v":375.1},380,341,{"$f":"BF259+BF259*Титул.лист!$A$1","v":375.1},{"$f":"BG259+BG259*Титул.лист!$P$2","v":375.1},380]
[null,null,450,null,"1901-45",361,{"$f":"F260+F260*Титул.лист!$A$1","v":397.1},{"$f":"G260+G260*Титул.лист!$P$2","v":397.1},{"$f":"ROUND(H260,-1)","v":400},361,{"$f":"J260+J260*Титул.лист!$A$1","v":397.1},{"$f":"K260+K260*Титул.лист!$P$2","v":397.1},{"$f":"ROUND(L260,-1)","v":400},361,{"$f":"N260+N260*Титул.лист!$A$1","v":397.1},{"$f":"O260+O260*Титул.лист!$P$2","v":397.1},{"$f":"ROUND(P260,-1)","v":400},361,{"$f":"R260+R260*Титул.лист!$A$1","v":397.1},{"$f":"S260+S260*Титул.лист!$P$2","v":397.1},{"$f":"ROUND(T260,-1)","v":400},361,{"$f":"V260+V260*Титул.лист!$A$1","v":397.1},{"$f":"W260+W260*Титул.лист!$P$2","v":397.1},{"$f":"ROUND(X260,-1)","v":400},361,{"$f":"Z260+Z260*Титул.лист!$A$1","v":397.1},{"$f":"AA260+AA260*Титул.лист!$P$2","v":397.1},{"$f":"ROUND(AB260,-1)","v":400},361,{"$f":"AD260+AD260*Титул.лист!$A$1","v":397.1},{"$f":"AE260+AE260*Титул.лист!$P$2","v":397.1},{"$f":"ROUND(AF260,-1)","v":400},361,{"$f":"AH260+AH260*Титул.лист!$A$1","v":397.1},{"$f":"AI260+AI260*Титул.лист!$P$2","v":397.1},{"$f":"ROUND(AJ260,-1)","v":400},361,{"$f":"AL260+AL260*Титул.лист!$A$1","v":397.1},{"$f":"AM260+AM260*Титул.лист!$P$2","v":397.1},{"$f":"ROUND(AN260,-1)","v":400},361,{"$f":"AP260+AP260*Титул.лист!$A$1","v":397.1},{"$f":"AQ260+AQ260*Титул.лист!$P$2","v":397.1},{"$f":"ROUND(AR260,-1)","v":400},361,{"$f":"AT260+AT260*Титул.лист!$A$1","v":397.1},{"$f":"AU260+AU260*Титул.лист!$P$2","v":397.1},{"$f":"ROUND(AV260,-1)","v":400},361,{"$f":"AX260+AX260*Титул.лист!$A$1","v":397.1},{"$f":"AY260+AY260*Титул.лист!$P$2","v":397.1},{"$f":"ROUND(AZ260,-1)","v":400},361,{"$f":"BB260+BB260*Титул.лист!$A$1","v":397.1},{"$f":"BC260+BC260*Титул.лист!$P$2","v":397.1},{"$f":"ROUND(BD260,-1)","v":400},361,{"$f":"BF260+BF260*Титул.лист!$A$1","v":397.1},{"$f":"BG260+BG260*Титул.лист!$P$2","v":397.1},{"$f":"ROUND(BH260,-1)","v":400}]
[null,null,500,null,"1901-50",385,{"$f":"F261+F261*Титул.лист!$A$1","v":423.5},{"$f":"G261+G261*Титул.лист!$P$2","v":423.5},420,385,{"$f":"J261+J261*Титул.лист!$A$1","v":423.5},{"$f":"K261+K261*Титул.лист!$P$2","v":423.5},420,385,{"$f":"N261+N261*Титул.лист!$A$1","v":423.5},{"$f":"O261+O261*Титул.лист!$P$2","v":423.5},420,385,{"$f":"R261+R261*Титул.лист!$A$1","v":423.5},{"$f":"S261+S261*Титул.лист!$P$2","v":423.5},420,385,{"$f":"V261+V261*Титул.лист!$A$1","v":423.5},{"$f":"W261+W261*Титул.лист!$P$2","v":423.5},420,385,{"$f":"Z261+Z261*Титул.лист!$A$1","v":423.5},{"$f":"AA261+AA261*Титул.лист!$P$2","v":423.5},420,385,{"$f":"AD261+AD261*Титул.лист!$A$1","v":423.5},{"$f":"AE261+AE261*Титул.лист!$P$2","v":423.5},420,385,{"$f":"AH261+AH261*Титул.лист!$A$1","v":423.5},{"$f":"AI261+AI261*Титул.лист!$P$2","v":423.5},420,385,{"$f":"AL261+AL261*Титул.лист!$A$1","v":423.5},{"$f":"AM261+AM261*Титул.лист!$P$2","v":423.5},420,385,{"$f":"AP261+AP261*Титул.лист!$A$1","v":423.5},{"$f":"AQ261+AQ261*Титул.лист!$P$2","v":423.5},420,385,{"$f":"AT261+AT261*Титул.лист!$A$1","v":423.5},{"$f":"AU261+AU261*Титул.лист!$P$2","v":423.5},420,385,{"$f":"AX261+AX261*Титул.лист!$A$1","v":423.5},{"$f":"AY261+AY261*Титул.лист!$P$2","v":423.5},420,385,{"$f":"BB261+BB261*Титул.лист!$A$1","v":423.5},{"$f":"BC261+BC261*Титул.лист!$P$2","v":423.5},420,385,{"$f":"BF261+BF261*Титул.лист!$A$1","v":423.5},{"$f":"BG261+BG261*Титул.лист!$P$2","v":423.5},420]
[null,null,600,null,"1901\\1-60",470,{"$f":"F262+F262*Титул.лист!$A$1","v":517},{"$f":"G262+G262*Титул.лист!$P$2","v":517},520,470,{"$f":"J262+J262*Титул.лист!$A$1","v":517},{"$f":"K262+K262*Титул.лист!$P$2","v":517},520,470,{"$f":"N262+N262*Титул.лист!$A$1","v":517},{"$f":"O262+O262*Титул.лист!$P$2","v":517},520,470,{"$f":"R262+R262*Титул.лист!$A$1","v":517},{"$f":"S262+S262*Титул.лист!$P$2","v":517},520,470,{"$f":"V262+V262*Титул.лист!$A$1","v":517},{"$f":"W262+W262*Титул.лист!$P$2","v":517},520,470,{"$f":"Z262+Z262*Титул.лист!$A$1","v":517},{"$f":"AA262+AA262*Титул.лист!$P$2","v":517},520,470,{"$f":"AD262+AD262*Титул.лист!$A$1","v":517},{"$f":"AE262+AE262*Титул.лист!$P$2","v":517},520,470,{"$f":"AH262+AH262*Титул.лист!$A$1","v":517},{"$f":"AI262+AI262*Титул.лист!$P$2","v":517},520,470,{"$f":"AL262+AL262*Титул.лист!$A$1","v":517},{"$f":"AM262+AM262*Титул.лист!$P$2","v":517},520,470,{"$f":"AP262+AP262*Титул.лист!$A$1","v":517},{"$f":"AQ262+AQ262*Титул.лист!$P$2","v":517},520,470,{"$f":"AT262+AT262*Титул.лист!$A$1","v":517},{"$f":"AU262+AU262*Титул.лист!$P$2","v":517},520,470,{"$f":"AX262+AX262*Титул.лист!$A$1","v":517},{"$f":"AY262+AY262*Титул.лист!$P$2","v":517},520,470,{"$f":"BB262+BB262*Титул.лист!$A$1","v":517},{"$f":"BC262+BC262*Титул.лист!$P$2","v":517},520,470,{"$f":"BF262+BF262*Титул.лист!$A$1","v":517},{"$f":"BG262+BG262*Титул.лист!$P$2","v":517},520]
[null,null,700,null,"1901\\1-70",514,{"$f":"F263+F263*Титул.лист!$A$1","v":565.4},{"$f":"G263+G263*Титул.лист!$P$2","v":565.4},570,514,{"$f":"J263+J263*Титул.лист!$A$1","v":565.4},{"$f":"K263+K263*Титул.лист!$P$2","v":565.4},570,514,{"$f":"N263+N263*Титул.лист!$A$1","v":565.4},{"$f":"O263+O263*Титул.лист!$P$2","v":565.4},570,514,{"$f":"R263+R263*Титул.лист!$A$1","v":565.4},{"$f":"S263+S263*Титул.лист!$P$2","v":565.4},570,514,{"$f":"V263+V263*Титул.лист!$A$1","v":565.4},{"$f":"W263+W263*Титул.лист!$P$2","v":565.4},570,514,{"$f":"Z263+Z263*Титул.лист!$A$1","v":565.4},{"$f":"AA263+AA263*Титул.лист!$P$2","v":565.4},570,514,{"$f":"AD263+AD263*Титул.лист!$A$1","v":565.4},{"$f":"AE263+AE263*Титул.лист!$P$2","v":565.4},570,514,{"$f":"AH263+AH263*Титул.лист!$A$1","v":565.4},{"$f":"AI263+AI263*Титул.лист!$P$2","v":565.4},570,514,{"$f":"AL263+AL263*Титул.лист!$A$1","v":565.4},{"$f":"AM263+AM263*Титул.лист!$P$2","v":565.4},570,514,{"$f":"AP263+AP263*Титул.лист!$A$1","v":565.4},{"$f":"AQ263+AQ263*Титул.лист!$P$2","v":565.4},570,514,{"$f":"AT263+AT263*Титул.лист!$A$1","v":565.4},{"$f":"AU263+AU263*Титул.лист!$P$2","v":565.4},570,514,{"$f":"AX263+AX263*Титул.лист!$A$1","v":565.4},{"$f":"AY263+AY263*Титул.лист!$P$2","v":565.4},570,514,{"$f":"BB263+BB263*Титул.лист!$A$1","v":565.4},{"$f":"BC263+BC263*Титул.лист!$P$2","v":565.4},570,514,{"$f":"BF263+BF263*Титул.лист!$A$1","v":565.4},{"$f":"BG263+BG263*Титул.лист!$P$2","v":565.4},570]
[null,null,800,null,"1901\\1-80",553,{"$f":"F264+F264*Титул.лист!$A$1","v":608.29999999999995},{"$f":"G264+G264*Титул.лист!$P$2","v":608.29999999999995},610,553,{"$f":"J264+J264*Титул.лист!$A$1","v":608.29999999999995},{"$f":"K264+K264*Титул.лист!$P$2","v":608.29999999999995},610,553,{"$f":"N264+N264*Титул.лист!$A$1","v":608.29999999999995},{"$f":"O264+O264*Титул.лист!$P$2","v":608.29999999999995},610,553,{"$f":"R264+R264*Титул.лист!$A$1","v":608.29999999999995},{"$f":"S264+S264*Титул.лист!$P$2","v":608.29999999999995},610,553,{"$f":"V264+V264*Титул.лист!$A$1","v":608.29999999999995},{"$f":"W264+W264*Титул.лист!$P$2","v":608.29999999999995},610,553,{"$f":"Z264+Z264*Титул.лист!$A$1","v":608.29999999999995},{"$f":"AA264+AA264*Титул.лист!$P$2","v":608.29999999999995},610,553,{"$f":"AD264+AD264*Титул.лист!$A$1","v":608.29999999999995},{"$f":"AE264+AE264*Титул.лист!$P$2","v":608.29999999999995},610,553,{"$f":"AH264+AH264*Титул.лист!$A$1","v":608.29999999999995},{"$f":"AI264+AI264*Титул.лист!$P$2","v":608.29999999999995},610,553,{"$f":"AL264+AL264*Титул.лист!$A$1","v":608.29999999999995},{"$f":"AM264+AM264*Титул.лист!$P$2","v":608.29999999999995},610,553,{"$f":"AP264+AP264*Титул.лист!$A$1","v":608.29999999999995},{"$f":"AQ264+AQ264*Титул.лист!$P$2","v":608.29999999999995},610,553,{"$f":"AT264+AT264*Титул.лист!$A$1","v":608.29999999999995},{"$f":"AU264+AU264*Титул.лист!$P$2","v":608.29999999999995},610,553,{"$f":"AX264+AX264*Титул.лист!$A$1","v":608.29999999999995},{"$f":"AY264+AY264*Титул.лист!$P$2","v":608.29999999999995},610,553,{"$f":"BB264+BB264*Титул.лист!$A$1","v":608.29999999999995},{"$f":"BC264+BC264*Титул.лист!$P$2","v":608.29999999999995},610,553,{"$f":"BF264+BF264*Титул.лист!$A$1","v":608.29999999999995},{"$f":"BG264+BG264*Титул.лист!$P$2","v":608.29999999999995},610]
[null,null,900,null,"1901\\ 2-90",642,{"$f":"F265+F265*Титул.лист!$A$1","v":706.2},{"$f":"G265+G265*Титул.лист!$P$2","v":706.2},710,642,{"$f":"J265+J265*Титул.лист!$A$1","v":706.2},{"$f":"K265+K265*Титул.лист!$P$2","v":706.2},710,642,{"$f":"N265+N265*Титул.лист!$A$1","v":706.2},{"$f":"O265+O265*Титул.лист!$P$2","v":706.2},710,642,{"$f":"R265+R265*Титул.лист!$A$1","v":706.2},{"$f":"S265+S265*Титул.лист!$P$2","v":706.2},710,642,{"$f":"V265+V265*Титул.лист!$A$1","v":706.2},{"$f":"W265+W265*Титул.лист!$P$2","v":706.2},710,642,{"$f":"Z265+Z265*Титул.лист!$A$1","v":706.2},{"$f":"AA265+AA265*Титул.лист!$P$2","v":706.2},710,642,{"$f":"AD265+AD265*Титул.лист!$A$1","v":706.2},{"$f":"AE265+AE265*Титул.лист!$P$2","v":706.2},710,642,{"$f":"AH265+AH265*Титул.лист!$A$1","v":706.2},{"$f":"AI265+AI265*Титул.лист!$P$2","v":706.2},710,642,{"$f":"AL265+AL265*Титул.лист!$A$1","v":706.2},{"$f":"AM265+AM265*Титул.лист!$P$2","v":706.2},710,642,{"$f":"AP265+AP265*Титул.лист!$A$1","v":706.2},{"$f":"AQ265+AQ265*Титул.лист!$P$2","v":706.2},710,642,{"$f":"AT265+AT265*Титул.лист!$A$1","v":706.2},{"$f":"AU265+AU265*Титул.лист!$P$2","v":706.2},710,642,{"$f":"AX265+AX265*Титул.лист!$A$1","v":706.2},{"$f":"AY265+AY265*Титул.лист!$P$2","v":706.2},710,642,{"$f":"BB265+BB265*Титул.лист!$A$1","v":706.2},{"$f":"BC265+BC265*Титул.лист!$P$2","v":706.2},710,642,{"$f":"BF265+BF265*Титул.лист!$A$1","v":706.2},{"$f":"BG265+BG265*Титул.лист!$P$2","v":706.2},710]
[null,null,1000,null,"1901\\ 2-100",682,{"$f":"F266+F266*Титул.лист!$A$1","v":750.2},{"$f":"G266+G266*Титул.лист!$P$2","v":750.2},750,682,{"$f":"J266+J266*Титул.лист!$A$1","v":750.2},{"$f":"K266+K266*Титул.лист!$P$2","v":750.2},750,682,{"$f":"N266+N266*Титул.лист!$A$1","v":750.2},{"$f":"O266+O266*Титул.лист!$P$2","v":750.2},750,682,{"$f":"R266+R266*Титул.лист!$A$1","v":750.2},{"$f":"S266+S266*Титул.лист!$P$2","v":750.2},750,682,{"$f":"V266+V266*Титул.лист!$A$1","v":750.2},{"$f":"W266+W266*Титул.лист!$P$2","v":750.2},750,682,{"$f":"Z266+Z266*Титул.лист!$A$1","v":750.2},{"$f":"AA266+AA266*Титул.лист!$P$2","v":750.2},750,682,{"$f":"AD266+AD266*Титул.лист!$A$1","v":750.2},{"$f":"AE266+AE266*Титул.лист!$P$2","v":750.2},750,682,{"$f":"AH266+AH266*Титул.лист!$A$1","v":750.2},{"$f":"AI266+AI266*Титул.лист!$P$2","v":750.2},750,682,{"$f":"AL266+AL266*Титул.лист!$A$1","v":750.2},{"$f":"AM266+AM266*Титул.лист!$P$2","v":750.2},750,682,{"$f":"AP266+AP266*Титул.лист!$A$1","v":750.2},{"$f":"AQ266+AQ266*Титул.лист!$P$2","v":750.2},750,682,{"$f":"AT266+AT266*Титул.лист!$A$1","v":750.2},{"$f":"AU266+AU266*Титул.лист!$P$2","v":750.2},750,682,{"$f":"AX266+AX266*Титул.лист!$A$1","v":750.2},{"$f":"AY266+AY266*Титул.лист!$P$2","v":750.2},750,682,{"$f":"BB266+BB266*Титул.лист!$A$1","v":750.2},{"$f":"BC266+BC266*Титул.лист!$P$2","v":750.2},750,682,{"$f":"BF266+BF266*Титул.лист!$A$1","v":750.2},{"$f":"BG266+BG266*Титул.лист!$P$2","v":750.2},750]
[null,null,1400,null,"1901\\2-140",714,{"$f":"F267+F267*Титул.лист!$A$1","v":785.4},{"$f":"G267+G267*Титул.лист!$P$2","v":785.4},790,714,{"$f":"J267+J267*Титул.лист!$A$1","v":785.4},{"$f":"K267+K267*Титул.лист!$P$2","v":785.4},790,714,{"$f":"N267+N267*Титул.лист!$A$1","v":785.4},{"$f":"O267+O267*Титул.лист!$P$2","v":785.4},790,714,{"$f":"R267+R267*Титул.лист!$A$1","v":785.4},{"$f":"S267+S267*Титул.лист!$P$2","v":785.4},790,714,{"$f":"V267+V267*Титул.лист!$A$1","v":785.4},{"$f":"W267+W267*Титул.лист!$P$2","v":785.4},790,714,{"$f":"Z267+Z267*Титул.лист!$A$1","v":785.4},{"$f":"AA267+AA267*Титул.лист!$P$2","v":785.4},790,714,{"$f":"AD267+AD267*Титул.лист!$A$1","v":785.4},{"$f":"AE267+AE267*Титул.лист!$P$2","v":785.4},790,714,{"$f":"AH267+AH267*Титул.лист!$A$1","v":785.4},{"$f":"AI267+AI267*Титул.лист!$P$2","v":785.4},790,714,{"$f":"AL267+AL267*Титул.лист!$A$1","v":785.4},{"$f":"AM267+AM267*Титул.лист!$P$2","v":785.4},790,714,{"$f":"AP267+AP267*Титул.лист!$A$1","v":785.4},{"$f":"AQ267+AQ267*Титул.лист!$P$2","v":785.4},790,714,{"$f":"AT267+AT267*Титул.лист!$A$1","v":785.4},{"$f":"AU267+AU267*Титул.лист!$P$2","v":785.4},790,714,{"$f":"AX267+AX267*Титул.лист!$A$1","v":785.4},{"$f":"AY267+AY267*Титул.лист!$P$2","v":785.4},790,714,{"$f":"BB267+BB267*Титул.лист!$A$1","v":785.4},{"$f":"BC267+BC267*Титул.лист!$P$2","v":785.4},790,714,{"$f":"BF267+BF267*Титул.лист!$A$1","v":785.4},{"$f":"BG267+BG267*Титул.лист!$P$2","v":785.4},790]
[null,"Полка открытая  Н=200*\nустанавливаются к шкафам высотой 720",300,"h 200","1902-30",310,{"$f":"F268+F268*Титул.лист!$A$1","v":341},{"$f":"G268+G268*Титул.лист!$P$2","v":341},340,310,{"$f":"J268+J268*Титул.лист!$A$1","v":341},{"$f":"K268+K268*Титул.лист!$P$2","v":341},340,310,{"$f":"N268+N268*Титул.лист!$A$1","v":341},{"$f":"O268+O268*Титул.лист!$P$2","v":341},340,310,{"$f":"R268+R268*Титул.лист!$A$1","v":341},{"$f":"S268+S268*Титул.лист!$P$2","v":341},340,310,{"$f":"V268+V268*Титул.лист!$A$1","v":341},{"$f":"W268+W268*Титул.лист!$P$2","v":341},340,310,{"$f":"Z268+Z268*Титул.лист!$A$1","v":341},{"$f":"AA268+AA268*Титул.лист!$P$2","v":341},340,310,{"$f":"AD268+AD268*Титул.лист!$A$1","v":341},{"$f":"AE268+AE268*Титул.лист!$P$2","v":341},340,310,{"$f":"AH268+AH268*Титул.лист!$A$1","v":341},{"$f":"AI268+AI268*Титул.лист!$P$2","v":341},340,310,{"$f":"AL268+AL268*Титул.лист!$A$1","v":341},{"$f":"AM268+AM268*Титул.лист!$P$2","v":341},340,310,{"$f":"AP268+AP268*Титул.лист!$A$1","v":341},{"$f":"AQ268+AQ268*Титул.лист!$P$2","v":341},340,310,{"$f":"AT268+AT268*Титул.лист!$A$1","v":341},{"$f":"AU268+AU268*Титул.лист!$P$2","v":341},340,310,{"$f":"AX268+AX268*Титул.лист!$A$1","v":341},{"$f":"AY268+AY268*Титул.лист!$P$2","v":341},340,310,{"$f":"BB268+BB268*Титул.лист!$A$1","v":341},{"$f":"BC268+BC268*Титул.лист!$P$2","v":341},340,310,{"$f":"BF268+BF268*Титул.лист!$A$1","v":341},{"$f":"BG268+BG268*Титул.лист!$P$2","v":341},340]
[null,null,350,null,"1902-35",325,{"$f":"F269+F269*Титул.лист!$A$1","v":357.5},{"$f":"G269+G269*Титул.лист!$P$2","v":357.5},360,325,{"$f":"J269+J269*Титул.лист!$A$1","v":357.5},{"$f":"K269+K269*Титул.лист!$P$2","v":357.5},360,325,{"$f":"N269+N269*Титул.лист!$A$1","v":357.5},{"$f":"O269+O269*Титул.лист!$P$2","v":357.5},360,325,{"$f":"R269+R269*Титул.лист!$A$1","v":357.5},{"$f":"S269+S269*Титул.лист!$P$2","v":357.5},360,325,{"$f":"V269+V269*Титул.лист!$A$1","v":357.5},{"$f":"W269+W269*Титул.лист!$P$2","v":357.5},360,325,{"$f":"Z269+Z269*Титул.лист!$A$1","v":357.5},{"$f":"AA269+AA269*Титул.лист!$P$2","v":357.5},360,325,{"$f":"AD269+AD269*Титул.лист!$A$1","v":357.5},{"$f":"AE269+AE269*Титул.лист!$P$2","v":357.5},360,325,{"$f":"AH269+AH269*Титул.лист!$A$1","v":357.5},{"$f":"AI269+AI269*Титул.лист!$P$2","v":357.5},360,325,{"$f":"AL269+AL269*Титул.лист!$A$1","v":357.5},{"$f":"AM269+AM269*Титул.лист!$P$2","v":357.5},360,325,{"$f":"AP269+AP269*Титул.лист!$A$1","v":357.5},{"$f":"AQ269+AQ269*Титул.лист!$P$2","v":357.5},360,325,{"$f":"AT269+AT269*Титул.лист!$A$1","v":357.5},{"$f":"AU269+AU269*Титул.лист!$P$2","v":357.5},360,325,{"$f":"AX269+AX269*Титул.лист!$A$1","v":357.5},{"$f":"AY269+AY269*Титул.лист!$P$2","v":357.5},360,325,{"$f":"BB269+BB269*Титул.лист!$A$1","v":357.5},{"$f":"BC269+BC269*Титул.лист!$P$2","v":357.5},360,325,{"$f":"BF269+BF269*Титул.лист!$A$1","v":357.5},{"$f":"BG269+BG269*Титул.лист!$P$2","v":357.5},360]
[null,null,400,null,"1902-40",370,{"$f":"F270+F270*Титул.лист!$A$1","v":407},{"$f":"G270+G270*Титул.лист!$P$2","v":407},410,370,{"$f":"J270+J270*Титул.лист!$A$1","v":407},{"$f":"K270+K270*Титул.лист!$P$2","v":407},410,370,{"$f":"N270+N270*Титул.лист!$A$1","v":407},{"$f":"O270+O270*Титул.лист!$P$2","v":407},410,370,{"$f":"R270+R270*Титул.лист!$A$1","v":407},{"$f":"S270+S270*Титул.лист!$P$2","v":407},410,370,{"$f":"V270+V270*Титул.лист!$A$1","v":407},{"$f":"W270+W270*Титул.лист!$P$2","v":407},410,370,{"$f":"Z270+Z270*Титул.лист!$A$1","v":407},{"$f":"AA270+AA270*Титул.лист!$P$2","v":407},410,370,{"$f":"AD270+AD270*Титул.лист!$A$1","v":407},{"$f":"AE270+AE270*Титул.лист!$P$2","v":407},410,370,{"$f":"AH270+AH270*Титул.лист!$A$1","v":407},{"$f":"AI270+AI270*Титул.лист!$P$2","v":407},410,370,{"$f":"AL270+AL270*Титул.лист!$A$1","v":407},{"$f":"AM270+AM270*Титул.лист!$P$2","v":407},410,370,{"$f":"AP270+AP270*Титул.лист!$A$1","v":407},{"$f":"AQ270+AQ270*Титул.лист!$P$2","v":407},410,370,{"$f":"AT270+AT270*Титул.лист!$A$1","v":407},{"$f":"AU270+AU270*Титул.лист!$P$2","v":407},410,370,{"$f":"AX270+AX270*Титул.лист!$A$1","v":407},{"$f":"AY270+AY270*Титул.лист!$P$2","v":407},410,370,{"$f":"BB270+BB270*Титул.лист!$A$1","v":407},{"$f":"BC270+BC270*Титул.лист!$P$2","v":407},410,370,{"$f":"BF270+BF270*Титул.лист!$A$1","v":407},{"$f":"BG270+BG270*Титул.лист!$P$2","v":407},410]
[null,null,450,null,"1902-45",390,{"$f":"F271+F271*Титул.лист!$A$1","v":429},{"$f":"G271+G271*Титул.лист!$P$2","v":429},430,390,{"$f":"J271+J271*Титул.лист!$A$1","v":429},{"$f":"K271+K271*Титул.лист!$P$2","v":429},430,390,{"$f":"N271+N271*Титул.лист!$A$1","v":429},{"$f":"O271+O271*Титул.лист!$P$2","v":429},430,390,{"$f":"R271+R271*Титул.лист!$A$1","v":429},{"$f":"S271+S271*Титул.лист!$P$2","v":429},430,390,{"$f":"V271+V271*Титул.лист!$A$1","v":429},{"$f":"W271+W271*Титул.лист!$P$2","v":429},430,390,{"$f":"Z271+Z271*Титул.лист!$A$1","v":429},{"$f":"AA271+AA271*Титул.лист!$P$2","v":429},430,390,{"$f":"AD271+AD271*Титул.лист!$A$1","v":429},{"$f":"AE271+AE271*Титул.лист!$P$2","v":429},430,390,{"$f":"AH271+AH271*Титул.лист!$A$1","v":429},{"$f":"AI271+AI271*Титул.лист!$P$2","v":429},430,390,{"$f":"AL271+AL271*Титул.лист!$A$1","v":429},{"$f":"AM271+AM271*Титул.лист!$P$2","v":429},430,390,{"$f":"AP271+AP271*Титул.лист!$A$1","v":429},{"$f":"AQ271+AQ271*Титул.лист!$P$2","v":429},430,390,{"$f":"AT271+AT271*Титул.лист!$A$1","v":429},{"$f":"AU271+AU271*Титул.лист!$P$2","v":429},430,390,{"$f":"AX271+AX271*Титул.лист!$A$1","v":429},{"$f":"AY271+AY271*Титул.лист!$P$2","v":429},430,390,{"$f":"BB271+BB271*Титул.лист!$A$1","v":429},{"$f":"BC271+BC271*Титул.лист!$P$2","v":429},430,390,{"$f":"BF271+BF271*Титул.лист!$A$1","v":429},{"$f":"BG271+BG271*Титул.лист!$P$2","v":429},430]
[null,null,500,null,"1902-50",410,{"$f":"F272+F272*Титул.лист!$A$1","v":451},{"$f":"G272+G272*Титул.лист!$P$2","v":451},450,410,{"$f":"J272+J272*Титул.лист!$A$1","v":451},{"$f":"K272+K272*Титул.лист!$P$2","v":451},450,410,{"$f":"N272+N272*Титул.лист!$A$1","v":451},{"$f":"O272+O272*Титул.лист!$P$2","v":451},450,410,{"$f":"R272+R272*Титул.лист!$A$1","v":451},{"$f":"S272+S272*Титул.лист!$P$2","v":451},450,410,{"$f":"V272+V272*Титул.лист!$A$1","v":451},{"$f":"W272+W272*Титул.лист!$P$2","v":451},450,410,{"$f":"Z272+Z272*Титул.лист!$A$1","v":451},{"$f":"AA272+AA272*Титул.лист!$P$2","v":451},450,410,{"$f":"AD272+AD272*Титул.лист!$A$1","v":451},{"$f":"AE272+AE272*Титул.лист!$P$2","v":451},450,410,{"$f":"AH272+AH272*Титул.лист!$A$1","v":451},{"$f":"AI272+AI272*Титул.лист!$P$2","v":451},450,410,{"$f":"AL272+AL272*Титул.лист!$A$1","v":451},{"$f":"AM272+AM272*Титул.лист!$P$2","v":451},450,410,{"$f":"AP272+AP272*Титул.лист!$A$1","v":451},{"$f":"AQ272+AQ272*Титул.лист!$P$2","v":451},450,410,{"$f":"AT272+AT272*Титул.лист!$A$1","v":451},{"$f":"AU272+AU272*Титул.лист!$P$2","v":451},450,410,{"$f":"AX272+AX272*Титул.лист!$A$1","v":451},{"$f":"AY272+AY272*Титул.лист!$P$2","v":451},450,410,{"$f":"BB272+BB272*Титул.лист!$A$1","v":451},{"$f":"BC272+BC272*Титул.лист!$P$2","v":451},450,410,{"$f":"BF272+BF272*Титул.лист!$A$1","v":451},{"$f":"BG272+BG272*Титул.лист!$P$2","v":451},450]
[null,null,600,null,"1902\\1-60",490,{"$f":"F273+F273*Титул.лист!$A$1","v":539},{"$f":"G273+G273*Титул.лист!$P$2","v":539},540,490,{"$f":"J273+J273*Титул.лист!$A$1","v":539},{"$f":"K273+K273*Титул.лист!$P$2","v":539},540,490,{"$f":"N273+N273*Титул.лист!$A$1","v":539},{"$f":"O273+O273*Титул.лист!$P$2","v":539},540,490,{"$f":"R273+R273*Титул.лист!$A$1","v":539},{"$f":"S273+S273*Титул.лист!$P$2","v":539},540,490,{"$f":"V273+V273*Титул.лист!$A$1","v":539},{"$f":"W273+W273*Титул.лист!$P$2","v":539},540,490,{"$f":"Z273+Z273*Титул.лист!$A$1","v":539},{"$f":"AA273+AA273*Титул.лист!$P$2","v":539},540,490,{"$f":"AD273+AD273*Титул.лист!$A$1","v":539},{"$f":"AE273+AE273*Титул.лист!$P$2","v":539},540,490,{"$f":"AH273+AH273*Титул.лист!$A$1","v":539},{"$f":"AI273+AI273*Титул.лист!$P$2","v":539},540,490,{"$f":"AL273+AL273*Титул.лист!$A$1","v":539},{"$f":"AM273+AM273*Титул.лист!$P$2","v":539},540,490,{"$f":"AP273+AP273*Титул.лист!$A$1","v":539},{"$f":"AQ273+AQ273*Титул.лист!$P$2","v":539},540,490,{"$f":"AT273+AT273*Титул.лист!$A$1","v":539},{"$f":"AU273+AU273*Титул.лист!$P$2","v":539},540,490,{"$f":"AX273+AX273*Титул.лист!$A$1","v":539},{"$f":"AY273+AY273*Титул.лист!$P$2","v":539},540,490,{"$f":"BB273+BB273*Титул.лист!$A$1","v":539},{"$f":"BC273+BC273*Титул.лист!$P$2","v":539},540,490,{"$f":"BF273+BF273*Титул.лист!$A$1","v":539},{"$f":"BG273+BG273*Титул.лист!$P$2","v":539},540]
[null,null,700,null,"1902\\1-70",550,{"$f":"F274+F274*Титул.лист!$A$1","v":605},{"$f":"G274+G274*Титул.лист!$P$2","v":605},610,550,{"$f":"J274+J274*Титул.лист!$A$1","v":605},{"$f":"K274+K274*Титул.лист!$P$2","v":605},610,550,{"$f":"N274+N274*Титул.лист!$A$1","v":605},{"$f":"O274+O274*Титул.лист!$P$2","v":605},610,550,{"$f":"R274+R274*Титул.лист!$A$1","v":605},{"$f":"S274+S274*Титул.лист!$P$2","v":605},610,550,{"$f":"V274+V274*Титул.лист!$A$1","v":605},{"$f":"W274+W274*Титул.лист!$P$2","v":605},610,550,{"$f":"Z274+Z274*Титул.лист!$A$1","v":605},{"$f":"AA274+AA274*Титул.лист!$P$2","v":605},610,550,{"$f":"AD274+AD274*Титул.лист!$A$1","v":605},{"$f":"AE274+AE274*Титул.лист!$P$2","v":605},610,550,{"$f":"AH274+AH274*Титул.лист!$A$1","v":605},{"$f":"AI274+AI274*Титул.лист!$P$2","v":605},610,550,{"$f":"AL274+AL274*Титул.лист!$A$1","v":605},{"$f":"AM274+AM274*Титул.лист!$P$2","v":605},610,550,{"$f":"AP274+AP274*Титул.лист!$A$1","v":605},{"$f":"AQ274+AQ274*Титул.лист!$P$2","v":605},610,550,{"$f":"AT274+AT274*Титул.лист!$A$1","v":605},{"$f":"AU274+AU274*Титул.лист!$P$2","v":605},610,550,{"$f":"AX274+AX274*Титул.лист!$A$1","v":605},{"$f":"AY274+AY274*Титул.лист!$P$2","v":605},610,550,{"$f":"BB274+BB274*Титул.лист!$A$1","v":605},{"$f":"BC274+BC274*Титул.лист!$P$2","v":605},610,550,{"$f":"BF274+BF274*Титул.лист!$A$1","v":605},{"$f":"BG274+BG274*Титул.лист!$P$2","v":605},610]
[null,null,800,null,"1902\\1-80",585,{"$f":"F275+F275*Титул.лист!$A$1","v":643.5},{"$f":"G275+G275*Титул.лист!$P$2","v":643.5},640,585,{"$f":"J275+J275*Титул.лист!$A$1","v":643.5},{"$f":"K275+K275*Титул.лист!$P$2","v":643.5},640,585,{"$f":"N275+N275*Титул.лист!$A$1","v":643.5},{"$f":"O275+O275*Титул.лист!$P$2","v":643.5},640,585,{"$f":"R275+R275*Титул.лист!$A$1","v":643.5},{"$f":"S275+S275*Титул.лист!$P$2","v":643.5},640,585,{"$f":"V275+V275*Титул.лист!$A$1","v":643.5},{"$f":"W275+W275*Титул.лист!$P$2","v":643.5},640,585,{"$f":"Z275+Z275*Титул.лист!$A$1","v":643.5},{"$f":"AA275+AA275*Титул.лист!$P$2","v":643.5},640,585,{"$f":"AD275+AD275*Титул.лист!$A$1","v":643.5},{"$f":"AE275+AE275*Титул.лист!$P$2","v":643.5},640,585,{"$f":"AH275+AH275*Титул.лист!$A$1","v":643.5},{"$f":"AI275+AI275*Титул.лист!$P$2","v":643.5},640,585,{"$f":"AL275+AL275*Титул.лист!$A$1","v":643.5},{"$f":"AM275+AM275*Титул.лист!$P$2","v":643.5},640,585,{"$f":"AP275+AP275*Титул.лист!$A$1","v":643.5},{"$f":"AQ275+AQ275*Титул.лист!$P$2","v":643.5},640,585,{"$f":"AT275+AT275*Титул.лист!$A$1","v":643.5},{"$f":"AU275+AU275*Титул.лист!$P$2","v":643.5},640,585,{"$f":"AX275+AX275*Титул.лист!$A$1","v":643.5},{"$f":"AY275+AY275*Титул.лист!$P$2","v":643.5},640,585,{"$f":"BB275+BB275*Титул.лист!$A$1","v":643.5},{"$f":"BC275+BC275*Титул.лист!$P$2","v":643.5},640,585,{"$f":"BF275+BF275*Титул.лист!$A$1","v":643.5},{"$f":"BG275+BG275*Титул.лист!$P$2","v":643.5},640]
[null,null,900,null,"1902\\2-90",680,{"$f":"F276+F276*Титул.лист!$A$1","v":748},{"$f":"G276+G276*Титул.лист!$P$2","v":748},750,680,{"$f":"J276+J276*Титул.лист!$A$1","v":748},{"$f":"K276+K276*Титул.лист!$P$2","v":748},750,680,{"$f":"N276+N276*Титул.лист!$A$1","v":748},{"$f":"O276+O276*Титул.лист!$P$2","v":748},750,680,{"$f":"R276+R276*Титул.лист!$A$1","v":748},{"$f":"S276+S276*Титул.лист!$P$2","v":748},750,680,{"$f":"V276+V276*Титул.лист!$A$1","v":748},{"$f":"W276+W276*Титул.лист!$P$2","v":748},750,680,{"$f":"Z276+Z276*Титул.лист!$A$1","v":748},{"$f":"AA276+AA276*Титул.лист!$P$2","v":748},750,680,{"$f":"AD276+AD276*Титул.лист!$A$1","v":748},{"$f":"AE276+AE276*Титул.лист!$P$2","v":748},750,680,{"$f":"AH276+AH276*Титул.лист!$A$1","v":748},{"$f":"AI276+AI276*Титул.лист!$P$2","v":748},750,680,{"$f":"AL276+AL276*Титул.лист!$A$1","v":748},{"$f":"AM276+AM276*Титул.лист!$P$2","v":748},750,680,{"$f":"AP276+AP276*Титул.лист!$A$1","v":748},{"$f":"AQ276+AQ276*Титул.лист!$P$2","v":748},750,680,{"$f":"AT276+AT276*Титул.лист!$A$1","v":748},{"$f":"AU276+AU276*Титул.лист!$P$2","v":748},750,680,{"$f":"AX276+AX276*Титул.лист!$A$1","v":748},{"$f":"AY276+AY276*Титул.лист!$P$2","v":748},750,680,{"$f":"BB276+BB276*Титул.лист!$A$1","v":748},{"$f":"BC276+BC276*Титул.лист!$P$2","v":748},750,680,{"$f":"BF276+BF276*Титул.лист!$A$1","v":748},{"$f":"BG276+BG276*Титул.лист!$P$2","v":748},750]
[null,null,1000,null,"190\\2-100",710,{"$f":"F277+F277*Титул.лист!$A$1","v":781},{"$f":"G277+G277*Титул.лист!$P$2","v":781},780,710,{"$f":"J277+J277*Титул.лист!$A$1","v":781},{"$f":"K277+K277*Титул.лист!$P$2","v":781},780,710,{"$f":"N277+N277*Титул.лист!$A$1","v":781},{"$f":"O277+O277*Титул.лист!$P$2","v":781},780,710,{"$f":"R277+R277*Титул.лист!$A$1","v":781},{"$f":"S277+S277*Титул.лист!$P$2","v":781},780,710,{"$f":"V277+V277*Титул.лист!$A$1","v":781},{"$f":"W277+W277*Титул.лист!$P$2","v":781},780,710,{"$f":"Z277+Z277*Титул.лист!$A$1","v":781},{"$f":"AA277+AA277*Титул.лист!$P$2","v":781},780,710,{"$f":"AD277+AD277*Титул.лист!$A$1","v":781},{"$f":"AE277+AE277*Титул.лист!$P$2","v":781},780,710,{"$f":"AH277+AH277*Титул.лист!$A$1","v":781},{"$f":"AI277+AI277*Титул.лист!$P$2","v":781},780,710,{"$f":"AL277+AL277*Титул.лист!$A$1","v":781},{"$f":"AM277+AM277*Титул.лист!$P$2","v":781},780,710,{"$f":"AP277+AP277*Титул.лист!$A$1","v":781},{"$f":"AQ277+AQ277*Титул.лист!$P$2","v":781},780,710,{"$f":"AT277+AT277*Титул.лист!$A$1","v":781},{"$f":"AU277+AU277*Титул.лист!$P$2","v":781},780,710,{"$f":"AX277+AX277*Титул.лист!$A$1","v":781},{"$f":"AY277+AY277*Титул.лист!$P$2","v":781},780,710,{"$f":"BB277+BB277*Титул.лист!$A$1","v":781},{"$f":"BC277+BC277*Титул.лист!$P$2","v":781},780,710,{"$f":"BF277+BF277*Титул.лист!$A$1","v":781},{"$f":"BG277+BG277*Титул.лист!$P$2","v":781},780]
[null,null,1400,null,"1902\\2-140",735,{"$f":"F278+F278*Титул.лист!$A$1","v":808.5},{"$f":"G278+G278*Титул.лист!$P$2","v":808.5},810,735,{"$f":"J278+J278*Титул.лист!$A$1","v":808.5},{"$f":"K278+K278*Титул.лист!$P$2","v":808.5},810,735,{"$f":"N278+N278*Титул.лист!$A$1","v":808.5},{"$f":"O278+O278*Титул.лист!$P$2","v":808.5},810,735,{"$f":"R278+R278*Титул.лист!$A$1","v":808.5},{"$f":"S278+S278*Титул.лист!$P$2","v":808.5},810,735,{"$f":"V278+V278*Титул.лист!$A$1","v":808.5},{"$f":"W278+W278*Титул.лист!$P$2","v":808.5},810,735,{"$f":"Z278+Z278*Титул.лист!$A$1","v":808.5},{"$f":"AA278+AA278*Титул.лист!$P$2","v":808.5},810,735,{"$f":"AD278+AD278*Титул.лист!$A$1","v":808.5},{"$f":"AE278+AE278*Титул.лист!$P$2","v":808.5},810,735,{"$f":"AH278+AH278*Титул.лист!$A$1","v":808.5},{"$f":"AI278+AI278*Титул.лист!$P$2","v":808.5},810,735,{"$f":"AL278+AL278*Титул.лист!$A$1","v":808.5},{"$f":"AM278+AM278*Титул.лист!$P$2","v":808.5},810,735,{"$f":"AP278+AP278*Титул.лист!$A$1","v":808.5},{"$f":"AQ278+AQ278*Титул.лист!$P$2","v":808.5},810,735,{"$f":"AT278+AT278*Титул.лист!$A$1","v":808.5},{"$f":"AU278+AU278*Титул.лист!$P$2","v":808.5},810,735,{"$f":"AX278+AX278*Титул.лист!$A$1","v":808.5},{"$f":"AY278+AY278*Титул.лист!$P$2","v":808.5},810,735,{"$f":"BB278+BB278*Титул.лист!$A$1","v":808.5},{"$f":"BC278+BC278*Титул.лист!$P$2","v":808.5},810,735,{"$f":"BF278+BF278*Титул.лист!$A$1","v":808.5},{"$f":"BG278+BG278*Титул.лист!$P$2","v":808.5},810]
[null,"Полка открытая Декор Н=180\nцветное ЛДСП",300,"h 180","1906-30",345,{"$f":"F279+F279*Титул.лист!$A$1","v":379.5},{"$f":"G279+G279*Титул.лист!$P$2","v":379.5},380,345,{"$f":"J279+J279*Титул.лист!$A$1","v":379.5},{"$f":"K279+K279*Титул.лист!$P$2","v":379.5},380,345,{"$f":"N279+N279*Титул.лист!$A$1","v":379.5},{"$f":"O279+O279*Титул.лист!$P$2","v":379.5},380,345,{"$f":"R279+R279*Титул.лист!$A$1","v":379.5},{"$f":"S279+S279*Титул.лист!$P$2","v":379.5},380,345,{"$f":"V279+V279*Титул.лист!$A$1","v":379.5},{"$f":"W279+W279*Титул.лист!$P$2","v":379.5},380,345,{"$f":"Z279+Z279*Титул.лист!$A$1","v":379.5},{"$f":"AA279+AA279*Титул.лист!$P$2","v":379.5},380,345,{"$f":"AD279+AD279*Титул.лист!$A$1","v":379.5},{"$f":"AE279+AE279*Титул.лист!$P$2","v":379.5},380,345,{"$f":"AH279+AH279*Титул.лист!$A$1","v":379.5},{"$f":"AI279+AI279*Титул.лист!$P$2","v":379.5},380,345,{"$f":"AL279+AL279*Титул.лист!$A$1","v":379.5},{"$f":"AM279+AM279*Титул.лист!$P$2","v":379.5},380,345,{"$f":"AP279+AP279*Титул.лист!$A$1","v":379.5},{"$f":"AQ279+AQ279*Титул.лист!$P$2","v":379.5},380,345,{"$f":"AT279+AT279*Титул.лист!$A$1","v":379.5},{"$f":"AU279+AU279*Титул.лист!$P$2","v":379.5},380,345,{"$f":"AX279+AX279*Титул.лист!$A$1","v":379.5},{"$f":"AY279+AY279*Титул.лист!$P$2","v":379.5},380,345,{"$f":"BB279+BB279*Титул.лист!$A$1","v":379.5},{"$f":"BC279+BC279*Титул.лист!$P$2","v":379.5},380,345,{"$f":"BF279+BF279*Титул.лист!$A$1","v":379.5},{"$f":"BG279+BG279*Титул.лист!$P$2","v":379.5},380]
[null,null,350,null,"1906-35",375,{"$f":"F280+F280*Титул.лист!$A$1","v":412.5},{"$f":"G280+G280*Титул.лист!$P$2","v":412.5},410,375,{"$f":"J280+J280*Титул.лист!$A$1","v":412.5},{"$f":"K280+K280*Титул.лист!$P$2","v":412.5},410,375,{"$f":"N280+N280*Титул.лист!$A$1","v":412.5},{"$f":"O280+O280*Титул.лист!$P$2","v":412.5},410,375,{"$f":"R280+R280*Титул.лист!$A$1","v":412.5},{"$f":"S280+S280*Титул.лист!$P$2","v":412.5},410,375,{"$f":"V280+V280*Титул.лист!$A$1","v":412.5},{"$f":"W280+W280*Титул.лист!$P$2","v":412.5},410,375,{"$f":"Z280+Z280*Титул.лист!$A$1","v":412.5},{"$f":"AA280+AA280*Титул.лист!$P$2","v":412.5},410,375,{"$f":"AD280+AD280*Титул.лист!$A$1","v":412.5},{"$f":"AE280+AE280*Титул.лист!$P$2","v":412.5},410,375,{"$f":"AH280+AH280*Титул.лист!$A$1","v":412.5},{"$f":"AI280+AI280*Титул.лист!$P$2","v":412.5},410,375,{"$f":"AL280+AL280*Титул.лист!$A$1","v":412.5},{"$f":"AM280+AM280*Титул.лист!$P$2","v":412.5},410,375,{"$f":"AP280+AP280*Титул.лист!$A$1","v":412.5},{"$f":"AQ280+AQ280*Титул.лист!$P$2","v":412.5},410,375,{"$f":"AT280+AT280*Титул.лист!$A$1","v":412.5},{"$f":"AU280+AU280*Титул.лист!$P$2","v":412.5},410,375,{"$f":"AX280+AX280*Титул.лист!$A$1","v":412.5},{"$f":"AY280+AY280*Титул.лист!$P$2","v":412.5},410,375,{"$f":"BB280+BB280*Титул.лист!$A$1","v":412.5},{"$f":"BC280+BC280*Титул.лист!$P$2","v":412.5},410,375,{"$f":"BF280+BF280*Титул.лист!$A$1","v":412.5},{"$f":"BG280+BG280*Титул.лист!$P$2","v":412.5},410]
[null,null,400,null,"1906-40",410,{"$f":"F281+F281*Титул.лист!$A$1","v":451},{"$f":"G281+G281*Титул.лист!$P$2","v":451},450,410,{"$f":"J281+J281*Титул.лист!$A$1","v":451},{"$f":"K281+K281*Титул.лист!$P$2","v":451},450,410,{"$f":"N281+N281*Титул.лист!$A$1","v":451},{"$f":"O281+O281*Титул.лист!$P$2","v":451},450,410,{"$f":"R281+R281*Титул.лист!$A$1","v":451},{"$f":"S281+S281*Титул.лист!$P$2","v":451},450,410,{"$f":"V281+V281*Титул.лист!$A$1","v":451},{"$f":"W281+W281*Титул.лист!$P$2","v":451},450,410,{"$f":"Z281+Z281*Титул.лист!$A$1","v":451},{"$f":"AA281+AA281*Титул.лист!$P$2","v":451},450,410,{"$f":"AD281+AD281*Титул.лист!$A$1","v":451},{"$f":"AE281+AE281*Титул.лист!$P$2","v":451},450,410,{"$f":"AH281+AH281*Титул.лист!$A$1","v":451},{"$f":"AI281+AI281*Титул.лист!$P$2","v":451},450,410,{"$f":"AL281+AL281*Титул.лист!$A$1","v":451},{"$f":"AM281+AM281*Титул.лист!$P$2","v":451},450,410,{"$f":"AP281+AP281*Титул.лист!$A$1","v":451},{"$f":"AQ281+AQ281*Титул.лист!$P$2","v":451},450,410,{"$f":"AT281+AT281*Титул.лист!$A$1","v":451},{"$f":"AU281+AU281*Титул.лист!$P$2","v":451},450,410,{"$f":"AX281+AX281*Титул.лист!$A$1","v":451},{"$f":"AY281+AY281*Титул.лист!$P$2","v":451},450,410,{"$f":"BB281+BB281*Титул.лист!$A$1","v":451},{"$f":"BC281+BC281*Титул.лист!$P$2","v":451},450,410,{"$f":"BF281+BF281*Титул.лист!$A$1","v":451},{"$f":"BG281+BG281*Титул.лист!$P$2","v":451},450]
[null,null,450,null,"1906-45",460,{"$f":"F282+F282*Титул.лист!$A$1","v":506},{"$f":"G282+G282*Титул.лист!$P$2","v":506},510,460,{"$f":"J282+J282*Титул.лист!$A$1","v":506},{"$f":"K282+K282*Титул.лист!$P$2","v":506},510,460,{"$f":"N282+N282*Титул.лист!$A$1","v":506},{"$f":"O282+O282*Титул.лист!$P$2","v":506},510,460,{"$f":"R282+R282*Титул.лист!$A$1","v":506},{"$f":"S282+S282*Титул.лист!$P$2","v":506},510,460,{"$f":"V282+V282*Титул.лист!$A$1","v":506},{"$f":"W282+W282*Титул.лист!$P$2","v":506},510,460,{"$f":"Z282+Z282*Титул.лист!$A$1","v":506},{"$f":"AA282+AA282*Титул.лист!$P$2","v":506},510,460,{"$f":"AD282+AD282*Титул.лист!$A$1","v":506},{"$f":"AE282+AE282*Титул.лист!$P$2","v":506},510,460,{"$f":"AH282+AH282*Титул.лист!$A$1","v":506},{"$f":"AI282+AI282*Титул.лист!$P$2","v":506},510,460,{"$f":"AL282+AL282*Титул.лист!$A$1","v":506},{"$f":"AM282+AM282*Титул.лист!$P$2","v":506},510,460,{"$f":"AP282+AP282*Титул.лист!$A$1","v":506},{"$f":"AQ282+AQ282*Титул.лист!$P$2","v":506},510,460,{"$f":"AT282+AT282*Титул.лист!$A$1","v":506},{"$f":"AU282+AU282*Титул.лист!$P$2","v":506},510,460,{"$f":"AX282+AX282*Титул.лист!$A$1","v":506},{"$f":"AY282+AY282*Титул.лист!$P$2","v":506},510,460,{"$f":"BB282+BB282*Титул.лист!$A$1","v":506},{"$f":"BC282+BC282*Титул.лист!$P$2","v":506},510,460,{"$f":"BF282+BF282*Титул.лист!$A$1","v":506},{"$f":"BG282+BG282*Титул.лист!$P$2","v":506},510]
[null,null,500,null,"1906-50",480,{"$f":"F283+F283*Титул.лист!$A$1","v":528},{"$f":"G283+G283*Титул.лист!$P$2","v":528},530,480,{"$f":"J283+J283*Титул.лист!$A$1","v":528},{"$f":"K283+K283*Титул.лист!$P$2","v":528},530,480,{"$f":"N283+N283*Титул.лист!$A$1","v":528},{"$f":"O283+O283*Титул.лист!$P$2","v":528},530,480,{"$f":"R283+R283*Титул.лист!$A$1","v":528},{"$f":"S283+S283*Титул.лист!$P$2","v":528},530,480,{"$f":"V283+V283*Титул.лист!$A$1","v":528},{"$f":"W283+W283*Титул.лист!$P$2","v":528},530,480,{"$f":"Z283+Z283*Титул.лист!$A$1","v":528},{"$f":"AA283+AA283*Титул.лист!$P$2","v":528},530,480,{"$f":"AD283+AD283*Титул.лист!$A$1","v":528},{"$f":"AE283+AE283*Титул.лист!$P$2","v":528},530,480,{"$f":"AH283+AH283*Титул.лист!$A$1","v":528},{"$f":"AI283+AI283*Титул.лист!$P$2","v":528},530,480,{"$f":"AL283+AL283*Титул.лист!$A$1","v":528},{"$f":"AM283+AM283*Титул.лист!$P$2","v":528},530,480,{"$f":"AP283+AP283*Титул.лист!$A$1","v":528},{"$f":"AQ283+AQ283*Титул.лист!$P$2","v":528},530,480,{"$f":"AT283+AT283*Титул.лист!$A$1","v":528},{"$f":"AU283+AU283*Титул.лист!$P$2","v":528},530,480,{"$f":"AX283+AX283*Титул.лист!$A$1","v":528},{"$f":"AY283+AY283*Титул.лист!$P$2","v":528},530,480,{"$f":"BB283+BB283*Титул.лист!$A$1","v":528},{"$f":"BC283+BC283*Титул.лист!$P$2","v":528},530,480,{"$f":"BF283+BF283*Титул.лист!$A$1","v":528},{"$f":"BG283+BG283*Титул.лист!$P$2","v":528},530]
[null,null,600,null,"1906\\1-60",610,{"$f":"F284+F284*Титул.лист!$A$1","v":671},{"$f":"G284+G284*Титул.лист!$P$2","v":671},670,610,{"$f":"J284+J284*Титул.лист!$A$1","v":671},{"$f":"K284+K284*Титул.лист!$P$2","v":671},670,610,{"$f":"N284+N284*Титул.лист!$A$1","v":671},{"$f":"O284+O284*Титул.лист!$P$2","v":671},670,610,{"$f":"R284+R284*Титул.лист!$A$1","v":671},{"$f":"S284+S284*Титул.лист!$P$2","v":671},670,610,{"$f":"V284+V284*Титул.лист!$A$1","v":671},{"$f":"W284+W284*Титул.лист!$P$2","v":671},670,610,{"$f":"Z284+Z284*Титул.лист!$A$1","v":671},{"$f":"AA284+AA284*Титул.лист!$P$2","v":671},670,610,{"$f":"AD284+AD284*Титул.лист!$A$1","v":671},{"$f":"AE284+AE284*Титул.лист!$P$2","v":671},670,610,{"$f":"AH284+AH284*Титул.лист!$A$1","v":671},{"$f":"AI284+AI284*Титул.лист!$P$2","v":671},670,610,{"$f":"AL284+AL284*Титул.лист!$A$1","v":671},{"$f":"AM284+AM284*Титул.лист!$P$2","v":671},670,610,{"$f":"AP284+AP284*Титул.лист!$A$1","v":671},{"$f":"AQ284+AQ284*Титул.лист!$P$2","v":671},670,610,{"$f":"AT284+AT284*Титул.лист!$A$1","v":671},{"$f":"AU284+AU284*Титул.лист!$P$2","v":671},670,610,{"$f":"AX284+AX284*Титул.лист!$A$1","v":671},{"$f":"AY284+AY284*Титул.лист!$P$2","v":671},670,610,{"$f":"BB284+BB284*Титул.лист!$A$1","v":671},{"$f":"BC284+BC284*Титул.лист!$P$2","v":671},670,610,{"$f":"BF284+BF284*Титул.лист!$A$1","v":671},{"$f":"BG284+BG284*Титул.лист!$P$2","v":671},670]
[null,null,700,null,"1906\\1-70",670,{"$f":"F285+F285*Титул.лист!$A$1","v":737},{"$f":"G285+G285*Титул.лист!$P$2","v":737},740,670,{"$f":"J285+J285*Титул.лист!$A$1","v":737},{"$f":"K285+K285*Титул.лист!$P$2","v":737},740,670,{"$f":"N285+N285*Титул.лист!$A$1","v":737},{"$f":"O285+O285*Титул.лист!$P$2","v":737},740,670,{"$f":"R285+R285*Титул.лист!$A$1","v":737},{"$f":"S285+S285*Титул.лист!$P$2","v":737},740,670,{"$f":"V285+V285*Титул.лист!$A$1","v":737},{"$f":"W285+W285*Титул.лист!$P$2","v":737},740,670,{"$f":"Z285+Z285*Титул.лист!$A$1","v":737},{"$f":"AA285+AA285*Титул.лист!$P$2","v":737},740,670,{"$f":"AD285+AD285*Титул.лист!$A$1","v":737},{"$f":"AE285+AE285*Титул.лист!$P$2","v":737},740,670,{"$f":"AH285+AH285*Титул.лист!$A$1","v":737},{"$f":"AI285+AI285*Титул.лист!$P$2","v":737},740,670,{"$f":"AL285+AL285*Титул.лист!$A$1","v":737},{"$f":"AM285+AM285*Титул.лист!$P$2","v":737},740,670,{"$f":"AP285+AP285*Титул.лист!$A$1","v":737},{"$f":"AQ285+AQ285*Титул.лист!$P$2","v":737},740,670,{"$f":"AT285+AT285*Титул.лист!$A$1","v":737},{"$f":"AU285+AU285*Титул.лист!$P$2","v":737},740,670,{"$f":"AX285+AX285*Титул.лист!$A$1","v":737},{"$f":"AY285+AY285*Титул.лист!$P$2","v":737},740,670,{"$f":"BB285+BB285*Титул.лист!$A$1","v":737},{"$f":"BC285+BC285*Титул.лист!$P$2","v":737},740,670,{"$f":"BF285+BF285*Титул.лист!$A$1","v":737},{"$f":"BG285+BG285*Титул.лист!$P$2","v":737},740]
[null,null,800,null,"1906\\1-80",750,{"$f":"F286+F286*Титул.лист!$A$1","v":825},{"$f":"G286+G286*Титул.лист!$P$2","v":825},830,750,{"$f":"J286+J286*Титул.лист!$A$1","v":825},{"$f":"K286+K286*Титул.лист!$P$2","v":825},830,750,{"$f":"N286+N286*Титул.лист!$A$1","v":825},{"$f":"O286+O286*Титул.лист!$P$2","v":825},830,750,{"$f":"R286+R286*Титул.лист!$A$1","v":825},{"$f":"S286+S286*Титул.лист!$P$2","v":825},830,750,{"$f":"V286+V286*Титул.лист!$A$1","v":825},{"$f":"W286+W286*Титул.лист!$P$2","v":825},830,750,{"$f":"Z286+Z286*Титул.лист!$A$1","v":825},{"$f":"AA286+AA286*Титул.лист!$P$2","v":825},830,750,{"$f":"AD286+AD286*Титул.лист!$A$1","v":825},{"$f":"AE286+AE286*Титул.лист!$P$2","v":825},830,750,{"$f":"AH286+AH286*Титул.лист!$A$1","v":825},{"$f":"AI286+AI286*Титул.лист!$P$2","v":825},830,750,{"$f":"AL286+AL286*Титул.лист!$A$1","v":825},{"$f":"AM286+AM286*Титул.лист!$P$2","v":825},830,750,{"$f":"AP286+AP286*Титул.лист!$A$1","v":825},{"$f":"AQ286+AQ286*Титул.лист!$P$2","v":825},830,750,{"$f":"AT286+AT286*Титул.лист!$A$1","v":825},{"$f":"AU286+AU286*Титул.лист!$P$2","v":825},830,750,{"$f":"AX286+AX286*Титул.лист!$A$1","v":825},{"$f":"AY286+AY286*Титул.лист!$P$2","v":825},830,750,{"$f":"BB286+BB286*Титул.лист!$A$1","v":825},{"$f":"BC286+BC286*Титул.лист!$P$2","v":825},830,750,{"$f":"BF286+BF286*Титул.лист!$A$1","v":825},{"$f":"BG286+BG286*Титул.лист!$P$2","v":825},830]
[null,null,900,null,"1906\\2-90",880,{"$f":"F287+F287*Титул.лист!$A$1","v":968},{"$f":"G287+G287*Титул.лист!$P$2","v":968},970,880,{"$f":"J287+J287*Титул.лист!$A$1","v":968},{"$f":"K287+K287*Титул.лист!$P$2","v":968},970,880,{"$f":"N287+N287*Титул.лист!$A$1","v":968},{"$f":"O287+O287*Титул.лист!$P$2","v":968},970,880,{"$f":"R287+R287*Титул.лист!$A$1","v":968},{"$f":"S287+S287*Титул.лист!$P$2","v":968},970,880,{"$f":"V287+V287*Титул.лист!$A$1","v":968},{"$f":"W287+W287*Титул.лист!$P$2","v":968},970,880,{"$f":"Z287+Z287*Титул.лист!$A$1","v":968},{"$f":"AA287+AA287*Титул.лист!$P$2","v":968},970,880,{"$f":"AD287+AD287*Титул.лист!$A$1","v":968},{"$f":"AE287+AE287*Титул.лист!$P$2","v":968},970,880,{"$f":"AH287+AH287*Титул.лист!$A$1","v":968},{"$f":"AI287+AI287*Титул.лист!$P$2","v":968},970,880,{"$f":"AL287+AL287*Титул.лист!$A$1","v":968},{"$f":"AM287+AM287*Титул.лист!$P$2","v":968},970,880,{"$f":"AP287+AP287*Титул.лист!$A$1","v":968},{"$f":"AQ287+AQ287*Титул.лист!$P$2","v":968},970,880,{"$f":"AT287+AT287*Титул.лист!$A$1","v":968},{"$f":"AU287+AU287*Титул.лист!$P$2","v":968},970,880,{"$f":"AX287+AX287*Титул.лист!$A$1","v":968},{"$f":"AY287+AY287*Титул.лист!$P$2","v":968},970,880,{"$f":"BB287+BB287*Титул.лист!$A$1","v":968},{"$f":"BC287+BC287*Титул.лист!$P$2","v":968},970,880,{"$f":"BF287+BF287*Титул.лист!$A$1","v":968},{"$f":"BG287+BG287*Титул.лист!$P$2","v":968},970]
[null,null,1000,null,"1906\\2-100",950,{"$f":"F288+F288*Титул.лист!$A$1","v":1045},{"$f":"G288+G288*Титул.лист!$P$2","v":1045},1050,950,{"$f":"J288+J288*Титул.лист!$A$1","v":1045},{"$f":"K288+K288*Титул.лист!$P$2","v":1045},1050,950,{"$f":"N288+N288*Титул.лист!$A$1","v":1045},{"$f":"O288+O288*Титул.лист!$P$2","v":1045},1050,950,{"$f":"R288+R288*Титул.лист!$A$1","v":1045},{"$f":"S288+S288*Титул.лист!$P$2","v":1045},1050,950,{"$f":"V288+V288*Титул.лист!$A$1","v":1045},{"$f":"W288+W288*Титул.лист!$P$2","v":1045},1050,950,{"$f":"Z288+Z288*Титул.лист!$A$1","v":1045},{"$f":"AA288+AA288*Титул.лист!$P$2","v":1045},1050,950,{"$f":"AD288+AD288*Титул.лист!$A$1","v":1045},{"$f":"AE288+AE288*Титул.лист!$P$2","v":1045},1050,950,{"$f":"AH288+AH288*Титул.лист!$A$1","v":1045},{"$f":"AI288+AI288*Титул.лист!$P$2","v":1045},1050,950,{"$f":"AL288+AL288*Титул.лист!$A$1","v":1045},{"$f":"AM288+AM288*Титул.лист!$P$2","v":1045},1050,950,{"$f":"AP288+AP288*Титул.лист!$A$1","v":1045},{"$f":"AQ288+AQ288*Титул.лист!$P$2","v":1045},1050,950,{"$f":"AT288+AT288*Титул.лист!$A$1","v":1045},{"$f":"AU288+AU288*Титул.лист!$P$2","v":1045},1050,950,{"$f":"AX288+AX288*Титул.лист!$A$1","v":1045},{"$f":"AY288+AY288*Титул.лист!$P$2","v":1045},1050,950,{"$f":"BB288+BB288*Титул.лист!$A$1","v":1045},{"$f":"BC288+BC288*Титул.лист!$P$2","v":1045},1050,950,{"$f":"BF288+BF288*Титул.лист!$A$1","v":1045},{"$f":"BG288+BG288*Титул.лист!$P$2","v":1045},1050]
[null,null,1400,null,"1906\\2-140",1140,{"$f":"F289+F289*Титул.лист!$A$1","v":1254},{"$f":"G289+G289*Титул.лист!$P$2","v":1254},1250,1140,{"$f":"J289+J289*Титул.лист!$A$1","v":1254},{"$f":"K289+K289*Титул.лист!$P$2","v":1254},1250,1140,{"$f":"N289+N289*Титул.лист!$A$1","v":1254},{"$f":"O289+O289*Титул.лист!$P$2","v":1254},1250,1140,{"$f":"R289+R289*Титул.лист!$A$1","v":1254},{"$f":"S289+S289*Титул.лист!$P$2","v":1254},1250,1140,{"$f":"V289+V289*Титул.лист!$A$1","v":1254},{"$f":"W289+W289*Титул.лист!$P$2","v":1254},1250,1140,{"$f":"Z289+Z289*Титул.лист!$A$1","v":1254},{"$f":"AA289+AA289*Титул.лист!$P$2","v":1254},1250,1140,{"$f":"AD289+AD289*Титул.лист!$A$1","v":1254},{"$f":"AE289+AE289*Титул.лист!$P$2","v":1254},1250,1140,{"$f":"AH289+AH289*Титул.лист!$A$1","v":1254},{"$f":"AI289+AI289*Титул.лист!$P$2","v":1254},1250,1140,{"$f":"AL289+AL289*Титул.лист!$A$1","v":1254},{"$f":"AM289+AM289*Титул.лист!$P$2","v":1254},1250,1140,{"$f":"AP289+AP289*Титул.лист!$A$1","v":1254},{"$f":"AQ289+AQ289*Титул.лист!$P$2","v":1254},1250,1140,{"$f":"AT289+AT289*Титул.лист!$A$1","v":1254},{"$f":"AU289+AU289*Титул.лист!$P$2","v":1254},1250,1140,{"$f":"AX289+AX289*Титул.лист!$A$1","v":1254},{"$f":"AY289+AY289*Титул.лист!$P$2","v":1254},1250,1140,{"$f":"BB289+BB289*Титул.лист!$A$1","v":1254},{"$f":"BC289+BC289*Титул.лист!$P$2","v":1254},1250,1140,{"$f":"BF289+BF289*Титул.лист!$A$1","v":1254},{"$f":"BG289+BG289*Титул.лист!$P$2","v":1254},1250]
[null,"Полка открытая Декор Н=200\nцветное ЛДСП",300,"h 200","1907-30",370,{"$f":"F290+F290*Титул.лист!$A$1","v":407},{"$f":"G290+G290*Титул.лист!$P$2","v":407},410,370,{"$f":"J290+J290*Титул.лист!$A$1","v":407},{"$f":"K290+K290*Титул.лист!$P$2","v":407},410,370,{"$f":"N290+N290*Титул.лист!$A$1","v":407},{"$f":"O290+O290*Титул.лист!$P$2","v":407},410,370,{"$f":"R290+R290*Титул.лист!$A$1","v":407},{"$f":"S290+S290*Титул.лист!$P$2","v":407},410,370,{"$f":"V290+V290*Титул.лист!$A$1","v":407},{"$f":"W290+W290*Титул.лист!$P$2","v":407},410,370,{"$f":"Z290+Z290*Титул.лист!$A$1","v":407},{"$f":"AA290+AA290*Титул.лист!$P$2","v":407},410,370,{"$f":"AD290+AD290*Титул.лист!$A$1","v":407},{"$f":"AE290+AE290*Титул.лист!$P$2","v":407},410,370,{"$f":"AH290+AH290*Титул.лист!$A$1","v":407},{"$f":"AI290+AI290*Титул.лист!$P$2","v":407},410,370,{"$f":"AL290+AL290*Титул.лист!$A$1","v":407},{"$f":"AM290+AM290*Титул.лист!$P$2","v":407},410,370,{"$f":"AP290+AP290*Титул.лист!$A$1","v":407},{"$f":"AQ290+AQ290*Титул.лист!$P$2","v":407},410,370,{"$f":"AT290+AT290*Титул.лист!$A$1","v":407},{"$f":"AU290+AU290*Титул.лист!$P$2","v":407},410,370,{"$f":"AX290+AX290*Титул.лист!$A$1","v":407},{"$f":"AY290+AY290*Титул.лист!$P$2","v":407},410,370,{"$f":"BB290+BB290*Титул.лист!$A$1","v":407},{"$f":"BC290+BC290*Титул.лист!$P$2","v":407},410,370,{"$f":"BF290+BF290*Титул.лист!$A$1","v":407},{"$f":"BG290+BG290*Титул.лист!$P$2","v":407},410]
[null,null,350,null,"1907-35",410,{"$f":"F291+F291*Титул.лист!$A$1","v":451},{"$f":"G291+G291*Титул.лист!$P$2","v":451},450,410,{"$f":"J291+J291*Титул.лист!$A$1","v":451},{"$f":"K291+K291*Титул.лист!$P$2","v":451},450,410,{"$f":"N291+N291*Титул.лист!$A$1","v":451},{"$f":"O291+O291*Титул.лист!$P$2","v":451},450,410,{"$f":"R291+R291*Титул.лист!$A$1","v":451},{"$f":"S291+S291*Титул.лист!$P$2","v":451},450,410,{"$f":"V291+V291*Титул.лист!$A$1","v":451},{"$f":"W291+W291*Титул.лист!$P$2","v":451},450,410,{"$f":"Z291+Z291*Титул.лист!$A$1","v":451},{"$f":"AA291+AA291*Титул.лист!$P$2","v":451},450,410,{"$f":"AD291+AD291*Титул.лист!$A$1","v":451},{"$f":"AE291+AE291*Титул.лист!$P$2","v":451},450,410,{"$f":"AH291+AH291*Титул.лист!$A$1","v":451},{"$f":"AI291+AI291*Титул.лист!$P$2","v":451},450,410,{"$f":"AL291+AL291*Титул.лист!$A$1","v":451},{"$f":"AM291+AM291*Титул.лист!$P$2","v":451},450,410,{"$f":"AP291+AP291*Титул.лист!$A$1","v":451},{"$f":"AQ291+AQ291*Титул.лист!$P$2","v":451},450,410,{"$f":"AT291+AT291*Титул.лист!$A$1","v":451},{"$f":"AU291+AU291*Титул.лист!$P$2","v":451},450,410,{"$f":"AX291+AX291*Титул.лист!$A$1","v":451},{"$f":"AY291+AY291*Титул.лист!$P$2","v":451},450,410,{"$f":"BB291+BB291*Титул.лист!$A$1","v":451},{"$f":"BC291+BC291*Титул.лист!$P$2","v":451},450,410,{"$f":"BF291+BF291*Титул.лист!$A$1","v":451},{"$f":"BG291+BG291*Титул.лист!$P$2","v":451},450]
[null,null,400,null,"1907-40",460,{"$f":"F292+F292*Титул.лист!$A$1","v":506},{"$f":"G292+G292*Титул.лист!$P$2","v":506},510,460,{"$f":"J292+J292*Титул.лист!$A$1","v":506},{"$f":"K292+K292*Титул.лист!$P$2","v":506},510,460,{"$f":"N292+N292*Титул.лист!$A$1","v":506},{"$f":"O292+O292*Титул.лист!$P$2","v":506},510,460,{"$f":"R292+R292*Титул.лист!$A$1","v":506},{"$f":"S292+S292*Титул.лист!$P$2","v":506},510,460,{"$f":"V292+V292*Титул.лист!$A$1","v":506},{"$f":"W292+W292*Титул.лист!$P$2","v":506},510,460,{"$f":"Z292+Z292*Титул.лист!$A$1","v":506},{"$f":"AA292+AA292*Титул.лист!$P$2","v":506},510,460,{"$f":"AD292+AD292*Титул.лист!$A$1","v":506},{"$f":"AE292+AE292*Титул.лист!$P$2","v":506},510,460,{"$f":"AH292+AH292*Титул.лист!$A$1","v":506},{"$f":"AI292+AI292*Титул.лист!$P$2","v":506},510,460,{"$f":"AL292+AL292*Титул.лист!$A$1","v":506},{"$f":"AM292+AM292*Титул.лист!$P$2","v":506},510,460,{"$f":"AP292+AP292*Титул.лист!$A$1","v":506},{"$f":"AQ292+AQ292*Титул.лист!$P$2","v":506},510,460,{"$f":"AT292+AT292*Титул.лист!$A$1","v":506},{"$f":"AU292+AU292*Титул.лист!$P$2","v":506},510,460,{"$f":"AX292+AX292*Титул.лист!$A$1","v":506},{"$f":"AY292+AY292*Титул.лист!$P$2","v":506},510,460,{"$f":"BB292+BB292*Титул.лист!$A$1","v":506},{"$f":"BC292+BC292*Титул.лист!$P$2","v":506},510,460,{"$f":"BF292+BF292*Титул.лист!$A$1","v":506},{"$f":"BG292+BG292*Титул.лист!$P$2","v":506},510]
[null,null,450,null,"1907-45",480,{"$f":"F293+F293*Титул.лист!$A$1","v":528},{"$f":"G293+G293*Титул.лист!$P$2","v":528},530,480,{"$f":"J293+J293*Титул.лист!$A$1","v":528},{"$f":"K293+K293*Титул.лист!$P$2","v":528},530,480,{"$f":"N293+N293*Титул.лист!$A$1","v":528},{"$f":"O293+O293*Титул.лист!$P$2","v":528},530,480,{"$f":"R293+R293*Титул.лист!$A$1","v":528},{"$f":"S293+S293*Титул.лист!$P$2","v":528},530,480,{"$f":"V293+V293*Титул.лист!$A$1","v":528},{"$f":"W293+W293*Титул.лист!$P$2","v":528},530,480,{"$f":"Z293+Z293*Титул.лист!$A$1","v":528},{"$f":"AA293+AA293*Титул.лист!$P$2","v":528},530,480,{"$f":"AD293+AD293*Титул.лист!$A$1","v":528},{"$f":"AE293+AE293*Титул.лист!$P$2","v":528},530,480,{"$f":"AH293+AH293*Титул.лист!$A$1","v":528},{"$f":"AI293+AI293*Титул.лист!$P$2","v":528},530,480,{"$f":"AL293+AL293*Титул.лист!$A$1","v":528},{"$f":"AM293+AM293*Титул.лист!$P$2","v":528},530,480,{"$f":"AP293+AP293*Титул.лист!$A$1","v":528},{"$f":"AQ293+AQ293*Титул.лист!$P$2","v":528},530,480,{"$f":"AT293+AT293*Титул.лист!$A$1","v":528},{"$f":"AU293+AU293*Титул.лист!$P$2","v":528},530,480,{"$f":"AX293+AX293*Титул.лист!$A$1","v":528},{"$f":"AY293+AY293*Титул.лист!$P$2","v":528},530,480,{"$f":"BB293+BB293*Титул.лист!$A$1","v":528},{"$f":"BC293+BC293*Титул.лист!$P$2","v":528},530,480,{"$f":"BF293+BF293*Титул.лист!$A$1","v":528},{"$f":"BG293+BG293*Титул.лист!$P$2","v":528},530]
[null,null,500,null,"1907-50",600,{"$f":"F294+F294*Титул.лист!$A$1","v":660},{"$f":"G294+G294*Титул.лист!$P$2","v":660},660,600,{"$f":"J294+J294*Титул.лист!$A$1","v":660},{"$f":"K294+K294*Титул.лист!$P$2","v":660},660,600,{"$f":"N294+N294*Титул.лист!$A$1","v":660},{"$f":"O294+O294*Титул.лист!$P$2","v":660},660,600,{"$f":"R294+R294*Титул.лист!$A$1","v":660},{"$f":"S294+S294*Титул.лист!$P$2","v":660},660,600,{"$f":"V294+V294*Титул.лист!$A$1","v":660},{"$f":"W294+W294*Титул.лист!$P$2","v":660},660,600,{"$f":"Z294+Z294*Титул.лист!$A$1","v":660},{"$f":"AA294+AA294*Титул.лист!$P$2","v":660},660,600,{"$f":"AD294+AD294*Титул.лист!$A$1","v":660},{"$f":"AE294+AE294*Титул.лист!$P$2","v":660},660,600,{"$f":"AH294+AH294*Титул.лист!$A$1","v":660},{"$f":"AI294+AI294*Титул.лист!$P$2","v":660},660,600,{"$f":"AL294+AL294*Титул.лист!$A$1","v":660},{"$f":"AM294+AM294*Титул.лист!$P$2","v":660},660,600,{"$f":"AP294+AP294*Титул.лист!$A$1","v":660},{"$f":"AQ294+AQ294*Титул.лист!$P$2","v":660},660,600,{"$f":"AT294+AT294*Титул.лист!$A$1","v":660},{"$f":"AU294+AU294*Титул.лист!$P$2","v":660},660,600,{"$f":"AX294+AX294*Титул.лист!$A$1","v":660},{"$f":"AY294+AY294*Титул.лист!$P$2","v":660},660,600,{"$f":"BB294+BB294*Титул.лист!$A$1","v":660},{"$f":"BC294+BC294*Титул.лист!$P$2","v":660},660,600,{"$f":"BF294+BF294*Титул.лист!$A$1","v":660},{"$f":"BG294+BG294*Титул.лист!$P$2","v":660},660]
[null,null,600,null,"1907\\1-60",670,{"$f":"F295+F295*Титул.лист!$A$1","v":737},{"$f":"G295+G295*Титул.лист!$P$2","v":737},740,670,{"$f":"J295+J295*Титул.лист!$A$1","v":737},{"$f":"K295+K295*Титул.лист!$P$2","v":737},740,670,{"$f":"N295+N295*Титул.лист!$A$1","v":737},{"$f":"O295+O295*Титул.лист!$P$2","v":737},740,670,{"$f":"R295+R295*Титул.лист!$A$1","v":737},{"$f":"S295+S295*Титул.лист!$P$2","v":737},740,670,{"$f":"V295+V295*Титул.лист!$A$1","v":737},{"$f":"W295+W295*Титул.лист!$P$2","v":737},740,670,{"$f":"Z295+Z295*Титул.лист!$A$1","v":737},{"$f":"AA295+AA295*Титул.лист!$P$2","v":737},740,670,{"$f":"AD295+AD295*Титул.лист!$A$1","v":737},{"$f":"AE295+AE295*Титул.лист!$P$2","v":737},740,670,{"$f":"AH295+AH295*Титул.лист!$A$1","v":737},{"$f":"AI295+AI295*Титул.лист!$P$2","v":737},740,670,{"$f":"AL295+AL295*Титул.лист!$A$1","v":737},{"$f":"AM295+AM295*Титул.лист!$P$2","v":737},740,670,{"$f":"AP295+AP295*Титул.лист!$A$1","v":737},{"$f":"AQ295+AQ295*Титул.лист!$P$2","v":737},740,670,{"$f":"AT295+AT295*Титул.лист!$A$1","v":737},{"$f":"AU295+AU295*Титул.лист!$P$2","v":737},740,670,{"$f":"AX295+AX295*Титул.лист!$A$1","v":737},{"$f":"AY295+AY295*Титул.лист!$P$2","v":737},740,670,{"$f":"BB295+BB295*Титул.лист!$A$1","v":737},{"$f":"BC295+BC295*Титул.лист!$P$2","v":737},740,670,{"$f":"BF295+BF295*Титул.лист!$A$1","v":737},{"$f":"BG295+BG295*Титул.лист!$P$2","v":737},740]
[null,null,700,null,"1907\\1-70",750,{"$f":"F296+F296*Титул.лист!$A$1","v":825},{"$f":"G296+G296*Титул.лист!$P$2","v":825},830,750,{"$f":"J296+J296*Титул.лист!$A$1","v":825},{"$f":"K296+K296*Титул.лист!$P$2","v":825},830,750,{"$f":"N296+N296*Титул.лист!$A$1","v":825},{"$f":"O296+O296*Титул.лист!$P$2","v":825},830,750,{"$f":"R296+R296*Титул.лист!$A$1","v":825},{"$f":"S296+S296*Титул.лист!$P$2","v":825},830,750,{"$f":"V296+V296*Титул.лист!$A$1","v":825},{"$f":"W296+W296*Титул.лист!$P$2","v":825},830,750,{"$f":"Z296+Z296*Титул.лист!$A$1","v":825},{"$f":"AA296+AA296*Титул.лист!$P$2","v":825},830,750,{"$f":"AD296+AD296*Титул.лист!$A$1","v":825},{"$f":"AE296+AE296*Титул.лист!$P$2","v":825},830,750,{"$f":"AH296+AH296*Титул.лист!$A$1","v":825},{"$f":"AI296+AI296*Титул.лист!$P$2","v":825},830,750,{"$f":"AL296+AL296*Титул.лист!$A$1","v":825},{"$f":"AM296+AM296*Титул.лист!$P$2","v":825},830,750,{"$f":"AP296+AP296*Титул.лист!$A$1","v":825},{"$f":"AQ296+AQ296*Титул.лист!$P$2","v":825},830,750,{"$f":"AT296+AT296*Титул.лист!$A$1","v":825},{"$f":"AU296+AU296*Титул.лист!$P$2","v":825},830,750,{"$f":"AX296+AX296*Титул.лист!$A$1","v":825},{"$f":"AY296+AY296*Титул.лист!$P$2","v":825},830,750,{"$f":"BB296+BB296*Титул.лист!$A$1","v":825},{"$f":"BC296+BC296*Титул.лист!$P$2","v":825},830,750,{"$f":"BF296+BF296*Титул.лист!$A$1","v":825},{"$f":"BG296+BG296*Титул.лист!$P$2","v":825},830]
[null,null,800,null,"1907\\1-80",880,{"$f":"F297+F297*Титул.лист!$A$1","v":968},{"$f":"G297+G297*Титул.лист!$P$2","v":968},970,880,{"$f":"J297+J297*Титул.лист!$A$1","v":968},{"$f":"K297+K297*Титул.лист!$P$2","v":968},970,880,{"$f":"N297+N297*Титул.лист!$A$1","v":968},{"$f":"O297+O297*Титул.лист!$P$2","v":968},970,880,{"$f":"R297+R297*Титул.лист!$A$1","v":968},{"$f":"S297+S297*Титул.лист!$P$2","v":968},970,880,{"$f":"V297+V297*Титул.лист!$A$1","v":968},{"$f":"W297+W297*Титул.лист!$P$2","v":968},970,880,{"$f":"Z297+Z297*Титул.лист!$A$1","v":968},{"$f":"AA297+AA297*Титул.лист!$P$2","v":968},970,880,{"$f":"AD297+AD297*Титул.лист!$A$1","v":968},{"$f":"AE297+AE297*Титул.лист!$P$2","v":968},970,880,{"$f":"AH297+AH297*Титул.лист!$A$1","v":968},{"$f":"AI297+AI297*Титул.лист!$P$2","v":968},970,880,{"$f":"AL297+AL297*Титул.лист!$A$1","v":968},{"$f":"AM297+AM297*Титул.лист!$P$2","v":968},970,880,{"$f":"AP297+AP297*Титул.лист!$A$1","v":968},{"$f":"AQ297+AQ297*Титул.лист!$P$2","v":968},970,880,{"$f":"AT297+AT297*Титул.лист!$A$1","v":968},{"$f":"AU297+AU297*Титул.лист!$P$2","v":968},970,880,{"$f":"AX297+AX297*Титул.лист!$A$1","v":968},{"$f":"AY297+AY297*Титул.лист!$P$2","v":968},970,880,{"$f":"BB297+BB297*Титул.лист!$A$1","v":968},{"$f":"BC297+BC297*Титул.лист!$P$2","v":968},970,880,{"$f":"BF297+BF297*Титул.лист!$A$1","v":968},{"$f":"BG297+BG297*Титул.лист!$P$2","v":968},970]
[null,null,900,null,"1907\\2-90",950,{"$f":"F298+F298*Титул.лист!$A$1","v":1045},{"$f":"G298+G298*Титул.лист!$P$2","v":1045},1050,950,{"$f":"J298+J298*Титул.лист!$A$1","v":1045},{"$f":"K298+K298*Титул.лист!$P$2","v":1045},1050,950,{"$f":"N298+N298*Титул.лист!$A$1","v":1045},{"$f":"O298+O298*Титул.лист!$P$2","v":1045},1050,950,{"$f":"R298+R298*Титул.лист!$A$1","v":1045},{"$f":"S298+S298*Титул.лист!$P$2","v":1045},1050,950,{"$f":"V298+V298*Титул.лист!$A$1","v":1045},{"$f":"W298+W298*Титул.лист!$P$2","v":1045},1050,950,{"$f":"Z298+Z298*Титул.лист!$A$1","v":1045},{"$f":"AA298+AA298*Титул.лист!$P$2","v":1045},1050,950,{"$f":"AD298+AD298*Титул.лист!$A$1","v":1045},{"$f":"AE298+AE298*Титул.лист!$P$2","v":1045},1050,950,{"$f":"AH298+AH298*Титул.лист!$A$1","v":1045},{"$f":"AI298+AI298*Титул.лист!$P$2","v":1045},1050,950,{"$f":"AL298+AL298*Титул.лист!$A$1","v":1045},{"$f":"AM298+AM298*Титул.лист!$P$2","v":1045},1050,950,{"$f":"AP298+AP298*Титул.лист!$A$1","v":1045},{"$f":"AQ298+AQ298*Титул.лист!$P$2","v":1045},1050,950,{"$f":"AT298+AT298*Титул.лист!$A$1","v":1045},{"$f":"AU298+AU298*Титул.лист!$P$2","v":1045},1050,950,{"$f":"AX298+AX298*Титул.лист!$A$1","v":1045},{"$f":"AY298+AY298*Титул.лист!$P$2","v":1045},1050,950,{"$f":"BB298+BB298*Титул.лист!$A$1","v":1045},{"$f":"BC298+BC298*Титул.лист!$P$2","v":1045},1050,950,{"$f":"BF298+BF298*Титул.лист!$A$1","v":1045},{"$f":"BG298+BG298*Титул.лист!$P$2","v":1045},1050]
[null,null,1000,null,"1907\\2-100",1140,{"$f":"F299+F299*Титул.лист!$A$1","v":1254},{"$f":"G299+G299*Титул.лист!$P$2","v":1254},1250,1140,{"$f":"J299+J299*Титул.лист!$A$1","v":1254},{"$f":"K299+K299*Титул.лист!$P$2","v":1254},1250,1140,{"$f":"N299+N299*Титул.лист!$A$1","v":1254},{"$f":"O299+O299*Титул.лист!$P$2","v":1254},1250,1140,{"$f":"R299+R299*Титул.лист!$A$1","v":1254},{"$f":"S299+S299*Титул.лист!$P$2","v":1254},1250,1140,{"$f":"V299+V299*Титул.лист!$A$1","v":1254},{"$f":"W299+W299*Титул.лист!$P$2","v":1254},1250,1140,{"$f":"Z299+Z299*Титул.лист!$A$1","v":1254},{"$f":"AA299+AA299*Титул.лист!$P$2","v":1254},1250,1140,{"$f":"AD299+AD299*Титул.лист!$A$1","v":1254},{"$f":"AE299+AE299*Титул.лист!$P$2","v":1254},1250,1140,{"$f":"AH299+AH299*Титул.лист!$A$1","v":1254},{"$f":"AI299+AI299*Титул.лист!$P$2","v":1254},1250,1140,{"$f":"AL299+AL299*Титул.лист!$A$1","v":1254},{"$f":"AM299+AM299*Титул.лист!$P$2","v":1254},1250,1140,{"$f":"AP299+AP299*Титул.лист!$A$1","v":1254},{"$f":"AQ299+AQ299*Титул.лист!$P$2","v":1254},1250,1140,{"$f":"AT299+AT299*Титул.лист!$A$1","v":1254},{"$f":"AU299+AU299*Титул.лист!$P$2","v":1254},1250,1140,{"$f":"AX299+AX299*Титул.лист!$A$1","v":1254},{"$f":"AY299+AY299*Титул.лист!$P$2","v":1254},1250,1140,{"$f":"BB299+BB299*Титул.лист!$A$1","v":1254},{"$f":"BC299+BC299*Титул.лист!$P$2","v":1254},1250,1140,{"$f":"BF299+BF299*Титул.лист!$A$1","v":1254},{"$f":"BG299+BG299*Титул.лист!$P$2","v":1254},1250]
[null,null,1400,null,"1907\\2-140",1250,{"$f":"F300+F300*Титул.лист!$A$1","v":1375},{"$f":"G300+G300*Титул.лист!$P$2","v":1375},1380,1250,{"$f":"J300+J300*Титул.лист!$A$1","v":1375},{"$f":"K300+K300*Титул.лист!$P$2","v":1375},1380,1250,{"$f":"N300+N300*Титул.лист!$A$1","v":1375},{"$f":"O300+O300*Титул.лист!$P$2","v":1375},1380,1250,{"$f":"R300+R300*Титул.лист!$A$1","v":1375},{"$f":"S300+S300*Титул.лист!$P$2","v":1375},1380,1250,{"$f":"V300+V300*Титул.лист!$A$1","v":1375},{"$f":"W300+W300*Титул.лист!$P$2","v":1375},1380,1250,{"$f":"Z300+Z300*Титул.лист!$A$1","v":1375},{"$f":"AA300+AA300*Титул.лист!$P$2","v":1375},1380,1250,{"$f":"AD300+AD300*Титул.лист!$A$1","v":1375},{"$f":"AE300+AE300*Титул.лист!$P$2","v":1375},1380,1250,{"$f":"AH300+AH300*Титул.лист!$A$1","v":1375},{"$f":"AI300+AI300*Титул.лист!$P$2","v":1375},1380,1250,{"$f":"AL300+AL300*Титул.лист!$A$1","v":1375},{"$f":"AM300+AM300*Титул.лист!$P$2","v":1375},1380,1250,{"$f":"AP300+AP300*Титул.лист!$A$1","v":1375},{"$f":"AQ300+AQ300*Титул.лист!$P$2","v":1375},1380,1250,{"$f":"AT300+AT300*Титул.лист!$A$1","v":1375},{"$f":"AU300+AU300*Титул.лист!$P$2","v":1375},1380,1250,{"$f":"AX300+AX300*Титул.лист!$A$1","v":1375},{"$f":"AY300+AY300*Титул.лист!$P$2","v":1375},1380,1250,{"$f":"BB300+BB300*Титул.лист!$A$1","v":1375},{"$f":"BC300+BC300*Титул.лист!$P$2","v":1375},1380,1250,{"$f":"BF300+BF300*Титул.лист!$A$1","v":1375},{"$f":"BG300+BG300*Титул.лист!$P$2","v":1375},1380]
[null,"Шкаф торцевой открытый скошеный",200,"h 600","1557-20",400,{"$f":"F301+F301*Титул.лист!$A$1","v":440},{"$f":"G301+G301*Титул.лист!$P$2","v":440},440,400,{"$f":"J301+J301*Титул.лист!$A$1","v":440},{"$f":"K301+K301*Титул.лист!$P$2","v":440},440,400,{"$f":"N301+N301*Титул.лист!$A$1","v":440},{"$f":"O301+O301*Титул.лист!$P$2","v":440},440,400,{"$f":"R301+R301*Титул.лист!$A$1","v":440},{"$f":"S301+S301*Титул.лист!$P$2","v":440},440,400,{"$f":"V301+V301*Титул.лист!$A$1","v":440},{"$f":"W301+W301*Титул.лист!$P$2","v":440},440,400,{"$f":"Z301+Z301*Титул.лист!$A$1","v":440},{"$f":"AA301+AA301*Титул.лист!$P$2","v":440},440,400,{"$f":"AD301+AD301*Титул.лист!$A$1","v":440},{"$f":"AE301+AE301*Титул.лист!$P$2","v":440},440,400,{"$f":"AH301+AH301*Титул.лист!$A$1","v":440},{"$f":"AI301+AI301*Титул.лист!$P$2","v":440},440,400,{"$f":"AL301+AL301*Титул.лист!$A$1","v":440},{"$f":"AM301+AM301*Титул.лист!$P$2","v":440},440,400,{"$f":"AP301+AP301*Титул.лист!$A$1","v":440},{"$f":"AQ301+AQ301*Титул.лист!$P$2","v":440},440,400,{"$f":"AT301+AT301*Титул.лист!$A$1","v":440},{"$f":"AU301+AU301*Титул.лист!$P$2","v":440},440,400,{"$f":"AX301+AX301*Титул.лист!$A$1","v":440},{"$f":"AY301+AY301*Титул.лист!$P$2","v":440},440,400,{"$f":"BB301+BB301*Титул.лист!$A$1","v":440},{"$f":"BC301+BC301*Титул.лист!$P$2","v":440},440,400,{"$f":"BF301+BF301*Титул.лист!$A$1","v":440},{"$f":"BG301+BG301*Титул.лист!$P$2","v":440},440]
[null,null,300,null,"1557-30",470,{"$f":"F302+F302*Титул.лист!$A$1","v":517},{"$f":"G302+G302*Титул.лист!$P$2","v":517},520,470,{"$f":"J302+J302*Титул.лист!$A$1","v":517},{"$f":"K302+K302*Титул.лист!$P$2","v":517},520,470,{"$f":"N302+N302*Титул.лист!$A$1","v":517},{"$f":"O302+O302*Титул.лист!$P$2","v":517},520,470,{"$f":"R302+R302*Титул.лист!$A$1","v":517},{"$f":"S302+S302*Титул.лист!$P$2","v":517},520,470,{"$f":"V302+V302*Титул.лист!$A$1","v":517},{"$f":"W302+W302*Титул.лист!$P$2","v":517},520,470,{"$f":"Z302+Z302*Титул.лист!$A$1","v":517},{"$f":"AA302+AA302*Титул.лист!$P$2","v":517},520,470,{"$f":"AD302+AD302*Титул.лист!$A$1","v":517},{"$f":"AE302+AE302*Титул.лист!$P$2","v":517},520,470,{"$f":"AH302+AH302*Титул.лист!$A$1","v":517},{"$f":"AI302+AI302*Титул.лист!$P$2","v":517},520,470,{"$f":"AL302+AL302*Титул.лист!$A$1","v":517},{"$f":"AM302+AM302*Титул.лист!$P$2","v":517},520,470,{"$f":"AP302+AP302*Титул.лист!$A$1","v":517},{"$f":"AQ302+AQ302*Титул.лист!$P$2","v":517},520,470,{"$f":"AT302+AT302*Титул.лист!$A$1","v":517},{"$f":"AU302+AU302*Титул.лист!$P$2","v":517},520,470,{"$f":"AX302+AX302*Титул.лист!$A$1","v":517},{"$f":"AY302+AY302*Титул.лист!$P$2","v":517},520,470,{"$f":"BB302+BB302*Титул.лист!$A$1","v":517},{"$f":"BC302+BC302*Титул.лист!$P$2","v":517},520,470,{"$f":"BF302+BF302*Титул.лист!$A$1","v":517},{"$f":"BG302+BG302*Титул.лист!$P$2","v":517},520]
[null,null,400,null,"1557-40",550,{"$f":"F303+F303*Титул.лист!$A$1","v":605},{"$f":"G303+G303*Титул.лист!$P$2","v":605},610,550,{"$f":"J303+J303*Титул.лист!$A$1","v":605},{"$f":"K303+K303*Титул.лист!$P$2","v":605},610,550,{"$f":"N303+N303*Титул.лист!$A$1","v":605},{"$f":"O303+O303*Титул.лист!$P$2","v":605},610,550,{"$f":"R303+R303*Титул.лист!$A$1","v":605},{"$f":"S303+S303*Титул.лист!$P$2","v":605},610,550,{"$f":"V303+V303*Титул.лист!$A$1","v":605},{"$f":"W303+W303*Титул.лист!$P$2","v":605},610,550,{"$f":"Z303+Z303*Титул.лист!$A$1","v":605},{"$f":"AA303+AA303*Титул.лист!$P$2","v":605},610,550,{"$f":"AD303+AD303*Титул.лист!$A$1","v":605},{"$f":"AE303+AE303*Титул.лист!$P$2","v":605},610,550,{"$f":"AH303+AH303*Титул.лист!$A$1","v":605},{"$f":"AI303+AI303*Титул.лист!$P$2","v":605},610,550,{"$f":"AL303+AL303*Титул.лист!$A$1","v":605},{"$f":"AM303+AM303*Титул.лист!$P$2","v":605},610,550,{"$f":"AP303+AP303*Титул.лист!$A$1","v":605},{"$f":"AQ303+AQ303*Титул.лист!$P$2","v":605},610,550,{"$f":"AT303+AT303*Титул.лист!$A$1","v":605},{"$f":"AU303+AU303*Титул.лист!$P$2","v":605},610,550,{"$f":"AX303+AX303*Титул.лист!$A$1","v":605},{"$f":"AY303+AY303*Титул.лист!$P$2","v":605},610,550,{"$f":"BB303+BB303*Титул.лист!$A$1","v":605},{"$f":"BC303+BC303*Титул.лист!$P$2","v":605},610,550,{"$f":"BF303+BF303*Титул.лист!$A$1","v":605},{"$f":"BG303+BG303*Титул.лист!$P$2","v":605},610]
[null,null,200,"h 720","1551-20",430,{"$f":"F304+F304*Титул.лист!$A$1","v":473},{"$f":"G304+G304*Титул.лист!$P$2","v":473},470,430,{"$f":"J304+J304*Титул.лист!$A$1","v":473},{"$f":"K304+K304*Титул.лист!$P$2","v":473},470,430,{"$f":"N304+N304*Титул.лист!$A$1","v":473},{"$f":"O304+O304*Титул.лист!$P$2","v":473},470,430,{"$f":"R304+R304*Титул.лист!$A$1","v":473},{"$f":"S304+S304*Титул.лист!$P$2","v":473},470,430,{"$f":"V304+V304*Титул.лист!$A$1","v":473},{"$f":"W304+W304*Титул.лист!$P$2","v":473},470,430,{"$f":"Z304+Z304*Титул.лист!$A$1","v":473},{"$f":"AA304+AA304*Титул.лист!$P$2","v":473},470,430,{"$f":"AD304+AD304*Титул.лист!$A$1","v":473},{"$f":"AE304+AE304*Титул.лист!$P$2","v":473},470,430,{"$f":"AH304+AH304*Титул.лист!$A$1","v":473},{"$f":"AI304+AI304*Титул.лист!$P$2","v":473},470,430,{"$f":"AL304+AL304*Титул.лист!$A$1","v":473},{"$f":"AM304+AM304*Титул.лист!$P$2","v":473},470,430,{"$f":"AP304+AP304*Титул.лист!$A$1","v":473},{"$f":"AQ304+AQ304*Титул.лист!$P$2","v":473},470,430,{"$f":"AT304+AT304*Титул.лист!$A$1","v":473},{"$f":"AU304+AU304*Титул.лист!$P$2","v":473},470,430,{"$f":"AX304+AX304*Титул.лист!$A$1","v":473},{"$f":"AY304+AY304*Титул.лист!$P$2","v":473},470,430,{"$f":"BB304+BB304*Титул.лист!$A$1","v":473},{"$f":"BC304+BC304*Титул.лист!$P$2","v":473},470,430,{"$f":"BF304+BF304*Титул.лист!$A$1","v":473},{"$f":"BG304+BG304*Титул.лист!$P$2","v":473},470]
[null,null,300,null,"1551-30",520,{"$f":"F305+F305*Титул.лист!$A$1","v":572},{"$f":"G305+G305*Титул.лист!$P$2","v":572},570,520,{"$f":"J305+J305*Титул.лист!$A$1","v":572},{"$f":"K305+K305*Титул.лист!$P$2","v":572},570,520,{"$f":"N305+N305*Титул.лист!$A$1","v":572},{"$f":"O305+O305*Титул.лист!$P$2","v":572},570,520,{"$f":"R305+R305*Титул.лист!$A$1","v":572},{"$f":"S305+S305*Титул.лист!$P$2","v":572},570,520,{"$f":"V305+V305*Титул.лист!$A$1","v":572},{"$f":"W305+W305*Титул.лист!$P$2","v":572},570,520,{"$f":"Z305+Z305*Титул.лист!$A$1","v":572},{"$f":"AA305+AA305*Титул.лист!$P$2","v":572},570,520,{"$f":"AD305+AD305*Титул.лист!$A$1","v":572},{"$f":"AE305+AE305*Титул.лист!$P$2","v":572},570,520,{"$f":"AH305+AH305*Титул.лист!$A$1","v":572},{"$f":"AI305+AI305*Титул.лист!$P$2","v":572},570,520,{"$f":"AL305+AL305*Титул.лист!$A$1","v":572},{"$f":"AM305+AM305*Титул.лист!$P$2","v":572},570,520,{"$f":"AP305+AP305*Титул.лист!$A$1","v":572},{"$f":"AQ305+AQ305*Титул.лист!$P$2","v":572},570,520,{"$f":"AT305+AT305*Титул.лист!$A$1","v":572},{"$f":"AU305+AU305*Титул.лист!$P$2","v":572},570,520,{"$f":"AX305+AX305*Титул.лист!$A$1","v":572},{"$f":"AY305+AY305*Титул.лист!$P$2","v":572},570,520,{"$f":"BB305+BB305*Титул.лист!$A$1","v":572},{"$f":"BC305+BC305*Титул.лист!$P$2","v":572},570,520,{"$f":"BF305+BF305*Титул.лист!$A$1","v":572},{"$f":"BG305+BG305*Титул.лист!$P$2","v":572},570]
[null,null,350,null,"1551-35",600,{"$f":"F306+F306*Титул.лист!$A$1","v":660},{"$f":"G306+G306*Титул.лист!$P$2","v":660},660,600,{"$f":"J306+J306*Титул.лист!$A$1","v":660},{"$f":"K306+K306*Титул.лист!$P$2","v":660},660,600,{"$f":"N306+N306*Титул.лист!$A$1","v":660},{"$f":"O306+O306*Титул.лист!$P$2","v":660},660,600,{"$f":"R306+R306*Титул.лист!$A$1","v":660},{"$f":"S306+S306*Титул.лист!$P$2","v":660},660,600,{"$f":"V306+V306*Титул.лист!$A$1","v":660},{"$f":"W306+W306*Титул.лист!$P$2","v":660},660,600,{"$f":"Z306+Z306*Титул.лист!$A$1","v":660},{"$f":"AA306+AA306*Титул.лист!$P$2","v":660},660,600,{"$f":"AD306+AD306*Титул.лист!$A$1","v":660},{"$f":"AE306+AE306*Титул.лист!$P$2","v":660},660,600,{"$f":"AH306+AH306*Титул.лист!$A$1","v":660},{"$f":"AI306+AI306*Титул.лист!$P$2","v":660},660,600,{"$f":"AL306+AL306*Титул.лист!$A$1","v":660},{"$f":"AM306+AM306*Титул.лист!$P$2","v":660},660,600,{"$f":"AP306+AP306*Титул.лист!$A$1","v":660},{"$f":"AQ306+AQ306*Титул.лист!$P$2","v":660},660,600,{"$f":"AT306+AT306*Титул.лист!$A$1","v":660},{"$f":"AU306+AU306*Титул.лист!$P$2","v":660},660,600,{"$f":"AX306+AX306*Титул.лист!$A$1","v":660},{"$f":"AY306+AY306*Титул.лист!$P$2","v":660},660,600,{"$f":"BB306+BB306*Титул.лист!$A$1","v":660},{"$f":"BC306+BC306*Титул.лист!$P$2","v":660},660,600,{"$f":"BF306+BF306*Титул.лист!$A$1","v":660},{"$f":"BG306+BG306*Титул.лист!$P$2","v":660},660]
[null,null,400,null,"1551-40",620,{"$f":"F307+F307*Титул.лист!$A$1","v":682},{"$f":"G307+G307*Титул.лист!$P$2","v":682},680,620,{"$f":"J307+J307*Титул.лист!$A$1","v":682},{"$f":"K307+K307*Титул.лист!$P$2","v":682},680,620,{"$f":"N307+N307*Титул.лист!$A$1","v":682},{"$f":"O307+O307*Титул.лист!$P$2","v":682},680,620,{"$f":"R307+R307*Титул.лист!$A$1","v":682},{"$f":"S307+S307*Титул.лист!$P$2","v":682},680,620,{"$f":"V307+V307*Титул.лист!$A$1","v":682},{"$f":"W307+W307*Титул.лист!$P$2","v":682},680,620,{"$f":"Z307+Z307*Титул.лист!$A$1","v":682},{"$f":"AA307+AA307*Титул.лист!$P$2","v":682},680,620,{"$f":"AD307+AD307*Титул.лист!$A$1","v":682},{"$f":"AE307+AE307*Титул.лист!$P$2","v":682},680,620,{"$f":"AH307+AH307*Титул.лист!$A$1","v":682},{"$f":"AI307+AI307*Титул.лист!$P$2","v":682},680,620,{"$f":"AL307+AL307*Титул.лист!$A$1","v":682},{"$f":"AM307+AM307*Титул.лист!$P$2","v":682},680,620,{"$f":"AP307+AP307*Титул.лист!$A$1","v":682},{"$f":"AQ307+AQ307*Титул.лист!$P$2","v":682},680,620,{"$f":"AT307+AT307*Титул.лист!$A$1","v":682},{"$f":"AU307+AU307*Титул.лист!$P$2","v":682},680,620,{"$f":"AX307+AX307*Титул.лист!$A$1","v":682},{"$f":"AY307+AY307*Титул.лист!$P$2","v":682},680,620,{"$f":"BB307+BB307*Титул.лист!$A$1","v":682},{"$f":"BC307+BC307*Титул.лист!$P$2","v":682},680,620,{"$f":"BF307+BF307*Титул.лист!$A$1","v":682},{"$f":"BG307+BG307*Титул.лист!$P$2","v":682},680]
[null,null,200,"h 920","1553-20",520,{"$f":"F308+F308*Титул.лист!$A$1","v":572},{"$f":"G308+G308*Титул.лист!$P$2","v":572},570,520,{"$f":"J308+J308*Титул.лист!$A$1","v":572},{"$f":"K308+K308*Титул.лист!$P$2","v":572},570,520,{"$f":"N308+N308*Титул.лист!$A$1","v":572},{"$f":"O308+O308*Титул.лист!$P$2","v":572},570,520,{"$f":"R308+R308*Титул.лист!$A$1","v":572},{"$f":"S308+S308*Титул.лист!$P$2","v":572},570,520,{"$f":"V308+V308*Титул.лист!$A$1","v":572},{"$f":"W308+W308*Титул.лист!$P$2","v":572},570,520,{"$f":"Z308+Z308*Титул.лист!$A$1","v":572},{"$f":"AA308+AA308*Титул.лист!$P$2","v":572},570,520,{"$f":"AD308+AD308*Титул.лист!$A$1","v":572},{"$f":"AE308+AE308*Титул.лист!$P$2","v":572},570,520,{"$f":"AH308+AH308*Титул.лист!$A$1","v":572},{"$f":"AI308+AI308*Титул.лист!$P$2","v":572},570,520,{"$f":"AL308+AL308*Титул.лист!$A$1","v":572},{"$f":"AM308+AM308*Титул.лист!$P$2","v":572},570,520,{"$f":"AP308+AP308*Титул.лист!$A$1","v":572},{"$f":"AQ308+AQ308*Титул.лист!$P$2","v":572},570,520,{"$f":"AT308+AT308*Титул.лист!$A$1","v":572},{"$f":"AU308+AU308*Титул.лист!$P$2","v":572},570,520,{"$f":"AX308+AX308*Титул.лист!$A$1","v":572},{"$f":"AY308+AY308*Титул.лист!$P$2","v":572},570,520,{"$f":"BB308+BB308*Титул.лист!$A$1","v":572},{"$f":"BC308+BC308*Титул.лист!$P$2","v":572},570,520,{"$f":"BF308+BF308*Титул.лист!$A$1","v":572},{"$f":"BG308+BG308*Титул.лист!$P$2","v":572},570]
[null,null,300,null,"1553-30",630,{"$f":"F309+F309*Титул.лист!$A$1","v":693},{"$f":"G309+G309*Титул.лист!$P$2","v":693},690,630,{"$f":"J309+J309*Титул.лист!$A$1","v":693},{"$f":"K309+K309*Титул.лист!$P$2","v":693},690,630,{"$f":"N309+N309*Титул.лист!$A$1","v":693},{"$f":"O309+O309*Титул.лист!$P$2","v":693},690,630,{"$f":"R309+R309*Титул.лист!$A$1","v":693},{"$f":"S309+S309*Титул.лист!$P$2","v":693},690,630,{"$f":"V309+V309*Титул.лист!$A$1","v":693},{"$f":"W309+W309*Титул.лист!$P$2","v":693},690,630,{"$f":"Z309+Z309*Титул.лист!$A$1","v":693},{"$f":"AA309+AA309*Титул.лист!$P$2","v":693},690,630,{"$f":"AD309+AD309*Титул.лист!$A$1","v":693},{"$f":"AE309+AE309*Титул.лист!$P$2","v":693},690,630,{"$f":"AH309+AH309*Титул.лист!$A$1","v":693},{"$f":"AI309+AI309*Титул.лист!$P$2","v":693},690,630,{"$f":"AL309+AL309*Титул.лист!$A$1","v":693},{"$f":"AM309+AM309*Титул.лист!$P$2","v":693},690,630,{"$f":"AP309+AP309*Титул.лист!$A$1","v":693},{"$f":"AQ309+AQ309*Титул.лист!$P$2","v":693},690,630,{"$f":"AT309+AT309*Титул.лист!$A$1","v":693},{"$f":"AU309+AU309*Титул.лист!$P$2","v":693},690,630,{"$f":"AX309+AX309*Титул.лист!$A$1","v":693},{"$f":"AY309+AY309*Титул.лист!$P$2","v":693},690,630,{"$f":"BB309+BB309*Титул.лист!$A$1","v":693},{"$f":"BC309+BC309*Титул.лист!$P$2","v":693},690,630,{"$f":"BF309+BF309*Титул.лист!$A$1","v":693},{"$f":"BG309+BG309*Титул.лист!$P$2","v":693},690]
[null,null,400,null,"1553-40",750,{"$f":"F310+F310*Титул.лист!$A$1","v":825},{"$f":"G310+G310*Титул.лист!$P$2","v":825},830,750,{"$f":"J310+J310*Титул.лист!$A$1","v":825},{"$f":"K310+K310*Титул.лист!$P$2","v":825},830,750,{"$f":"N310+N310*Титул.лист!$A$1","v":825},{"$f":"O310+O310*Титул.лист!$P$2","v":825},830,750,{"$f":"R310+R310*Титул.лист!$A$1","v":825},{"$f":"S310+S310*Титул.лист!$P$2","v":825},830,750,{"$f":"V310+V310*Титул.лист!$A$1","v":825},{"$f":"W310+W310*Титул.лист!$P$2","v":825},830,750,{"$f":"Z310+Z310*Титул.лист!$A$1","v":825},{"$f":"AA310+AA310*Титул.лист!$P$2","v":825},830,750,{"$f":"AD310+AD310*Титул.лист!$A$1","v":825},{"$f":"AE310+AE310*Титул.лист!$P$2","v":825},830,750,{"$f":"AH310+AH310*Титул.лист!$A$1","v":825},{"$f":"AI310+AI310*Титул.лист!$P$2","v":825},830,750,{"$f":"AL310+AL310*Титул.лист!$A$1","v":825},{"$f":"AM310+AM310*Титул.лист!$P$2","v":825},830,750,{"$f":"AP310+AP310*Титул.лист!$A$1","v":825},{"$f":"AQ310+AQ310*Титул.лист!$P$2","v":825},830,750,{"$f":"AT310+AT310*Титул.лист!$A$1","v":825},{"$f":"AU310+AU310*Титул.лист!$P$2","v":825},830,750,{"$f":"AX310+AX310*Титул.лист!$A$1","v":825},{"$f":"AY310+AY310*Титул.лист!$P$2","v":825},830,750,{"$f":"BB310+BB310*Титул.лист!$A$1","v":825},{"$f":"BC310+BC310*Титул.лист!$P$2","v":825},830,750,{"$f":"BF310+BF310*Титул.лист!$A$1","v":825},{"$f":"BG310+BG310*Титул.лист!$P$2","v":825},830]
[null,"Шкаф торцевой  скошенный 1д ",300,"h 600","1558-30",710,{"$f":"F311+F311*Титул.лист!$A$1","v":781},{"$f":"G311+G311*Титул.лист!$P$2","v":781},780,800,{"$f":"J311+J311*Титул.лист!$A$1","v":880},{"$f":"K311+K311*Титул.лист!$P$2","v":880},880,990.00000000000011,{"$f":"N311+N311*Титул.лист!$A$1","v":1089.0000000000002},{"$f":"O311+O311*Титул.лист!$P$2","v":1089.0000000000002},1090,1080,{"$f":"R311+R311*Титул.лист!$A$1","v":1188},{"$f":"S311+S311*Титул.лист!$P$2","v":1188},1190,1210,{"$f":"V311+V311*Титул.лист!$A$1","v":1331},{"$f":"W311+W311*Титул.лист!$P$2","v":1331},1330,1300,{"$f":"Z311+Z311*Титул.лист!$A$1","v":1430},{"$f":"AA311+AA311*Титул.лист!$P$2","v":1430},1430,1010,{"$f":"AD311+AD311*Титул.лист!$A$1","v":1111},{"$f":"AE311+AE311*Титул.лист!$P$2","v":1111},1110,1100,{"$f":"AH311+AH311*Титул.лист!$A$1","v":1210},{"$f":"AI311+AI311*Титул.лист!$P$2","v":1210},1210,1140,{"$f":"AL311+AL311*Титул.лист!$A$1","v":1254},{"$f":"AM311+AM311*Титул.лист!$P$2","v":1254},1250,2086.8139999999999,{"$f":"AP311+AP311*Титул.лист!$A$1","v":2295.4953999999998},{"$f":"AQ311+AQ311*Титул.лист!$P$2","v":2295.4953999999998},2300,2390,{"$f":"AT311+AT311*Титул.лист!$A$1","v":2629},{"$f":"AU311+AU311*Титул.лист!$P$2","v":2629},2630,1880,{"$f":"AX311+AX311*Титул.лист!$A$1","v":2068},{"$f":"AY311+AY311*Титул.лист!$P$2","v":2068},2070,2420,{"$f":"BB311+BB311*Титул.лист!$A$1","v":2662},{"$f":"BC311+BC311*Титул.лист!$P$2","v":2662},2660,3470,{"$f":"BF311+BF311*Титул.лист!$A$1","v":3817},{"$f":"BG311+BG311*Титул.лист!$P$2","v":3817},3820]
[null,null,300,"h 720","1555-30",780,{"$f":"F312+F312*Титул.лист!$A$1","v":858},{"$f":"G312+G312*Титул.лист!$P$2","v":858},860,825.00000000000011,{"$f":"J312+J312*Титул.лист!$A$1","v":907.50000000000011},{"$f":"K312+K312*Титул.лист!$P$2","v":907.50000000000011},910,1111,{"$f":"N312+N312*Титул.лист!$A$1","v":1222.0999999999999},{"$f":"O312+O312*Титул.лист!$P$2","v":1222.0999999999999},1220,1150,{"$f":"R312+R312*Титул.лист!$A$1","v":1265},{"$f":"S312+S312*Титул.лист!$P$2","v":1265},1270,1370,{"$f":"V312+V312*Титул.лист!$A$1","v":1507},{"$f":"W312+W312*Титул.лист!$P$2","v":1507},1510,1420,{"$f":"Z312+Z312*Титул.лист!$A$1","v":1562},{"$f":"AA312+AA312*Титул.лист!$P$2","v":1562},1560,1140,{"$f":"AD312+AD312*Титул.лист!$A$1","v":1254},{"$f":"AE312+AE312*Титул.лист!$P$2","v":1254},1250,1250,{"$f":"AH312+AH312*Титул.лист!$A$1","v":1375},{"$f":"AI312+AI312*Титул.лист!$P$2","v":1375},1380,1310,{"$f":"AL312+AL312*Титул.лист!$A$1","v":1441},{"$f":"AM312+AM312*Титул.лист!$P$2","v":1441},1440,2370,{"$f":"AP312+AP312*Титул.лист!$A$1","v":2607},{"$f":"AQ312+AQ312*Титул.лист!$P$2","v":2607},2610,2720,{"$f":"AT312+AT312*Титул.лист!$A$1","v":2992},{"$f":"AU312+AU312*Титул.лист!$P$2","v":2992},2990,2130,{"$f":"AX312+AX312*Титул.лист!$A$1","v":2343},{"$f":"AY312+AY312*Титул.лист!$P$2","v":2343},2340,2750,{"$f":"BB312+BB312*Титул.лист!$A$1","v":3025},{"$f":"BC312+BC312*Титул.лист!$P$2","v":3025},3030,3950,{"$f":"BF312+BF312*Титул.лист!$A$1","v":4345},{"$f":"BG312+BG312*Титул.лист!$P$2","v":4345},4350]
[null,null,300,"h 920","1556-30",910,{"$f":"F313+F313*Титул.лист!$A$1","v":1001},{"$f":"G313+G313*Титул.лист!$P$2","v":1001},1000,970,{"$f":"J313+J313*Титул.лист!$A$1","v":1067},{"$f":"K313+K313*Титул.лист!$P$2","v":1067},1070,1350,{"$f":"N313+N313*Титул.лист!$A$1","v":1485},{"$f":"O313+O313*Титул.лист!$P$2","v":1485},1490,1410,{"$f":"R313+R313*Титул.лист!$A$1","v":1551},{"$f":"S313+S313*Титул.лист!$P$2","v":1551},1550,1690,{"$f":"V313+V313*Титул.лист!$A$1","v":1859},{"$f":"W313+W313*Титул.лист!$P$2","v":1859},1860,1750,{"$f":"Z313+Z313*Титул.лист!$A$1","v":1925},{"$f":"AA313+AA313*Титул.лист!$P$2","v":1925},1930,1400,{"$f":"AD313+AD313*Титул.лист!$A$1","v":1540},{"$f":"AE313+AE313*Титул.лист!$P$2","v":1540},1540,1540.0000000000002,{"$f":"AH313+AH313*Титул.лист!$A$1","v":1694.0000000000002},{"$f":"AI313+AI313*Титул.лист!$P$2","v":1694.0000000000002},1690,1610,{"$f":"AL313+AL313*Титул.лист!$A$1","v":1771},{"$f":"AM313+AM313*Титул.лист!$P$2","v":1771},1770,3050,{"$f":"AP313+AP313*Титул.лист!$A$1","v":3355},{"$f":"AQ313+AQ313*Титул.лист!$P$2","v":3355},3360,3520,{"$f":"AT313+AT313*Титул.лист!$A$1","v":3872},{"$f":"AU313+AU313*Титул.лист!$P$2","v":3872},3870,2720,{"$f":"AX313+AX313*Титул.лист!$A$1","v":2992},{"$f":"AY313+AY313*Титул.лист!$P$2","v":2992},2990,3560,{"$f":"BB313+BB313*Титул.лист!$A$1","v":3916},{"$f":"BC313+BC313*Титул.лист!$P$2","v":3916},3920,5160,{"$f":"BF313+BF313*Титул.лист!$A$1","v":5676},{"$f":"BG313+BG313*Титул.лист!$P$2","v":5676},5680]
[null,"Шкаф торцевой скошенный 1дв.1ст.",300,"h 600","1559-30",870,{"$f":"F314+F314*Титул.лист!$A$1","v":957},{"$f":"G314+G314*Титул.лист!$P$2","v":957},960,930,{"$f":"J314+J314*Титул.лист!$A$1","v":1023},{"$f":"K314+K314*Титул.лист!$P$2","v":1023},1020,1140,{"$f":"N314+N314*Титул.лист!$A$1","v":1254},{"$f":"O314+O314*Титул.лист!$P$2","v":1254},1250,1210,{"$f":"R314+R314*Титул.лист!$A$1","v":1331},{"$f":"S314+S314*Титул.лист!$P$2","v":1331},1330,1360,{"$f":"V314+V314*Титул.лист!$A$1","v":1496},{"$f":"W314+W314*Титул.лист!$P$2","v":1496},1500,1430.0000000000002,{"$f":"Z314+Z314*Титул.лист!$A$1","v":1573.0000000000002},{"$f":"AA314+AA314*Титул.лист!$P$2","v":1573.0000000000002},1570,1120,{"$f":"AD314+AD314*Титул.лист!$A$1","v":1232},{"$f":"AE314+AE314*Титул.лист!$P$2","v":1232},1230,1210,{"$f":"AH314+AH314*Титул.лист!$A$1","v":1331},{"$f":"AI314+AI314*Титул.лист!$P$2","v":1331},1330,1250,{"$f":"AL314+AL314*Титул.лист!$A$1","v":1375},{"$f":"AM314+AM314*Титул.лист!$P$2","v":1375},1380,2286.8139999999999,{"$f":"AP314+AP314*Титул.лист!$A$1","v":2515.4953999999998},{"$f":"AQ314+AQ314*Титул.лист!$P$2","v":2515.4953999999998},2520,2590,{"$f":"AT314+AT314*Титул.лист!$A$1","v":2849},{"$f":"AU314+AU314*Титул.лист!$P$2","v":2849},2850,2080,{"$f":"AX314+AX314*Титул.лист!$A$1","v":2288},{"$f":"AY314+AY314*Титул.лист!$P$2","v":2288},2290,2620,{"$f":"BB314+BB314*Титул.лист!$A$1","v":2882},{"$f":"BC314+BC314*Титул.лист!$P$2","v":2882},2880,3670,{"$f":"BF314+BF314*Титул.лист!$A$1","v":4037},{"$f":"BG314+BG314*Титул.лист!$P$2","v":4037},4040]
[null,null,300,"h 720","1556-30",970,{"$f":"F315+F315*Титул.лист!$A$1","v":1067},{"$f":"G315+G315*Титул.лист!$P$2","v":1067},1070,1040,{"$f":"J315+J315*Титул.лист!$A$1","v":1144},{"$f":"K315+K315*Титул.лист!$P$2","v":1144},1140,1300,{"$f":"N315+N315*Титул.лист!$A$1","v":1430},{"$f":"O315+O315*Титул.лист!$P$2","v":1430},1430,1370,{"$f":"R315+R315*Титул.лист!$A$1","v":1507},{"$f":"S315+S315*Титул.лист!$P$2","v":1507},1510,1560,{"$f":"V315+V315*Титул.лист!$A$1","v":1716},{"$f":"W315+W315*Титул.лист!$P$2","v":1716},1720,1640,{"$f":"Z315+Z315*Титул.лист!$A$1","v":1804},{"$f":"AA315+AA315*Титул.лист!$P$2","v":1804},1800,1260,{"$f":"AD315+AD315*Титул.лист!$A$1","v":1386},{"$f":"AE315+AE315*Титул.лист!$P$2","v":1386},1390,1370,{"$f":"AH315+AH315*Титул.лист!$A$1","v":1507},{"$f":"AI315+AI315*Титул.лист!$P$2","v":1507},1510,1430.0000000000002,{"$f":"AL315+AL315*Титул.лист!$A$1","v":1573.0000000000002},{"$f":"AM315+AM315*Титул.лист!$P$2","v":1573.0000000000002},1570,2570,{"$f":"AP315+AP315*Титул.лист!$A$1","v":2827},{"$f":"AQ315+AQ315*Титул.лист!$P$2","v":2827},2830,2920,{"$f":"AT315+AT315*Титул.лист!$A$1","v":3212},{"$f":"AU315+AU315*Титул.лист!$P$2","v":3212},3210,2330,{"$f":"AX315+AX315*Титул.лист!$A$1","v":2563},{"$f":"AY315+AY315*Титул.лист!$P$2","v":2563},2560,2950,{"$f":"BB315+BB315*Титул.лист!$A$1","v":3245},{"$f":"BC315+BC315*Титул.лист!$P$2","v":3245},3250,4150,{"$f":"BF315+BF315*Титул.лист!$A$1","v":4565},{"$f":"BG315+BG315*Титул.лист!$P$2","v":4565},4570]
[null,null,300,"h 920","1556-30с",1150,{"$f":"F316+F316*Титул.лист!$A$1","v":1265},{"$f":"G316+G316*Титул.лист!$P$2","v":1265},1270,1240,{"$f":"J316+J316*Титул.лист!$A$1","v":1364},{"$f":"K316+K316*Титул.лист!$P$2","v":1364},1360,1590,{"$f":"N316+N316*Титул.лист!$A$1","v":1749},{"$f":"O316+O316*Титул.лист!$P$2","v":1749},1750,1680,{"$f":"R316+R316*Титул.лист!$A$1","v":1848},{"$f":"S316+S316*Титул.лист!$P$2","v":1848},1850,1940,{"$f":"V316+V316*Титул.лист!$A$1","v":2134},{"$f":"W316+W316*Титул.лист!$P$2","v":2134},2130,2020,{"$f":"Z316+Z316*Титул.лист!$A$1","v":2222},{"$f":"AA316+AA316*Титул.лист!$P$2","v":2222},2220,1550,{"$f":"AD316+AD316*Титул.лист!$A$1","v":1705},{"$f":"AE316+AE316*Титул.лист!$P$2","v":1705},1710,1690,{"$f":"AH316+AH316*Титул.лист!$A$1","v":1859},{"$f":"AI316+AI316*Титул.лист!$P$2","v":1859},1860,1760.0000000000002,{"$f":"AL316+AL316*Титул.лист!$A$1","v":1936.0000000000002},{"$f":"AM316+AM316*Титул.лист!$P$2","v":1936.0000000000002},1940,3250,{"$f":"AP316+AP316*Титул.лист!$A$1","v":3575},{"$f":"AQ316+AQ316*Титул.лист!$P$2","v":3575},3580,3720,{"$f":"AT316+AT316*Титул.лист!$A$1","v":4092},{"$f":"AU316+AU316*Титул.лист!$P$2","v":4092},4090,2920,{"$f":"AX316+AX316*Титул.лист!$A$1","v":3212},{"$f":"AY316+AY316*Титул.лист!$P$2","v":3212},3210,3760,{"$f":"BB316+BB316*Титул.лист!$A$1","v":4136},{"$f":"BC316+BC316*Титул.лист!$P$2","v":4136},4140,5360,{"$f":"BF316+BF316*Титул.лист!$A$1","v":5896},{"$f":"BG316+BG316*Титул.лист!$P$2","v":5896},5900]
[null,"Шкаф торцевой радиусный 300 ",300,"h 600","1801-30",null,{"$f":"F317+F317*Титул.лист!$A$1","v":0},{"$f":"G317+G317*Титул.лист!$P$2","v":0},null,null,null,null,null,null,null,null,null,null,null,null,null,null,null,null,null,null,null,null,null,2650,{"$f":"AD317+AD317*Титул.лист!$A$1","v":2915},{"$f":"AE317+AE317*Титул.лист!$P$2","v":2915},2920,2750,{"$f":"AH317+AH317*Титул.лист!$A$1","v":3025},{"$f":"AI317+AI317*Титул.лист!$P$2","v":3025},3030,2780,{"$f":"AL317+AL317*Титул.лист!$A$1","v":3058},{"$f":"AM317+AM317*Титул.лист!$P$2","v":3058},3060,"нет",{"$f":"AP317+AP317*Титул.лист!$A$1","v":{"$error":"#VALUE!"}},{"$f":"AQ317+AQ317*Титул.лист!$P$2","v":{"$error":"#VALUE!"}}]
[null,null,300,"h 720","1802-30",null,{"$f":"F318+F318*Титул.лист!$A$1","v":0},{"$f":"G318+G318*Титул.лист!$P$2","v":0},null,null,null,null,null,null,null,null,null,null,null,null,null,null,null,null,null,null,null,null,null,2780,{"$f":"AD318+AD318*Титул.лист!$A$1","v":3058},{"$f":"AE318+AE318*Титул.лист!$P$2","v":3058},3060,2890,{"$f":"AH318+AH318*Титул.лист!$A$1","v":3179},{"$f":"AI318+AI318*Титул.лист!$P$2","v":3179},3180,2950,{"$f":"AL318+AL318*Титул.лист!$A$1","v":3245},{"$f":"AM318+AM318*Титул.лист!$P$2","v":3245},3250,5620,{"$f":"AP318+AP318*Титул.лист!$A$1","v":6182},{"$f":"AQ318+AQ318*Титул.лист!$P$2","v":6182},6180,5780,{"$f":"AT318+AT318*Титул.лист!$A$1","v":6358},{"$f":"AU318+AU318*Титул.лист!$P$2","v":6358},6360,"нет",{"$f":"AX318+AX318*Титул.лист!$A$1","v":{"$error":"#VALUE!"}},{"$f":"AY318+AY318*Титул.лист!$P$2","v":{"$error":"#VALUE!"}},null,null,null,null,null,9650,{"$f":"BF318+BF318*Титул.лист!$A$1","v":10615},{"$f":"BG318+BG318*Титул.лист!$P$2","v":10615},10620]
[null,null,300,"h 920","1803-30",null,{"$f":"F319+F319*Титул.лист!$A$1","v":0},{"$f":"G319+G319*Титул.лист!$P$2","v":0},null,null,null,null,null,null,null,null,null,null,null,null,null,null,null,null,null,null,null,null,null,3020,{"$f":"AD319+AD319*Титул.лист!$A$1","v":3322},{"$f":"AE319+AE319*Титул.лист!$P$2","v":3322},3320,3170,{"$f":"AH319+AH319*Титул.лист!$A$1","v":3487},{"$f":"AI319+AI319*Титул.лист!$P$2","v":3487},3490,3230,{"$f":"AL319+AL319*Титул.лист!$A$1","v":3553},{"$f":"AM319+AM319*Титул.лист!$P$2","v":3553},3550,5820,{"$f":"AP319+AP319*Титул.лист!$A$1","v":6402},{"$f":"AQ319+AQ319*Титул.лист!$P$2","v":6402},6400,5920,{"$f":"AT319+AT319*Титул.лист!$A$1","v":6512},{"$f":"AU319+AU319*Титул.лист!$P$2","v":6512},6510,"нет",{"$f":"AX319+AX319*Титул.лист!$A$1","v":{"$error":"#VALUE!"}},{"$f":"AY319+AY319*Титул.лист!$P$2","v":{"$error":"#VALUE!"}},null,null,null,null,null,9850,{"$f":"BF319+BF319*Титул.лист!$A$1","v":10835},{"$f":"BG319+BG319*Титул.лист!$P$2","v":10835},10840]
[null,"Шкаф настенный 1д с нишей",200,"h 720","1302-20",750,{"$f":"F320+F320*Титул.лист!$A$1","v":825},{"$f":"G320+G320*Титул.лист!$P$2","v":825},830,800,{"$f":"J320+J320*Титул.лист!$A$1","v":880},{"$f":"K320+K320*Титул.лист!$P$2","v":880},880,920,{"$f":"N320+N320*Титул.лист!$A$1","v":1012},{"$f":"O320+O320*Титул.лист!$P$2","v":1012},1010,970,{"$f":"R320+R320*Титул.лист!$A$1","v":1067},{"$f":"S320+S320*Титул.лист!$P$2","v":1067},1070,1000,{"$f":"V320+V320*Титул.лист!$A$1","v":1100},{"$f":"W320+W320*Титул.лист!$P$2","v":1100},1100,1000,{"$f":"Z320+Z320*Титул.лист!$A$1","v":1100},{"$f":"AA320+AA320*Титул.лист!$P$2","v":1100},1100,900,{"$f":"AD320+AD320*Титул.лист!$A$1","v":990},{"$f":"AE320+AE320*Титул.лист!$P$2","v":990},990,950,{"$f":"AH320+AH320*Титул.лист!$A$1","v":1045},{"$f":"AI320+AI320*Титул.лист!$P$2","v":1045},1050,950,{"$f":"AL320+AL320*Титул.лист!$A$1","v":1045},{"$f":"AM320+AM320*Титул.лист!$P$2","v":1045},1050,1459.9119999999998,{"$f":"AP320+AP320*Титул.лист!$A$1","v":1605.9031999999997},{"$f":"AQ320+AQ320*Титул.лист!$P$2","v":1605.9031999999997},1610,1501.1999999999998,{"$f":"AT320+AT320*Титул.лист!$A$1","v":1651.3199999999997},{"$f":"AU320+AU320*Титул.лист!$P$2","v":1651.3199999999997},1650,1275.5999999999999,{"$f":"AX320+AX320*Титул.лист!$A$1","v":1403.1599999999999},{"$f":"AY320+AY320*Титул.лист!$P$2","v":1403.1599999999999},1400,1513.1999999999998,{"$f":"BB320+BB320*Титул.лист!$A$1","v":1664.5199999999998},{"$f":"BC320+BC320*Титул.лист!$P$2","v":1664.5199999999998},1660,1969.2,{"$f":"BF320+BF320*Титул.лист!$A$1","v":2166.12},{"$f":"BG320+BG320*Титул.лист!$P$2","v":2166.12},2170]
[null,null,250,null,"1302-25",780,{"$f":"F321+F321*Титул.лист!$A$1","v":858},{"$f":"G321+G321*Титул.лист!$P$2","v":858},860,820,{"$f":"J321+J321*Титул.лист!$A$1","v":902},{"$f":"K321+K321*Титул.лист!$P$2","v":902},900,950,{"$f":"N321+N321*Титул.лист!$A$1","v":1045},{"$f":"O321+O321*Титул.лист!$P$2","v":1045},1050,990,{"$f":"R321+R321*Титул.лист!$A$1","v":1089},{"$f":"S321+S321*Титул.лист!$P$2","v":1089},1090,1050,{"$f":"V321+V321*Титул.лист!$A$1","v":1155},{"$f":"W321+W321*Титул.лист!$P$2","v":1155},1160,1100,{"$f":"Z321+Z321*Титул.лист!$A$1","v":1210},{"$f":"AA321+AA321*Титул.лист!$P$2","v":1210},1210,950,{"$f":"AD321+AD321*Титул.лист!$A$1","v":1045},{"$f":"AE321+AE321*Титул.лист!$P$2","v":1045},1050,1000,{"$f":"AH321+AH321*Титул.лист!$A$1","v":1100},{"$f":"AI321+AI321*Титул.лист!$P$2","v":1100},1100,1000,{"$f":"AL321+AL321*Титул.лист!$A$1","v":1100},{"$f":"AM321+AM321*Титул.лист!$P$2","v":1100},1100,1649.8899999999999,{"$f":"AP321+AP321*Титул.лист!$A$1","v":1814.8789999999999},{"$f":"AQ321+AQ321*Титул.лист!$P$2","v":1814.8789999999999},1810,1701.5,{"$f":"AT321+AT321*Титул.лист!$A$1","v":1871.65},{"$f":"AU321+AU321*Титул.лист!$P$2","v":1871.65},1870,1419.5,{"$f":"AX321+AX321*Титул.лист!$A$1","v":1561.45},{"$f":"AY321+AY321*Титул.лист!$P$2","v":1561.45},1560,1716.5,{"$f":"BB321+BB321*Титул.лист!$A$1","v":1888.15},{"$f":"BC321+BC321*Титул.лист!$P$2","v":1888.15},1890,2286.5,{"$f":"BF321+BF321*Титул.лист!$A$1","v":2515.15},{"$f":"BG321+BG321*Титул.лист!$P$2","v":2515.15},2520]
[null,null,300,null,"1302-30",800,{"$f":"F322+F322*Титул.лист!$A$1","v":880},{"$f":"G322+G322*Титул.лист!$P$2","v":880},880,850,{"$f":"J322+J322*Титул.лист!$A$1","v":935},{"$f":"K322+K322*Титул.лист!$P$2","v":935},940,970,{"$f":"N322+N322*Титул.лист!$A$1","v":1067},{"$f":"O322+O322*Титул.лист!$P$2","v":1067},1070,1010,{"$f":"R322+R322*Титул.лист!$A$1","v":1111},{"$f":"S322+S322*Титул.лист!$P$2","v":1111},1110,1100,{"$f":"V322+V322*Титул.лист!$A$1","v":1210},{"$f":"W322+W322*Титул.лист!$P$2","v":1210},1210,1140,{"$f":"Z322+Z322*Титул.лист!$A$1","v":1254},{"$f":"AA322+AA322*Титул.лист!$P$2","v":1254},1250,1000,{"$f":"AD322+AD322*Титул.лист!$A$1","v":1100},{"$f":"AE322+AE322*Титул.лист!$P$2","v":1100},1100,1040,{"$f":"AH322+AH322*Титул.лист!$A$1","v":1144},{"$f":"AI322+AI322*Титул.лист!$P$2","v":1144},1140,1080,{"$f":"AL322+AL322*Титул.лист!$A$1","v":1188},{"$f":"AM322+AM322*Титул.лист!$P$2","v":1188},1190,1839.8679999999999,{"$f":"AP322+AP322*Титул.лист!$A$1","v":2023.8548000000001},{"$f":"AQ322+AQ322*Титул.лист!$P$2","v":2023.8548000000001},2020,1901.8,{"$f":"AT322+AT322*Титул.лист!$A$1","v":2091.98},{"$f":"AU322+AU322*Титул.лист!$P$2","v":2091.98},2090,1563.4,{"$f":"AX322+AX322*Титул.лист!$A$1","v":1719.7400000000002},{"$f":"AY322+AY322*Титул.лист!$P$2","v":1719.7400000000002},1720,1919.8,{"$f":"BB322+BB322*Титул.лист!$A$1","v":2111.7799999999997},{"$f":"BC322+BC322*Титул.лист!$P$2","v":2111.7799999999997},2110,2603.8000000000002,{"$f":"BF322+BF322*Титул.лист!$A$1","v":2864.1800000000003},{"$f":"BG322+BG322*Титул.лист!$P$2","v":2864.1800000000003},2860]
[null,null,350,null,"1302-35",900,{"$f":"F323+F323*Титул.лист!$A$1","v":990},{"$f":"G323+G323*Титул.лист!$P$2","v":990},990,950,{"$f":"J323+J323*Титул.лист!$A$1","v":1045},{"$f":"K323+K323*Титул.лист!$P$2","v":1045},1050,1130,{"$f":"N323+N323*Титул.лист!$A$1","v":1243},{"$f":"O323+O323*Титул.лист!$P$2","v":1243},1240,1150,{"$f":"R323+R323*Титул.лист!$A$1","v":1265},{"$f":"S323+S323*Титул.лист!$P$2","v":1265},1270,1300,{"$f":"V323+V323*Титул.лист!$A$1","v":1430},{"$f":"W323+W323*Титул.лист!$P$2","v":1430},1430,1300,{"$f":"Z323+Z323*Титул.лист!$A$1","v":1430},{"$f":"AA323+AA323*Титул.лист!$P$2","v":1430},1430,1100,{"$f":"AD323+AD323*Титул.лист!$A$1","v":1210},{"$f":"AE323+AE323*Титул.лист!$P$2","v":1210},1210,1200,{"$f":"AH323+AH323*Титул.лист!$A$1","v":1320},{"$f":"AI323+AI323*Титул.лист!$P$2","v":1320},1320,1200,{"$f":"AL323+AL323*Титул.лист!$A$1","v":1320},{"$f":"AM323+AM323*Титул.лист!$P$2","v":1320},1320,2079.846,{"$f":"AP323+AP323*Титул.лист!$A$1","v":2287.8306000000002},{"$f":"AQ323+AQ323*Титул.лист!$P$2","v":2287.8306000000002},2290,2152.1,{"$f":"AT323+AT323*Титул.лист!$A$1","v":2367.31},{"$f":"AU323+AU323*Титул.лист!$P$2","v":2367.31},2370,1757.3,{"$f":"AX323+AX323*Титул.лист!$A$1","v":1933.03},{"$f":"AY323+AY323*Титул.лист!$P$2","v":1933.03},1930,2173.1,{"$f":"BB323+BB323*Титул.лист!$A$1","v":2390.41},{"$f":"BC323+BC323*Титул.лист!$P$2","v":2390.41},2390,2971.1,{"$f":"BF323+BF323*Титул.лист!$A$1","v":3268.21},{"$f":"BG323+BG323*Титул.лист!$P$2","v":3268.21},3270]
[null,null,400,null,"1302-40",950,{"$f":"F324+F324*Титул.лист!$A$1","v":1045},{"$f":"G324+G324*Титул.лист!$P$2","v":1045},{"$f":"ROUND(H324,-1)","v":1050},990.00000000000011,{"$f":"J324+J324*Титул.лист!$A$1","v":1089.0000000000002},{"$f":"K324+K324*Титул.лист!$P$2","v":1089.0000000000002},{"$f":"ROUND(L324,-1)","v":1090},1180,{"$f":"N324+N324*Титул.лист!$A$1","v":1298},{"$f":"O324+O324*Титул.лист!$P$2","v":1298},{"$f":"ROUND(P324,-1)","v":1300},1220,{"$f":"R324+R324*Титул.лист!$A$1","v":1342},{"$f":"S324+S324*Титул.лист!$P$2","v":1342},{"$f":"ROUND(T324,-1)","v":1340},1350,{"$f":"V324+V324*Титул.лист!$A$1","v":1485},{"$f":"W324+W324*Титул.лист!$P$2","v":1485},{"$f":"ROUND(X324,-1)","v":1490},1400,{"$f":"Z324+Z324*Титул.лист!$A$1","v":1540},{"$f":"AA324+AA324*Титул.лист!$P$2","v":1540},{"$f":"ROUND(AB324,-1)","v":1540},1190,{"$f":"AD324+AD324*Титул.лист!$A$1","v":1309},{"$f":"AE324+AE324*Титул.лист!$P$2","v":1309},{"$f":"ROUND(AF324,-1)","v":1310},1260,{"$f":"AH324+AH324*Титул.лист!$A$1","v":1386},{"$f":"AI324+AI324*Титул.лист!$P$2","v":1386},{"$f":"ROUND(AJ324,-1)","v":1390},1300,{"$f":"AL324+AL324*Титул.лист!$A$1","v":1430},{"$f":"AM324+AM324*Титул.лист!$P$2","v":1430},{"$f":"ROUND(AN324,-1)","v":1430},2309.8239999999996,{"$f":"AP324+AP324*Титул.лист!$A$1","v":2540.8063999999995},{"$f":"AQ324+AQ324*Титул.лист!$P$2","v":2540.8063999999995},{"$f":"ROUND(AR324,-1)","v":2540},2392.3999999999996,{"$f":"AT324+AT324*Титул.лист!$A$1","v":2631.6399999999994},{"$f":"AU324+AU324*Титул.лист!$P$2","v":2631.6399999999994},{"$f":"ROUND(AV324,-1)","v":2630},1941.1999999999998,{"$f":"AX324+AX324*Титул.лист!$A$1","v":2135.3199999999997},{"$f":"AY324+AY324*Титул.лист!$P$2","v":2135.3199999999997},{"$f":"ROUND(AZ324,-1)","v":2140},2416.3999999999996,{"$f":"BB324+BB324*Титул.лист!$A$1","v":2658.0399999999995},{"$f":"BC324+BC324*Титул.лист!$P$2","v":2658.0399999999995},{"$f":"ROUND(BD324,-1)","v":2660},3328.4,{"$f":"BF324+BF324*Титул.лист!$A$1","v":3661.2400000000002},{"$f":"BG324+BG324*Титул.лист!$P$2","v":3661.2400000000002},{"$f":"ROUND(BH324,-1)","v":3660}]
[null,null,450,null,"1302-45",1050,{"$f":"F325+F325*Титул.лист!$A$1","v":1155},{"$f":"G325+G325*Титул.лист!$P$2","v":1155},1160,1050,{"$f":"J325+J325*Титул.лист!$A$1","v":1155},{"$f":"K325+K325*Титул.лист!$P$2","v":1155},1160,1270,{"$f":"N325+N325*Титул.лист!$A$1","v":1397},{"$f":"O325+O325*Титул.лист!$P$2","v":1397},1400,1350,{"$f":"R325+R325*Титул.лист!$A$1","v":1485},{"$f":"S325+S325*Титул.лист!$P$2","v":1485},1490,1500,{"$f":"V325+V325*Титул.лист!$A$1","v":1650},{"$f":"W325+W325*Титул.лист!$P$2","v":1650},1650,1550,{"$f":"Z325+Z325*Титул.лист!$A$1","v":1705},{"$f":"AA325+AA325*Титул.лист!$P$2","v":1705},1710,1300,{"$f":"AD325+AD325*Титул.лист!$A$1","v":1430},{"$f":"AE325+AE325*Титул.лист!$P$2","v":1430},1430,1370,{"$f":"AH325+AH325*Титул.лист!$A$1","v":1507},{"$f":"AI325+AI325*Титул.лист!$P$2","v":1507},1510,1400,{"$f":"AL325+AL325*Титул.лист!$A$1","v":1540},{"$f":"AM325+AM325*Титул.лист!$P$2","v":1540},1540,2559.8019999999997,{"$f":"AP325+AP325*Титул.лист!$A$1","v":2815.7821999999996},{"$f":"AQ325+AQ325*Титул.лист!$P$2","v":2815.7821999999996},2820,2652.7,{"$f":"AT325+AT325*Титул.лист!$A$1","v":2917.97},{"$f":"AU325+AU325*Титул.лист!$P$2","v":2917.97},2920,2145.1,{"$f":"AX325+AX325*Титул.лист!$A$1","v":2359.6099999999997},{"$f":"AY325+AY325*Титул.лист!$P$2","v":2359.6099999999997},2360,2679.7,{"$f":"BB325+BB325*Титул.лист!$A$1","v":2947.6699999999996},{"$f":"BC325+BC325*Титул.лист!$P$2","v":2947.6699999999996},2950,3705.7,{"$f":"BF325+BF325*Титул.лист!$A$1","v":4076.27},{"$f":"BG325+BG325*Титул.лист!$P$2","v":4076.27},4080]
[null,null,500,null,"1302-50",1090,{"$f":"F326+F326*Титул.лист!$A$1","v":1199},{"$f":"G326+G326*Титул.лист!$P$2","v":1199},1200,1130,{"$f":"J326+J326*Титул.лист!$A$1","v":1243},{"$f":"K326+K326*Титул.лист!$P$2","v":1243},1240,1360,{"$f":"N326+N326*Титул.лист!$A$1","v":1496},{"$f":"O326+O326*Титул.лист!$P$2","v":1496},1500,1410,{"$f":"R326+R326*Титул.лист!$A$1","v":1551},{"$f":"S326+S326*Титул.лист!$P$2","v":1551},1550,1580,{"$f":"V326+V326*Титул.лист!$A$1","v":1738},{"$f":"W326+W326*Титул.лист!$P$2","v":1738},1740,1630,{"$f":"Z326+Z326*Титул.лист!$A$1","v":1793},{"$f":"AA326+AA326*Титул.лист!$P$2","v":1793},1790,1390,{"$f":"AD326+AD326*Титул.лист!$A$1","v":1529},{"$f":"AE326+AE326*Титул.лист!$P$2","v":1529},1530,1470,{"$f":"AH326+AH326*Титул.лист!$A$1","v":1617},{"$f":"AI326+AI326*Титул.лист!$P$2","v":1617},1620,1520,{"$f":"AL326+AL326*Титул.лист!$A$1","v":1672},{"$f":"AM326+AM326*Титул.лист!$P$2","v":1672},1670,2789.7799999999997,{"$f":"AP326+AP326*Титул.лист!$A$1","v":3068.7579999999998},{"$f":"AQ326+AQ326*Титул.лист!$P$2","v":3068.7579999999998},3070,2893,{"$f":"AT326+AT326*Титул.лист!$A$1","v":3182.3},{"$f":"AU326+AU326*Титул.лист!$P$2","v":3182.3},3180,2329,{"$f":"AX326+AX326*Титул.лист!$A$1","v":2561.9},{"$f":"AY326+AY326*Титул.лист!$P$2","v":2561.9},2560,2923,{"$f":"BB326+BB326*Титул.лист!$A$1","v":3215.3},{"$f":"BC326+BC326*Титул.лист!$P$2","v":3215.3},3220,4063,{"$f":"BF326+BF326*Титул.лист!$A$1","v":4469.3},{"$f":"BG326+BG326*Титул.лист!$P$2","v":4469.3},4470]
[null,null,550,null,"1302-55",1150,{"$f":"F327+F327*Титул.лист!$A$1","v":1265},{"$f":"G327+G327*Титул.лист!$P$2","v":1265},1270,1230,{"$f":"J327+J327*Титул.лист!$A$1","v":1353},{"$f":"K327+K327*Титул.лист!$P$2","v":1353},1350,1470,{"$f":"N327+N327*Титул.лист!$A$1","v":1617},{"$f":"O327+O327*Титул.лист!$P$2","v":1617},1620,1570,{"$f":"R327+R327*Титул.лист!$A$1","v":1727},{"$f":"S327+S327*Титул.лист!$P$2","v":1727},1730,1750,{"$f":"V327+V327*Титул.лист!$A$1","v":1925},{"$f":"W327+W327*Титул.лист!$P$2","v":1925},1930,1780,{"$f":"Z327+Z327*Титул.лист!$A$1","v":1958},{"$f":"AA327+AA327*Титул.лист!$P$2","v":1958},1960,1490,{"$f":"AD327+AD327*Титул.лист!$A$1","v":1639},{"$f":"AE327+AE327*Титул.лист!$P$2","v":1639},1640,1650,{"$f":"AH327+AH327*Титул.лист!$A$1","v":1815},{"$f":"AI327+AI327*Титул.лист!$P$2","v":1815},1820,1700,{"$f":"AL327+AL327*Титул.лист!$A$1","v":1870},{"$f":"AM327+AM327*Титул.лист!$P$2","v":1870},1870,3029.7579999999998,{"$f":"AP327+AP327*Титул.лист!$A$1","v":3332.7338},{"$f":"AQ327+AQ327*Титул.лист!$P$2","v":3332.7338},3330,3143.2999999999997,{"$f":"AT327+AT327*Титул.лист!$A$1","v":3457.6299999999997},{"$f":"AU327+AU327*Титул.лист!$P$2","v":3457.6299999999997},3460,2522.8999999999996,{"$f":"AX327+AX327*Титул.лист!$A$1","v":2775.1899999999996},{"$f":"AY327+AY327*Титул.лист!$P$2","v":2775.1899999999996},2780,3176.2999999999997,{"$f":"BB327+BB327*Титул.лист!$A$1","v":3493.93},{"$f":"BC327+BC327*Титул.лист!$P$2","v":3493.93},3490,4430.2999999999993,{"$f":"BF327+BF327*Титул.лист!$A$1","v":4873.329999999999},{"$f":"BG327+BG327*Титул.лист!$P$2","v":4873.329999999999},4870]
[null,null,600,null,"1302-60",1210,{"$f":"F328+F328*Титул.лист!$A$1","v":1331},{"$f":"G328+G328*Титул.лист!$P$2","v":1331},1330,1280,{"$f":"J328+J328*Титул.лист!$A$1","v":1408},{"$f":"K328+K328*Титул.лист!$P$2","v":1408},1410,1550,{"$f":"N328+N328*Титул.лист!$A$1","v":1705},{"$f":"O328+O328*Титул.лист!$P$2","v":1705},1710,1620,{"$f":"R328+R328*Титул.лист!$A$1","v":1782},{"$f":"S328+S328*Титул.лист!$P$2","v":1782},1780,1810,{"$f":"V328+V328*Титул.лист!$A$1","v":1991},{"$f":"W328+W328*Титул.лист!$P$2","v":1991},1990,1880,{"$f":"Z328+Z328*Титул.лист!$A$1","v":2068},{"$f":"AA328+AA328*Титул.лист!$P$2","v":2068},2070,1590,{"$f":"AD328+AD328*Титул.лист!$A$1","v":1749},{"$f":"AE328+AE328*Титул.лист!$P$2","v":1749},1750,1700,{"$f":"AH328+AH328*Титул.лист!$A$1","v":1870},{"$f":"AI328+AI328*Титул.лист!$P$2","v":1870},1870,1760.0000000000002,{"$f":"AL328+AL328*Титул.лист!$A$1","v":1936.0000000000002},{"$f":"AM328+AM328*Титул.лист!$P$2","v":1936.0000000000002},1940,3269.7359999999999,{"$f":"AP328+AP328*Титул.лист!$A$1","v":3596.7096000000001},{"$f":"AQ328+AQ328*Титул.лист!$P$2","v":3596.7096000000001},3600,3393.6,{"$f":"AT328+AT328*Титул.лист!$A$1","v":3732.96},{"$f":"AU328+AU328*Титул.лист!$P$2","v":3732.96},3730,2716.8,{"$f":"AX328+AX328*Титул.лист!$A$1","v":2988.48},{"$f":"AY328+AY328*Титул.лист!$P$2","v":2988.48},2990,3429.6,{"$f":"BB328+BB328*Титул.лист!$A$1","v":3772.56},{"$f":"BC328+BC328*Титул.лист!$P$2","v":3772.56},3770,4797.6000000000004,{"$f":"BF328+BF328*Титул.лист!$A$1","v":5277.3600000000006},{"$f":"BG328+BG328*Титул.лист!$P$2","v":5277.3600000000006},5280]
[null,null,200,"h 920","1306-20",860,{"$f":"F329+F329*Титул.лист!$A$1","v":946},{"$f":"G329+G329*Титул.лист!$P$2","v":946},950,930,{"$f":"J329+J329*Титул.лист!$A$1","v":1023},{"$f":"K329+K329*Титул.лист!$P$2","v":1023},1020,1050,{"$f":"N329+N329*Титул.лист!$A$1","v":1155},{"$f":"O329+O329*Титул.лист!$P$2","v":1155},1160,1100,{"$f":"R329+R329*Титул.лист!$A$1","v":1210},{"$f":"S329+S329*Титул.лист!$P$2","v":1210},1210,1230,{"$f":"V329+V329*Титул.лист!$A$1","v":1353},{"$f":"W329+W329*Титул.лист!$P$2","v":1353},1350,1270,{"$f":"Z329+Z329*Титул.лист!$A$1","v":1397},{"$f":"AA329+AA329*Титул.лист!$P$2","v":1397},1400,1050,{"$f":"AD329+AD329*Титул.лист!$A$1","v":1155},{"$f":"AE329+AE329*Титул.лист!$P$2","v":1155},1160,1150,{"$f":"AH329+AH329*Титул.лист!$A$1","v":1265},{"$f":"AI329+AI329*Титул.лист!$P$2","v":1265},1270,1200,{"$f":"AL329+AL329*Титул.лист!$A$1","v":1320},{"$f":"AM329+AM329*Титул.лист!$P$2","v":1320},1320,1766.3119999999999,{"$f":"AP329+AP329*Титул.лист!$A$1","v":1942.9431999999999},{"$f":"AQ329+AQ329*Титул.лист!$P$2","v":1942.9431999999999},1940,1851.6,{"$f":"AT329+AT329*Титул.лист!$A$1","v":2036.76},{"$f":"AU329+AU329*Титул.лист!$P$2","v":2036.76},2040,1550.8,{"$f":"AX329+AX329*Титул.лист!$A$1","v":1705.8799999999999},{"$f":"AY329+AY329*Титул.лист!$P$2","v":1705.8799999999999},1710,1867.6,{"$f":"BB329+BB329*Титул.лист!$A$1","v":2054.3599999999997},{"$f":"BC329+BC329*Титул.лист!$P$2","v":2054.3599999999997},2050,2475.6000000000004,{"$f":"BF329+BF329*Титул.лист!$A$1","v":2723.1600000000003},{"$f":"BG329+BG329*Титул.лист!$P$2","v":2723.1600000000003},2720]
[null,null,250,null,"1306-25",900,{"$f":"F330+F330*Титул.лист!$A$1","v":990},{"$f":"G330+G330*Титул.лист!$P$2","v":990},990,950,{"$f":"J330+J330*Титул.лист!$A$1","v":1045},{"$f":"K330+K330*Титул.лист!$P$2","v":1045},1050,1100,{"$f":"N330+N330*Титул.лист!$A$1","v":1210},{"$f":"O330+O330*Титул.лист!$P$2","v":1210},1210,1150,{"$f":"R330+R330*Титул.лист!$A$1","v":1265},{"$f":"S330+S330*Титул.лист!$P$2","v":1265},1270,1270,{"$f":"V330+V330*Титул.лист!$A$1","v":1397},{"$f":"W330+W330*Титул.лист!$P$2","v":1397},1400,1330,{"$f":"Z330+Z330*Титул.лист!$A$1","v":1463},{"$f":"AA330+AA330*Титул.лист!$P$2","v":1463},1460,1130,{"$f":"AD330+AD330*Титул.лист!$A$1","v":1243},{"$f":"AE330+AE330*Титул.лист!$P$2","v":1243},1240,1200,{"$f":"AH330+AH330*Титул.лист!$A$1","v":1320},{"$f":"AI330+AI330*Титул.лист!$P$2","v":1320},1320,1250,{"$f":"AL330+AL330*Титул.лист!$A$1","v":1375},{"$f":"AM330+AM330*Титул.лист!$P$2","v":1375},1380,2025.3899999999999,{"$f":"AP330+AP330*Титул.лист!$A$1","v":2227.9290000000001},{"$f":"AQ330+AQ330*Титул.лист!$P$2","v":2227.9290000000001},2230,2132,{"$f":"AT330+AT330*Титул.лист!$A$1","v":2345.1999999999998},{"$f":"AU330+AU330*Титул.лист!$P$2","v":2345.1999999999998},2350,1756,{"$f":"AX330+AX330*Титул.лист!$A$1","v":1931.6},{"$f":"AY330+AY330*Титул.лист!$P$2","v":1931.6},1930,2152,{"$f":"BB330+BB330*Титул.лист!$A$1","v":2367.1999999999998},{"$f":"BC330+BC330*Титул.лист!$P$2","v":2367.1999999999998},2370,2912,{"$f":"BF330+BF330*Титул.лист!$A$1","v":3203.2},{"$f":"BG330+BG330*Титул.лист!$P$2","v":3203.2},3200]
[null,null,300,null,"1306-30",920,{"$f":"F331+F331*Титул.лист!$A$1","v":1012},{"$f":"G331+G331*Титул.лист!$P$2","v":1012},1010,970,{"$f":"J331+J331*Титул.лист!$A$1","v":1067},{"$f":"K331+K331*Титул.лист!$P$2","v":1067},1070,1150,{"$f":"N331+N331*Титул.лист!$A$1","v":1265},{"$f":"O331+O331*Титул.лист!$P$2","v":1265},1270,1200,{"$f":"R331+R331*Титул.лист!$A$1","v":1320},{"$f":"S331+S331*Титул.лист!$P$2","v":1320},1320,1330,{"$f":"V331+V331*Титул.лист!$A$1","v":1463},{"$f":"W331+W331*Титул.лист!$P$2","v":1463},1460,1370,{"$f":"Z331+Z331*Титул.лист!$A$1","v":1507},{"$f":"AA331+AA331*Титул.лист!$P$2","v":1507},1510,1170,{"$f":"AD331+AD331*Титул.лист!$A$1","v":1287},{"$f":"AE331+AE331*Титул.лист!$P$2","v":1287},1290,1240,{"$f":"AH331+AH331*Титул.лист!$A$1","v":1364},{"$f":"AI331+AI331*Титул.лист!$P$2","v":1364},1360,1280,{"$f":"AL331+AL331*Титул.лист!$A$1","v":1408},{"$f":"AM331+AM331*Титул.лист!$P$2","v":1408},1410,2244.4679999999998,{"$f":"AP331+AP331*Титул.лист!$A$1","v":2468.9148},{"$f":"AQ331+AQ331*Титул.лист!$P$2","v":2468.9148},2470,2372.4,{"$f":"AT331+AT331*Титул.лист!$A$1","v":2609.6400000000003},{"$f":"AU331+AU331*Титул.лист!$P$2","v":2609.6400000000003},2610,1921.2,{"$f":"AX331+AX331*Титул.лист!$A$1","v":2113.3200000000002},{"$f":"AY331+AY331*Титул.лист!$P$2","v":2113.3200000000002},2110,2396.4,{"$f":"BB331+BB331*Титул.лист!$A$1","v":2636.04},{"$f":"BC331+BC331*Титул.лист!$P$2","v":2636.04},2640,3308.4,{"$f":"BF331+BF331*Титул.лист!$A$1","v":3639.2400000000002},{"$f":"BG331+BG331*Титул.лист!$P$2","v":3639.2400000000002},3640]
[null,null,350,null,"1306-35",1000,{"$f":"F332+F332*Титул.лист!$A$1","v":1100},{"$f":"G332+G332*Титул.лист!$P$2","v":1100},1100,1100,{"$f":"J332+J332*Титул.лист!$A$1","v":1210},{"$f":"K332+K332*Титул.лист!$P$2","v":1210},1210,1320,{"$f":"N332+N332*Титул.лист!$A$1","v":1452},{"$f":"O332+O332*Титул.лист!$P$2","v":1452},1450,1400,{"$f":"R332+R332*Титул.лист!$A$1","v":1540},{"$f":"S332+S332*Титул.лист!$P$2","v":1540},1540,1570,{"$f":"V332+V332*Титул.лист!$A$1","v":1727},{"$f":"W332+W332*Титул.лист!$P$2","v":1727},1730,1520,{"$f":"Z332+Z332*Титул.лист!$A$1","v":1672},{"$f":"AA332+AA332*Титул.лист!$P$2","v":1672},1670,1300,{"$f":"AD332+AD332*Титул.лист!$A$1","v":1430},{"$f":"AE332+AE332*Титул.лист!$P$2","v":1430},1430,1380,{"$f":"AH332+AH332*Титул.лист!$A$1","v":1518},{"$f":"AI332+AI332*Титул.лист!$P$2","v":1518},1520,1450,{"$f":"AL332+AL332*Титул.лист!$A$1","v":1595},{"$f":"AM332+AM332*Титул.лист!$P$2","v":1595},1600,2553.5460000000003,{"$f":"AP332+AP332*Титул.лист!$A$1","v":2808.9006000000004},{"$f":"AQ332+AQ332*Титул.лист!$P$2","v":2808.9006000000004},2810,2702.8,{"$f":"AT332+AT332*Титул.лист!$A$1","v":2973.0800000000004},{"$f":"AU332+AU332*Титул.лист!$P$2","v":2973.0800000000004},2970,2176.4,{"$f":"AX332+AX332*Титул.лист!$A$1","v":2394.04},{"$f":"AY332+AY332*Титул.лист!$P$2","v":2394.04},2390,2730.8,{"$f":"BB332+BB332*Титул.лист!$A$1","v":3003.88},{"$f":"BC332+BC332*Титул.лист!$P$2","v":3003.88},3000,3794.8,{"$f":"BF332+BF332*Титул.лист!$A$1","v":4174.2800000000007},{"$f":"BG332+BG332*Титул.лист!$P$2","v":4174.2800000000007},4170]
[null,null,400,null,"1306-40",1080,{"$f":"F333+F333*Титул.лист!$A$1","v":1188},{"$f":"G333+G333*Титул.лист!$P$2","v":1188},1190,1133,{"$f":"J333+J333*Титул.лист!$A$1","v":1246.3},{"$f":"K333+K333*Титул.лист!$P$2","v":1246.3},1250,1390,{"$f":"N333+N333*Титул.лист!$A$1","v":1529},{"$f":"O333+O333*Титул.лист!$P$2","v":1529},1530,1440,{"$f":"R333+R333*Титул.лист!$A$1","v":1584},{"$f":"S333+S333*Титул.лист!$P$2","v":1584},1580,1630,{"$f":"V333+V333*Титул.лист!$A$1","v":1793},{"$f":"W333+W333*Титул.лист!$P$2","v":1793},1790,1680,{"$f":"Z333+Z333*Титул.лист!$A$1","v":1848},{"$f":"AA333+AA333*Титул.лист!$P$2","v":1848},1850,1410,{"$f":"AD333+AD333*Титул.лист!$A$1","v":1551},{"$f":"AE333+AE333*Титул.лист!$P$2","v":1551},1550,1510,{"$f":"AH333+AH333*Титул.лист!$A$1","v":1661},{"$f":"AI333+AI333*Титул.лист!$P$2","v":1661},1660,1550,{"$f":"AL333+AL333*Титул.лист!$A$1","v":1705},{"$f":"AM333+AM333*Титул.лист!$P$2","v":1705},1710,2842.6239999999998,{"$f":"AP333+AP333*Титул.лист!$A$1","v":3126.8863999999999},{"$f":"AQ333+AQ333*Титул.лист!$P$2","v":3126.8863999999999},3130,3013.2,{"$f":"AT333+AT333*Титул.лист!$A$1","v":3314.52},{"$f":"AU333+AU333*Титул.лист!$P$2","v":3314.52},3310,2411.6,{"$f":"AX333+AX333*Титул.лист!$A$1","v":2652.7599999999998},{"$f":"AY333+AY333*Титул.лист!$P$2","v":2652.7599999999998},2650,3045.2,{"$f":"BB333+BB333*Титул.лист!$A$1","v":3349.72},{"$f":"BC333+BC333*Титул.лист!$P$2","v":3349.72},3350,4261.2000000000007,{"$f":"BF333+BF333*Титул.лист!$A$1","v":4687.3200000000006},{"$f":"BG333+BG333*Титул.лист!$P$2","v":4687.3200000000006},4690]
[null,null,450,null,"1306-45",1170,{"$f":"F334+F334*Титул.лист!$A$1","v":1287},{"$f":"G334+G334*Титул.лист!$P$2","v":1287},1290,1200,{"$f":"J334+J334*Титул.лист!$A$1","v":1320},{"$f":"K334+K334*Титул.лист!$P$2","v":1320},1320,1570,{"$f":"N334+N334*Титул.лист!$A$1","v":1727},{"$f":"O334+O334*Титул.лист!$P$2","v":1727},1730,1600,{"$f":"R334+R334*Титул.лист!$A$1","v":1760},{"$f":"S334+S334*Титул.лист!$P$2","v":1760},1760,1850,{"$f":"V334+V334*Титул.лист!$A$1","v":2035},{"$f":"W334+W334*Титул.лист!$P$2","v":2035},2040,1900,{"$f":"Z334+Z334*Титул.лист!$A$1","v":2090},{"$f":"AA334+AA334*Титул.лист!$P$2","v":2090},2090,1600,{"$f":"AD334+AD334*Титул.лист!$A$1","v":1760},{"$f":"AE334+AE334*Титул.лист!$P$2","v":1760},1760,1700,{"$f":"AH334+AH334*Титул.лист!$A$1","v":1870},{"$f":"AI334+AI334*Титул.лист!$P$2","v":1870},1870,1780,{"$f":"AL334+AL334*Титул.лист!$A$1","v":1958},{"$f":"AM334+AM334*Титул.лист!$P$2","v":1958},1960,3211.7020000000002,{"$f":"AP334+AP334*Титул.лист!$A$1","v":3532.8722000000002},{"$f":"AQ334+AQ334*Титул.лист!$P$2","v":3532.8722000000002},3530,3403.6000000000004,{"$f":"AT334+AT334*Титул.лист!$A$1","v":3743.9600000000005},{"$f":"AU334+AU334*Титул.лист!$P$2","v":3743.9600000000005},3740,2726.8,{"$f":"AX334+AX334*Титул.лист!$A$1","v":2999.48},{"$f":"AY334+AY334*Титул.лист!$P$2","v":2999.48},3000,3439.6000000000004,{"$f":"BB334+BB334*Титул.лист!$A$1","v":3783.5600000000004},{"$f":"BC334+BC334*Титул.лист!$P$2","v":3783.5600000000004},3780,4807.6000000000004,{"$f":"BF334+BF334*Титул.лист!$A$1","v":5288.3600000000006},{"$f":"BG334+BG334*Титул.лист!$P$2","v":5288.3600000000006},5290]
[null,null,500,null,"1306-50",1230,{"$f":"F335+F335*Титул.лист!$A$1","v":1353},{"$f":"G335+G335*Титул.лист!$P$2","v":1353},1350,1287,{"$f":"J335+J335*Титул.лист!$A$1","v":1415.7},{"$f":"K335+K335*Титул.лист!$P$2","v":1415.7},1420,1630,{"$f":"N335+N335*Титул.лист!$A$1","v":1793},{"$f":"O335+O335*Титул.лист!$P$2","v":1793},1790,1683.0000000000002,{"$f":"R335+R335*Титул.лист!$A$1","v":1851.3000000000002},{"$f":"S335+S335*Титул.лист!$P$2","v":1851.3000000000002},1850,1920,{"$f":"V335+V335*Титул.лист!$A$1","v":2112},{"$f":"W335+W335*Титул.лист!$P$2","v":2112},2110,1980.0000000000002,{"$f":"Z335+Z335*Титул.лист!$A$1","v":2178.0000000000005},{"$f":"AA335+AA335*Титул.лист!$P$2","v":2178.0000000000005},2180,1650.0000000000002,{"$f":"AD335+AD335*Титул.лист!$A$1","v":1815.0000000000002},{"$f":"AE335+AE335*Титул.лист!$P$2","v":1815.0000000000002},1820,1780,{"$f":"AH335+AH335*Титул.лист!$A$1","v":1958},{"$f":"AI335+AI335*Титул.лист!$P$2","v":1958},1960,1840,{"$f":"AL335+AL335*Титул.лист!$A$1","v":2024},{"$f":"AM335+AM335*Титул.лист!$P$2","v":2024},2020,3440.78,{"$f":"AP335+AP335*Титул.лист!$A$1","v":3784.8580000000002},{"$f":"AQ335+AQ335*Титул.лист!$P$2","v":3784.8580000000002},3780,3654,{"$f":"AT335+AT335*Титул.лист!$A$1","v":4019.4},{"$f":"AU335+AU335*Титул.лист!$P$2","v":4019.4},4020,2902,{"$f":"AX335+AX335*Титул.лист!$A$1","v":3192.2},{"$f":"AY335+AY335*Титул.лист!$P$2","v":3192.2},3190,3694,{"$f":"BB335+BB335*Титул.лист!$A$1","v":4063.4},{"$f":"BC335+BC335*Титул.лист!$P$2","v":4063.4},4060,5214,{"$f":"BF335+BF335*Титул.лист!$A$1","v":5735.4},{"$f":"BG335+BG335*Титул.лист!$P$2","v":5735.4},5740]
[null,null,550,null,"1306-55",1300,{"$f":"F336+F336*Титул.лист!$A$1","v":1430},{"$f":"G336+G336*Титул.лист!$P$2","v":1430},1430,1400,{"$f":"J336+J336*Титул.лист!$A$1","v":1540},{"$f":"K336+K336*Титул.лист!$P$2","v":1540},1540,1780,{"$f":"N336+N336*Титул.лист!$A$1","v":1958},{"$f":"O336+O336*Титул.лист!$P$2","v":1958},1960,1850,{"$f":"R336+R336*Титул.лист!$A$1","v":2035},{"$f":"S336+S336*Титул.лист!$P$2","v":2035},2040,2100,{"$f":"V336+V336*Титул.лист!$A$1","v":2310},{"$f":"W336+W336*Титул.лист!$P$2","v":2310},2310,2170,{"$f":"Z336+Z336*Титул.лист!$A$1","v":2387},{"$f":"AA336+AA336*Титул.лист!$P$2","v":2387},2390,1800,{"$f":"AD336+AD336*Титул.лист!$A$1","v":1980},{"$f":"AE336+AE336*Титул.лист!$P$2","v":1980},1980,2000,{"$f":"AH336+AH336*Титул.лист!$A$1","v":2200},{"$f":"AI336+AI336*Титул.лист!$P$2","v":2200},2200,2070,{"$f":"AL336+AL336*Титул.лист!$A$1","v":2277},{"$f":"AM336+AM336*Титул.лист!$P$2","v":2277},2280,3769.8580000000002,{"$f":"AP336+AP336*Титул.лист!$A$1","v":4146.8438000000006},{"$f":"AQ336+AQ336*Титул.лист!$P$2","v":4146.8438000000006},4150,4004.4,{"$f":"AT336+AT336*Титул.лист!$A$1","v":4404.84},{"$f":"AU336+AU336*Титул.лист!$P$2","v":4404.84},4400,3177.2,{"$f":"AX336+AX336*Титул.лист!$A$1","v":3494.92},{"$f":"AY336+AY336*Титул.лист!$P$2","v":3494.92},3490,4048.4,{"$f":"BB336+BB336*Титул.лист!$A$1","v":4453.24},{"$f":"BC336+BC336*Титул.лист!$P$2","v":4453.24},4450,5720.4,{"$f":"BF336+BF336*Титул.лист!$A$1","v":6292.44},{"$f":"BG336+BG336*Титул.лист!$P$2","v":6292.44},6290]
[null,null,600,null,"1306-60",1370,{"$f":"F337+F337*Титул.лист!$A$1","v":1507},{"$f":"G337+G337*Титул.лист!$P$2","v":1507},1510,1441.0000000000002,{"$f":"J337+J337*Титул.лист!$A$1","v":1585.1000000000004},{"$f":"K337+K337*Титул.лист!$P$2","v":1585.1000000000004},1590,1840,{"$f":"N337+N337*Титул.лист!$A$1","v":2024},{"$f":"O337+O337*Титул.лист!$P$2","v":2024},2020,1903.0000000000002,{"$f":"R337+R337*Титул.лист!$A$1","v":2093.3000000000002},{"$f":"S337+S337*Титул.лист!$P$2","v":2093.3000000000002},2090,2200,{"$f":"V337+V337*Титул.лист!$A$1","v":2420},{"$f":"W337+W337*Титул.лист!$P$2","v":2420},2420,2270,{"$f":"Z337+Z337*Титул.лист!$A$1","v":2497},{"$f":"AA337+AA337*Титул.лист!$P$2","v":2497},2500,1890,{"$f":"AD337+AD337*Титул.лист!$A$1","v":2079},{"$f":"AE337+AE337*Титул.лист!$P$2","v":2079},2080,2050,{"$f":"AH337+AH337*Титул.лист!$A$1","v":2255},{"$f":"AI337+AI337*Титул.лист!$P$2","v":2255},2260,2110,{"$f":"AL337+AL337*Титул.лист!$A$1","v":2321},{"$f":"AM337+AM337*Титул.лист!$P$2","v":2321},2320,4038.9359999999997,{"$f":"AP337+AP337*Титул.лист!$A$1","v":4442.8296},{"$f":"AQ337+AQ337*Титул.лист!$P$2","v":4442.8296},4440,4294.8,{"$f":"AT337+AT337*Титул.лист!$A$1","v":4724.2800000000007},{"$f":"AU337+AU337*Титул.лист!$P$2","v":4724.2800000000007},4720,3392.4,{"$f":"AX337+AX337*Титул.лист!$A$1","v":3731.6400000000003},{"$f":"AY337+AY337*Титул.лист!$P$2","v":3731.6400000000003},3730,4342.8,{"$f":"BB337+BB337*Титул.лист!$A$1","v":4777.08},{"$f":"BC337+BC337*Титул.лист!$P$2","v":4777.08},4780,6166.8,{"$f":"BF337+BF337*Титул.лист!$A$1","v":6783.4800000000005},{"$f":"BG337+BG337*Титул.лист!$P$2","v":6783.4800000000005},6780]
[null,"Шкаф настенный 1д с нишей (со стеклом)",300,"h 720","1302-30с",960,{"$f":"F338+F338*Титул.лист!$A$1","v":1056},{"$f":"G338+G338*Титул.лист!$P$2","v":1056},1060,1020,{"$f":"J338+J338*Титул.лист!$A$1","v":1122},{"$f":"K338+K338*Титул.лист!$P$2","v":1122},1120,1164,{"$f":"N338+N338*Титул.лист!$A$1","v":1280.4000000000001},{"$f":"O338+O338*Титул.лист!$P$2","v":1280.4000000000001},1280,1212,{"$f":"R338+R338*Титул.лист!$A$1","v":1333.2},{"$f":"S338+S338*Титул.лист!$P$2","v":1333.2},1330,1320,{"$f":"V338+V338*Титул.лист!$A$1","v":1452},{"$f":"W338+W338*Титул.лист!$P$2","v":1452},1450,1368,{"$f":"Z338+Z338*Титул.лист!$A$1","v":1504.8},{"$f":"AA338+AA338*Титул.лист!$P$2","v":1504.8},1500,1200,{"$f":"AD338+AD338*Титул.лист!$A$1","v":1320},{"$f":"AE338+AE338*Титул.лист!$P$2","v":1320},1320,1248,{"$f":"AH338+AH338*Титул.лист!$A$1","v":1372.8},{"$f":"AI338+AI338*Титул.лист!$P$2","v":1372.8},1370,1296,{"$f":"AL338+AL338*Титул.лист!$A$1","v":1425.6},{"$f":"AM338+AM338*Титул.лист!$P$2","v":1425.6},1430,2044.56,{"$f":"AP338+AP338*Титул.лист!$A$1","v":2249.0160000000001},{"$f":"AQ338+AQ338*Титул.лист!$P$2","v":2249.0160000000001},2250,2101.8000000000002,{"$f":"AT338+AT338*Титул.лист!$A$1","v":2311.98},{"$f":"AU338+AU338*Титул.лист!$P$2","v":2311.98},2310,1763.4,{"$f":"AX338+AX338*Титул.лист!$A$1","v":1939.7400000000002},{"$f":"AY338+AY338*Титул.лист!$P$2","v":1939.7400000000002},1940,2119.8000000000002,{"$f":"BB338+BB338*Титул.лист!$A$1","v":2331.7800000000002},{"$f":"BC338+BC338*Титул.лист!$P$2","v":2331.7800000000002},2330,2803.8,{"$f":"BF338+BF338*Титул.лист!$A$1","v":3084.1800000000003},{"$f":"BG338+BG338*Титул.лист!$P$2","v":3084.1800000000003},3080]
[null,null,350,null,"1302-35с",1080,{"$f":"F339+F339*Титул.лист!$A$1","v":1188},{"$f":"G339+G339*Титул.лист!$P$2","v":1188},1190,1140,{"$f":"J339+J339*Титул.лист!$A$1","v":1254},{"$f":"K339+K339*Титул.лист!$P$2","v":1254},1250,1356,{"$f":"N339+N339*Титул.лист!$A$1","v":1491.6},{"$f":"O339+O339*Титул.лист!$P$2","v":1491.6},1490,1380,{"$f":"R339+R339*Титул.лист!$A$1","v":1518},{"$f":"S339+S339*Титул.лист!$P$2","v":1518},1520,1560,{"$f":"V339+V339*Титул.лист!$A$1","v":1716},{"$f":"W339+W339*Титул.лист!$P$2","v":1716},1720,1560,{"$f":"Z339+Z339*Титул.лист!$A$1","v":1716},{"$f":"AA339+AA339*Титул.лист!$P$2","v":1716},1720,1320,{"$f":"AD339+AD339*Титул.лист!$A$1","v":1452},{"$f":"AE339+AE339*Титул.лист!$P$2","v":1452},1450,1440,{"$f":"AH339+AH339*Титул.лист!$A$1","v":1584},{"$f":"AI339+AI339*Титул.лист!$P$2","v":1584},1580,1440,{"$f":"AL339+AL339*Титул.лист!$A$1","v":1584},{"$f":"AM339+AM339*Титул.лист!$P$2","v":1584},1580,2305.3200000000002,{"$f":"AP339+AP339*Титул.лист!$A$1","v":2535.8520000000003},{"$f":"AQ339+AQ339*Титул.лист!$P$2","v":2535.8520000000003},2540,2372.1,{"$f":"AT339+AT339*Титул.лист!$A$1","v":2609.31},{"$f":"AU339+AU339*Титул.лист!$P$2","v":2609.31},2610,1977.3,{"$f":"AX339+AX339*Титул.лист!$A$1","v":2175.0299999999997},{"$f":"AY339+AY339*Титул.лист!$P$2","v":2175.0299999999997},2180,2393.1,{"$f":"BB339+BB339*Титул.лист!$A$1","v":2632.41},{"$f":"BC339+BC339*Титул.лист!$P$2","v":2632.41},2630,3191.1,{"$f":"BF339+BF339*Титул.лист!$A$1","v":3510.21},{"$f":"BG339+BG339*Титул.лист!$P$2","v":3510.21},3510]
[null,null,400,null,"1302-40с",1140,{"$f":"F340+F340*Титул.лист!$A$1","v":1254},{"$f":"G340+G340*Титул.лист!$P$2","v":1254},1250,1188.0000000000002,{"$f":"J340+J340*Титул.лист!$A$1","v":1306.8000000000002},{"$f":"K340+K340*Титул.лист!$P$2","v":1306.8000000000002},1310,1416,{"$f":"N340+N340*Титул.лист!$A$1","v":1557.6},{"$f":"O340+O340*Титул.лист!$P$2","v":1557.6},1560,1464,{"$f":"R340+R340*Титул.лист!$A$1","v":1610.4},{"$f":"S340+S340*Титул.лист!$P$2","v":1610.4},1610,1620,{"$f":"V340+V340*Титул.лист!$A$1","v":1782},{"$f":"W340+W340*Титул.лист!$P$2","v":1782},1780,1680,{"$f":"Z340+Z340*Титул.лист!$A$1","v":1848},{"$f":"AA340+AA340*Титул.лист!$P$2","v":1848},1850,1428,{"$f":"AD340+AD340*Титул.лист!$A$1","v":1570.8},{"$f":"AE340+AE340*Титул.лист!$P$2","v":1570.8},1570,1512,{"$f":"AH340+AH340*Титул.лист!$A$1","v":1663.2},{"$f":"AI340+AI340*Титул.лист!$P$2","v":1663.2},1660,1560,{"$f":"AL340+AL340*Титул.лист!$A$1","v":1716},{"$f":"AM340+AM340*Титул.лист!$P$2","v":1716},1720,2554.08,{"$f":"AP340+AP340*Титул.лист!$A$1","v":2809.4879999999998},{"$f":"AQ340+AQ340*Титул.лист!$P$2","v":2809.4879999999998},2810,2630.3999999999996,{"$f":"AT340+AT340*Титул.лист!$A$1","v":2893.4399999999996},{"$f":"AU340+AU340*Титул.лист!$P$2","v":2893.4399999999996},2890,2179.1999999999998,{"$f":"AX340+AX340*Титул.лист!$A$1","v":2397.12},{"$f":"AY340+AY340*Титул.лист!$P$2","v":2397.12},2400,2654.3999999999996,{"$f":"BB340+BB340*Титул.лист!$A$1","v":2919.8399999999997},{"$f":"BC340+BC340*Титул.лист!$P$2","v":2919.8399999999997},2920,3566.4,{"$f":"BF340+BF340*Титул.лист!$A$1","v":3923.04},{"$f":"BG340+BG340*Титул.лист!$P$2","v":3923.04},3920]
[null,null,450,null,"1302-45с",1260,{"$f":"F341+F341*Титул.лист!$A$1","v":1386},{"$f":"G341+G341*Титул.лист!$P$2","v":1386},1390,1260,{"$f":"J341+J341*Титул.лист!$A$1","v":1386},{"$f":"K341+K341*Титул.лист!$P$2","v":1386},1390,1524,{"$f":"N341+N341*Титул.лист!$A$1","v":1676.4},{"$f":"O341+O341*Титул.лист!$P$2","v":1676.4},1680,1620,{"$f":"R341+R341*Титул.лист!$A$1","v":1782},{"$f":"S341+S341*Титул.лист!$P$2","v":1782},1780,1800,{"$f":"V341+V341*Титул.лист!$A$1","v":1980},{"$f":"W341+W341*Титул.лист!$P$2","v":1980},1980,1860,{"$f":"Z341+Z341*Титул.лист!$A$1","v":2046},{"$f":"AA341+AA341*Титул.лист!$P$2","v":2046},2050,1560,{"$f":"AD341+AD341*Титул.лист!$A$1","v":1716},{"$f":"AE341+AE341*Титул.лист!$P$2","v":1716},1720,1644,{"$f":"AH341+AH341*Титул.лист!$A$1","v":1808.4},{"$f":"AI341+AI341*Титул.лист!$P$2","v":1808.4},1810,1680,{"$f":"AL341+AL341*Титул.лист!$A$1","v":1848},{"$f":"AM341+AM341*Титул.лист!$P$2","v":1848},1850,2826.84,{"$f":"AP341+AP341*Титул.лист!$A$1","v":3109.5240000000003},{"$f":"AQ341+AQ341*Титул.лист!$P$2","v":3109.5240000000003},3110,2912.7,{"$f":"AT341+AT341*Титул.лист!$A$1","v":3203.97},{"$f":"AU341+AU341*Титул.лист!$P$2","v":3203.97},3200,2405.1,{"$f":"AX341+AX341*Титул.лист!$A$1","v":2645.6099999999997},{"$f":"AY341+AY341*Титул.лист!$P$2","v":2645.6099999999997},2650,2939.7,{"$f":"BB341+BB341*Титул.лист!$A$1","v":3233.6699999999996},{"$f":"BC341+BC341*Титул.лист!$P$2","v":3233.6699999999996},3230,3965.7,{"$f":"BF341+BF341*Титул.лист!$A$1","v":4362.2699999999995},{"$f":"BG341+BG341*Титул.лист!$P$2","v":4362.2699999999995},4360]
[null,null,500,null,"1302-50с",1308,{"$f":"F342+F342*Титул.лист!$A$1","v":1438.8},{"$f":"G342+G342*Титул.лист!$P$2","v":1438.8},1440,1356,{"$f":"J342+J342*Титул.лист!$A$1","v":1491.6},{"$f":"K342+K342*Титул.лист!$P$2","v":1491.6},1490,1632,{"$f":"N342+N342*Титул.лист!$A$1","v":1795.2},{"$f":"O342+O342*Титул.лист!$P$2","v":1795.2},1800,1692,{"$f":"R342+R342*Титул.лист!$A$1","v":1861.2},{"$f":"S342+S342*Титул.лист!$P$2","v":1861.2},1860,1896,{"$f":"V342+V342*Титул.лист!$A$1","v":2085.6},{"$f":"W342+W342*Титул.лист!$P$2","v":2085.6},2090,1956,{"$f":"Z342+Z342*Титул.лист!$A$1","v":2151.6},{"$f":"AA342+AA342*Титул.лист!$P$2","v":2151.6},2150,1668,{"$f":"AD342+AD342*Титул.лист!$A$1","v":1834.8},{"$f":"AE342+AE342*Титул.лист!$P$2","v":1834.8},1830,1764,{"$f":"AH342+AH342*Титул.лист!$A$1","v":1940.4},{"$f":"AI342+AI342*Титул.лист!$P$2","v":1940.4},1940,1824,{"$f":"AL342+AL342*Титул.лист!$A$1","v":2006.4},{"$f":"AM342+AM342*Титул.лист!$P$2","v":2006.4},2010,3075.6000000000004,{"$f":"AP342+AP342*Титул.лист!$A$1","v":3383.1600000000003},{"$f":"AQ342+AQ342*Титул.лист!$P$2","v":3383.1600000000003},3380,3171,{"$f":"AT342+AT342*Титул.лист!$A$1","v":3488.1},{"$f":"AU342+AU342*Титул.лист!$P$2","v":3488.1},3490,2607,{"$f":"AX342+AX342*Титул.лист!$A$1","v":2867.7},{"$f":"AY342+AY342*Титул.лист!$P$2","v":2867.7},2870,3201,{"$f":"BB342+BB342*Титул.лист!$A$1","v":3521.1},{"$f":"BC342+BC342*Титул.лист!$P$2","v":3521.1},3520,4341,{"$f":"BF342+BF342*Титул.лист!$A$1","v":4775.1000000000004},{"$f":"BG342+BG342*Титул.лист!$P$2","v":4775.1000000000004},4780]
[null,null,550,null,"1302-55с",1380,{"$f":"F343+F343*Титул.лист!$A$1","v":1518},{"$f":"G343+G343*Титул.лист!$P$2","v":1518},1520,1476,{"$f":"J343+J343*Титул.лист!$A$1","v":1623.6},{"$f":"K343+K343*Титул.лист!$P$2","v":1623.6},1620,1764,{"$f":"N343+N343*Титул.лист!$A$1","v":1940.4},{"$f":"O343+O343*Титул.лист!$P$2","v":1940.4},1940,1884,{"$f":"R343+R343*Титул.лист!$A$1","v":2072.4},{"$f":"S343+S343*Титул.лист!$P$2","v":2072.4},2070,2100,{"$f":"V343+V343*Титул.лист!$A$1","v":2310},{"$f":"W343+W343*Титул.лист!$P$2","v":2310},2310,2136,{"$f":"Z343+Z343*Титул.лист!$A$1","v":2349.6},{"$f":"AA343+AA343*Титул.лист!$P$2","v":2349.6},2350,1788,{"$f":"AD343+AD343*Титул.лист!$A$1","v":1966.8},{"$f":"AE343+AE343*Титул.лист!$P$2","v":1966.8},1970,1980,{"$f":"AH343+AH343*Титул.лист!$A$1","v":2178},{"$f":"AI343+AI343*Титул.лист!$P$2","v":2178},2180,2040,{"$f":"AL343+AL343*Титул.лист!$A$1","v":2244},{"$f":"AM343+AM343*Титул.лист!$P$2","v":2244},2240,3336.36,{"$f":"AP343+AP343*Титул.лист!$A$1","v":3669.9960000000001},{"$f":"AQ343+AQ343*Титул.лист!$P$2","v":3669.9960000000001},3670,3441.2999999999997,{"$f":"AT343+AT343*Титул.лист!$A$1","v":3785.43},{"$f":"AU343+AU343*Титул.лист!$P$2","v":3785.43},3790,2820.8999999999996,{"$f":"AX343+AX343*Титул.лист!$A$1","v":3102.99},{"$f":"AY343+AY343*Титул.лист!$P$2","v":3102.99},3100,3474.2999999999997,{"$f":"BB343+BB343*Титул.лист!$A$1","v":3821.7299999999996},{"$f":"BC343+BC343*Титул.лист!$P$2","v":3821.7299999999996},3820,4728.2999999999993,{"$f":"BF343+BF343*Титул.лист!$A$1","v":5201.1299999999992},{"$f":"BG343+BG343*Титул.лист!$P$2","v":5201.1299999999992},5200]
[null,null,600,null,"1302-60с",1452,{"$f":"F344+F344*Титул.лист!$A$1","v":1597.2},{"$f":"G344+G344*Титул.лист!$P$2","v":1597.2},1600,1536,{"$f":"J344+J344*Титул.лист!$A$1","v":1689.6},{"$f":"K344+K344*Титул.лист!$P$2","v":1689.6},1690,1860,{"$f":"N344+N344*Титул.лист!$A$1","v":2046},{"$f":"O344+O344*Титул.лист!$P$2","v":2046},2050,1944,{"$f":"R344+R344*Титул.лист!$A$1","v":2138.4},{"$f":"S344+S344*Титул.лист!$P$2","v":2138.4},2140,2172,{"$f":"V344+V344*Титул.лист!$A$1","v":2389.1999999999998},{"$f":"W344+W344*Титул.лист!$P$2","v":2389.1999999999998},2390,2256,{"$f":"Z344+Z344*Титул.лист!$A$1","v":2481.6},{"$f":"AA344+AA344*Титул.лист!$P$2","v":2481.6},2480,1908,{"$f":"AD344+AD344*Титул.лист!$A$1","v":2098.8000000000002},{"$f":"AE344+AE344*Титул.лист!$P$2","v":2098.8000000000002},2100,2040,{"$f":"AH344+AH344*Титул.лист!$A$1","v":2244},{"$f":"AI344+AI344*Титул.лист!$P$2","v":2244},2240,2112.0000000000005,{"$f":"AL344+AL344*Титул.лист!$A$1","v":2323.2000000000007},{"$f":"AM344+AM344*Титул.лист!$P$2","v":2323.2000000000007},2320,3597.12,{"$f":"AP344+AP344*Титул.лист!$A$1","v":3956.8319999999999},{"$f":"AQ344+AQ344*Титул.лист!$P$2","v":3956.8319999999999},3960,3711.6,{"$f":"AT344+AT344*Титул.лист!$A$1","v":4082.7599999999998},{"$f":"AU344+AU344*Титул.лист!$P$2","v":4082.7599999999998},4080,3034.8,{"$f":"AX344+AX344*Титул.лист!$A$1","v":3338.28},{"$f":"AY344+AY344*Титул.лист!$P$2","v":3338.28},3340,3747.6,{"$f":"BB344+BB344*Титул.лист!$A$1","v":4122.3599999999997},{"$f":"BC344+BC344*Титул.лист!$P$2","v":4122.3599999999997},4120,5115.6000000000004,{"$f":"BF344+BF344*Титул.лист!$A$1","v":5627.1600000000008},{"$f":"BG344+BG344*Титул.лист!$P$2","v":5627.1600000000008},5630]
[null,"Шкаф настенный 1д с нишей (со стеклом)",300,"h 920","1306-30с",1104,{"$f":"F345+F345*Титул.лист!$A$1","v":1214.4000000000001},{"$f":"G345+G345*Титул.лист!$P$2","v":1214.4000000000001},1210,1164,{"$f":"J345+J345*Титул.лист!$A$1","v":1280.4000000000001},{"$f":"K345+K345*Титул.лист!$P$2","v":1280.4000000000001},1280,1380,{"$f":"N345+N345*Титул.лист!$A$1","v":1518},{"$f":"O345+O345*Титул.лист!$P$2","v":1518},1520,1440,{"$f":"R345+R345*Титул.лист!$A$1","v":1584},{"$f":"S345+S345*Титул.лист!$P$2","v":1584},1580,1596,{"$f":"V345+V345*Титул.лист!$A$1","v":1755.6},{"$f":"W345+W345*Титул.лист!$P$2","v":1755.6},1760,1644,{"$f":"Z345+Z345*Титул.лист!$A$1","v":1808.4},{"$f":"AA345+AA345*Титул.лист!$P$2","v":1808.4},1810,1404,{"$f":"AD345+AD345*Титул.лист!$A$1","v":1544.4},{"$f":"AE345+AE345*Титул.лист!$P$2","v":1544.4},1540,1488,{"$f":"AH345+AH345*Титул.лист!$A$1","v":1636.8},{"$f":"AI345+AI345*Титул.лист!$P$2","v":1636.8},1640,1536,{"$f":"AL345+AL345*Титул.лист!$A$1","v":1689.6},{"$f":"AM345+AM345*Титул.лист!$P$2","v":1689.6},1690,2483.16,{"$f":"AP345+AP345*Титул.лист!$A$1","v":2731.4759999999997},{"$f":"AQ345+AQ345*Титул.лист!$P$2","v":2731.4759999999997},2730,2606.4,{"$f":"AT345+AT345*Титул.лист!$A$1","v":2867.04},{"$f":"AU345+AU345*Титул.лист!$P$2","v":2867.04},2870,2155.1999999999998,{"$f":"AX345+AX345*Титул.лист!$A$1","v":2370.7199999999998},{"$f":"AY345+AY345*Титул.лист!$P$2","v":2370.7199999999998},2370,2630.4,{"$f":"BB345+BB345*Титул.лист!$A$1","v":2893.44},{"$f":"BC345+BC345*Титул.лист!$P$2","v":2893.44},2890,3542.4,{"$f":"BF345+BF345*Титул.лист!$A$1","v":3896.6400000000003},{"$f":"BG345+BG345*Титул.лист!$P$2","v":3896.6400000000003},3900]
[null,null,350,null,"1306-35с",1200,{"$f":"F346+F346*Титул.лист!$A$1","v":1320},{"$f":"G346+G346*Титул.лист!$P$2","v":1320},1320,1320,{"$f":"J346+J346*Титул.лист!$A$1","v":1452},{"$f":"K346+K346*Титул.лист!$P$2","v":1452},1450,1584,{"$f":"N346+N346*Титул.лист!$A$1","v":1742.4},{"$f":"O346+O346*Титул.лист!$P$2","v":1742.4},1740,1680,{"$f":"R346+R346*Титул.лист!$A$1","v":1848},{"$f":"S346+S346*Титул.лист!$P$2","v":1848},1850,1884,{"$f":"V346+V346*Титул.лист!$A$1","v":2072.4},{"$f":"W346+W346*Титул.лист!$P$2","v":2072.4},2070,1824,{"$f":"Z346+Z346*Титул.лист!$A$1","v":2006.4},{"$f":"AA346+AA346*Титул.лист!$P$2","v":2006.4},2010,1560,{"$f":"AD346+AD346*Титул.лист!$A$1","v":1716},{"$f":"AE346+AE346*Титул.лист!$P$2","v":1716},1720,1656,{"$f":"AH346+AH346*Титул.лист!$A$1","v":1821.6},{"$f":"AI346+AI346*Титул.лист!$P$2","v":1821.6},1820,1740,{"$f":"AL346+AL346*Титул.лист!$A$1","v":1914},{"$f":"AM346+AM346*Титул.лист!$P$2","v":1914},1910,2819.02,{"$f":"AP346+AP346*Титул.лист!$A$1","v":3100.922},{"$f":"AQ346+AQ346*Титул.лист!$P$2","v":3100.922},3100,2962.8,{"$f":"AT346+AT346*Титул.лист!$A$1","v":3259.0800000000004},{"$f":"AU346+AU346*Титул.лист!$P$2","v":3259.0800000000004},3260,2436.4,{"$f":"AX346+AX346*Титул.лист!$A$1","v":2680.04},{"$f":"AY346+AY346*Титул.лист!$P$2","v":2680.04},2680,2990.8,{"$f":"BB346+BB346*Титул.лист!$A$1","v":3289.88},{"$f":"BC346+BC346*Титул.лист!$P$2","v":3289.88},3290,4054.8,{"$f":"BF346+BF346*Титул.лист!$A$1","v":4460.2800000000007},{"$f":"BG346+BG346*Титул.лист!$P$2","v":4460.2800000000007},4460]
[null,null,400,null,"1306-40с",1296,{"$f":"F347+F347*Титул.лист!$A$1","v":1425.6},{"$f":"G347+G347*Титул.лист!$P$2","v":1425.6},1430,1359.6,{"$f":"J347+J347*Титул.лист!$A$1","v":1495.56},{"$f":"K347+K347*Титул.лист!$P$2","v":1495.56},1500,1668,{"$f":"N347+N347*Титул.лист!$A$1","v":1834.8},{"$f":"O347+O347*Титул.лист!$P$2","v":1834.8},1830,1728,{"$f":"R347+R347*Титул.лист!$A$1","v":1900.8},{"$f":"S347+S347*Титул.лист!$P$2","v":1900.8},1900,1956,{"$f":"V347+V347*Титул.лист!$A$1","v":2151.6},{"$f":"W347+W347*Титул.лист!$P$2","v":2151.6},2150,2016,{"$f":"Z347+Z347*Титул.лист!$A$1","v":2217.6},{"$f":"AA347+AA347*Титул.лист!$P$2","v":2217.6},2220,1692,{"$f":"AD347+AD347*Титул.лист!$A$1","v":1861.2},{"$f":"AE347+AE347*Титул.лист!$P$2","v":1861.2},1860,1812,{"$f":"AH347+AH347*Титул.лист!$A$1","v":1993.2},{"$f":"AI347+AI347*Титул.лист!$P$2","v":1993.2},1990,1860,{"$f":"AL347+AL347*Титул.лист!$A$1","v":2046},{"$f":"AM347+AM347*Титул.лист!$P$2","v":2046},2050,3130.88,{"$f":"AP347+AP347*Титул.лист!$A$1","v":3443.9680000000003},{"$f":"AQ347+AQ347*Титул.лист!$P$2","v":3443.9680000000003},3440,3295.2,{"$f":"AT347+AT347*Титул.лист!$A$1","v":3624.72},{"$f":"AU347+AU347*Титул.лист!$P$2","v":3624.72},3620,2693.6,{"$f":"AX347+AX347*Титул.лист!$A$1","v":2962.96},{"$f":"AY347+AY347*Титул.лист!$P$2","v":2962.96},2960,3327.2,{"$f":"BB347+BB347*Титул.лист!$A$1","v":3659.92},{"$f":"BC347+BC347*Титул.лист!$P$2","v":3659.92},3660,4543.2000000000007,{"$f":"BF347+BF347*Титул.лист!$A$1","v":4997.5200000000004},{"$f":"BG347+BG347*Титул.лист!$P$2","v":4997.5200000000004},5000]
[null,null,450,null,"1306-45с",1404,{"$f":"F348+F348*Титул.лист!$A$1","v":1544.4},{"$f":"G348+G348*Титул.лист!$P$2","v":1544.4},1540,1440,{"$f":"J348+J348*Титул.лист!$A$1","v":1584},{"$f":"K348+K348*Титул.лист!$P$2","v":1584},1580,1884,{"$f":"N348+N348*Титул.лист!$A$1","v":2072.4},{"$f":"O348+O348*Титул.лист!$P$2","v":2072.4},2070,1920,{"$f":"R348+R348*Титул.лист!$A$1","v":2112},{"$f":"S348+S348*Титул.лист!$P$2","v":2112},2110,2220,{"$f":"V348+V348*Титул.лист!$A$1","v":2442},{"$f":"W348+W348*Титул.лист!$P$2","v":2442},2440,2280,{"$f":"Z348+Z348*Титул.лист!$A$1","v":2508},{"$f":"AA348+AA348*Титул.лист!$P$2","v":2508},2510,1920,{"$f":"AD348+AD348*Титул.лист!$A$1","v":2112},{"$f":"AE348+AE348*Титул.лист!$P$2","v":2112},2110,2040,{"$f":"AH348+AH348*Титул.лист!$A$1","v":2244},{"$f":"AI348+AI348*Титул.лист!$P$2","v":2244},2240,2136,{"$f":"AL348+AL348*Титул.лист!$A$1","v":2349.6},{"$f":"AM348+AM348*Титул.лист!$P$2","v":2349.6},2350,3538.7400000000002,{"$f":"AP348+AP348*Титул.лист!$A$1","v":3892.6140000000005},{"$f":"AQ348+AQ348*Титул.лист!$P$2","v":3892.6140000000005},3890,3723.6000000000004,{"$f":"AT348+AT348*Титул.лист!$A$1","v":4095.9600000000005},{"$f":"AU348+AU348*Титул.лист!$P$2","v":4095.9600000000005},4100,3046.8,{"$f":"AX348+AX348*Титул.лист!$A$1","v":3351.48},{"$f":"AY348+AY348*Титул.лист!$P$2","v":3351.48},3350,3759.6000000000004,{"$f":"BB348+BB348*Титул.лист!$A$1","v":4135.5600000000004},{"$f":"BC348+BC348*Титул.лист!$P$2","v":4135.5600000000004},4140,5127.6000000000004,{"$f":"BF348+BF348*Титул.лист!$A$1","v":5640.3600000000006},{"$f":"BG348+BG348*Титул.лист!$P$2","v":5640.3600000000006},5640]
[null,null,500,null,"1306-50с",1476,{"$f":"F349+F349*Титул.лист!$A$1","v":1623.6},{"$f":"G349+G349*Титул.лист!$P$2","v":1623.6},1620,1544.4,{"$f":"J349+J349*Титул.лист!$A$1","v":1698.8400000000001},{"$f":"K349+K349*Титул.лист!$P$2","v":1698.8400000000001},1700,1956,{"$f":"N349+N349*Титул.лист!$A$1","v":2151.6},{"$f":"O349+O349*Титул.лист!$P$2","v":2151.6},2150,2019.6000000000004,{"$f":"R349+R349*Титул.лист!$A$1","v":2221.5600000000004},{"$f":"S349+S349*Титул.лист!$P$2","v":2221.5600000000004},2220,2304,{"$f":"V349+V349*Титул.лист!$A$1","v":2534.4},{"$f":"W349+W349*Титул.лист!$P$2","v":2534.4},2530,2376.0000000000005,{"$f":"Z349+Z349*Титул.лист!$A$1","v":2613.6000000000004},{"$f":"AA349+AA349*Титул.лист!$P$2","v":2613.6000000000004},2610,1980.0000000000002,{"$f":"AD349+AD349*Титул.лист!$A$1","v":2178.0000000000005},{"$f":"AE349+AE349*Титул.лист!$P$2","v":2178.0000000000005},2180,2136,{"$f":"AH349+AH349*Титул.лист!$A$1","v":2349.6},{"$f":"AI349+AI349*Титул.лист!$P$2","v":2349.6},2350,2208,{"$f":"AL349+AL349*Титул.лист!$A$1","v":2428.8000000000002},{"$f":"AM349+AM349*Титул.лист!$P$2","v":2428.8000000000002},2430,3778.6000000000004,{"$f":"AP349+AP349*Титул.лист!$A$1","v":4156.46},{"$f":"AQ349+AQ349*Титул.лист!$P$2","v":4156.46},4160,3984,{"$f":"AT349+AT349*Титул.лист!$A$1","v":4382.3999999999996},{"$f":"AU349+AU349*Титул.лист!$P$2","v":4382.3999999999996},4380,3232,{"$f":"AX349+AX349*Титул.лист!$A$1","v":3555.2},{"$f":"AY349+AY349*Титул.лист!$P$2","v":3555.2},3560,4024,{"$f":"BB349+BB349*Титул.лист!$A$1","v":4426.3999999999996},{"$f":"BC349+BC349*Титул.лист!$P$2","v":4426.3999999999996},4430,5544,{"$f":"BF349+BF349*Титул.лист!$A$1","v":6098.4},{"$f":"BG349+BG349*Титул.лист!$P$2","v":6098.4},6100]
[null,null,550,null,"1306-55с",1560,{"$f":"F350+F350*Титул.лист!$A$1","v":1716},{"$f":"G350+G350*Титул.лист!$P$2","v":1716},1720,1680,{"$f":"J350+J350*Титул.лист!$A$1","v":1848},{"$f":"K350+K350*Титул.лист!$P$2","v":1848},1850,2136,{"$f":"N350+N350*Титул.лист!$A$1","v":2349.6},{"$f":"O350+O350*Титул.лист!$P$2","v":2349.6},2350,2220,{"$f":"R350+R350*Титул.лист!$A$1","v":2442},{"$f":"S350+S350*Титул.лист!$P$2","v":2442},2440,2520,{"$f":"V350+V350*Титул.лист!$A$1","v":2772},{"$f":"W350+W350*Титул.лист!$P$2","v":2772},2770,2604,{"$f":"Z350+Z350*Титул.лист!$A$1","v":2864.4},{"$f":"AA350+AA350*Титул.лист!$P$2","v":2864.4},2860,2160,{"$f":"AD350+AD350*Титул.лист!$A$1","v":2376},{"$f":"AE350+AE350*Титул.лист!$P$2","v":2376},2380,2400,{"$f":"AH350+AH350*Титул.лист!$A$1","v":2640},{"$f":"AI350+AI350*Титул.лист!$P$2","v":2640},2640,2484,{"$f":"AL350+AL350*Титул.лист!$A$1","v":2732.4},{"$f":"AM350+AM350*Титул.лист!$P$2","v":2732.4},2730,4138.46,{"$f":"AP350+AP350*Титул.лист!$A$1","v":4552.3060000000005},{"$f":"AQ350+AQ350*Титул.лист!$P$2","v":4552.3060000000005},4550,4364.3999999999996,{"$f":"AT350+AT350*Титул.лист!$A$1","v":4800.8399999999992},{"$f":"AU350+AU350*Титул.лист!$P$2","v":4800.8399999999992},4800,3537.2,{"$f":"AX350+AX350*Титул.лист!$A$1","v":3890.92},{"$f":"AY350+AY350*Титул.лист!$P$2","v":3890.92},3890,4408.3999999999996,{"$f":"BB350+BB350*Титул.лист!$A$1","v":4849.24},{"$f":"BC350+BC350*Титул.лист!$P$2","v":4849.24},4850,6080.4,{"$f":"BF350+BF350*Титул.лист!$A$1","v":6688.44},{"$f":"BG350+BG350*Титул.лист!$P$2","v":6688.44},6690]
[null,null,600,null,"1306-60с",1644,{"$f":"F351+F351*Титул.лист!$A$1","v":1808.4},{"$f":"G351+G351*Титул.лист!$P$2","v":1808.4},1810,1729.2000000000003,{"$f":"J351+J351*Титул.лист!$A$1","v":1902.1200000000003},{"$f":"K351+K351*Титул.лист!$P$2","v":1902.1200000000003},1900,2208,{"$f":"N351+N351*Титул.лист!$A$1","v":2428.8000000000002},{"$f":"O351+O351*Титул.лист!$P$2","v":2428.8000000000002},2430,2283.6000000000004,{"$f":"R351+R351*Титул.лист!$A$1","v":2511.9600000000005},{"$f":"S351+S351*Титул.лист!$P$2","v":2511.9600000000005},2510,2640,{"$f":"V351+V351*Титул.лист!$A$1","v":2904},{"$f":"W351+W351*Титул.лист!$P$2","v":2904},2900,2724,{"$f":"Z351+Z351*Титул.лист!$A$1","v":2996.4},{"$f":"AA351+AA351*Титул.лист!$P$2","v":2996.4},3000,2268,{"$f":"AD351+AD351*Титул.лист!$A$1","v":2494.8000000000002},{"$f":"AE351+AE351*Титул.лист!$P$2","v":2494.8000000000002},2490,2460,{"$f":"AH351+AH351*Титул.лист!$A$1","v":2706},{"$f":"AI351+AI351*Титул.лист!$P$2","v":2706},2710,2532,{"$f":"AL351+AL351*Титул.лист!$A$1","v":2785.2},{"$f":"AM351+AM351*Титул.лист!$P$2","v":2785.2},2790,4426.32,{"$f":"AP351+AP351*Титул.лист!$A$1","v":4868.9519999999993},{"$f":"AQ351+AQ351*Титул.лист!$P$2","v":4868.9519999999993},4870,4672.8,{"$f":"AT351+AT351*Титул.лист!$A$1","v":5140.08},{"$f":"AU351+AU351*Титул.лист!$P$2","v":5140.08},5140,3770.4,{"$f":"AX351+AX351*Титул.лист!$A$1","v":4147.4400000000005},{"$f":"AY351+AY351*Титул.лист!$P$2","v":4147.4400000000005},4150,4720.8,{"$f":"BB351+BB351*Титул.лист!$A$1","v":5192.88},{"$f":"BC351+BC351*Титул.лист!$P$2","v":5192.88},5190,6544.8,{"$f":"BF351+BF351*Титул.лист!$A$1","v":7199.2800000000007},{"$f":"BG351+BG351*Титул.лист!$P$2","v":7199.2800000000007},7200]
[null,"Шкаф настенный 1д с нишей",200,"h 720","1303-20",750,{"$f":"F352+F352*Титул.лист!$A$1","v":825},{"$f":"G352+G352*Титул.лист!$P$2","v":825},830,800,{"$f":"J352+J352*Титул.лист!$A$1","v":880},{"$f":"K352+K352*Титул.лист!$P$2","v":880},880,920,{"$f":"N352+N352*Титул.лист!$A$1","v":1012},{"$f":"O352+O352*Титул.лист!$P$2","v":1012},1010,970,{"$f":"R352+R352*Титул.лист!$A$1","v":1067},{"$f":"S352+S352*Титул.лист!$P$2","v":1067},1070,1000,{"$f":"V352+V352*Титул.лист!$A$1","v":1100},{"$f":"W352+W352*Титул.лист!$P$2","v":1100},1100,1000,{"$f":"Z352+Z352*Титул.лист!$A$1","v":1100},{"$f":"AA352+AA352*Титул.лист!$P$2","v":1100},1100,900,{"$f":"AD352+AD352*Титул.лист!$A$1","v":990},{"$f":"AE352+AE352*Титул.лист!$P$2","v":990},990,950,{"$f":"AH352+AH352*Титул.лист!$A$1","v":1045},{"$f":"AI352+AI352*Титул.лист!$P$2","v":1045},1050,950,{"$f":"AL352+AL352*Титул.лист!$A$1","v":1045},{"$f":"AM352+AM352*Титул.лист!$P$2","v":1045},1050,1463.04,{"$f":"AP352+AP352*Титул.лист!$A$1","v":1609.3440000000001},{"$f":"AQ352+AQ352*Титул.лист!$P$2","v":1609.3440000000001},1610,1501.1999999999998,{"$f":"AT352+AT352*Титул.лист!$A$1","v":1651.3199999999997},{"$f":"AU352+AU352*Титул.лист!$P$2","v":1651.3199999999997},1650,1275.5999999999999,{"$f":"AX352+AX352*Титул.лист!$A$1","v":1403.1599999999999},{"$f":"AY352+AY352*Титул.лист!$P$2","v":1403.1599999999999},1400,1513.1999999999998,{"$f":"BB352+BB352*Титул.лист!$A$1","v":1664.5199999999998},{"$f":"BC352+BC352*Титул.лист!$P$2","v":1664.5199999999998},1660,2183.04,{"$f":"BF352+BF352*Титул.лист!$A$1","v":2401.3440000000001},{"$f":"BG352+BG352*Титул.лист!$P$2","v":2401.3440000000001},2400]
[null,null,250,null,"1303-25",780,{"$f":"F353+F353*Титул.лист!$A$1","v":858},{"$f":"G353+G353*Титул.лист!$P$2","v":858},860,820,{"$f":"J353+J353*Титул.лист!$A$1","v":902},{"$f":"K353+K353*Титул.лист!$P$2","v":902},900,950,{"$f":"N353+N353*Титул.лист!$A$1","v":1045},{"$f":"O353+O353*Титул.лист!$P$2","v":1045},1050,990,{"$f":"R353+R353*Титул.лист!$A$1","v":1089},{"$f":"S353+S353*Титул.лист!$P$2","v":1089},1090,1050,{"$f":"V353+V353*Титул.лист!$A$1","v":1155},{"$f":"W353+W353*Титул.лист!$P$2","v":1155},1160,1100,{"$f":"Z353+Z353*Титул.лист!$A$1","v":1210},{"$f":"AA353+AA353*Титул.лист!$P$2","v":1210},1210,950,{"$f":"AD353+AD353*Титул.лист!$A$1","v":1045},{"$f":"AE353+AE353*Титул.лист!$P$2","v":1045},1050,1000,{"$f":"AH353+AH353*Титул.лист!$A$1","v":1100},{"$f":"AI353+AI353*Титул.лист!$P$2","v":1100},1100,1000,{"$f":"AL353+AL353*Титул.лист!$A$1","v":1100},{"$f":"AM353+AM353*Титул.лист!$P$2","v":1100},1100,1653.8000000000002,{"$f":"AP353+AP353*Титул.лист!$A$1","v":1819.1800000000003},{"$f":"AQ353+AQ353*Титул.лист!$P$2","v":1819.1800000000003},1820,1701.5,{"$f":"AT353+AT353*Титул.лист!$A$1","v":1871.65},{"$f":"AU353+AU353*Титул.лист!$P$2","v":1871.65},1870,1419.5,{"$f":"AX353+AX353*Титул.лист!$A$1","v":1561.45},{"$f":"AY353+AY353*Титул.лист!$P$2","v":1561.45},1560,1716.5,{"$f":"BB353+BB353*Титул.лист!$A$1","v":1888.15},{"$f":"BC353+BC353*Титул.лист!$P$2","v":1888.15},1890,2553.8000000000002,{"$f":"BF353+BF353*Титул.лист!$A$1","v":2809.1800000000003},{"$f":"BG353+BG353*Титул.лист!$P$2","v":2809.1800000000003},2810]
[null,null,300,null,"1303-30",800,{"$f":"F354+F354*Титул.лист!$A$1","v":880},{"$f":"G354+G354*Титул.лист!$P$2","v":880},880,850,{"$f":"J354+J354*Титул.лист!$A$1","v":935},{"$f":"K354+K354*Титул.лист!$P$2","v":935},940,970,{"$f":"N354+N354*Титул.лист!$A$1","v":1067},{"$f":"O354+O354*Титул.лист!$P$2","v":1067},1070,1010,{"$f":"R354+R354*Титул.лист!$A$1","v":1111},{"$f":"S354+S354*Титул.лист!$P$2","v":1111},1110,1100,{"$f":"V354+V354*Титул.лист!$A$1","v":1210},{"$f":"W354+W354*Титул.лист!$P$2","v":1210},1210,1140,{"$f":"Z354+Z354*Титул.лист!$A$1","v":1254},{"$f":"AA354+AA354*Титул.лист!$P$2","v":1254},1250,1000,{"$f":"AD354+AD354*Титул.лист!$A$1","v":1100},{"$f":"AE354+AE354*Титул.лист!$P$2","v":1100},1100,1040,{"$f":"AH354+AH354*Титул.лист!$A$1","v":1144},{"$f":"AI354+AI354*Титул.лист!$P$2","v":1144},1140,1080,{"$f":"AL354+AL354*Титул.лист!$A$1","v":1188},{"$f":"AM354+AM354*Титул.лист!$P$2","v":1188},1190,1844.56,{"$f":"AP354+AP354*Титул.лист!$A$1","v":2029.0160000000001},{"$f":"AQ354+AQ354*Титул.лист!$P$2","v":2029.0160000000001},2030,1901.8,{"$f":"AT354+AT354*Титул.лист!$A$1","v":2091.98},{"$f":"AU354+AU354*Титул.лист!$P$2","v":2091.98},2090,1563.4,{"$f":"AX354+AX354*Титул.лист!$A$1","v":1719.7400000000002},{"$f":"AY354+AY354*Титул.лист!$P$2","v":1719.7400000000002},1720,1919.8,{"$f":"BB354+BB354*Титул.лист!$A$1","v":2111.7799999999997},{"$f":"BC354+BC354*Титул.лист!$P$2","v":2111.7799999999997},2110,2924.5600000000004,{"$f":"BF354+BF354*Титул.лист!$A$1","v":3217.0160000000005},{"$f":"BG354+BG354*Титул.лист!$P$2","v":3217.0160000000005},3220]
[null,null,350,null,"1303-35",900,{"$f":"F355+F355*Титул.лист!$A$1","v":990},{"$f":"G355+G355*Титул.лист!$P$2","v":990},990,950,{"$f":"J355+J355*Титул.лист!$A$1","v":1045},{"$f":"K355+K355*Титул.лист!$P$2","v":1045},1050,1130,{"$f":"N355+N355*Титул.лист!$A$1","v":1243},{"$f":"O355+O355*Титул.лист!$P$2","v":1243},1240,1150,{"$f":"R355+R355*Титул.лист!$A$1","v":1265},{"$f":"S355+S355*Титул.лист!$P$2","v":1265},1270,1300,{"$f":"V355+V355*Титул.лист!$A$1","v":1430},{"$f":"W355+W355*Титул.лист!$P$2","v":1430},1430,1300,{"$f":"Z355+Z355*Титул.лист!$A$1","v":1430},{"$f":"AA355+AA355*Титул.лист!$P$2","v":1430},1430,1100,{"$f":"AD355+AD355*Титул.лист!$A$1","v":1210},{"$f":"AE355+AE355*Титул.лист!$P$2","v":1210},1210,1200,{"$f":"AH355+AH355*Титул.лист!$A$1","v":1320},{"$f":"AI355+AI355*Титул.лист!$P$2","v":1320},1320,1200,{"$f":"AL355+AL355*Титул.лист!$A$1","v":1320},{"$f":"AM355+AM355*Титул.лист!$P$2","v":1320},1320,2085.3200000000002,{"$f":"AP355+AP355*Титул.лист!$A$1","v":2293.8520000000003},{"$f":"AQ355+AQ355*Титул.лист!$P$2","v":2293.8520000000003},2290,2152.1,{"$f":"AT355+AT355*Титул.лист!$A$1","v":2367.31},{"$f":"AU355+AU355*Титул.лист!$P$2","v":2367.31},2370,1757.3,{"$f":"AX355+AX355*Титул.лист!$A$1","v":1933.03},{"$f":"AY355+AY355*Титул.лист!$P$2","v":1933.03},1930,2173.1,{"$f":"BB355+BB355*Титул.лист!$A$1","v":2390.41},{"$f":"BC355+BC355*Титул.лист!$P$2","v":2390.41},2390,3345.32,{"$f":"BF355+BF355*Титул.лист!$A$1","v":3679.8520000000003},{"$f":"BG355+BG355*Титул.лист!$P$2","v":3679.8520000000003},3680]
[null,null,400,null,"1303-40",950,{"$f":"F356+F356*Титул.лист!$A$1","v":1045},{"$f":"G356+G356*Титул.лист!$P$2","v":1045},1050,990.00000000000011,{"$f":"J356+J356*Титул.лист!$A$1","v":1089.0000000000002},{"$f":"K356+K356*Титул.лист!$P$2","v":1089.0000000000002},1090,1180,{"$f":"N356+N356*Титул.лист!$A$1","v":1298},{"$f":"O356+O356*Титул.лист!$P$2","v":1298},1300,1220,{"$f":"R356+R356*Титул.лист!$A$1","v":1342},{"$f":"S356+S356*Титул.лист!$P$2","v":1342},1340,1350,{"$f":"V356+V356*Титул.лист!$A$1","v":1485},{"$f":"W356+W356*Титул.лист!$P$2","v":1485},1490,1400,{"$f":"Z356+Z356*Титул.лист!$A$1","v":1540},{"$f":"AA356+AA356*Титул.лист!$P$2","v":1540},1540,1190,{"$f":"AD356+AD356*Титул.лист!$A$1","v":1309},{"$f":"AE356+AE356*Титул.лист!$P$2","v":1309},1310,1260,{"$f":"AH356+AH356*Титул.лист!$A$1","v":1386},{"$f":"AI356+AI356*Титул.лист!$P$2","v":1386},1390,1300,{"$f":"AL356+AL356*Титул.лист!$A$1","v":1430},{"$f":"AM356+AM356*Титул.лист!$P$2","v":1430},1430,2316.08,{"$f":"AP356+AP356*Титул.лист!$A$1","v":2547.6880000000001},{"$f":"AQ356+AQ356*Титул.лист!$P$2","v":2547.6880000000001},2550,2392.3999999999996,{"$f":"AT356+AT356*Титул.лист!$A$1","v":2631.6399999999994},{"$f":"AU356+AU356*Титул.лист!$P$2","v":2631.6399999999994},2630,1941.1999999999998,{"$f":"AX356+AX356*Титул.лист!$A$1","v":2135.3199999999997},{"$f":"AY356+AY356*Титул.лист!$P$2","v":2135.3199999999997},2140,2416.3999999999996,{"$f":"BB356+BB356*Титул.лист!$A$1","v":2658.0399999999995},{"$f":"BC356+BC356*Титул.лист!$P$2","v":2658.0399999999995},2660,3756.0800000000004,{"$f":"BF356+BF356*Титул.лист!$A$1","v":4131.6880000000001},{"$f":"BG356+BG356*Титул.лист!$P$2","v":4131.6880000000001},4130]
[null,null,450,null,"1303-45",1050,{"$f":"F357+F357*Титул.лист!$A$1","v":1155},{"$f":"G357+G357*Титул.лист!$P$2","v":1155},1160,1050,{"$f":"J357+J357*Титул.лист!$A$1","v":1155},{"$f":"K357+K357*Титул.лист!$P$2","v":1155},1160,1270,{"$f":"N357+N357*Титул.лист!$A$1","v":1397},{"$f":"O357+O357*Титул.лист!$P$2","v":1397},1400,1350,{"$f":"R357+R357*Титул.лист!$A$1","v":1485},{"$f":"S357+S357*Титул.лист!$P$2","v":1485},1490,1500,{"$f":"V357+V357*Титул.лист!$A$1","v":1650},{"$f":"W357+W357*Титул.лист!$P$2","v":1650},1650,1550,{"$f":"Z357+Z357*Титул.лист!$A$1","v":1705},{"$f":"AA357+AA357*Титул.лист!$P$2","v":1705},1710,1300,{"$f":"AD357+AD357*Титул.лист!$A$1","v":1430},{"$f":"AE357+AE357*Титул.лист!$P$2","v":1430},1430,1370,{"$f":"AH357+AH357*Титул.лист!$A$1","v":1507},{"$f":"AI357+AI357*Титул.лист!$P$2","v":1507},1510,1400,{"$f":"AL357+AL357*Титул.лист!$A$1","v":1540},{"$f":"AM357+AM357*Титул.лист!$P$2","v":1540},1540,2566.84,{"$f":"AP357+AP357*Титул.лист!$A$1","v":2823.5240000000003},{"$f":"AQ357+AQ357*Титул.лист!$P$2","v":2823.5240000000003},2820,2652.7,{"$f":"AT357+AT357*Титул.лист!$A$1","v":2917.97},{"$f":"AU357+AU357*Титул.лист!$P$2","v":2917.97},2920,2145.1,{"$f":"AX357+AX357*Титул.лист!$A$1","v":2359.6099999999997},{"$f":"AY357+AY357*Титул.лист!$P$2","v":2359.6099999999997},2360,2679.7,{"$f":"BB357+BB357*Титул.лист!$A$1","v":2947.6699999999996},{"$f":"BC357+BC357*Титул.лист!$P$2","v":2947.6699999999996},2950,4186.84,{"$f":"BF357+BF357*Титул.лист!$A$1","v":4605.5240000000003},{"$f":"BG357+BG357*Титул.лист!$P$2","v":4605.5240000000003},4610]
[null,null,500,null,"1303-50",1090,{"$f":"F358+F358*Титул.лист!$A$1","v":1199},{"$f":"G358+G358*Титул.лист!$P$2","v":1199},1200,1130,{"$f":"J358+J358*Титул.лист!$A$1","v":1243},{"$f":"K358+K358*Титул.лист!$P$2","v":1243},1240,1360,{"$f":"N358+N358*Титул.лист!$A$1","v":1496},{"$f":"O358+O358*Титул.лист!$P$2","v":1496},1500,1410,{"$f":"R358+R358*Титул.лист!$A$1","v":1551},{"$f":"S358+S358*Титул.лист!$P$2","v":1551},1550,1580,{"$f":"V358+V358*Титул.лист!$A$1","v":1738},{"$f":"W358+W358*Титул.лист!$P$2","v":1738},1740,1630,{"$f":"Z358+Z358*Титул.лист!$A$1","v":1793},{"$f":"AA358+AA358*Титул.лист!$P$2","v":1793},1790,1390,{"$f":"AD358+AD358*Титул.лист!$A$1","v":1529},{"$f":"AE358+AE358*Титул.лист!$P$2","v":1529},1530,1470,{"$f":"AH358+AH358*Титул.лист!$A$1","v":1617},{"$f":"AI358+AI358*Титул.лист!$P$2","v":1617},1620,1520,{"$f":"AL358+AL358*Титул.лист!$A$1","v":1672},{"$f":"AM358+AM358*Титул.лист!$P$2","v":1672},1670,2797.6000000000004,{"$f":"AP358+AP358*Титул.лист!$A$1","v":3077.3600000000006},{"$f":"AQ358+AQ358*Титул.лист!$P$2","v":3077.3600000000006},3080,2893,{"$f":"AT358+AT358*Титул.лист!$A$1","v":3182.3},{"$f":"AU358+AU358*Титул.лист!$P$2","v":3182.3},3180,2329,{"$f":"AX358+AX358*Титул.лист!$A$1","v":2561.9},{"$f":"AY358+AY358*Титул.лист!$P$2","v":2561.9},2560,2923,{"$f":"BB358+BB358*Титул.лист!$A$1","v":3215.3},{"$f":"BC358+BC358*Титул.лист!$P$2","v":3215.3},3220,4597.6000000000004,{"$f":"BF358+BF358*Титул.лист!$A$1","v":5057.3600000000006},{"$f":"BG358+BG358*Титул.лист!$P$2","v":5057.3600000000006},5060]
[null,null,550,null,"1303-55",1150,{"$f":"F359+F359*Титул.лист!$A$1","v":1265},{"$f":"G359+G359*Титул.лист!$P$2","v":1265},1270,1230,{"$f":"J359+J359*Титул.лист!$A$1","v":1353},{"$f":"K359+K359*Титул.лист!$P$2","v":1353},1350,1470,{"$f":"N359+N359*Титул.лист!$A$1","v":1617},{"$f":"O359+O359*Титул.лист!$P$2","v":1617},1620,1570,{"$f":"R359+R359*Титул.лист!$A$1","v":1727},{"$f":"S359+S359*Титул.лист!$P$2","v":1727},1730,1750,{"$f":"V359+V359*Титул.лист!$A$1","v":1925},{"$f":"W359+W359*Титул.лист!$P$2","v":1925},1930,1780,{"$f":"Z359+Z359*Титул.лист!$A$1","v":1958},{"$f":"AA359+AA359*Титул.лист!$P$2","v":1958},1960,1490,{"$f":"AD359+AD359*Титул.лист!$A$1","v":1639},{"$f":"AE359+AE359*Титул.лист!$P$2","v":1639},1640,1650,{"$f":"AH359+AH359*Титул.лист!$A$1","v":1815},{"$f":"AI359+AI359*Титул.лист!$P$2","v":1815},1820,1700,{"$f":"AL359+AL359*Титул.лист!$A$1","v":1870},{"$f":"AM359+AM359*Титул.лист!$P$2","v":1870},1870,3038.36,{"$f":"AP359+AP359*Титул.лист!$A$1","v":3342.1959999999999},{"$f":"AQ359+AQ359*Титул.лист!$P$2","v":3342.1959999999999},3340,3143.2999999999997,{"$f":"AT359+AT359*Титул.лист!$A$1","v":3457.6299999999997},{"$f":"AU359+AU359*Титул.лист!$P$2","v":3457.6299999999997},3460,2522.8999999999996,{"$f":"AX359+AX359*Титул.лист!$A$1","v":2775.1899999999996},{"$f":"AY359+AY359*Титул.лист!$P$2","v":2775.1899999999996},2780,3176.2999999999997,{"$f":"BB359+BB359*Титул.лист!$A$1","v":3493.93},{"$f":"BC359+BC359*Титул.лист!$P$2","v":3493.93},3490,5018.3600000000006,{"$f":"BF359+BF359*Титул.лист!$A$1","v":5520.1960000000008},{"$f":"BG359+BG359*Титул.лист!$P$2","v":5520.1960000000008},5520]
[null,null,600,null,"1303-60",1210,{"$f":"F360+F360*Титул.лист!$A$1","v":1331},{"$f":"G360+G360*Титул.лист!$P$2","v":1331},1330,1280,{"$f":"J360+J360*Титул.лист!$A$1","v":1408},{"$f":"K360+K360*Титул.лист!$P$2","v":1408},1410,1550,{"$f":"N360+N360*Титул.лист!$A$1","v":1705},{"$f":"O360+O360*Титул.лист!$P$2","v":1705},1710,1620,{"$f":"R360+R360*Титул.лист!$A$1","v":1782},{"$f":"S360+S360*Титул.лист!$P$2","v":1782},1780,1810,{"$f":"V360+V360*Титул.лист!$A$1","v":1991},{"$f":"W360+W360*Титул.лист!$P$2","v":1991},1990,1880,{"$f":"Z360+Z360*Титул.лист!$A$1","v":2068},{"$f":"AA360+AA360*Титул.лист!$P$2","v":2068},2070,1590,{"$f":"AD360+AD360*Титул.лист!$A$1","v":1749},{"$f":"AE360+AE360*Титул.лист!$P$2","v":1749},1750,1700,{"$f":"AH360+AH360*Титул.лист!$A$1","v":1870},{"$f":"AI360+AI360*Титул.лист!$P$2","v":1870},1870,1760.0000000000002,{"$f":"AL360+AL360*Титул.лист!$A$1","v":1936.0000000000002},{"$f":"AM360+AM360*Титул.лист!$P$2","v":1936.0000000000002},1940,3279.12,{"$f":"AP360+AP360*Титул.лист!$A$1","v":3607.0320000000002},{"$f":"AQ360+AQ360*Титул.лист!$P$2","v":3607.0320000000002},3610,3393.6,{"$f":"AT360+AT360*Титул.лист!$A$1","v":3732.96},{"$f":"AU360+AU360*Титул.лист!$P$2","v":3732.96},3730,2716.8,{"$f":"AX360+AX360*Титул.лист!$A$1","v":2988.48},{"$f":"AY360+AY360*Титул.лист!$P$2","v":2988.48},2990,3429.6,{"$f":"BB360+BB360*Титул.лист!$A$1","v":3772.56},{"$f":"BC360+BC360*Титул.лист!$P$2","v":3772.56},3770,5439.1200000000008,{"$f":"BF360+BF360*Титул.лист!$A$1","v":5983.0320000000011},{"$f":"BG360+BG360*Титул.лист!$P$2","v":5983.0320000000011},5980]
[null,"Шкаф настенный 1д с нишей",200,"h 920","1307-20",860,{"$f":"F361+F361*Титул.лист!$A$1","v":946},{"$f":"G361+G361*Титул.лист!$P$2","v":946},950,930,{"$f":"J361+J361*Титул.лист!$A$1","v":1023},{"$f":"K361+K361*Титул.лист!$P$2","v":1023},1020,1050,{"$f":"N361+N361*Титул.лист!$A$1","v":1155},{"$f":"O361+O361*Титул.лист!$P$2","v":1155},1160,1100,{"$f":"R361+R361*Титул.лист!$A$1","v":1210},{"$f":"S361+S361*Титул.лист!$P$2","v":1210},1210,1230,{"$f":"V361+V361*Титул.лист!$A$1","v":1353},{"$f":"W361+W361*Титул.лист!$P$2","v":1353},1350,1270,{"$f":"Z361+Z361*Титул.лист!$A$1","v":1397},{"$f":"AA361+AA361*Титул.лист!$P$2","v":1397},1400,1050,{"$f":"AD361+AD361*Титул.лист!$A$1","v":1155},{"$f":"AE361+AE361*Титул.лист!$P$2","v":1155},1160,1150,{"$f":"AH361+AH361*Титул.лист!$A$1","v":1265},{"$f":"AI361+AI361*Титул.лист!$P$2","v":1265},1270,1200,{"$f":"AL361+AL361*Титул.лист!$A$1","v":1320},{"$f":"AM361+AM361*Титул.лист!$P$2","v":1320},1320,1769.44,{"$f":"AP361+AP361*Титул.лист!$A$1","v":1946.384},{"$f":"AQ361+AQ361*Титул.лист!$P$2","v":1946.384},1950,1851.6,{"$f":"AT361+AT361*Титул.лист!$A$1","v":2036.76},{"$f":"AU361+AU361*Титул.лист!$P$2","v":2036.76},2040,1550.8,{"$f":"AX361+AX361*Титул.лист!$A$1","v":1705.8799999999999},{"$f":"AY361+AY361*Титул.лист!$P$2","v":1705.8799999999999},1710,1867.6,{"$f":"BB361+BB361*Титул.лист!$A$1","v":2054.3599999999997},{"$f":"BC361+BC361*Титул.лист!$P$2","v":2054.3599999999997},2050,2475.6000000000004,{"$f":"BF361+BF361*Титул.лист!$A$1","v":2723.1600000000003},{"$f":"BG361+BG361*Титул.лист!$P$2","v":2723.1600000000003},2720]
[null,null,250,null,"1307-25",900,{"$f":"F362+F362*Титул.лист!$A$1","v":990},{"$f":"G362+G362*Титул.лист!$P$2","v":990},990,950,{"$f":"J362+J362*Титул.лист!$A$1","v":1045},{"$f":"K362+K362*Титул.лист!$P$2","v":1045},1050,1100,{"$f":"N362+N362*Титул.лист!$A$1","v":1210},{"$f":"O362+O362*Титул.лист!$P$2","v":1210},1210,1150,{"$f":"R362+R362*Титул.лист!$A$1","v":1265},{"$f":"S362+S362*Титул.лист!$P$2","v":1265},1270,1270,{"$f":"V362+V362*Титул.лист!$A$1","v":1397},{"$f":"W362+W362*Титул.лист!$P$2","v":1397},1400,1330,{"$f":"Z362+Z362*Титул.лист!$A$1","v":1463},{"$f":"AA362+AA362*Титул.лист!$P$2","v":1463},1460,1130,{"$f":"AD362+AD362*Титул.лист!$A$1","v":1243},{"$f":"AE362+AE362*Титул.лист!$P$2","v":1243},1240,1200,{"$f":"AH362+AH362*Титул.лист!$A$1","v":1320},{"$f":"AI362+AI362*Титул.лист!$P$2","v":1320},1320,1250,{"$f":"AL362+AL362*Титул.лист!$A$1","v":1375},{"$f":"AM362+AM362*Титул.лист!$P$2","v":1375},1380,2029.3000000000002,{"$f":"AP362+AP362*Титул.лист!$A$1","v":2232.23},{"$f":"AQ362+AQ362*Титул.лист!$P$2","v":2232.23},2230,2132,{"$f":"AT362+AT362*Титул.лист!$A$1","v":2345.1999999999998},{"$f":"AU362+AU362*Титул.лист!$P$2","v":2345.1999999999998},2350,1756,{"$f":"AX362+AX362*Титул.лист!$A$1","v":1931.6},{"$f":"AY362+AY362*Титул.лист!$P$2","v":1931.6},1930,2152,{"$f":"BB362+BB362*Титул.лист!$A$1","v":2367.1999999999998},{"$f":"BC362+BC362*Титул.лист!$P$2","v":2367.1999999999998},2370,2912,{"$f":"BF362+BF362*Титул.лист!$A$1","v":3203.2},{"$f":"BG362+BG362*Титул.лист!$P$2","v":3203.2},3200]
[null,null,300,null,"1307-30",920,{"$f":"F363+F363*Титул.лист!$A$1","v":1012},{"$f":"G363+G363*Титул.лист!$P$2","v":1012},1010,970,{"$f":"J363+J363*Титул.лист!$A$1","v":1067},{"$f":"K363+K363*Титул.лист!$P$2","v":1067},1070,1150,{"$f":"N363+N363*Титул.лист!$A$1","v":1265},{"$f":"O363+O363*Титул.лист!$P$2","v":1265},1270,1200,{"$f":"R363+R363*Титул.лист!$A$1","v":1320},{"$f":"S363+S363*Титул.лист!$P$2","v":1320},1320,1330,{"$f":"V363+V363*Титул.лист!$A$1","v":1463},{"$f":"W363+W363*Титул.лист!$P$2","v":1463},1460,1370,{"$f":"Z363+Z363*Титул.лист!$A$1","v":1507},{"$f":"AA363+AA363*Титул.лист!$P$2","v":1507},1510,1170,{"$f":"AD363+AD363*Титул.лист!$A$1","v":1287},{"$f":"AE363+AE363*Титул.лист!$P$2","v":1287},1290,1240,{"$f":"AH363+AH363*Титул.лист!$A$1","v":1364},{"$f":"AI363+AI363*Титул.лист!$P$2","v":1364},1360,1280,{"$f":"AL363+AL363*Титул.лист!$A$1","v":1408},{"$f":"AM363+AM363*Титул.лист!$P$2","v":1408},1410,2249.16,{"$f":"AP363+AP363*Титул.лист!$A$1","v":2474.076},{"$f":"AQ363+AQ363*Титул.лист!$P$2","v":2474.076},2470,2372.4,{"$f":"AT363+AT363*Титул.лист!$A$1","v":2609.6400000000003},{"$f":"AU363+AU363*Титул.лист!$P$2","v":2609.6400000000003},2610,1921.2,{"$f":"AX363+AX363*Титул.лист!$A$1","v":2113.3200000000002},{"$f":"AY363+AY363*Титул.лист!$P$2","v":2113.3200000000002},2110,2396.4,{"$f":"BB363+BB363*Титул.лист!$A$1","v":2636.04},{"$f":"BC363+BC363*Титул.лист!$P$2","v":2636.04},2640,3308.4,{"$f":"BF363+BF363*Титул.лист!$A$1","v":3639.2400000000002},{"$f":"BG363+BG363*Титул.лист!$P$2","v":3639.2400000000002},3640]
[null,null,350,null,"1307-35",1000,{"$f":"F364+F364*Титул.лист!$A$1","v":1100},{"$f":"G364+G364*Титул.лист!$P$2","v":1100},1100,1100,{"$f":"J364+J364*Титул.лист!$A$1","v":1210},{"$f":"K364+K364*Титул.лист!$P$2","v":1210},1210,1320,{"$f":"N364+N364*Титул.лист!$A$1","v":1452},{"$f":"O364+O364*Титул.лист!$P$2","v":1452},1450,1400,{"$f":"R364+R364*Титул.лист!$A$1","v":1540},{"$f":"S364+S364*Титул.лист!$P$2","v":1540},1540,1570,{"$f":"V364+V364*Титул.лист!$A$1","v":1727},{"$f":"W364+W364*Титул.лист!$P$2","v":1727},1730,1520,{"$f":"Z364+Z364*Титул.лист!$A$1","v":1672},{"$f":"AA364+AA364*Титул.лист!$P$2","v":1672},1670,1300,{"$f":"AD364+AD364*Титул.лист!$A$1","v":1430},{"$f":"AE364+AE364*Титул.лист!$P$2","v":1430},1430,1380,{"$f":"AH364+AH364*Титул.лист!$A$1","v":1518},{"$f":"AI364+AI364*Титул.лист!$P$2","v":1518},1520,1450,{"$f":"AL364+AL364*Титул.лист!$A$1","v":1595},{"$f":"AM364+AM364*Титул.лист!$P$2","v":1595},1600,2559.02,{"$f":"AP364+AP364*Титул.лист!$A$1","v":2814.922},{"$f":"AQ364+AQ364*Титул.лист!$P$2","v":2814.922},2810,2702.8,{"$f":"AT364+AT364*Титул.лист!$A$1","v":2973.0800000000004},{"$f":"AU364+AU364*Титул.лист!$P$2","v":2973.0800000000004},2970,2176.4,{"$f":"AX364+AX364*Титул.лист!$A$1","v":2394.04},{"$f":"AY364+AY364*Титул.лист!$P$2","v":2394.04},2390,2730.8,{"$f":"BB364+BB364*Титул.лист!$A$1","v":3003.88},{"$f":"BC364+BC364*Титул.лист!$P$2","v":3003.88},3000,3794.8,{"$f":"BF364+BF364*Титул.лист!$A$1","v":4174.2800000000007},{"$f":"BG364+BG364*Титул.лист!$P$2","v":4174.2800000000007},4170]
[null,null,400,null,"1307-40",1080,{"$f":"F365+F365*Титул.лист!$A$1","v":1188},{"$f":"G365+G365*Титул.лист!$P$2","v":1188},1190,1133,{"$f":"J365+J365*Титул.лист!$A$1","v":1246.3},{"$f":"K365+K365*Титул.лист!$P$2","v":1246.3},1250,1390,{"$f":"N365+N365*Титул.лист!$A$1","v":1529},{"$f":"O365+O365*Титул.лист!$P$2","v":1529},1530,1440,{"$f":"R365+R365*Титул.лист!$A$1","v":1584},{"$f":"S365+S365*Титул.лист!$P$2","v":1584},1580,1630,{"$f":"V365+V365*Титул.лист!$A$1","v":1793},{"$f":"W365+W365*Титул.лист!$P$2","v":1793},1790,1680,{"$f":"Z365+Z365*Титул.лист!$A$1","v":1848},{"$f":"AA365+AA365*Титул.лист!$P$2","v":1848},1850,1410,{"$f":"AD365+AD365*Титул.лист!$A$1","v":1551},{"$f":"AE365+AE365*Титул.лист!$P$2","v":1551},1550,1510,{"$f":"AH365+AH365*Титул.лист!$A$1","v":1661},{"$f":"AI365+AI365*Титул.лист!$P$2","v":1661},1660,1550,{"$f":"AL365+AL365*Титул.лист!$A$1","v":1705},{"$f":"AM365+AM365*Титул.лист!$P$2","v":1705},1710,2848.88,{"$f":"AP365+AP365*Титул.лист!$A$1","v":3133.768},{"$f":"AQ365+AQ365*Титул.лист!$P$2","v":3133.768},3130,3013.2,{"$f":"AT365+AT365*Титул.лист!$A$1","v":3314.52},{"$f":"AU365+AU365*Титул.лист!$P$2","v":3314.52},3310,2411.6,{"$f":"AX365+AX365*Титул.лист!$A$1","v":2652.7599999999998},{"$f":"AY365+AY365*Титул.лист!$P$2","v":2652.7599999999998},2650,3045.2,{"$f":"BB365+BB365*Титул.лист!$A$1","v":3349.72},{"$f":"BC365+BC365*Титул.лист!$P$2","v":3349.72},3350,4261.2000000000007,{"$f":"BF365+BF365*Титул.лист!$A$1","v":4687.3200000000006},{"$f":"BG365+BG365*Титул.лист!$P$2","v":4687.3200000000006},4690]
[null,null,450,null,"1307-45",1170,{"$f":"F366+F366*Титул.лист!$A$1","v":1287},{"$f":"G366+G366*Титул.лист!$P$2","v":1287},1290,1200,{"$f":"J366+J366*Титул.лист!$A$1","v":1320},{"$f":"K366+K366*Титул.лист!$P$2","v":1320},1320,1570,{"$f":"N366+N366*Титул.лист!$A$1","v":1727},{"$f":"O366+O366*Титул.лист!$P$2","v":1727},1730,1600,{"$f":"R366+R366*Титул.лист!$A$1","v":1760},{"$f":"S366+S366*Титул.лист!$P$2","v":1760},1760,1850,{"$f":"V366+V366*Титул.лист!$A$1","v":2035},{"$f":"W366+W366*Титул.лист!$P$2","v":2035},2040,1900,{"$f":"Z366+Z366*Титул.лист!$A$1","v":2090},{"$f":"AA366+AA366*Титул.лист!$P$2","v":2090},2090,1600,{"$f":"AD366+AD366*Титул.лист!$A$1","v":1760},{"$f":"AE366+AE366*Титул.лист!$P$2","v":1760},1760,1700,{"$f":"AH366+AH366*Титул.лист!$A$1","v":1870},{"$f":"AI366+AI366*Титул.лист!$P$2","v":1870},1870,1780,{"$f":"AL366+AL366*Титул.лист!$A$1","v":1958},{"$f":"AM366+AM366*Титул.лист!$P$2","v":1958},1960,3218.7400000000002,{"$f":"AP366+AP366*Титул.лист!$A$1","v":3540.6140000000005},{"$f":"AQ366+AQ366*Титул.лист!$P$2","v":3540.6140000000005},3540,3403.6000000000004,{"$f":"AT366+AT366*Титул.лист!$A$1","v":3743.9600000000005},{"$f":"AU366+AU366*Титул.лист!$P$2","v":3743.9600000000005},3740,2726.8,{"$f":"AX366+AX366*Титул.лист!$A$1","v":2999.48},{"$f":"AY366+AY366*Титул.лист!$P$2","v":2999.48},3000,3439.6000000000004,{"$f":"BB366+BB366*Титул.лист!$A$1","v":3783.5600000000004},{"$f":"BC366+BC366*Титул.лист!$P$2","v":3783.5600000000004},3780,4807.6000000000004,{"$f":"BF366+BF366*Титул.лист!$A$1","v":5288.3600000000006},{"$f":"BG366+BG366*Титул.лист!$P$2","v":5288.3600000000006},5290]
[null,null,500,null,"1307-50",1230,{"$f":"F367+F367*Титул.лист!$A$1","v":1353},{"$f":"G367+G367*Титул.лист!$P$2","v":1353},1350,1287,{"$f":"J367+J367*Титул.лист!$A$1","v":1415.7},{"$f":"K367+K367*Титул.лист!$P$2","v":1415.7},1420,1630,{"$f":"N367+N367*Титул.лист!$A$1","v":1793},{"$f":"O367+O367*Титул.лист!$P$2","v":1793},1790,1683.0000000000002,{"$f":"R367+R367*Титул.лист!$A$1","v":1851.3000000000002},{"$f":"S367+S367*Титул.лист!$P$2","v":1851.3000000000002},1850,1920,{"$f":"V367+V367*Титул.лист!$A$1","v":2112},{"$f":"W367+W367*Титул.лист!$P$2","v":2112},2110,1980.0000000000002,{"$f":"Z367+Z367*Титул.лист!$A$1","v":2178.0000000000005},{"$f":"AA367+AA367*Титул.лист!$P$2","v":2178.0000000000005},2180,1650.0000000000002,{"$f":"AD367+AD367*Титул.лист!$A$1","v":1815.0000000000002},{"$f":"AE367+AE367*Титул.лист!$P$2","v":1815.0000000000002},1820,1780,{"$f":"AH367+AH367*Титул.лист!$A$1","v":1958},{"$f":"AI367+AI367*Титул.лист!$P$2","v":1958},1960,1840,{"$f":"AL367+AL367*Титул.лист!$A$1","v":2024},{"$f":"AM367+AM367*Титул.лист!$P$2","v":2024},2020,3448.6000000000004,{"$f":"AP367+AP367*Титул.лист!$A$1","v":3793.4600000000005},{"$f":"AQ367+AQ367*Титул.лист!$P$2","v":3793.4600000000005},3790,3654,{"$f":"AT367+AT367*Титул.лист!$A$1","v":4019.4},{"$f":"AU367+AU367*Титул.лист!$P$2","v":4019.4},4020,2902,{"$f":"AX367+AX367*Титул.лист!$A$1","v":3192.2},{"$f":"AY367+AY367*Титул.лист!$P$2","v":3192.2},3190,3694,{"$f":"BB367+BB367*Титул.лист!$A$1","v":4063.4},{"$f":"BC367+BC367*Титул.лист!$P$2","v":4063.4},4060,5214,{"$f":"BF367+BF367*Титул.лист!$A$1","v":5735.4},{"$f":"BG367+BG367*Титул.лист!$P$2","v":5735.4},5740]
[null,null,550,null,"1307-55",1300,{"$f":"F368+F368*Титул.лист!$A$1","v":1430},{"$f":"G368+G368*Титул.лист!$P$2","v":1430},1430,1400,{"$f":"J368+J368*Титул.лист!$A$1","v":1540},{"$f":"K368+K368*Титул.лист!$P$2","v":1540},1540,1780,{"$f":"N368+N368*Титул.лист!$A$1","v":1958},{"$f":"O368+O368*Титул.лист!$P$2","v":1958},1960,1850,{"$f":"R368+R368*Титул.лист!$A$1","v":2035},{"$f":"S368+S368*Титул.лист!$P$2","v":2035},2040,2100,{"$f":"V368+V368*Титул.лист!$A$1","v":2310},{"$f":"W368+W368*Титул.лист!$P$2","v":2310},2310,2170,{"$f":"Z368+Z368*Титул.лист!$A$1","v":2387},{"$f":"AA368+AA368*Титул.лист!$P$2","v":2387},2390,1800,{"$f":"AD368+AD368*Титул.лист!$A$1","v":1980},{"$f":"AE368+AE368*Титул.лист!$P$2","v":1980},1980,2000,{"$f":"AH368+AH368*Титул.лист!$A$1","v":2200},{"$f":"AI368+AI368*Титул.лист!$P$2","v":2200},2200,2070,{"$f":"AL368+AL368*Титул.лист!$A$1","v":2277},{"$f":"AM368+AM368*Титул.лист!$P$2","v":2277},2280,3778.46,{"$f":"AP368+AP368*Титул.лист!$A$1","v":4156.3060000000005},{"$f":"AQ368+AQ368*Титул.лист!$P$2","v":4156.3060000000005},4160,4004.4,{"$f":"AT368+AT368*Титул.лист!$A$1","v":4404.84},{"$f":"AU368+AU368*Титул.лист!$P$2","v":4404.84},4400,3177.2,{"$f":"AX368+AX368*Титул.лист!$A$1","v":3494.92},{"$f":"AY368+AY368*Титул.лист!$P$2","v":3494.92},3490,4048.4,{"$f":"BB368+BB368*Титул.лист!$A$1","v":4453.24},{"$f":"BC368+BC368*Титул.лист!$P$2","v":4453.24},4450,5720.4,{"$f":"BF368+BF368*Титул.лист!$A$1","v":6292.44},{"$f":"BG368+BG368*Титул.лист!$P$2","v":6292.44},6290]
[null,null,600,null,"1307-60",1370,{"$f":"F369+F369*Титул.лист!$A$1","v":1507},{"$f":"G369+G369*Титул.лист!$P$2","v":1507},1510,1441.0000000000002,{"$f":"J369+J369*Титул.лист!$A$1","v":1585.1000000000004},{"$f":"K369+K369*Титул.лист!$P$2","v":1585.1000000000004},1590,1840,{"$f":"N369+N369*Титул.лист!$A$1","v":2024},{"$f":"O369+O369*Титул.лист!$P$2","v":2024},2020,1903.0000000000002,{"$f":"R369+R369*Титул.лист!$A$1","v":2093.3000000000002},{"$f":"S369+S369*Титул.лист!$P$2","v":2093.3000000000002},2090,2200,{"$f":"V369+V369*Титул.лист!$A$1","v":2420},{"$f":"W369+W369*Титул.лист!$P$2","v":2420},2420,2270,{"$f":"Z369+Z369*Титул.лист!$A$1","v":2497},{"$f":"AA369+AA369*Титул.лист!$P$2","v":2497},2500,1890,{"$f":"AD369+AD369*Титул.лист!$A$1","v":2079},{"$f":"AE369+AE369*Титул.лист!$P$2","v":2079},2080,2050,{"$f":"AH369+AH369*Титул.лист!$A$1","v":2255},{"$f":"AI369+AI369*Титул.лист!$P$2","v":2255},2260,2110,{"$f":"AL369+AL369*Титул.лист!$A$1","v":2321},{"$f":"AM369+AM369*Титул.лист!$P$2","v":2321},2320,4048.32,{"$f":"AP369+AP369*Титул.лист!$A$1","v":4453.152},{"$f":"AQ369+AQ369*Титул.лист!$P$2","v":4453.152},4450,4294.8,{"$f":"AT369+AT369*Титул.лист!$A$1","v":4724.2800000000007},{"$f":"AU369+AU369*Титул.лист!$P$2","v":4724.2800000000007},4720,3392.4,{"$f":"AX369+AX369*Титул.лист!$A$1","v":3731.6400000000003},{"$f":"AY369+AY369*Титул.лист!$P$2","v":3731.6400000000003},3730,4342.8,{"$f":"BB369+BB369*Титул.лист!$A$1","v":4777.08},{"$f":"BC369+BC369*Титул.лист!$P$2","v":4777.08},4780,6166.8,{"$f":"BF369+BF369*Титул.лист!$A$1","v":6783.4800000000005},{"$f":"BG369+BG369*Титул.лист!$P$2","v":6783.4800000000005},6780]
[null,"Шкаф настенный 1д с нишей (со стеклом)",300,"h 720","1303-30с",960,{"$f":"F370+F370*Титул.лист!$A$1","v":1056},{"$f":"G370+G370*Титул.лист!$P$2","v":1056},1060,1020,{"$f":"J370+J370*Титул.лист!$A$1","v":1122},{"$f":"K370+K370*Титул.лист!$P$2","v":1122},1120,1164,{"$f":"N370+N370*Титул.лист!$A$1","v":1280.4000000000001},{"$f":"O370+O370*Титул.лист!$P$2","v":1280.4000000000001},1280,1212,{"$f":"R370+R370*Титул.лист!$A$1","v":1333.2},{"$f":"S370+S370*Титул.лист!$P$2","v":1333.2},1330,1320,{"$f":"V370+V370*Титул.лист!$A$1","v":1452},{"$f":"W370+W370*Титул.лист!$P$2","v":1452},1450,1368,{"$f":"Z370+Z370*Титул.лист!$A$1","v":1504.8},{"$f":"AA370+AA370*Титул.лист!$P$2","v":1504.8},1500,1200,{"$f":"AD370+AD370*Титул.лист!$A$1","v":1320},{"$f":"AE370+AE370*Титул.лист!$P$2","v":1320},1320,1248,{"$f":"AH370+AH370*Титул.лист!$A$1","v":1372.8},{"$f":"AI370+AI370*Титул.лист!$P$2","v":1372.8},1370,1296,{"$f":"AL370+AL370*Титул.лист!$A$1","v":1425.6},{"$f":"AM370+AM370*Титул.лист!$P$2","v":1425.6},1430,2044.56,{"$f":"AP370+AP370*Титул.лист!$A$1","v":2249.0160000000001},{"$f":"AQ370+AQ370*Титул.лист!$P$2","v":2249.0160000000001},2250,2101.8000000000002,{"$f":"AT370+AT370*Титул.лист!$A$1","v":2311.98},{"$f":"AU370+AU370*Титул.лист!$P$2","v":2311.98},2310,1763.4,{"$f":"AX370+AX370*Титул.лист!$A$1","v":1939.7400000000002},{"$f":"AY370+AY370*Титул.лист!$P$2","v":1939.7400000000002},1940,2119.8000000000002,{"$f":"BB370+BB370*Титул.лист!$A$1","v":2331.7800000000002},{"$f":"BC370+BC370*Титул.лист!$P$2","v":2331.7800000000002},2330,2803.8,{"$f":"BF370+BF370*Титул.лист!$A$1","v":3084.1800000000003},{"$f":"BG370+BG370*Титул.лист!$P$2","v":3084.1800000000003},3080]
[null,null,350,null,"1303-35с",1080,{"$f":"F371+F371*Титул.лист!$A$1","v":1188},{"$f":"G371+G371*Титул.лист!$P$2","v":1188},1190,1140,{"$f":"J371+J371*Титул.лист!$A$1","v":1254},{"$f":"K371+K371*Титул.лист!$P$2","v":1254},1250,1356,{"$f":"N371+N371*Титул.лист!$A$1","v":1491.6},{"$f":"O371+O371*Титул.лист!$P$2","v":1491.6},1490,1380,{"$f":"R371+R371*Титул.лист!$A$1","v":1518},{"$f":"S371+S371*Титул.лист!$P$2","v":1518},1520,1560,{"$f":"V371+V371*Титул.лист!$A$1","v":1716},{"$f":"W371+W371*Титул.лист!$P$2","v":1716},1720,1560,{"$f":"Z371+Z371*Титул.лист!$A$1","v":1716},{"$f":"AA371+AA371*Титул.лист!$P$2","v":1716},1720,1320,{"$f":"AD371+AD371*Титул.лист!$A$1","v":1452},{"$f":"AE371+AE371*Титул.лист!$P$2","v":1452},1450,1440,{"$f":"AH371+AH371*Титул.лист!$A$1","v":1584},{"$f":"AI371+AI371*Титул.лист!$P$2","v":1584},1580,1440,{"$f":"AL371+AL371*Титул.лист!$A$1","v":1584},{"$f":"AM371+AM371*Титул.лист!$P$2","v":1584},1580,2305.3200000000002,{"$f":"AP371+AP371*Титул.лист!$A$1","v":2535.8520000000003},{"$f":"AQ371+AQ371*Титул.лист!$P$2","v":2535.8520000000003},2540,2372.1,{"$f":"AT371+AT371*Титул.лист!$A$1","v":2609.31},{"$f":"AU371+AU371*Титул.лист!$P$2","v":2609.31},2610,1977.3,{"$f":"AX371+AX371*Титул.лист!$A$1","v":2175.0299999999997},{"$f":"AY371+AY371*Титул.лист!$P$2","v":2175.0299999999997},2180,2393.1,{"$f":"BB371+BB371*Титул.лист!$A$1","v":2632.41},{"$f":"BC371+BC371*Титул.лист!$P$2","v":2632.41},2630,3191.1,{"$f":"BF371+BF371*Титул.лист!$A$1","v":3510.21},{"$f":"BG371+BG371*Титул.лист!$P$2","v":3510.21},3510]
[null,null,400,null,"1303-40с",1140,{"$f":"F372+F372*Титул.лист!$A$1","v":1254},{"$f":"G372+G372*Титул.лист!$P$2","v":1254},1250,1188.0000000000002,{"$f":"J372+J372*Титул.лист!$A$1","v":1306.8000000000002},{"$f":"K372+K372*Титул.лист!$P$2","v":1306.8000000000002},1310,1416,{"$f":"N372+N372*Титул.лист!$A$1","v":1557.6},{"$f":"O372+O372*Титул.лист!$P$2","v":1557.6},1560,1464,{"$f":"R372+R372*Титул.лист!$A$1","v":1610.4},{"$f":"S372+S372*Титул.лист!$P$2","v":1610.4},1610,1620,{"$f":"V372+V372*Титул.лист!$A$1","v":1782},{"$f":"W372+W372*Титул.лист!$P$2","v":1782},1780,1680,{"$f":"Z372+Z372*Титул.лист!$A$1","v":1848},{"$f":"AA372+AA372*Титул.лист!$P$2","v":1848},1850,1428,{"$f":"AD372+AD372*Титул.лист!$A$1","v":1570.8},{"$f":"AE372+AE372*Титул.лист!$P$2","v":1570.8},1570,1512,{"$f":"AH372+AH372*Титул.лист!$A$1","v":1663.2},{"$f":"AI372+AI372*Титул.лист!$P$2","v":1663.2},1660,1560,{"$f":"AL372+AL372*Титул.лист!$A$1","v":1716},{"$f":"AM372+AM372*Титул.лист!$P$2","v":1716},1720,2554.08,{"$f":"AP372+AP372*Титул.лист!$A$1","v":2809.4879999999998},{"$f":"AQ372+AQ372*Титул.лист!$P$2","v":2809.4879999999998},2810,2630.3999999999996,{"$f":"AT372+AT372*Титул.лист!$A$1","v":2893.4399999999996},{"$f":"AU372+AU372*Титул.лист!$P$2","v":2893.4399999999996},2890,2179.1999999999998,{"$f":"AX372+AX372*Титул.лист!$A$1","v":2397.12},{"$f":"AY372+AY372*Титул.лист!$P$2","v":2397.12},2400,2654.3999999999996,{"$f":"BB372+BB372*Титул.лист!$A$1","v":2919.8399999999997},{"$f":"BC372+BC372*Титул.лист!$P$2","v":2919.8399999999997},2920,3566.4,{"$f":"BF372+BF372*Титул.лист!$A$1","v":3923.04},{"$f":"BG372+BG372*Титул.лист!$P$2","v":3923.04},3920]
[null,null,450,null,"1303-45с",1260,{"$f":"F373+F373*Титул.лист!$A$1","v":1386},{"$f":"G373+G373*Титул.лист!$P$2","v":1386},1390,1260,{"$f":"J373+J373*Титул.лист!$A$1","v":1386},{"$f":"K373+K373*Титул.лист!$P$2","v":1386},1390,1524,{"$f":"N373+N373*Титул.лист!$A$1","v":1676.4},{"$f":"O373+O373*Титул.лист!$P$2","v":1676.4},1680,1620,{"$f":"R373+R373*Титул.лист!$A$1","v":1782},{"$f":"S373+S373*Титул.лист!$P$2","v":1782},1780,1800,{"$f":"V373+V373*Титул.лист!$A$1","v":1980},{"$f":"W373+W373*Титул.лист!$P$2","v":1980},1980,1860,{"$f":"Z373+Z373*Титул.лист!$A$1","v":2046},{"$f":"AA373+AA373*Титул.лист!$P$2","v":2046},2050,1560,{"$f":"AD373+AD373*Титул.лист!$A$1","v":1716},{"$f":"AE373+AE373*Титул.лист!$P$2","v":1716},1720,1644,{"$f":"AH373+AH373*Титул.лист!$A$1","v":1808.4},{"$f":"AI373+AI373*Титул.лист!$P$2","v":1808.4},1810,1680,{"$f":"AL373+AL373*Титул.лист!$A$1","v":1848},{"$f":"AM373+AM373*Титул.лист!$P$2","v":1848},1850,2826.84,{"$f":"AP373+AP373*Титул.лист!$A$1","v":3109.5240000000003},{"$f":"AQ373+AQ373*Титул.лист!$P$2","v":3109.5240000000003},3110,2912.7,{"$f":"AT373+AT373*Титул.лист!$A$1","v":3203.97},{"$f":"AU373+AU373*Титул.лист!$P$2","v":3203.97},3200,2405.1,{"$f":"AX373+AX373*Титул.лист!$A$1","v":2645.6099999999997},{"$f":"AY373+AY373*Титул.лист!$P$2","v":2645.6099999999997},2650,2939.7,{"$f":"BB373+BB373*Титул.лист!$A$1","v":3233.6699999999996},{"$f":"BC373+BC373*Титул.лист!$P$2","v":3233.6699999999996},3230,3965.7,{"$f":"BF373+BF373*Титул.лист!$A$1","v":4362.2699999999995},{"$f":"BG373+BG373*Титул.лист!$P$2","v":4362.2699999999995},4360]
[null,null,500,null,"1303-50с",1308,{"$f":"F374+F374*Титул.лист!$A$1","v":1438.8},{"$f":"G374+G374*Титул.лист!$P$2","v":1438.8},1440,1356,{"$f":"J374+J374*Титул.лист!$A$1","v":1491.6},{"$f":"K374+K374*Титул.лист!$P$2","v":1491.6},1490,1632,{"$f":"N374+N374*Титул.лист!$A$1","v":1795.2},{"$f":"O374+O374*Титул.лист!$P$2","v":1795.2},1800,1692,{"$f":"R374+R374*Титул.лист!$A$1","v":1861.2},{"$f":"S374+S374*Титул.лист!$P$2","v":1861.2},1860,1896,{"$f":"V374+V374*Титул.лист!$A$1","v":2085.6},{"$f":"W374+W374*Титул.лист!$P$2","v":2085.6},2090,1956,{"$f":"Z374+Z374*Титул.лист!$A$1","v":2151.6},{"$f":"AA374+AA374*Титул.лист!$P$2","v":2151.6},2150,1668,{"$f":"AD374+AD374*Титул.лист!$A$1","v":1834.8},{"$f":"AE374+AE374*Титул.лист!$P$2","v":1834.8},1830,1764,{"$f":"AH374+AH374*Титул.лист!$A$1","v":1940.4},{"$f":"AI374+AI374*Титул.лист!$P$2","v":1940.4},1940,1824,{"$f":"AL374+AL374*Титул.лист!$A$1","v":2006.4},{"$f":"AM374+AM374*Титул.лист!$P$2","v":2006.4},2010,3075.6000000000004,{"$f":"AP374+AP374*Титул.лист!$A$1","v":3383.1600000000003},{"$f":"AQ374+AQ374*Титул.лист!$P$2","v":3383.1600000000003},3380,3171,{"$f":"AT374+AT374*Титул.лист!$A$1","v":3488.1},{"$f":"AU374+AU374*Титул.лист!$P$2","v":3488.1},3490,2607,{"$f":"AX374+AX374*Титул.лист!$A$1","v":2867.7},{"$f":"AY374+AY374*Титул.лист!$P$2","v":2867.7},2870,3201,{"$f":"BB374+BB374*Титул.лист!$A$1","v":3521.1},{"$f":"BC374+BC374*Титул.лист!$P$2","v":3521.1},3520,4341,{"$f":"BF374+BF374*Титул.лист!$A$1","v":4775.1000000000004},{"$f":"BG374+BG374*Титул.лист!$P$2","v":4775.1000000000004},4780]
[null,null,550,null,"1303-55с",1380,{"$f":"F375+F375*Титул.лист!$A$1","v":1518},{"$f":"G375+G375*Титул.лист!$P$2","v":1518},1520,1476,{"$f":"J375+J375*Титул.лист!$A$1","v":1623.6},{"$f":"K375+K375*Титул.лист!$P$2","v":1623.6},1620,1764,{"$f":"N375+N375*Титул.лист!$A$1","v":1940.4},{"$f":"O375+O375*Титул.лист!$P$2","v":1940.4},1940,1884,{"$f":"R375+R375*Титул.лист!$A$1","v":2072.4},{"$f":"S375+S375*Титул.лист!$P$2","v":2072.4},2070,2100,{"$f":"V375+V375*Титул.лист!$A$1","v":2310},{"$f":"W375+W375*Титул.лист!$P$2","v":2310},2310,2136,{"$f":"Z375+Z375*Титул.лист!$A$1","v":2349.6},{"$f":"AA375+AA375*Титул.лист!$P$2","v":2349.6},2350,1788,{"$f":"AD375+AD375*Титул.лист!$A$1","v":1966.8},{"$f":"AE375+AE375*Титул.лист!$P$2","v":1966.8},1970,1980,{"$f":"AH375+AH375*Титул.лист!$A$1","v":2178},{"$f":"AI375+AI375*Титул.лист!$P$2","v":2178},2180,2040,{"$f":"AL375+AL375*Титул.лист!$A$1","v":2244},{"$f":"AM375+AM375*Титул.лист!$P$2","v":2244},2240,3336.36,{"$f":"AP375+AP375*Титул.лист!$A$1","v":3669.9960000000001},{"$f":"AQ375+AQ375*Титул.лист!$P$2","v":3669.9960000000001},3670,3441.2999999999997,{"$f":"AT375+AT375*Титул.лист!$A$1","v":3785.43},{"$f":"AU375+AU375*Титул.лист!$P$2","v":3785.43},3790,2820.8999999999996,{"$f":"AX375+AX375*Титул.лист!$A$1","v":3102.99},{"$f":"AY375+AY375*Титул.лист!$P$2","v":3102.99},3100,3474.2999999999997,{"$f":"BB375+BB375*Титул.лист!$A$1","v":3821.7299999999996},{"$f":"BC375+BC375*Титул.лист!$P$2","v":3821.7299999999996},3820,4728.2999999999993,{"$f":"BF375+BF375*Титул.лист!$A$1","v":5201.1299999999992},{"$f":"BG375+BG375*Титул.лист!$P$2","v":5201.1299999999992},5200]
[null,null,600,null,"1303-60с",1452,{"$f":"F376+F376*Титул.лист!$A$1","v":1597.2},{"$f":"G376+G376*Титул.лист!$P$2","v":1597.2},1600,1536,{"$f":"J376+J376*Титул.лист!$A$1","v":1689.6},{"$f":"K376+K376*Титул.лист!$P$2","v":1689.6},1690,1860,{"$f":"N376+N376*Титул.лист!$A$1","v":2046},{"$f":"O376+O376*Титул.лист!$P$2","v":2046},2050,1944,{"$f":"R376+R376*Титул.лист!$A$1","v":2138.4},{"$f":"S376+S376*Титул.лист!$P$2","v":2138.4},2140,2172,{"$f":"V376+V376*Титул.лист!$A$1","v":2389.1999999999998},{"$f":"W376+W376*Титул.лист!$P$2","v":2389.1999999999998},2390,2256,{"$f":"Z376+Z376*Титул.лист!$A$1","v":2481.6},{"$f":"AA376+AA376*Титул.лист!$P$2","v":2481.6},2480,1908,{"$f":"AD376+AD376*Титул.лист!$A$1","v":2098.8000000000002},{"$f":"AE376+AE376*Титул.лист!$P$2","v":2098.8000000000002},2100,2040,{"$f":"AH376+AH376*Титул.лист!$A$1","v":2244},{"$f":"AI376+AI376*Титул.лист!$P$2","v":2244},2240,2112.0000000000005,{"$f":"AL376+AL376*Титул.лист!$A$1","v":2323.2000000000007},{"$f":"AM376+AM376*Титул.лист!$P$2","v":2323.2000000000007},2320,3597.12,{"$f":"AP376+AP376*Титул.лист!$A$1","v":3956.8319999999999},{"$f":"AQ376+AQ376*Титул.лист!$P$2","v":3956.8319999999999},3960,3711.6,{"$f":"AT376+AT376*Титул.лист!$A$1","v":4082.7599999999998},{"$f":"AU376+AU376*Титул.лист!$P$2","v":4082.7599999999998},4080,3034.8,{"$f":"AX376+AX376*Титул.лист!$A$1","v":3338.28},{"$f":"AY376+AY376*Титул.лист!$P$2","v":3338.28},3340,3747.6,{"$f":"BB376+BB376*Титул.лист!$A$1","v":4122.3599999999997},{"$f":"BC376+BC376*Титул.лист!$P$2","v":4122.3599999999997},4120,5115.6000000000004,{"$f":"BF376+BF376*Титул.лист!$A$1","v":5627.1600000000008},{"$f":"BG376+BG376*Титул.лист!$P$2","v":5627.1600000000008},5630]
[null,"Шкаф настенный 1д с нишей (со стеклом)",300,"h 920","1307-30с",1104,{"$f":"F377+F377*Титул.лист!$A$1","v":1214.4000000000001},{"$f":"G377+G377*Титул.лист!$P$2","v":1214.4000000000001},1210,1164,{"$f":"J377+J377*Титул.лист!$A$1","v":1280.4000000000001},{"$f":"K377+K377*Титул.лист!$P$2","v":1280.4000000000001},1280,1380,{"$f":"N377+N377*Титул.лист!$A$1","v":1518},{"$f":"O377+O377*Титул.лист!$P$2","v":1518},1520,1440,{"$f":"R377+R377*Титул.лист!$A$1","v":1584},{"$f":"S377+S377*Титул.лист!$P$2","v":1584},1580,1596,{"$f":"V377+V377*Титул.лист!$A$1","v":1755.6},{"$f":"W377+W377*Титул.лист!$P$2","v":1755.6},1760,1644,{"$f":"Z377+Z377*Титул.лист!$A$1","v":1808.4},{"$f":"AA377+AA377*Титул.лист!$P$2","v":1808.4},1810,1404,{"$f":"AD377+AD377*Титул.лист!$A$1","v":1544.4},{"$f":"AE377+AE377*Титул.лист!$P$2","v":1544.4},1540,1488,{"$f":"AH377+AH377*Титул.лист!$A$1","v":1636.8},{"$f":"AI377+AI377*Титул.лист!$P$2","v":1636.8},1640,1536,{"$f":"AL377+AL377*Титул.лист!$A$1","v":1689.6},{"$f":"AM377+AM377*Титул.лист!$P$2","v":1689.6},1690,2478.4679999999998,{"$f":"AP377+AP377*Титул.лист!$A$1","v":2726.3147999999997},{"$f":"AQ377+AQ377*Титул.лист!$P$2","v":2726.3147999999997},2730,2606.4,{"$f":"AT377+AT377*Титул.лист!$A$1","v":2867.04},{"$f":"AU377+AU377*Титул.лист!$P$2","v":2867.04},2870,2155.1999999999998,{"$f":"AX377+AX377*Титул.лист!$A$1","v":2370.7199999999998},{"$f":"AY377+AY377*Титул.лист!$P$2","v":2370.7199999999998},2370,2814.36,{"$f":"BB377+BB377*Титул.лист!$A$1","v":3095.7960000000003},{"$f":"BC377+BC377*Титул.лист!$P$2","v":3095.7960000000003},3100,3542.4,{"$f":"BF377+BF377*Титул.лист!$A$1","v":3896.6400000000003},{"$f":"BG377+BG377*Титул.лист!$P$2","v":3896.6400000000003},3900]
[null,null,350,null,"1307-35с",1200,{"$f":"F378+F378*Титул.лист!$A$1","v":1320},{"$f":"G378+G378*Титул.лист!$P$2","v":1320},1320,1320,{"$f":"J378+J378*Титул.лист!$A$1","v":1452},{"$f":"K378+K378*Титул.лист!$P$2","v":1452},1450,1584,{"$f":"N378+N378*Титул.лист!$A$1","v":1742.4},{"$f":"O378+O378*Титул.лист!$P$2","v":1742.4},1740,1680,{"$f":"R378+R378*Титул.лист!$A$1","v":1848},{"$f":"S378+S378*Титул.лист!$P$2","v":1848},1850,1884,{"$f":"V378+V378*Титул.лист!$A$1","v":2072.4},{"$f":"W378+W378*Титул.лист!$P$2","v":2072.4},2070,1824,{"$f":"Z378+Z378*Титул.лист!$A$1","v":2006.4},{"$f":"AA378+AA378*Титул.лист!$P$2","v":2006.4},2010,1560,{"$f":"AD378+AD378*Титул.лист!$A$1","v":1716},{"$f":"AE378+AE378*Титул.лист!$P$2","v":1716},1720,1656,{"$f":"AH378+AH378*Титул.лист!$A$1","v":1821.6},{"$f":"AI378+AI378*Титул.лист!$P$2","v":1821.6},1820,1740,{"$f":"AL378+AL378*Титул.лист!$A$1","v":1914},{"$f":"AM378+AM378*Титул.лист!$P$2","v":1914},1910,2813.5460000000003,{"$f":"AP378+AP378*Титул.лист!$A$1","v":3094.9006000000004},{"$f":"AQ378+AQ378*Титул.лист!$P$2","v":3094.9006000000004},3090,2962.8,{"$f":"AT378+AT378*Титул.лист!$A$1","v":3259.0800000000004},{"$f":"AU378+AU378*Титул.лист!$P$2","v":3259.0800000000004},3260,2436.4,{"$f":"AX378+AX378*Титул.лист!$A$1","v":2680.04},{"$f":"AY378+AY378*Титул.лист!$P$2","v":2680.04},2680,3205.42,{"$f":"BB378+BB378*Титул.лист!$A$1","v":3525.962},{"$f":"BC378+BC378*Титул.лист!$P$2","v":3525.962},3530,4054.8,{"$f":"BF378+BF378*Титул.лист!$A$1","v":4460.2800000000007},{"$f":"BG378+BG378*Титул.лист!$P$2","v":4460.2800000000007},4460]
[null,null,400,null,"1307-40с",1296,{"$f":"F379+F379*Титул.лист!$A$1","v":1425.6},{"$f":"G379+G379*Титул.лист!$P$2","v":1425.6},1430,1359.6,{"$f":"J379+J379*Титул.лист!$A$1","v":1495.56},{"$f":"K379+K379*Титул.лист!$P$2","v":1495.56},1500,1668,{"$f":"N379+N379*Титул.лист!$A$1","v":1834.8},{"$f":"O379+O379*Титул.лист!$P$2","v":1834.8},1830,1728,{"$f":"R379+R379*Титул.лист!$A$1","v":1900.8},{"$f":"S379+S379*Титул.лист!$P$2","v":1900.8},1900,1956,{"$f":"V379+V379*Титул.лист!$A$1","v":2151.6},{"$f":"W379+W379*Титул.лист!$P$2","v":2151.6},2150,2016,{"$f":"Z379+Z379*Титул.лист!$A$1","v":2217.6},{"$f":"AA379+AA379*Титул.лист!$P$2","v":2217.6},2220,1692,{"$f":"AD379+AD379*Титул.лист!$A$1","v":1861.2},{"$f":"AE379+AE379*Титул.лист!$P$2","v":1861.2},1860,1812,{"$f":"AH379+AH379*Титул.лист!$A$1","v":1993.2},{"$f":"AI379+AI379*Титул.лист!$P$2","v":1993.2},1990,1860,{"$f":"AL379+AL379*Титул.лист!$A$1","v":2046},{"$f":"AM379+AM379*Титул.лист!$P$2","v":2046},2050,3124.6239999999998,{"$f":"AP379+AP379*Титул.лист!$A$1","v":3437.0863999999997},{"$f":"AQ379+AQ379*Титул.лист!$P$2","v":3437.0863999999997},3440,3295.2,{"$f":"AT379+AT379*Титул.лист!$A$1","v":3624.72},{"$f":"AU379+AU379*Титул.лист!$P$2","v":3624.72},3620,2693.6,{"$f":"AX379+AX379*Титул.лист!$A$1","v":2962.96},{"$f":"AY379+AY379*Титул.лист!$P$2","v":2962.96},2960,3572.48,{"$f":"BB379+BB379*Титул.лист!$A$1","v":3929.7280000000001},{"$f":"BC379+BC379*Титул.лист!$P$2","v":3929.7280000000001},3930,4543.2000000000007,{"$f":"BF379+BF379*Титул.лист!$A$1","v":4997.5200000000004},{"$f":"BG379+BG379*Титул.лист!$P$2","v":4997.5200000000004},5000]
[null,null,450,null,"1307-45с",1404,{"$f":"F380+F380*Титул.лист!$A$1","v":1544.4},{"$f":"G380+G380*Титул.лист!$P$2","v":1544.4},1540,1440,{"$f":"J380+J380*Титул.лист!$A$1","v":1584},{"$f":"K380+K380*Титул.лист!$P$2","v":1584},1580,1884,{"$f":"N380+N380*Титул.лист!$A$1","v":2072.4},{"$f":"O380+O380*Титул.лист!$P$2","v":2072.4},2070,1920,{"$f":"R380+R380*Титул.лист!$A$1","v":2112},{"$f":"S380+S380*Титул.лист!$P$2","v":2112},2110,2220,{"$f":"V380+V380*Титул.лист!$A$1","v":2442},{"$f":"W380+W380*Титул.лист!$P$2","v":2442},2440,2280,{"$f":"Z380+Z380*Титул.лист!$A$1","v":2508},{"$f":"AA380+AA380*Титул.лист!$P$2","v":2508},2510,1920,{"$f":"AD380+AD380*Титул.лист!$A$1","v":2112},{"$f":"AE380+AE380*Титул.лист!$P$2","v":2112},2110,2040,{"$f":"AH380+AH380*Титул.лист!$A$1","v":2244},{"$f":"AI380+AI380*Титул.лист!$P$2","v":2244},2240,2136,{"$f":"AL380+AL380*Титул.лист!$A$1","v":2349.6},{"$f":"AM380+AM380*Титул.лист!$P$2","v":2349.6},2350,3531.7020000000002,{"$f":"AP380+AP380*Титул.лист!$A$1","v":3884.8722000000002},{"$f":"AQ380+AQ380*Титул.лист!$P$2","v":3884.8722000000002},3880,3723.6000000000004,{"$f":"AT380+AT380*Титул.лист!$A$1","v":4095.9600000000005},{"$f":"AU380+AU380*Титул.лист!$P$2","v":4095.9600000000005},4100,3046.8,{"$f":"AX380+AX380*Титул.лист!$A$1","v":3351.48},{"$f":"AY380+AY380*Титул.лист!$P$2","v":3351.48},3350,4035.54,{"$f":"BB380+BB380*Титул.лист!$A$1","v":4439.0940000000001},{"$f":"BC380+BC380*Титул.лист!$P$2","v":4439.0940000000001},4440,5127.6000000000004,{"$f":"BF380+BF380*Титул.лист!$A$1","v":5640.3600000000006},{"$f":"BG380+BG380*Титул.лист!$P$2","v":5640.3600000000006},5640]
[null,null,500,null,"1307-50с",1476,{"$f":"F381+F381*Титул.лист!$A$1","v":1623.6},{"$f":"G381+G381*Титул.лист!$P$2","v":1623.6},1620,1544.4,{"$f":"J381+J381*Титул.лист!$A$1","v":1698.8400000000001},{"$f":"K381+K381*Титул.лист!$P$2","v":1698.8400000000001},1700,1956,{"$f":"N381+N381*Титул.лист!$A$1","v":2151.6},{"$f":"O381+O381*Титул.лист!$P$2","v":2151.6},2150,2019.6000000000004,{"$f":"R381+R381*Титул.лист!$A$1","v":2221.5600000000004},{"$f":"S381+S381*Титул.лист!$P$2","v":2221.5600000000004},2220,2304,{"$f":"V381+V381*Титул.лист!$A$1","v":2534.4},{"$f":"W381+W381*Титул.лист!$P$2","v":2534.4},2530,2376.0000000000005,{"$f":"Z381+Z381*Титул.лист!$A$1","v":2613.6000000000004},{"$f":"AA381+AA381*Титул.лист!$P$2","v":2613.6000000000004},2610,1980.0000000000002,{"$f":"AD381+AD381*Титул.лист!$A$1","v":2178.0000000000005},{"$f":"AE381+AE381*Титул.лист!$P$2","v":2178.0000000000005},2180,2136,{"$f":"AH381+AH381*Титул.лист!$A$1","v":2349.6},{"$f":"AI381+AI381*Титул.лист!$P$2","v":2349.6},2350,2208,{"$f":"AL381+AL381*Титул.лист!$A$1","v":2428.8000000000002},{"$f":"AM381+AM381*Титул.лист!$P$2","v":2428.8000000000002},2430,3770.78,{"$f":"AP381+AP381*Титул.лист!$A$1","v":4147.8580000000002},{"$f":"AQ381+AQ381*Титул.лист!$P$2","v":4147.8580000000002},4150,3984,{"$f":"AT381+AT381*Титул.лист!$A$1","v":4382.3999999999996},{"$f":"AU381+AU381*Титул.лист!$P$2","v":4382.3999999999996},4380,3232,{"$f":"AX381+AX381*Титул.лист!$A$1","v":3555.2},{"$f":"AY381+AY381*Титул.лист!$P$2","v":3555.2},3560,4330.6000000000004,{"$f":"BB381+BB381*Титул.лист!$A$1","v":4763.6600000000008},{"$f":"BC381+BC381*Титул.лист!$P$2","v":4763.6600000000008},4760,5544,{"$f":"BF381+BF381*Титул.лист!$A$1","v":6098.4},{"$f":"BG381+BG381*Титул.лист!$P$2","v":6098.4},6100]
[null,null,550,null,"1307-55с",1560,{"$f":"F382+F382*Титул.лист!$A$1","v":1716},{"$f":"G382+G382*Титул.лист!$P$2","v":1716},1720,1680,{"$f":"J382+J382*Титул.лист!$A$1","v":1848},{"$f":"K382+K382*Титул.лист!$P$2","v":1848},1850,2136,{"$f":"N382+N382*Титул.лист!$A$1","v":2349.6},{"$f":"O382+O382*Титул.лист!$P$2","v":2349.6},2350,2220,{"$f":"R382+R382*Титул.лист!$A$1","v":2442},{"$f":"S382+S382*Титул.лист!$P$2","v":2442},2440,2520,{"$f":"V382+V382*Титул.лист!$A$1","v":2772},{"$f":"W382+W382*Титул.лист!$P$2","v":2772},2770,2604,{"$f":"Z382+Z382*Титул.лист!$A$1","v":2864.4},{"$f":"AA382+AA382*Титул.лист!$P$2","v":2864.4},2860,2160,{"$f":"AD382+AD382*Титул.лист!$A$1","v":2376},{"$f":"AE382+AE382*Титул.лист!$P$2","v":2376},2380,2400,{"$f":"AH382+AH382*Титул.лист!$A$1","v":2640},{"$f":"AI382+AI382*Титул.лист!$P$2","v":2640},2640,2484,{"$f":"AL382+AL382*Титул.лист!$A$1","v":2732.4},{"$f":"AM382+AM382*Титул.лист!$P$2","v":2732.4},2730,4129.8580000000002,{"$f":"AP382+AP382*Титул.лист!$A$1","v":4542.8438000000006},{"$f":"AQ382+AQ382*Титул.лист!$P$2","v":4542.8438000000006},4540,4364.3999999999996,{"$f":"AT382+AT382*Титул.лист!$A$1","v":4800.8399999999992},{"$f":"AU382+AU382*Титул.лист!$P$2","v":4800.8399999999992},4800,3537.2,{"$f":"AX382+AX382*Титул.лист!$A$1","v":3890.92},{"$f":"AY382+AY382*Титул.лист!$P$2","v":3890.92},3890,4745.66,{"$f":"BB382+BB382*Титул.лист!$A$1","v":5220.2259999999997},{"$f":"BC382+BC382*Титул.лист!$P$2","v":5220.2259999999997},5220,6080.4,{"$f":"BF382+BF382*Титул.лист!$A$1","v":6688.44},{"$f":"BG382+BG382*Титул.лист!$P$2","v":6688.44},6690]
[null,null,600,null,"1307-60с",1644,{"$f":"F383+F383*Титул.лист!$A$1","v":1808.4},{"$f":"G383+G383*Титул.лист!$P$2","v":1808.4},1810,1729.2000000000003,{"$f":"J383+J383*Титул.лист!$A$1","v":1902.1200000000003},{"$f":"K383+K383*Титул.лист!$P$2","v":1902.1200000000003},1900,2208,{"$f":"N383+N383*Титул.лист!$A$1","v":2428.8000000000002},{"$f":"O383+O383*Титул.лист!$P$2","v":2428.8000000000002},2430,2283.6000000000004,{"$f":"R383+R383*Титул.лист!$A$1","v":2511.9600000000005},{"$f":"S383+S383*Титул.лист!$P$2","v":2511.9600000000005},2510,2640,{"$f":"V383+V383*Титул.лист!$A$1","v":2904},{"$f":"W383+W383*Титул.лист!$P$2","v":2904},2900,2724,{"$f":"Z383+Z383*Титул.лист!$A$1","v":2996.4},{"$f":"AA383+AA383*Титул.лист!$P$2","v":2996.4},3000,2268,{"$f":"AD383+AD383*Титул.лист!$A$1","v":2494.8000000000002},{"$f":"AE383+AE383*Титул.лист!$P$2","v":2494.8000000000002},2490,2460,{"$f":"AH383+AH383*Титул.лист!$A$1","v":2706},{"$f":"AI383+AI383*Титул.лист!$P$2","v":2706},2710,2532,{"$f":"AL383+AL383*Титул.лист!$A$1","v":2785.2},{"$f":"AM383+AM383*Титул.лист!$P$2","v":2785.2},2790,4416.9359999999997,{"$f":"AP383+AP383*Титул.лист!$A$1","v":4858.6295999999993},{"$f":"AQ383+AQ383*Титул.лист!$P$2","v":4858.6295999999993},4860,4672.8,{"$f":"AT383+AT383*Титул.лист!$A$1","v":5140.08},{"$f":"AU383+AU383*Титул.лист!$P$2","v":5140.08},5140,3770.4,{"$f":"AX383+AX383*Титул.лист!$A$1","v":4147.4400000000005},{"$f":"AY383+AY383*Титул.лист!$P$2","v":4147.4400000000005},4150,5088.72,{"$f":"BB383+BB383*Титул.лист!$A$1","v":5597.5920000000006},{"$f":"BC383+BC383*Титул.лист!$P$2","v":5597.5920000000006},5600,6544.8,{"$f":"BF383+BF383*Титул.лист!$A$1","v":7199.2800000000007},{"$f":"BG383+BG383*Титул.лист!$P$2","v":7199.2800000000007},7200]
[null,"Шкаф настенный 2д с нишей",500,"h 720","1402-50",1130,{"$f":"F384+F384*Титул.лист!$A$1","v":1243},{"$f":"G384+G384*Титул.лист!$P$2","v":1243},1240,1210,{"$f":"J384+J384*Титул.лист!$A$1","v":1331},{"$f":"K384+K384*Титул.лист!$P$2","v":1331},1330,1410,{"$f":"N384+N384*Титул.лист!$A$1","v":1551},{"$f":"O384+O384*Титул.лист!$P$2","v":1551},1550,1480,{"$f":"R384+R384*Титул.лист!$A$1","v":1628},{"$f":"S384+S384*Титул.лист!$P$2","v":1628},1630,1620,{"$f":"V384+V384*Титул.лист!$A$1","v":1782},{"$f":"W384+W384*Титул.лист!$P$2","v":1782},1780,1690,{"$f":"Z384+Z384*Титул.лист!$A$1","v":1859},{"$f":"AA384+AA384*Титул.лист!$P$2","v":1859},1860,1420,{"$f":"AD384+AD384*Титул.лист!$A$1","v":1562},{"$f":"AE384+AE384*Титул.лист!$P$2","v":1562},1560,1520,{"$f":"AH384+AH384*Титул.лист!$A$1","v":1672},{"$f":"AI384+AI384*Титул.лист!$P$2","v":1672},1670,1550,{"$f":"AL384+AL384*Титул.лист!$A$1","v":1705},{"$f":"AM384+AM384*Титул.лист!$P$2","v":1705},1710,2819.7799999999997,{"$f":"AP384+AP384*Титул.лист!$A$1","v":3101.7579999999998},{"$f":"AQ384+AQ384*Титул.лист!$P$2","v":3101.7579999999998},3100,3223.6000000000004,{"$f":"AT384+AT384*Титул.лист!$A$1","v":3545.9600000000005},{"$f":"AU384+AU384*Титул.лист!$P$2","v":3545.9600000000005},3550,2359,{"$f":"AX384+AX384*Титул.лист!$A$1","v":2594.9},{"$f":"AY384+AY384*Титул.лист!$P$2","v":2594.9},2590,2953,{"$f":"BB384+BB384*Титул.лист!$A$1","v":3248.3},{"$f":"BC384+BC384*Титул.лист!$P$2","v":3248.3},3250,4093,{"$f":"BF384+BF384*Титул.лист!$A$1","v":4502.3},{"$f":"BG384+BG384*Титул.лист!$P$2","v":4502.3},4500]
[null,null,600,null,"1402-60",1260,{"$f":"F385+F385*Титул.лист!$A$1","v":1386},{"$f":"G385+G385*Титул.лист!$P$2","v":1386},1390,1350,{"$f":"J385+J385*Титул.лист!$A$1","v":1485},{"$f":"K385+K385*Титул.лист!$P$2","v":1485},1490,1610,{"$f":"N385+N385*Титул.лист!$A$1","v":1771},{"$f":"O385+O385*Титул.лист!$P$2","v":1771},1770,1690,{"$f":"R385+R385*Титул.лист!$A$1","v":1859},{"$f":"S385+S385*Титул.лист!$P$2","v":1859},1860,1870.0000000000002,{"$f":"V385+V385*Титул.лист!$A$1","v":2057.0000000000005},{"$f":"W385+W385*Титул.лист!$P$2","v":2057.0000000000005},2060,1960,{"$f":"Z385+Z385*Титул.лист!$A$1","v":2156},{"$f":"AA385+AA385*Титул.лист!$P$2","v":2156},2160,1640,{"$f":"AD385+AD385*Титул.лист!$A$1","v":1804},{"$f":"AE385+AE385*Титул.лист!$P$2","v":1804},1800,1750,{"$f":"AH385+AH385*Титул.лист!$A$1","v":1925},{"$f":"AI385+AI385*Титул.лист!$P$2","v":1925},1930,1790,{"$f":"AL385+AL385*Титул.лист!$A$1","v":1969},{"$f":"AM385+AM385*Титул.лист!$P$2","v":1969},1970,3319.7359999999999,{"$f":"AP385+AP385*Титул.лист!$A$1","v":3651.7096000000001},{"$f":"AQ385+AQ385*Титул.лист!$P$2","v":3651.7096000000001},3650,3804.32,{"$f":"AT385+AT385*Титул.лист!$A$1","v":4184.7520000000004},{"$f":"AU385+AU385*Титул.лист!$P$2","v":4184.7520000000004},4180,2766.8,{"$f":"AX385+AX385*Титул.лист!$A$1","v":3043.48},{"$f":"AY385+AY385*Титул.лист!$P$2","v":3043.48},3040,3479.6,{"$f":"BB385+BB385*Титул.лист!$A$1","v":3827.56},{"$f":"BC385+BC385*Титул.лист!$P$2","v":3827.56},3830,4847.6000000000004,{"$f":"BF385+BF385*Титул.лист!$A$1","v":5332.3600000000006},{"$f":"BG385+BG385*Титул.лист!$P$2","v":5332.3600000000006},5330]
[null,null,700,null,"1402-70",1410,{"$f":"F386+F386*Титул.лист!$A$1","v":1551},{"$f":"G386+G386*Титул.лист!$P$2","v":1551},1550,1480,{"$f":"J386+J386*Титул.лист!$A$1","v":1628},{"$f":"K386+K386*Титул.лист!$P$2","v":1628},1630,1810,{"$f":"N386+N386*Титул.лист!$A$1","v":1991},{"$f":"O386+O386*Титул.лист!$P$2","v":1991},1990,1890,{"$f":"R386+R386*Титул.лист!$A$1","v":2079},{"$f":"S386+S386*Титул.лист!$P$2","v":2079},2080,2120,{"$f":"V386+V386*Титул.лист!$A$1","v":2332},{"$f":"W386+W386*Титул.лист!$P$2","v":2332},2330,2200,{"$f":"Z386+Z386*Титул.лист!$A$1","v":2420},{"$f":"AA386+AA386*Титул.лист!$P$2","v":2420},2420,1840,{"$f":"AD386+AD386*Титул.лист!$A$1","v":2024},{"$f":"AE386+AE386*Титул.лист!$P$2","v":2024},2020,1960,{"$f":"AH386+AH386*Титул.лист!$A$1","v":2156},{"$f":"AI386+AI386*Титул.лист!$P$2","v":2156},2160,2010,{"$f":"AL386+AL386*Титул.лист!$A$1","v":2211},{"$f":"AM386+AM386*Титул.лист!$P$2","v":2211},2210,3799.692,{"$f":"AP386+AP386*Титул.лист!$A$1","v":4179.6612000000005},{"$f":"AQ386+AQ386*Титул.лист!$P$2","v":4179.6612000000005},4180,4365.04,{"$f":"AT386+AT386*Титул.лист!$A$1","v":4801.5439999999999},{"$f":"AU386+AU386*Титул.лист!$P$2","v":4801.5439999999999},4800,3154.6,{"$f":"AX386+AX386*Титул.лист!$A$1","v":3470.06},{"$f":"AY386+AY386*Титул.лист!$P$2","v":3470.06},3470,3986.2,{"$f":"BB386+BB386*Титул.лист!$A$1","v":4384.82},{"$f":"BC386+BC386*Титул.лист!$P$2","v":4384.82},4380,5582.2,{"$f":"BF386+BF386*Титул.лист!$A$1","v":6140.42},{"$f":"BG386+BG386*Титул.лист!$P$2","v":6140.42},6140]
[null,null,800,null,"1402-80",1540.0000000000002,{"$f":"F387+F387*Титул.лист!$A$1","v":1694.0000000000002},{"$f":"G387+G387*Титул.лист!$P$2","v":1694.0000000000002},1690,1630,{"$f":"J387+J387*Титул.лист!$A$1","v":1793},{"$f":"K387+K387*Титул.лист!$P$2","v":1793},1790,2000,{"$f":"N387+N387*Титул.лист!$A$1","v":2200},{"$f":"O387+O387*Титул.лист!$P$2","v":2200},2200,2090,{"$f":"R387+R387*Титул.лист!$A$1","v":2299},{"$f":"S387+S387*Титул.лист!$P$2","v":2299},2300,2340,{"$f":"V387+V387*Титул.лист!$A$1","v":2574},{"$f":"W387+W387*Титул.лист!$P$2","v":2574},2570,2430,{"$f":"Z387+Z387*Титул.лист!$A$1","v":2673},{"$f":"AA387+AA387*Титул.лист!$P$2","v":2673},2670,2020,{"$f":"AD387+AD387*Титул.лист!$A$1","v":2222},{"$f":"AE387+AE387*Титул.лист!$P$2","v":2222},2220,2180,{"$f":"AH387+AH387*Титул.лист!$A$1","v":2398},{"$f":"AI387+AI387*Титул.лист!$P$2","v":2398},2400,2230,{"$f":"AL387+AL387*Титул.лист!$A$1","v":2453},{"$f":"AM387+AM387*Титул.лист!$P$2","v":2453},2450,4259.6479999999992,{"$f":"AP387+AP387*Титул.лист!$A$1","v":4685.612799999999},{"$f":"AQ387+AQ387*Титул.лист!$P$2","v":4685.612799999999},4690,4905.76,{"$f":"AT387+AT387*Титул.лист!$A$1","v":5396.3360000000002},{"$f":"AU387+AU387*Титул.лист!$P$2","v":5396.3360000000002},5400,3522.3999999999996,{"$f":"AX387+AX387*Титул.лист!$A$1","v":3874.6399999999994},{"$f":"AY387+AY387*Титул.лист!$P$2","v":3874.6399999999994},3870,4472.7999999999993,{"$f":"BB387+BB387*Титул.лист!$A$1","v":4920.079999999999},{"$f":"BC387+BC387*Титул.лист!$P$2","v":4920.079999999999},4920,6296.8,{"$f":"BF387+BF387*Титул.лист!$A$1","v":6926.4800000000005},{"$f":"BG387+BG387*Титул.лист!$P$2","v":6926.4800000000005},6930]
[null,null,500,"h 920","1407-50",1290,{"$f":"F388+F388*Титул.лист!$A$1","v":1419},{"$f":"G388+G388*Титул.лист!$P$2","v":1419},{"$f":"ROUND(H388,-1)","v":1420},1390,{"$f":"J388+J388*Титул.лист!$A$1","v":1529},{"$f":"K388+K388*Титул.лист!$P$2","v":1529},{"$f":"ROUND(L388,-1)","v":1530},1670,{"$f":"N388+N388*Титул.лист!$A$1","v":1837},{"$f":"O388+O388*Титул.лист!$P$2","v":1837},{"$f":"ROUND(P388,-1)","v":1840},1770,{"$f":"R388+R388*Титул.лист!$A$1","v":1947},{"$f":"S388+S388*Титул.лист!$P$2","v":1947},{"$f":"ROUND(T388,-1)","v":1950},1970,{"$f":"V388+V388*Титул.лист!$A$1","v":2167},{"$f":"W388+W388*Титул.лист!$P$2","v":2167},{"$f":"ROUND(X388,-1)","v":2170},2070,{"$f":"Z388+Z388*Титул.лист!$A$1","v":2277},{"$f":"AA388+AA388*Титул.лист!$P$2","v":2277},{"$f":"ROUND(AB388,-1)","v":2280},1690,{"$f":"AD388+AD388*Титул.лист!$A$1","v":1859},{"$f":"AE388+AE388*Титул.лист!$P$2","v":1859},{"$f":"ROUND(AF388,-1)","v":1860},1810,{"$f":"AH388+AH388*Титул.лист!$A$1","v":1991},{"$f":"AI388+AI388*Титул.лист!$P$2","v":1991},{"$f":"ROUND(AJ388,-1)","v":1990},1870.0000000000002,{"$f":"AL388+AL388*Титул.лист!$A$1","v":2057.0000000000005},{"$f":"AM388+AM388*Титул.лист!$P$2","v":2057.0000000000005},{"$f":"ROUND(AN388,-1)","v":2060},3480.7799999999997,{"$f":"AP388+AP388*Титул.лист!$A$1","v":3828.8579999999997},{"$f":"AQ388+AQ388*Титул.лист!$P$2","v":3828.8579999999997},{"$f":"ROUND(AR388,-1)","v":3830},3994.6,{"$f":"AT388+AT388*Титул.лист!$A$1","v":4394.0599999999995},{"$f":"AU388+AU388*Титул.лист!$P$2","v":4394.0599999999995},{"$f":"ROUND(AV388,-1)","v":4390},2942,{"$f":"AX388+AX388*Титул.лист!$A$1","v":3236.2},{"$f":"AY388+AY388*Титул.лист!$P$2","v":3236.2},{"$f":"ROUND(AZ388,-1)","v":3240},3734,{"$f":"BB388+BB388*Титул.лист!$A$1","v":4107.3999999999996},{"$f":"BC388+BC388*Титул.лист!$P$2","v":4107.3999999999996},{"$f":"ROUND(BD388,-1)","v":4110},5254,{"$f":"BF388+BF388*Титул.лист!$A$1","v":5779.4},{"$f":"BG388+BG388*Титул.лист!$P$2","v":5779.4},{"$f":"ROUND(BH388,-1)","v":5780}]
[null,null,600,null,"1407-60",1420,{"$f":"F389+F389*Титул.лист!$A$1","v":1562},{"$f":"G389+G389*Титул.лист!$P$2","v":1562},1560,1518.0000000000002,{"$f":"J389+J389*Титул.лист!$A$1","v":1669.8000000000002},{"$f":"K389+K389*Титул.лист!$P$2","v":1669.8000000000002},1670,1890,{"$f":"N389+N389*Титул.лист!$A$1","v":2079},{"$f":"O389+O389*Титул.лист!$P$2","v":2079},2080,1990,{"$f":"R389+R389*Титул.лист!$A$1","v":2189},{"$f":"S389+S389*Титул.лист!$P$2","v":2189},2190,2250,{"$f":"V389+V389*Титул.лист!$A$1","v":2475},{"$f":"W389+W389*Титул.лист!$P$2","v":2475},2480,2350,{"$f":"Z389+Z389*Титул.лист!$A$1","v":2585},{"$f":"AA389+AA389*Титул.лист!$P$2","v":2585},2590,1920,{"$f":"AD389+AD389*Титул.лист!$A$1","v":2112},{"$f":"AE389+AE389*Титул.лист!$P$2","v":2112},2110,2080,{"$f":"AH389+AH389*Титул.лист!$A$1","v":2288},{"$f":"AI389+AI389*Титул.лист!$P$2","v":2288},2290,2140,{"$f":"AL389+AL389*Титул.лист!$A$1","v":2354},{"$f":"AM389+AM389*Титул.лист!$P$2","v":2354},2350,4068.9359999999997,{"$f":"AP389+AP389*Титул.лист!$A$1","v":4475.8296},{"$f":"AQ389+AQ389*Титул.лист!$P$2","v":4475.8296},4480,4685.5200000000004,{"$f":"AT389+AT389*Титул.лист!$A$1","v":5154.0720000000001},{"$f":"AU389+AU389*Титул.лист!$P$2","v":5154.0720000000001},5150,3422.4,{"$f":"AX389+AX389*Титул.лист!$A$1","v":3764.6400000000003},{"$f":"AY389+AY389*Титул.лист!$P$2","v":3764.6400000000003},3760,4372.8,{"$f":"BB389+BB389*Титул.лист!$A$1","v":4810.08},{"$f":"BC389+BC389*Титул.лист!$P$2","v":4810.08},4810,6196.8,{"$f":"BF389+BF389*Титул.лист!$A$1","v":6816.4800000000005},{"$f":"BG389+BG389*Титул.лист!$P$2","v":6816.4800000000005},6820]
[null,null,700,null,"1407-70",1580,{"$f":"F390+F390*Титул.лист!$A$1","v":1738},{"$f":"G390+G390*Титул.лист!$P$2","v":1738},1740,1683.0000000000002,{"$f":"J390+J390*Титул.лист!$A$1","v":1851.3000000000002},{"$f":"K390+K390*Титул.лист!$P$2","v":1851.3000000000002},1850,2120,{"$f":"N390+N390*Титул.лист!$A$1","v":2332},{"$f":"O390+O390*Титул.лист!$P$2","v":2332},2330,2220,{"$f":"R390+R390*Титул.лист!$A$1","v":2442},{"$f":"S390+S390*Титул.лист!$P$2","v":2442},2440,2540,{"$f":"V390+V390*Титул.лист!$A$1","v":2794},{"$f":"W390+W390*Титул.лист!$P$2","v":2794},2790,2640,{"$f":"Z390+Z390*Титул.лист!$A$1","v":2904},{"$f":"AA390+AA390*Титул.лист!$P$2","v":2904},2900,2170,{"$f":"AD390+AD390*Титул.лист!$A$1","v":2387},{"$f":"AE390+AE390*Титул.лист!$P$2","v":2387},2390,2340,{"$f":"AH390+AH390*Титул.лист!$A$1","v":2574},{"$f":"AI390+AI390*Титул.лист!$P$2","v":2574},2570,2410,{"$f":"AL390+AL390*Титул.лист!$A$1","v":2651},{"$f":"AM390+AM390*Титул.лист!$P$2","v":2651},2650,4677.0920000000006,{"$f":"AP390+AP390*Титул.лист!$A$1","v":5144.8012000000008},{"$f":"AQ390+AQ390*Титул.лист!$P$2","v":5144.8012000000008},5140,5396.4400000000005,{"$f":"AT390+AT390*Титул.лист!$A$1","v":5936.0840000000007},{"$f":"AU390+AU390*Титул.лист!$P$2","v":5936.0840000000007},5940,3922.8,{"$f":"AX390+AX390*Титул.лист!$A$1","v":4315.08},{"$f":"AY390+AY390*Титул.лист!$P$2","v":4315.08},4320,5031.6000000000004,{"$f":"BB390+BB390*Титул.лист!$A$1","v":5534.76},{"$f":"BC390+BC390*Титул.лист!$P$2","v":5534.76},5530,7159.6,{"$f":"BF390+BF390*Титул.лист!$A$1","v":7875.56},{"$f":"BG390+BG390*Титул.лист!$P$2","v":7875.56},7880]
[null,null,800,null,"1407-80",1730,{"$f":"F391+F391*Титул.лист!$A$1","v":1903},{"$f":"G391+G391*Титул.лист!$P$2","v":1903},1900,1830,{"$f":"J391+J391*Титул.лист!$A$1","v":2013},{"$f":"K391+K391*Титул.лист!$P$2","v":2013},2010,2350,{"$f":"N391+N391*Титул.лист!$A$1","v":2585},{"$f":"O391+O391*Титул.лист!$P$2","v":2585},2590,2450,{"$f":"R391+R391*Титул.лист!$A$1","v":2695},{"$f":"S391+S391*Титул.лист!$P$2","v":2695},2700,2840,{"$f":"V391+V391*Титул.лист!$A$1","v":3124},{"$f":"W391+W391*Титул.лист!$P$2","v":3124},3120,2940,{"$f":"Z391+Z391*Титул.лист!$A$1","v":3234},{"$f":"AA391+AA391*Титул.лист!$P$2","v":3234},3230,2400,{"$f":"AD391+AD391*Титул.лист!$A$1","v":2640},{"$f":"AE391+AE391*Титул.лист!$P$2","v":2640},2640,2600,{"$f":"AH391+AH391*Титул.лист!$A$1","v":2860},{"$f":"AI391+AI391*Титул.лист!$P$2","v":2860},2860,2680,{"$f":"AL391+AL391*Титул.лист!$A$1","v":2948},{"$f":"AM391+AM391*Титул.лист!$P$2","v":2948},2950,5265.2479999999996,{"$f":"AP391+AP391*Титул.лист!$A$1","v":5791.7727999999997},{"$f":"AQ391+AQ391*Титул.лист!$P$2","v":5791.7727999999997},5790,6087.3600000000006,{"$f":"AT391+AT391*Титул.лист!$A$1","v":6696.0960000000005},{"$f":"AU391+AU391*Титул.лист!$P$2","v":6696.0960000000005},6700,4403.2,{"$f":"AX391+AX391*Титул.лист!$A$1","v":4843.5199999999995},{"$f":"AY391+AY391*Титул.лист!$P$2","v":4843.5199999999995},4840,5670.4,{"$f":"BB391+BB391*Титул.лист!$A$1","v":6237.44},{"$f":"BC391+BC391*Титул.лист!$P$2","v":6237.44},6240,8102.4000000000005,{"$f":"BF391+BF391*Титул.лист!$A$1","v":8912.6400000000012},{"$f":"BG391+BG391*Титул.лист!$P$2","v":8912.6400000000012},8910]
[null,"Шкаф настенный 2д с нишей (со стеклом)",600,"h 720","1402-60с",1575,{"$f":"F392+F392*Титул.лист!$A$1","v":1732.5},{"$f":"G392+G392*Титул.лист!$P$2","v":1732.5},1730,1687.5,{"$f":"J392+J392*Титул.лист!$A$1","v":1856.25},{"$f":"K392+K392*Титул.лист!$P$2","v":1856.25},1860,2012.5,{"$f":"N392+N392*Титул.лист!$A$1","v":2213.75},{"$f":"O392+O392*Титул.лист!$P$2","v":2213.75},2210,2112.5,{"$f":"R392+R392*Титул.лист!$A$1","v":2323.75},{"$f":"S392+S392*Титул.лист!$P$2","v":2323.75},2320,2337.5000000000005,{"$f":"V392+V392*Титул.лист!$A$1","v":2571.2500000000005},{"$f":"W392+W392*Титул.лист!$P$2","v":2571.2500000000005},2570,2450,{"$f":"Z392+Z392*Титул.лист!$A$1","v":2695},{"$f":"AA392+AA392*Титул.лист!$P$2","v":2695},2700,2050,{"$f":"AD392+AD392*Титул.лист!$A$1","v":2255},{"$f":"AE392+AE392*Титул.лист!$P$2","v":2255},2260,2187.5,{"$f":"AH392+AH392*Титул.лист!$A$1","v":2406.25},{"$f":"AI392+AI392*Титул.лист!$P$2","v":2406.25},2410,2237.5,{"$f":"AL392+AL392*Титул.лист!$A$1","v":2461.25},{"$f":"AM392+AM392*Титул.лист!$P$2","v":2461.25},2460,3739.12,{"$f":"AP392+AP392*Титул.лист!$A$1","v":4113.0320000000002},{"$f":"AQ392+AQ392*Титул.лист!$P$2","v":4113.0320000000002},4110,4214.32,{"$f":"AT392+AT392*Титул.лист!$A$1","v":4635.7519999999995},{"$f":"AU392+AU392*Титул.лист!$P$2","v":4635.7519999999995},4640,3176.8,{"$f":"AX392+AX392*Титул.лист!$A$1","v":3494.4800000000005},{"$f":"AY392+AY392*Титул.лист!$P$2","v":3494.4800000000005},3490,3889.6,{"$f":"BB392+BB392*Титул.лист!$A$1","v":4278.5599999999995},{"$f":"BC392+BC392*Титул.лист!$P$2","v":4278.5599999999995},4280,5257.6,{"$f":"BF392+BF392*Титул.лист!$A$1","v":5783.3600000000006},{"$f":"BG392+BG392*Титул.лист!$P$2","v":5783.3600000000006},5780]
[null,null,700,null,"1402-70с",1762.5,{"$f":"F393+F393*Титул.лист!$A$1","v":1938.75},{"$f":"G393+G393*Титул.лист!$P$2","v":1938.75},1940,1850,{"$f":"J393+J393*Титул.лист!$A$1","v":2035},{"$f":"K393+K393*Титул.лист!$P$2","v":2035},2040,2262.5,{"$f":"N393+N393*Титул.лист!$A$1","v":2488.75},{"$f":"O393+O393*Титул.лист!$P$2","v":2488.75},2490,2362.5,{"$f":"R393+R393*Титул.лист!$A$1","v":2598.75},{"$f":"S393+S393*Титул.лист!$P$2","v":2598.75},2600,2650,{"$f":"V393+V393*Титул.лист!$A$1","v":2915},{"$f":"W393+W393*Титул.лист!$P$2","v":2915},2920,2750,{"$f":"Z393+Z393*Титул.лист!$A$1","v":3025},{"$f":"AA393+AA393*Титул.лист!$P$2","v":3025},3030,2300,{"$f":"AD393+AD393*Титул.лист!$A$1","v":2530},{"$f":"AE393+AE393*Титул.лист!$P$2","v":2530},2530,2450,{"$f":"AH393+AH393*Титул.лист!$A$1","v":2695},{"$f":"AI393+AI393*Титул.лист!$P$2","v":2695},2700,2512.5,{"$f":"AL393+AL393*Титул.лист!$A$1","v":2763.75},{"$f":"AM393+AM393*Титул.лист!$P$2","v":2763.75},2760,4270.6400000000003,{"$f":"AP393+AP393*Титул.лист!$A$1","v":4697.7040000000006},{"$f":"AQ393+AQ393*Титул.лист!$P$2","v":4697.7040000000006},4700,4825.04,{"$f":"AT393+AT393*Титул.лист!$A$1","v":5307.5439999999999},{"$f":"AU393+AU393*Титул.лист!$P$2","v":5307.5439999999999},5310,3614.6,{"$f":"AX393+AX393*Титул.лист!$A$1","v":3976.06},{"$f":"AY393+AY393*Титул.лист!$P$2","v":3976.06},3980,4446.2,{"$f":"BB393+BB393*Титул.лист!$A$1","v":4890.82},{"$f":"BC393+BC393*Титул.лист!$P$2","v":4890.82},4890,6042.2,{"$f":"BF393+BF393*Титул.лист!$A$1","v":6646.42},{"$f":"BG393+BG393*Титул.лист!$P$2","v":6646.42},6650]
[null,null,800,null,"1402-80с",1925.0000000000002,{"$f":"F394+F394*Титул.лист!$A$1","v":2117.5000000000005},{"$f":"G394+G394*Титул.лист!$P$2","v":2117.5000000000005},2120,2037.5,{"$f":"J394+J394*Титул.лист!$A$1","v":2241.25},{"$f":"K394+K394*Титул.лист!$P$2","v":2241.25},2240,2500,{"$f":"N394+N394*Титул.лист!$A$1","v":2750},{"$f":"O394+O394*Титул.лист!$P$2","v":2750},2750,2612.5,{"$f":"R394+R394*Титул.лист!$A$1","v":2873.75},{"$f":"S394+S394*Титул.лист!$P$2","v":2873.75},2870,2925,{"$f":"V394+V394*Титул.лист!$A$1","v":3217.5},{"$f":"W394+W394*Титул.лист!$P$2","v":3217.5},3220,3037.5,{"$f":"Z394+Z394*Титул.лист!$A$1","v":3341.25},{"$f":"AA394+AA394*Титул.лист!$P$2","v":3341.25},3340,2525,{"$f":"AD394+AD394*Титул.лист!$A$1","v":2777.5},{"$f":"AE394+AE394*Титул.лист!$P$2","v":2777.5},2780,2725,{"$f":"AH394+AH394*Титул.лист!$A$1","v":2997.5},{"$f":"AI394+AI394*Титул.лист!$P$2","v":2997.5},3000,2787.5,{"$f":"AL394+AL394*Титул.лист!$A$1","v":3066.25},{"$f":"AM394+AM394*Титул.лист!$P$2","v":3066.25},3070,4777.16,{"$f":"AP394+AP394*Титул.лист!$A$1","v":5254.8760000000002},{"$f":"AQ394+AQ394*Титул.лист!$P$2","v":5254.8760000000002},5250,5410.76,{"$f":"AT394+AT394*Титул.лист!$A$1","v":5951.8360000000002},{"$f":"AU394+AU394*Титул.лист!$P$2","v":5951.8360000000002},5950,4027.3999999999996,{"$f":"AX394+AX394*Титул.лист!$A$1","v":4430.1399999999994},{"$f":"AY394+AY394*Титул.лист!$P$2","v":4430.1399999999994},4430,4977.7999999999993,{"$f":"BB394+BB394*Титул.лист!$A$1","v":5475.579999999999},{"$f":"BC394+BC394*Титул.лист!$P$2","v":5475.579999999999},5480,6801.8,{"$f":"BF394+BF394*Титул.лист!$A$1","v":7481.9800000000005},{"$f":"BG394+BG394*Титул.лист!$P$2","v":7481.9800000000005},7480]
[null,"Шкаф настенный 2д с нишей (со стеклом)",600,"h 920","1407-60с",1775,{"$f":"F395+F395*Титул.лист!$A$1","v":1952.5},{"$f":"G395+G395*Титул.лист!$P$2","v":1952.5},1950,1897.5000000000002,{"$f":"J395+J395*Титул.лист!$A$1","v":2087.2500000000005},{"$f":"K395+K395*Титул.лист!$P$2","v":2087.2500000000005},2090,2362.5,{"$f":"N395+N395*Титул.лист!$A$1","v":2598.75},{"$f":"O395+O395*Титул.лист!$P$2","v":2598.75},2600,2487.5,{"$f":"R395+R395*Титул.лист!$A$1","v":2736.25},{"$f":"S395+S395*Титул.лист!$P$2","v":2736.25},2740,2812.5,{"$f":"V395+V395*Титул.лист!$A$1","v":3093.75},{"$f":"W395+W395*Титул.лист!$P$2","v":3093.75},3090,2937.5,{"$f":"Z395+Z395*Титул.лист!$A$1","v":3231.25},{"$f":"AA395+AA395*Титул.лист!$P$2","v":3231.25},3230,2400,{"$f":"AD395+AD395*Титул.лист!$A$1","v":2640},{"$f":"AE395+AE395*Титул.лист!$P$2","v":2640},2640,2600,{"$f":"AH395+AH395*Титул.лист!$A$1","v":2860},{"$f":"AI395+AI395*Титул.лист!$P$2","v":2860},2860,2675,{"$f":"AL395+AL395*Титул.лист!$A$1","v":2942.5},{"$f":"AM395+AM395*Титул.лист!$P$2","v":2942.5},2940,4548.9359999999997,{"$f":"AP395+AP395*Титул.лист!$A$1","v":5003.8296},{"$f":"AQ395+AQ395*Титул.лист!$P$2","v":5003.8296},5000,5165.5200000000004,{"$f":"AT395+AT395*Титул.лист!$A$1","v":5682.0720000000001},{"$f":"AU395+AU395*Титул.лист!$P$2","v":5682.0720000000001},5680,3752.16,{"$f":"AX395+AX395*Титул.лист!$A$1","v":4127.3760000000002},{"$f":"AY395+AY395*Титул.лист!$P$2","v":4127.3760000000002},4130,4852.8,{"$f":"BB395+BB395*Титул.лист!$A$1","v":5338.08},{"$f":"BC395+BC395*Титул.лист!$P$2","v":5338.08},5340,6676.8,{"$f":"BF395+BF395*Титул.лист!$A$1","v":7344.4800000000005},{"$f":"BG395+BG395*Титул.лист!$P$2","v":7344.4800000000005},7340]
[null,null,700,null,"1407-70с",1975,{"$f":"F396+F396*Титул.лист!$A$1","v":2172.5},{"$f":"G396+G396*Титул.лист!$P$2","v":2172.5},2170,2103.7500000000005,{"$f":"J396+J396*Титул.лист!$A$1","v":2314.1250000000005},{"$f":"K396+K396*Титул.лист!$P$2","v":2314.1250000000005},2310,2650,{"$f":"N396+N396*Титул.лист!$A$1","v":2915},{"$f":"O396+O396*Титул.лист!$P$2","v":2915},2920,2775,{"$f":"R396+R396*Титул.лист!$A$1","v":3052.5},{"$f":"S396+S396*Титул.лист!$P$2","v":3052.5},3050,3175,{"$f":"V396+V396*Титул.лист!$A$1","v":3492.5},{"$f":"W396+W396*Титул.лист!$P$2","v":3492.5},3490,3300,{"$f":"Z396+Z396*Титул.лист!$A$1","v":3630},{"$f":"AA396+AA396*Титул.лист!$P$2","v":3630},3630,2712.5,{"$f":"AD396+AD396*Титул.лист!$A$1","v":2983.75},{"$f":"AE396+AE396*Титул.лист!$P$2","v":2983.75},2980,2925,{"$f":"AH396+AH396*Титул.лист!$A$1","v":3217.5},{"$f":"AI396+AI396*Титул.лист!$P$2","v":3217.5},3220,3012.5,{"$f":"AL396+AL396*Титул.лист!$A$1","v":3313.75},{"$f":"AM396+AM396*Титул.лист!$P$2","v":3313.75},3310,5219.5920000000006,{"$f":"AP396+AP396*Титул.лист!$A$1","v":5741.5512000000008},{"$f":"AQ396+AQ396*Титул.лист!$P$2","v":5741.5512000000008},5740,5938.9400000000005,{"$f":"AT396+AT396*Титул.лист!$A$1","v":6532.8340000000007},{"$f":"AU396+AU396*Титул.лист!$P$2","v":6532.8340000000007},6530,4290.0200000000004,{"$f":"AX396+AX396*Титул.лист!$A$1","v":4719.0220000000008},{"$f":"AY396+AY396*Титул.лист!$P$2","v":4719.0220000000008},4720,5574.1,{"$f":"BB396+BB396*Титул.лист!$A$1","v":6131.51},{"$f":"BC396+BC396*Титул.лист!$P$2","v":6131.51},6130,7702.1,{"$f":"BF396+BF396*Титул.лист!$A$1","v":8472.3100000000013},{"$f":"BG396+BG396*Титул.лист!$P$2","v":8472.3100000000013},8470]
[null,null,800,null,"1407-80с",2162.5,{"$f":"F397+F397*Титул.лист!$A$1","v":2378.75},{"$f":"G397+G397*Титул.лист!$P$2","v":2378.75},2380,2287.5,{"$f":"J397+J397*Титул.лист!$A$1","v":2516.25},{"$f":"K397+K397*Титул.лист!$P$2","v":2516.25},2520,2937.5,{"$f":"N397+N397*Титул.лист!$A$1","v":3231.25},{"$f":"O397+O397*Титул.лист!$P$2","v":3231.25},3230,3062.5,{"$f":"R397+R397*Титул.лист!$A$1","v":3368.75},{"$f":"S397+S397*Титул.лист!$P$2","v":3368.75},3370,3550,{"$f":"V397+V397*Титул.лист!$A$1","v":3905},{"$f":"W397+W397*Титул.лист!$P$2","v":3905},3910,3675,{"$f":"Z397+Z397*Титул.лист!$A$1","v":4042.5},{"$f":"AA397+AA397*Титул.лист!$P$2","v":4042.5},4040,3000,{"$f":"AD397+AD397*Титул.лист!$A$1","v":3300},{"$f":"AE397+AE397*Титул.лист!$P$2","v":3300},3300,3250,{"$f":"AH397+AH397*Титул.лист!$A$1","v":3575},{"$f":"AI397+AI397*Титул.лист!$P$2","v":3575},3580,3350,{"$f":"AL397+AL397*Титул.лист!$A$1","v":3685},{"$f":"AM397+AM397*Титул.лист!$P$2","v":3685},3690,5865.2479999999996,{"$f":"AP397+AP397*Титул.лист!$A$1","v":6451.7727999999997},{"$f":"AQ397+AQ397*Титул.лист!$P$2","v":6451.7727999999997},6450,6687.3600000000006,{"$f":"AT397+AT397*Титул.лист!$A$1","v":7356.0960000000005},{"$f":"AU397+AU397*Титул.лист!$P$2","v":7356.0960000000005},7360,4802.88,{"$f":"AX397+AX397*Титул.лист!$A$1","v":5283.1679999999997},{"$f":"AY397+AY397*Титул.лист!$P$2","v":5283.1679999999997},5280,6270.4,{"$f":"BB397+BB397*Титул.лист!$A$1","v":6897.44},{"$f":"BC397+BC397*Титул.лист!$P$2","v":6897.44},6900,8702.4000000000015,{"$f":"BF397+BF397*Титул.лист!$A$1","v":9572.6400000000012},{"$f":"BG397+BG397*Титул.лист!$P$2","v":9572.6400000000012},9570]
[null,"Шкаф настенный 2д с нишей",600,"h 720","1403-60",1260,{"$f":"F398+F398*Титул.лист!$A$1","v":1386},{"$f":"G398+G398*Титул.лист!$P$2","v":1386},1390,1350,{"$f":"J398+J398*Титул.лист!$A$1","v":1485},{"$f":"K398+K398*Титул.лист!$P$2","v":1485},1490,1610,{"$f":"N398+N398*Титул.лист!$A$1","v":1771},{"$f":"O398+O398*Титул.лист!$P$2","v":1771},1770,1690,{"$f":"R398+R398*Титул.лист!$A$1","v":1859},{"$f":"S398+S398*Титул.лист!$P$2","v":1859},1860,1870.0000000000002,{"$f":"V398+V398*Титул.лист!$A$1","v":2057.0000000000005},{"$f":"W398+W398*Титул.лист!$P$2","v":2057.0000000000005},2060,1960,{"$f":"Z398+Z398*Титул.лист!$A$1","v":2156},{"$f":"AA398+AA398*Титул.лист!$P$2","v":2156},2160,1640,{"$f":"AD398+AD398*Титул.лист!$A$1","v":1804},{"$f":"AE398+AE398*Титул.лист!$P$2","v":1804},1800,1750,{"$f":"AH398+AH398*Титул.лист!$A$1","v":1925},{"$f":"AI398+AI398*Титул.лист!$P$2","v":1925},1930,1790,{"$f":"AL398+AL398*Титул.лист!$A$1","v":1969},{"$f":"AM398+AM398*Титул.лист!$P$2","v":1969},1970,3319.7359999999999,{"$f":"AP398+AP398*Титул.лист!$A$1","v":3651.7096000000001},{"$f":"AQ398+AQ398*Титул.лист!$P$2","v":3651.7096000000001},3650,3804.32,{"$f":"AT398+AT398*Титул.лист!$A$1","v":4184.7520000000004},{"$f":"AU398+AU398*Титул.лист!$P$2","v":4184.7520000000004},4180,2766.8,{"$f":"AX398+AX398*Титул.лист!$A$1","v":3043.48},{"$f":"AY398+AY398*Титул.лист!$P$2","v":3043.48},3040,3479.6,{"$f":"BB398+BB398*Титул.лист!$A$1","v":3827.56},{"$f":"BC398+BC398*Титул.лист!$P$2","v":3827.56},3830,4847.6000000000004,{"$f":"BF398+BF398*Титул.лист!$A$1","v":5332.3600000000006},{"$f":"BG398+BG398*Титул.лист!$P$2","v":5332.3600000000006},5330]
[null,null,700,null,"1403-70",1410,{"$f":"F399+F399*Титул.лист!$A$1","v":1551},{"$f":"G399+G399*Титул.лист!$P$2","v":1551},1550,1480,{"$f":"J399+J399*Титул.лист!$A$1","v":1628},{"$f":"K399+K399*Титул.лист!$P$2","v":1628},1630,1810,{"$f":"N399+N399*Титул.лист!$A$1","v":1991},{"$f":"O399+O399*Титул.лист!$P$2","v":1991},1990,1890,{"$f":"R399+R399*Титул.лист!$A$1","v":2079},{"$f":"S399+S399*Титул.лист!$P$2","v":2079},2080,2120,{"$f":"V399+V399*Титул.лист!$A$1","v":2332},{"$f":"W399+W399*Титул.лист!$P$2","v":2332},2330,2200,{"$f":"Z399+Z399*Титул.лист!$A$1","v":2420},{"$f":"AA399+AA399*Титул.лист!$P$2","v":2420},2420,1840,{"$f":"AD399+AD399*Титул.лист!$A$1","v":2024},{"$f":"AE399+AE399*Титул.лист!$P$2","v":2024},2020,1960,{"$f":"AH399+AH399*Титул.лист!$A$1","v":2156},{"$f":"AI399+AI399*Титул.лист!$P$2","v":2156},2160,2010,{"$f":"AL399+AL399*Титул.лист!$A$1","v":2211},{"$f":"AM399+AM399*Титул.лист!$P$2","v":2211},2210,3799.692,{"$f":"AP399+AP399*Титул.лист!$A$1","v":4179.6612000000005},{"$f":"AQ399+AQ399*Титул.лист!$P$2","v":4179.6612000000005},4180,4365.04,{"$f":"AT399+AT399*Титул.лист!$A$1","v":4801.5439999999999},{"$f":"AU399+AU399*Титул.лист!$P$2","v":4801.5439999999999},4800,3154.6,{"$f":"AX399+AX399*Титул.лист!$A$1","v":3470.06},{"$f":"AY399+AY399*Титул.лист!$P$2","v":3470.06},3470,3986.2,{"$f":"BB399+BB399*Титул.лист!$A$1","v":4384.82},{"$f":"BC399+BC399*Титул.лист!$P$2","v":4384.82},4380,5582.2,{"$f":"BF399+BF399*Титул.лист!$A$1","v":6140.42},{"$f":"BG399+BG399*Титул.лист!$P$2","v":6140.42},6140]
[null,null,800,null,"1403-80",1540.0000000000002,{"$f":"F400+F400*Титул.лист!$A$1","v":1694.0000000000002},{"$f":"G400+G400*Титул.лист!$P$2","v":1694.0000000000002},1690,1630,{"$f":"J400+J400*Титул.лист!$A$1","v":1793},{"$f":"K400+K400*Титул.лист!$P$2","v":1793},1790,2000,{"$f":"N400+N400*Титул.лист!$A$1","v":2200},{"$f":"O400+O400*Титул.лист!$P$2","v":2200},2200,2090,{"$f":"R400+R400*Титул.лист!$A$1","v":2299},{"$f":"S400+S400*Титул.лист!$P$2","v":2299},2300,2340,{"$f":"V400+V400*Титул.лист!$A$1","v":2574},{"$f":"W400+W400*Титул.лист!$P$2","v":2574},2570,2430,{"$f":"Z400+Z400*Титул.лист!$A$1","v":2673},{"$f":"AA400+AA400*Титул.лист!$P$2","v":2673},2670,2020,{"$f":"AD400+AD400*Титул.лист!$A$1","v":2222},{"$f":"AE400+AE400*Титул.лист!$P$2","v":2222},2220,2180,{"$f":"AH400+AH400*Титул.лист!$A$1","v":2398},{"$f":"AI400+AI400*Титул.лист!$P$2","v":2398},2400,2230,{"$f":"AL400+AL400*Титул.лист!$A$1","v":2453},{"$f":"AM400+AM400*Титул.лист!$P$2","v":2453},2450,4259.6479999999992,{"$f":"AP400+AP400*Титул.лист!$A$1","v":4685.612799999999},{"$f":"AQ400+AQ400*Титул.лист!$P$2","v":4685.612799999999},4690,4905.76,{"$f":"AT400+AT400*Титул.лист!$A$1","v":5396.3360000000002},{"$f":"AU400+AU400*Титул.лист!$P$2","v":5396.3360000000002},5400,3522.3999999999996,{"$f":"AX400+AX400*Титул.лист!$A$1","v":3874.6399999999994},{"$f":"AY400+AY400*Титул.лист!$P$2","v":3874.6399999999994},3870,4472.7999999999993,{"$f":"BB400+BB400*Титул.лист!$A$1","v":4920.079999999999},{"$f":"BC400+BC400*Титул.лист!$P$2","v":4920.079999999999},4920,6296.8,{"$f":"BF400+BF400*Титул.лист!$A$1","v":6926.4800000000005},{"$f":"BG400+BG400*Титул.лист!$P$2","v":6926.4800000000005},6930]
[null,"Шкаф настенный 2д с нишей",600,"h 920","1408-60",1420,{"$f":"F401+F401*Титул.лист!$A$1","v":1562},{"$f":"G401+G401*Титул.лист!$P$2","v":1562},1560,1518.0000000000002,{"$f":"J401+J401*Титул.лист!$A$1","v":1669.8000000000002},{"$f":"K401+K401*Титул.лист!$P$2","v":1669.8000000000002},1670,1890,{"$f":"N401+N401*Титул.лист!$A$1","v":2079},{"$f":"O401+O401*Титул.лист!$P$2","v":2079},2080,1990,{"$f":"R401+R401*Титул.лист!$A$1","v":2189},{"$f":"S401+S401*Титул.лист!$P$2","v":2189},2190,2250,{"$f":"V401+V401*Титул.лист!$A$1","v":2475},{"$f":"W401+W401*Титул.лист!$P$2","v":2475},2480,2350,{"$f":"Z401+Z401*Титул.лист!$A$1","v":2585},{"$f":"AA401+AA401*Титул.лист!$P$2","v":2585},2590,1920,{"$f":"AD401+AD401*Титул.лист!$A$1","v":2112},{"$f":"AE401+AE401*Титул.лист!$P$2","v":2112},2110,2080,{"$f":"AH401+AH401*Титул.лист!$A$1","v":2288},{"$f":"AI401+AI401*Титул.лист!$P$2","v":2288},2290,2140,{"$f":"AL401+AL401*Титул.лист!$A$1","v":2354},{"$f":"AM401+AM401*Титул.лист!$P$2","v":2354},2350,4068.9359999999997,{"$f":"AP401+AP401*Титул.лист!$A$1","v":4475.8296},{"$f":"AQ401+AQ401*Титул.лист!$P$2","v":4475.8296},4480,4685.5200000000004,{"$f":"AT401+AT401*Титул.лист!$A$1","v":5154.0720000000001},{"$f":"AU401+AU401*Титул.лист!$P$2","v":5154.0720000000001},5150,3422.4,{"$f":"AX401+AX401*Титул.лист!$A$1","v":3764.6400000000003},{"$f":"AY401+AY401*Титул.лист!$P$2","v":3764.6400000000003},3760,4372.8,{"$f":"BB401+BB401*Титул.лист!$A$1","v":4810.08},{"$f":"BC401+BC401*Титул.лист!$P$2","v":4810.08},4810,6196.8,{"$f":"BF401+BF401*Титул.лист!$A$1","v":6816.4800000000005},{"$f":"BG401+BG401*Титул.лист!$P$2","v":6816.4800000000005},6820]
[null,null,700,null,"1408-70",1580,{"$f":"F402+F402*Титул.лист!$A$1","v":1738},{"$f":"G402+G402*Титул.лист!$P$2","v":1738},1740,1683.0000000000002,{"$f":"J402+J402*Титул.лист!$A$1","v":1851.3000000000002},{"$f":"K402+K402*Титул.лист!$P$2","v":1851.3000000000002},1850,2120,{"$f":"N402+N402*Титул.лист!$A$1","v":2332},{"$f":"O402+O402*Титул.лист!$P$2","v":2332},2330,2220,{"$f":"R402+R402*Титул.лист!$A$1","v":2442},{"$f":"S402+S402*Титул.лист!$P$2","v":2442},2440,2540,{"$f":"V402+V402*Титул.лист!$A$1","v":2794},{"$f":"W402+W402*Титул.лист!$P$2","v":2794},2790,2640,{"$f":"Z402+Z402*Титул.лист!$A$1","v":2904},{"$f":"AA402+AA402*Титул.лист!$P$2","v":2904},2900,2170,{"$f":"AD402+AD402*Титул.лист!$A$1","v":2387},{"$f":"AE402+AE402*Титул.лист!$P$2","v":2387},2390,2340,{"$f":"AH402+AH402*Титул.лист!$A$1","v":2574},{"$f":"AI402+AI402*Титул.лист!$P$2","v":2574},2570,2410,{"$f":"AL402+AL402*Титул.лист!$A$1","v":2651},{"$f":"AM402+AM402*Титул.лист!$P$2","v":2651},2650,4677.0920000000006,{"$f":"AP402+AP402*Титул.лист!$A$1","v":5144.8012000000008},{"$f":"AQ402+AQ402*Титул.лист!$P$2","v":5144.8012000000008},5140,5396.4400000000005,{"$f":"AT402+AT402*Титул.лист!$A$1","v":5936.0840000000007},{"$f":"AU402+AU402*Титул.лист!$P$2","v":5936.0840000000007},5940,3922.8,{"$f":"AX402+AX402*Титул.лист!$A$1","v":4315.08},{"$f":"AY402+AY402*Титул.лист!$P$2","v":4315.08},4320,5031.6000000000004,{"$f":"BB402+BB402*Титул.лист!$A$1","v":5534.76},{"$f":"BC402+BC402*Титул.лист!$P$2","v":5534.76},5530,7159.6,{"$f":"BF402+BF402*Титул.лист!$A$1","v":7875.56},{"$f":"BG402+BG402*Титул.лист!$P$2","v":7875.56},7880]
[null,null,800,null,"1408-80",1730,{"$f":"F403+F403*Титул.лист!$A$1","v":1903},{"$f":"G403+G403*Титул.лист!$P$2","v":1903},1900,1830,{"$f":"J403+J403*Титул.лист!$A$1","v":2013},{"$f":"K403+K403*Титул.лист!$P$2","v":2013},2010,2350,{"$f":"N403+N403*Титул.лист!$A$1","v":2585},{"$f":"O403+O403*Титул.лист!$P$2","v":2585},2590,2450,{"$f":"R403+R403*Титул.лист!$A$1","v":2695},{"$f":"S403+S403*Титул.лист!$P$2","v":2695},2700,2840,{"$f":"V403+V403*Титул.лист!$A$1","v":3124},{"$f":"W403+W403*Титул.лист!$P$2","v":3124},3120,2940,{"$f":"Z403+Z403*Титул.лист!$A$1","v":3234},{"$f":"AA403+AA403*Титул.лист!$P$2","v":3234},3230,2400,{"$f":"AD403+AD403*Титул.лист!$A$1","v":2640},{"$f":"AE403+AE403*Титул.лист!$P$2","v":2640},2640,2600,{"$f":"AH403+AH403*Титул.лист!$A$1","v":2860},{"$f":"AI403+AI403*Титул.лист!$P$2","v":2860},2860,2680,{"$f":"AL403+AL403*Титул.лист!$A$1","v":2948},{"$f":"AM403+AM403*Титул.лист!$P$2","v":2948},2950,5265.2479999999996,{"$f":"AP403+AP403*Титул.лист!$A$1","v":5791.7727999999997},{"$f":"AQ403+AQ403*Титул.лист!$P$2","v":5791.7727999999997},5790,6087.3600000000006,{"$f":"AT403+AT403*Титул.лист!$A$1","v":6696.0960000000005},{"$f":"AU403+AU403*Титул.лист!$P$2","v":6696.0960000000005},6700,4403.2,{"$f":"AX403+AX403*Титул.лист!$A$1","v":4843.5199999999995},{"$f":"AY403+AY403*Титул.лист!$P$2","v":4843.5199999999995},4840,5670.4,{"$f":"BB403+BB403*Титул.лист!$A$1","v":6237.44},{"$f":"BC403+BC403*Титул.лист!$P$2","v":6237.44},6240,8102.4000000000005,{"$f":"BF403+BF403*Титул.лист!$A$1","v":8912.6400000000012},{"$f":"BG403+BG403*Титул.лист!$P$2","v":8912.6400000000012},8910]
[null,"Шкаф настенный 2д с нишей (со стеклом)",600,"h 720","1403-60с",1575,{"$f":"F404+F404*Титул.лист!$A$1","v":1732.5},{"$f":"G404+G404*Титул.лист!$P$2","v":1732.5},1730,1687.5,{"$f":"J404+J404*Титул.лист!$A$1","v":1856.25},{"$f":"K404+K404*Титул.лист!$P$2","v":1856.25},1860,2012.5,{"$f":"N404+N404*Титул.лист!$A$1","v":2213.75},{"$f":"O404+O404*Титул.лист!$P$2","v":2213.75},2210,2112.5,{"$f":"R404+R404*Титул.лист!$A$1","v":2323.75},{"$f":"S404+S404*Титул.лист!$P$2","v":2323.75},2320,2337.5000000000005,{"$f":"V404+V404*Титул.лист!$A$1","v":2571.2500000000005},{"$f":"W404+W404*Титул.лист!$P$2","v":2571.2500000000005},2570,2450,{"$f":"Z404+Z404*Титул.лист!$A$1","v":2695},{"$f":"AA404+AA404*Титул.лист!$P$2","v":2695},2700,2050,{"$f":"AD404+AD404*Титул.лист!$A$1","v":2255},{"$f":"AE404+AE404*Титул.лист!$P$2","v":2255},2260,2187.5,{"$f":"AH404+AH404*Титул.лист!$A$1","v":2406.25},{"$f":"AI404+AI404*Титул.лист!$P$2","v":2406.25},2410,2237.5,{"$f":"AL404+AL404*Титул.лист!$A$1","v":2461.25},{"$f":"AM404+AM404*Титул.лист!$P$2","v":2461.25},2460,3729.7359999999999,{"$f":"AP404+AP404*Титул.лист!$A$1","v":4102.7096000000001},{"$f":"AQ404+AQ404*Титул.лист!$P$2","v":4102.7096000000001},4100,4214.32,{"$f":"AT404+AT404*Титул.лист!$A$1","v":4635.7519999999995},{"$f":"AU404+AU404*Титул.лист!$P$2","v":4635.7519999999995},4640,3176.8,{"$f":"AX404+AX404*Титул.лист!$A$1","v":3494.4800000000005},{"$f":"AY404+AY404*Титул.лист!$P$2","v":3494.4800000000005},3490,3889.6,{"$f":"BB404+BB404*Титул.лист!$A$1","v":4278.5599999999995},{"$f":"BC404+BC404*Титул.лист!$P$2","v":4278.5599999999995},4280,5257.6,{"$f":"BF404+BF404*Титул.лист!$A$1","v":5783.3600000000006},{"$f":"BG404+BG404*Титул.лист!$P$2","v":5783.3600000000006},5780]
[null,null,700,null,"1403-70с",1762.5,{"$f":"F405+F405*Титул.лист!$A$1","v":1938.75},{"$f":"G405+G405*Титул.лист!$P$2","v":1938.75},1940,1850,{"$f":"J405+J405*Титул.лист!$A$1","v":2035},{"$f":"K405+K405*Титул.лист!$P$2","v":2035},2040,2262.5,{"$f":"N405+N405*Титул.лист!$A$1","v":2488.75},{"$f":"O405+O405*Титул.лист!$P$2","v":2488.75},2490,2362.5,{"$f":"R405+R405*Титул.лист!$A$1","v":2598.75},{"$f":"S405+S405*Титул.лист!$P$2","v":2598.75},2600,2650,{"$f":"V405+V405*Титул.лист!$A$1","v":2915},{"$f":"W405+W405*Титул.лист!$P$2","v":2915},2920,2750,{"$f":"Z405+Z405*Титул.лист!$A$1","v":3025},{"$f":"AA405+AA405*Титул.лист!$P$2","v":3025},3030,2300,{"$f":"AD405+AD405*Титул.лист!$A$1","v":2530},{"$f":"AE405+AE405*Титул.лист!$P$2","v":2530},2530,2450,{"$f":"AH405+AH405*Титул.лист!$A$1","v":2695},{"$f":"AI405+AI405*Титул.лист!$P$2","v":2695},2700,2512.5,{"$f":"AL405+AL405*Титул.лист!$A$1","v":2763.75},{"$f":"AM405+AM405*Титул.лист!$P$2","v":2763.75},2760,4259.692,{"$f":"AP405+AP405*Титул.лист!$A$1","v":4685.6612000000005},{"$f":"AQ405+AQ405*Титул.лист!$P$2","v":4685.6612000000005},4690,4825.04,{"$f":"AT405+AT405*Титул.лист!$A$1","v":5307.5439999999999},{"$f":"AU405+AU405*Титул.лист!$P$2","v":5307.5439999999999},5310,3614.6,{"$f":"AX405+AX405*Титул.лист!$A$1","v":3976.06},{"$f":"AY405+AY405*Титул.лист!$P$2","v":3976.06},3980,4446.2,{"$f":"BB405+BB405*Титул.лист!$A$1","v":4890.82},{"$f":"BC405+BC405*Титул.лист!$P$2","v":4890.82},4890,6042.2,{"$f":"BF405+BF405*Титул.лист!$A$1","v":6646.42},{"$f":"BG405+BG405*Титул.лист!$P$2","v":6646.42},6650]
[null,null,800,null,"1403-80с",1925.0000000000002,{"$f":"F406+F406*Титул.лист!$A$1","v":2117.5000000000005},{"$f":"G406+G406*Титул.лист!$P$2","v":2117.5000000000005},2120,2037.5,{"$f":"J406+J406*Титул.лист!$A$1","v":2241.25},{"$f":"K406+K406*Титул.лист!$P$2","v":2241.25},2240,2500,{"$f":"N406+N406*Титул.лист!$A$1","v":2750},{"$f":"O406+O406*Титул.лист!$P$2","v":2750},2750,2612.5,{"$f":"R406+R406*Титул.лист!$A$1","v":2873.75},{"$f":"S406+S406*Титул.лист!$P$2","v":2873.75},2870,2925,{"$f":"V406+V406*Титул.лист!$A$1","v":3217.5},{"$f":"W406+W406*Титул.лист!$P$2","v":3217.5},3220,3037.5,{"$f":"Z406+Z406*Титул.лист!$A$1","v":3341.25},{"$f":"AA406+AA406*Титул.лист!$P$2","v":3341.25},3340,2525,{"$f":"AD406+AD406*Титул.лист!$A$1","v":2777.5},{"$f":"AE406+AE406*Титул.лист!$P$2","v":2777.5},2780,2725,{"$f":"AH406+AH406*Титул.лист!$A$1","v":2997.5},{"$f":"AI406+AI406*Титул.лист!$P$2","v":2997.5},3000,2787.5,{"$f":"AL406+AL406*Титул.лист!$A$1","v":3066.25},{"$f":"AM406+AM406*Титул.лист!$P$2","v":3066.25},3070,4764.6479999999992,{"$f":"AP406+AP406*Титул.лист!$A$1","v":5241.112799999999},{"$f":"AQ406+AQ406*Титул.лист!$P$2","v":5241.112799999999},5240,5410.76,{"$f":"AT406+AT406*Титул.лист!$A$1","v":5951.8360000000002},{"$f":"AU406+AU406*Титул.лист!$P$2","v":5951.8360000000002},5950,4027.3999999999996,{"$f":"AX406+AX406*Титул.лист!$A$1","v":4430.1399999999994},{"$f":"AY406+AY406*Титул.лист!$P$2","v":4430.1399999999994},4430,4977.7999999999993,{"$f":"BB406+BB406*Титул.лист!$A$1","v":5475.579999999999},{"$f":"BC406+BC406*Титул.лист!$P$2","v":5475.579999999999},5480,6801.8,{"$f":"BF406+BF406*Титул.лист!$A$1","v":7481.9800000000005},{"$f":"BG406+BG406*Титул.лист!$P$2","v":7481.9800000000005},7480]
[null,"Шкаф настенный 2д с нишей (со стеклом)",600,"h 920","1408-60с",1420,{"$f":"F407+F407*Титул.лист!$A$1","v":1562},{"$f":"G407+G407*Титул.лист!$P$2","v":1562},1560,1518.0000000000002,{"$f":"J407+J407*Титул.лист!$A$1","v":1669.8000000000002},{"$f":"K407+K407*Титул.лист!$P$2","v":1669.8000000000002},1670,1890,{"$f":"N407+N407*Титул.лист!$A$1","v":2079},{"$f":"O407+O407*Титул.лист!$P$2","v":2079},2080,1990,{"$f":"R407+R407*Титул.лист!$A$1","v":2189},{"$f":"S407+S407*Титул.лист!$P$2","v":2189},2190,2250,{"$f":"V407+V407*Титул.лист!$A$1","v":2475},{"$f":"W407+W407*Титул.лист!$P$2","v":2475},2480,2350,{"$f":"Z407+Z407*Титул.лист!$A$1","v":2585},{"$f":"AA407+AA407*Титул.лист!$P$2","v":2585},2590,1920,{"$f":"AD407+AD407*Титул.лист!$A$1","v":2112},{"$f":"AE407+AE407*Титул.лист!$P$2","v":2112},2110,2080,{"$f":"AH407+AH407*Титул.лист!$A$1","v":2288},{"$f":"AI407+AI407*Титул.лист!$P$2","v":2288},2290,2140,{"$f":"AL407+AL407*Титул.лист!$A$1","v":2354},{"$f":"AM407+AM407*Титул.лист!$P$2","v":2354},2350,4068.9359999999997,{"$f":"AP407+AP407*Титул.лист!$A$1","v":4475.8296},{"$f":"AQ407+AQ407*Титул.лист!$P$2","v":4475.8296},4480,4685.5200000000004,{"$f":"AT407+AT407*Титул.лист!$A$1","v":5154.0720000000001},{"$f":"AU407+AU407*Титул.лист!$P$2","v":5154.0720000000001},5150,3422.4,{"$f":"AX407+AX407*Титул.лист!$A$1","v":3764.6400000000003},{"$f":"AY407+AY407*Титул.лист!$P$2","v":3764.6400000000003},3760,4372.8,{"$f":"BB407+BB407*Титул.лист!$A$1","v":4810.08},{"$f":"BC407+BC407*Титул.лист!$P$2","v":4810.08},4810,6196.8,{"$f":"BF407+BF407*Титул.лист!$A$1","v":6816.4800000000005},{"$f":"BG407+BG407*Титул.лист!$P$2","v":6816.4800000000005},6820]
[null,null,700,null,"1408-70с",1580,{"$f":"F408+F408*Титул.лист!$A$1","v":1738},{"$f":"G408+G408*Титул.лист!$P$2","v":1738},1740,1683.0000000000002,{"$f":"J408+J408*Титул.лист!$A$1","v":1851.3000000000002},{"$f":"K408+K408*Титул.лист!$P$2","v":1851.3000000000002},1850,2120,{"$f":"N408+N408*Титул.лист!$A$1","v":2332},{"$f":"O408+O408*Титул.лист!$P$2","v":2332},2330,2220,{"$f":"R408+R408*Титул.лист!$A$1","v":2442},{"$f":"S408+S408*Титул.лист!$P$2","v":2442},2440,2540,{"$f":"V408+V408*Титул.лист!$A$1","v":2794},{"$f":"W408+W408*Титул.лист!$P$2","v":2794},2790,2640,{"$f":"Z408+Z408*Титул.лист!$A$1","v":2904},{"$f":"AA408+AA408*Титул.лист!$P$2","v":2904},2900,2170,{"$f":"AD408+AD408*Титул.лист!$A$1","v":2387},{"$f":"AE408+AE408*Титул.лист!$P$2","v":2387},2390,2340,{"$f":"AH408+AH408*Титул.лист!$A$1","v":2574},{"$f":"AI408+AI408*Титул.лист!$P$2","v":2574},2570,2410,{"$f":"AL408+AL408*Титул.лист!$A$1","v":2651},{"$f":"AM408+AM408*Титул.лист!$P$2","v":2651},2650,4677.0920000000006,{"$f":"AP408+AP408*Титул.лист!$A$1","v":5144.8012000000008},{"$f":"AQ408+AQ408*Титул.лист!$P$2","v":5144.8012000000008},5140,5396.4400000000005,{"$f":"AT408+AT408*Титул.лист!$A$1","v":5936.0840000000007},{"$f":"AU408+AU408*Титул.лист!$P$2","v":5936.0840000000007},5940,3922.8,{"$f":"AX408+AX408*Титул.лист!$A$1","v":4315.08},{"$f":"AY408+AY408*Титул.лист!$P$2","v":4315.08},4320,5031.6000000000004,{"$f":"BB408+BB408*Титул.лист!$A$1","v":5534.76},{"$f":"BC408+BC408*Титул.лист!$P$2","v":5534.76},5530,7159.6,{"$f":"BF408+BF408*Титул.лист!$A$1","v":7875.56},{"$f":"BG408+BG408*Титул.лист!$P$2","v":7875.56},7880]
[null,null,800,null,"1408-80с",1580,{"$f":"F409+F409*Титул.лист!$A$1","v":1738},{"$f":"G409+G409*Титул.лист!$P$2","v":1738},1740,1683.0000000000002,{"$f":"J409+J409*Титул.лист!$A$1","v":1851.3000000000002},{"$f":"K409+K409*Титул.лист!$P$2","v":1851.3000000000002},1850,2120,{"$f":"N409+N409*Титул.лист!$A$1","v":2332},{"$f":"O409+O409*Титул.лист!$P$2","v":2332},2330,2220,{"$f":"R409+R409*Титул.лист!$A$1","v":2442},{"$f":"S409+S409*Титул.лист!$P$2","v":2442},2440,2540,{"$f":"V409+V409*Титул.лист!$A$1","v":2794},{"$f":"W409+W409*Титул.лист!$P$2","v":2794},2790,2640,{"$f":"Z409+Z409*Титул.лист!$A$1","v":2904},{"$f":"AA409+AA409*Титул.лист!$P$2","v":2904},2900,2170,{"$f":"AD409+AD409*Титул.лист!$A$1","v":2387},{"$f":"AE409+AE409*Титул.лист!$P$2","v":2387},2390,2340,{"$f":"AH409+AH409*Титул.лист!$A$1","v":2574},{"$f":"AI409+AI409*Титул.лист!$P$2","v":2574},2570,2410,{"$f":"AL409+AL409*Титул.лист!$A$1","v":2651},{"$f":"AM409+AM409*Титул.лист!$P$2","v":2651},2650,5035.2479999999996,{"$f":"AP409+AP409*Титул.лист!$A$1","v":5538.7727999999997},{"$f":"AQ409+AQ409*Титул.лист!$P$2","v":5538.7727999999997},5540,5857.3600000000006,{"$f":"AT409+AT409*Титул.лист!$A$1","v":6443.0960000000005},{"$f":"AU409+AU409*Титул.лист!$P$2","v":6443.0960000000005},6440,4173.2,{"$f":"AX409+AX409*Титул.лист!$A$1","v":4590.5199999999995},{"$f":"AY409+AY409*Титул.лист!$P$2","v":4590.5199999999995},4590,5440.4,{"$f":"BB409+BB409*Титул.лист!$A$1","v":5984.44},{"$f":"BC409+BC409*Титул.лист!$P$2","v":5984.44},5980,7872.4000000000005,{"$f":"BF409+BF409*Титул.лист!$A$1","v":8659.6400000000012},{"$f":"BG409+BG409*Титул.лист!$P$2","v":8659.6400000000012},8660]
[null,"Шкаф-колонна (рекомендованно испльзовать с хлебницей )",50,"h 600","1903-5",null,{"$f":"F410+F410*Титул.лист!$A$1","v":0},{"$f":"G410+G410*Титул.лист!$P$2","v":0},null,null,null,null,null,null,null,null,null,null,null,null,null,null,null,null,null,null,null,null,null,300,{"$f":"AD410+AD410*Титул.лист!$A$1","v":330},{"$f":"AE410+AE410*Титул.лист!$P$2","v":330},330,350,{"$f":"AH410+AH410*Титул.лист!$A$1","v":385},{"$f":"AI410+AI410*Титул.лист!$P$2","v":385},390,400,{"$f":"AL410+AL410*Титул.лист!$A$1","v":440},{"$f":"AM410+AM410*Титул.лист!$P$2","v":440},440,400,{"$f":"AP410+AP410*Титул.лист!$A$1","v":440},{"$f":"AQ410+AQ410*Титул.лист!$P$2","v":440},440,400,{"$f":"AT410+AT410*Титул.лист!$A$1","v":440},{"$f":"AU410+AU410*Титул.лист!$P$2","v":440},440,400,{"$f":"AX410+AX410*Титул.лист!$A$1","v":440},{"$f":"AY410+AY410*Титул.лист!$P$2","v":440},440,400,{"$f":"BB410+BB410*Титул.лист!$A$1","v":440},{"$f":"BC410+BC410*Титул.лист!$P$2","v":440},440,400,{"$f":"BF410+BF410*Титул.лист!$A$1","v":440},{"$f":"BG410+BG410*Титул.лист!$P$2","v":440},440]
[null,null,50,"h 720","1904-5",null,{"$f":"F411+F411*Титул.лист!$A$1","v":0},{"$f":"G411+G411*Титул.лист!$P$2","v":0},null,null,null,null,null,null,null,null,null,null,null,null,null,null,null,null,null,null,null,null,null,350,{"$f":"AD411+AD411*Титул.лист!$A$1","v":385},{"$f":"AE411+AE411*Титул.лист!$P$2","v":385},390,400,{"$f":"AH411+AH411*Титул.лист!$A$1","v":440},{"$f":"AI411+AI411*Титул.лист!$P$2","v":440},440,450,{"$f":"AL411+AL411*Титул.лист!$A$1","v":495},{"$f":"AM411+AM411*Титул.лист!$P$2","v":495},500,450,{"$f":"AP411+AP411*Титул.лист!$A$1","v":495},{"$f":"AQ411+AQ411*Титул.лист!$P$2","v":495},500,450,{"$f":"AT411+AT411*Титул.лист!$A$1","v":495},{"$f":"AU411+AU411*Титул.лист!$P$2","v":495},500,450,{"$f":"AX411+AX411*Титул.лист!$A$1","v":495},{"$f":"AY411+AY411*Титул.лист!$P$2","v":495},500,450,{"$f":"BB411+BB411*Титул.лист!$A$1","v":495},{"$f":"BC411+BC411*Титул.лист!$P$2","v":495},500,450,{"$f":"BF411+BF411*Титул.лист!$A$1","v":495},{"$f":"BG411+BG411*Титул.лист!$P$2","v":495},500]
[null,null,50,"h 920","1905-5",null,{"$f":"F412+F412*Титул.лист!$A$1","v":0},{"$f":"G412+G412*Титул.лист!$P$2","v":0},null,null,null,null,null,null,null,null,null,null,null,null,null,null,null,null,null,null,null,null,null,370,{"$f":"AD412+AD412*Титул.лист!$A$1","v":407},{"$f":"AE412+AE412*Титул.лист!$P$2","v":407},410,410,{"$f":"AH412+AH412*Титул.лист!$A$1","v":451},{"$f":"AI412+AI412*Титул.лист!$P$2","v":451},450,460,{"$f":"AL412+AL412*Титул.лист!$A$1","v":506},{"$f":"AM412+AM412*Титул.лист!$P$2","v":506},510,460,{"$f":"AP412+AP412*Титул.лист!$A$1","v":506},{"$f":"AQ412+AQ412*Титул.лист!$P$2","v":506},510,460,{"$f":"AT412+AT412*Титул.лист!$A$1","v":506},{"$f":"AU412+AU412*Титул.лист!$P$2","v":506},510,460,{"$f":"AX412+AX412*Титул.лист!$A$1","v":506},{"$f":"AY412+AY412*Титул.лист!$P$2","v":506},510,460,{"$f":"BB412+BB412*Титул.лист!$A$1","v":506},{"$f":"BC412+BC412*Титул.лист!$P$2","v":506},510,460,{"$f":"BF412+BF412*Титул.лист!$A$1","v":506},{"$f":"BG412+BG412*Титул.лист!$P$2","v":506},510]
["Шкафы АЖУР"]
[null,"Шкаф с ажурной вставкой 1 дв ",400,"h 720","2100-40",2184,{"$f":"F414+F414*Титул.лист!$A$1","v":2402.4},{"$f":"G414+G414*Титул.лист!$P$2","v":2402.4},2400,2264,{"$f":"J414+J414*Титул.лист!$A$1","v":2490.4},{"$f":"K414+K414*Титул.лист!$P$2","v":2490.4},2490,2474,{"$f":"N414+N414*Титул.лист!$A$1","v":2721.4},{"$f":"O414+O414*Титул.лист!$P$2","v":2721.4},2720,2564,{"$f":"R414+R414*Титул.лист!$A$1","v":2820.4},{"$f":"S414+S414*Титул.лист!$P$2","v":2820.4},2820,2704,{"$f":"V414+V414*Титул.лист!$A$1","v":2974.4},{"$f":"W414+W414*Титул.лист!$P$2","v":2974.4},2970,2794,{"$f":"Z414+Z414*Титул.лист!$A$1","v":3073.4},{"$f":"AA414+AA414*Титул.лист!$P$2","v":3073.4},3070,2454,{"$f":"AD414+AD414*Титул.лист!$A$1","v":2699.4},{"$f":"AE414+AE414*Титул.лист!$P$2","v":2699.4},2700,2554,{"$f":"AH414+AH414*Титул.лист!$A$1","v":2809.4},{"$f":"AI414+AI414*Титул.лист!$P$2","v":2809.4},2810,2584,{"$f":"AL414+AL414*Титул.лист!$A$1","v":2842.4},{"$f":"AM414+AM414*Титул.лист!$P$2","v":2842.4},2840]
[null,null,400,"h 920","2101-40",2745,{"$f":"F415+F415*Титул.лист!$A$1","v":3019.5},{"$f":"G415+G415*Титул.лист!$P$2","v":3019.5},3020,2855,{"$f":"J415+J415*Титул.лист!$A$1","v":3140.5},{"$f":"K415+K415*Титул.лист!$P$2","v":3140.5},3140,3125,{"$f":"N415+N415*Титул.лист!$A$1","v":3437.5},{"$f":"O415+O415*Титул.лист!$P$2","v":3437.5},3440,3235,{"$f":"R415+R415*Титул.лист!$A$1","v":3558.5},{"$f":"S415+S415*Титул.лист!$P$2","v":3558.5},3560,3425,{"$f":"V415+V415*Титул.лист!$A$1","v":3767.5},{"$f":"W415+W415*Титул.лист!$P$2","v":3767.5},3770,3535,{"$f":"Z415+Z415*Титул.лист!$A$1","v":3888.5},{"$f":"AA415+AA415*Титул.лист!$P$2","v":3888.5},3890,3085,{"$f":"AD415+AD415*Титул.лист!$A$1","v":3393.5},{"$f":"AE415+AE415*Титул.лист!$P$2","v":3393.5},3390,3205,{"$f":"AH415+AH415*Титул.лист!$A$1","v":3525.5},{"$f":"AI415+AI415*Титул.лист!$P$2","v":3525.5},3530,3265,{"$f":"AL415+AL415*Титул.лист!$A$1","v":3591.5},{"$f":"AM415+AM415*Титул.лист!$P$2","v":3591.5},3590]
[null,"Шкаф антресольный с ажурной вставкой 1 дв",600,"h 360","2116-60",1370,{"$f":"F416+F416*Титул.лист!$A$1","v":1507},{"$f":"G416+G416*Титул.лист!$P$2","v":1507},1510,1410,{"$f":"J416+J416*Титул.лист!$A$1","v":1551},{"$f":"K416+K416*Титул.лист!$P$2","v":1551},1550,1600,{"$f":"N416+N416*Титул.лист!$A$1","v":1760},{"$f":"O416+O416*Титул.лист!$P$2","v":1760},1760,1640,{"$f":"R416+R416*Титул.лист!$A$1","v":1804},{"$f":"S416+S416*Титул.лист!$P$2","v":1804},1800,1770,{"$f":"V416+V416*Титул.лист!$A$1","v":1947},{"$f":"W416+W416*Титул.лист!$P$2","v":1947},1950,1820,{"$f":"Z416+Z416*Титул.лист!$A$1","v":2002},{"$f":"AA416+AA416*Титул.лист!$P$2","v":2002},2000,1610,{"$f":"AD416+AD416*Титул.лист!$A$1","v":1771},{"$f":"AE416+AE416*Титул.лист!$P$2","v":1771},1770,1690,{"$f":"AH416+AH416*Титул.лист!$A$1","v":1859},{"$f":"AI416+AI416*Титул.лист!$P$2","v":1859},1860,1720,{"$f":"AL416+AL416*Титул.лист!$A$1","v":1892},{"$f":"AM416+AM416*Титул.лист!$P$2","v":1892},1890]
[null,null,800,"h 360","2117-80",1990,{"$f":"F417+F417*Титул.лист!$A$1","v":2189},{"$f":"G417+G417*Титул.лист!$P$2","v":2189},2190,2080,{"$f":"J417+J417*Титул.лист!$A$1","v":2288},{"$f":"K417+K417*Титул.лист!$P$2","v":2288},2290,2290,{"$f":"N417+N417*Титул.лист!$A$1","v":2519},{"$f":"O417+O417*Титул.лист!$P$2","v":2519},2520,2380,{"$f":"R417+R417*Титул.лист!$A$1","v":2618},{"$f":"S417+S417*Титул.лист!$P$2","v":2618},2620,2520,{"$f":"V417+V417*Титул.лист!$A$1","v":2772},{"$f":"W417+W417*Титул.лист!$P$2","v":2772},2770,2610,{"$f":"Z417+Z417*Титул.лист!$A$1","v":2871},{"$f":"AA417+AA417*Титул.лист!$P$2","v":2871},2870,2250,{"$f":"AD417+AD417*Титул.лист!$A$1","v":2475},{"$f":"AE417+AE417*Титул.лист!$P$2","v":2475},2480,2350,{"$f":"AH417+AH417*Титул.лист!$A$1","v":2585},{"$f":"AI417+AI417*Титул.лист!$P$2","v":2585},2590,2390,{"$f":"AL417+AL417*Титул.лист!$A$1","v":2629},{"$f":"AM417+AM417*Титул.лист!$P$2","v":2629},2630]
[null,"Шкаф антресольный 2дв.1дв глухая 1 дв с ажурной вставкой",600,"h 720","2118-60",2060,{"$f":"F418+F418*Титул.лист!$A$1","v":2266},{"$f":"G418+G418*Титул.лист!$P$2","v":2266},2270,2170,{"$f":"J418+J418*Титул.лист!$A$1","v":2387},{"$f":"K418+K418*Титул.лист!$P$2","v":2387},2390,2520,{"$f":"N418+N418*Титул.лист!$A$1","v":2772},{"$f":"O418+O418*Титул.лист!$P$2","v":2772},2770,2630,{"$f":"R418+R418*Титул.лист!$A$1","v":2893},{"$f":"S418+S418*Титул.лист!$P$2","v":2893},2890,2860,{"$f":"V418+V418*Титул.лист!$A$1","v":3146},{"$f":"W418+W418*Титул.лист!$P$2","v":3146},3150,2970,{"$f":"Z418+Z418*Титул.лист!$A$1","v":3267},{"$f":"AA418+AA418*Титул.лист!$P$2","v":3267},3270,2490,{"$f":"AD418+AD418*Титул.лист!$A$1","v":2739},{"$f":"AE418+AE418*Титул.лист!$P$2","v":2739},2740,2640,{"$f":"AH418+AH418*Титул.лист!$A$1","v":2904},{"$f":"AI418+AI418*Титул.лист!$P$2","v":2904},2900,2700,{"$f":"AL418+AL418*Титул.лист!$A$1","v":2970},{"$f":"AM418+AM418*Титул.лист!$P$2","v":2970},2970]
[null,null,800,"h 720","2119-80",2750,{"$f":"F419+F419*Титул.лист!$A$1","v":3025},{"$f":"G419+G419*Титул.лист!$P$2","v":3025},3030,2890,{"$f":"J419+J419*Титул.лист!$A$1","v":3179},{"$f":"K419+K419*Титул.лист!$P$2","v":3179},3180,3370,{"$f":"N419+N419*Титул.лист!$A$1","v":3707},{"$f":"O419+O419*Титул.лист!$P$2","v":3707},3710,3510,{"$f":"R419+R419*Титул.лист!$A$1","v":3861},{"$f":"S419+S419*Титул.лист!$P$2","v":3861},3860,3840,{"$f":"V419+V419*Титул.лист!$A$1","v":4224},{"$f":"W419+W419*Титул.лист!$P$2","v":4224},4220,3980,{"$f":"Z419+Z419*Титул.лист!$A$1","v":4378},{"$f":"AA419+AA419*Титул.лист!$P$2","v":4378},4380,3340,{"$f":"AD419+AD419*Титул.лист!$A$1","v":3674},{"$f":"AE419+AE419*Титул.лист!$P$2","v":3674},3670,3530,{"$f":"AH419+AH419*Титул.лист!$A$1","v":3883},{"$f":"AI419+AI419*Титул.лист!$P$2","v":3883},3880,3620,{"$f":"AL419+AL419*Титул.лист!$A$1","v":3982},{"$f":"AM419+AM419*Титул.лист!$P$2","v":3982},3980]
[null,"Шкаф антресольный 2дв.1дв глухая 1 дв с ажурной вставкой",600,"h 720","2120-60",2880,{"$f":"F420+F420*Титул.лист!$A$1","v":3168},{"$f":"G420+G420*Титул.лист!$P$2","v":3168},3170,3010,{"$f":"J420+J420*Титул.лист!$A$1","v":3311},{"$f":"K420+K420*Титул.лист!$P$2","v":3311},3310,3340,{"$f":"N420+N420*Титул.лист!$A$1","v":3674},{"$f":"O420+O420*Титул.лист!$P$2","v":3674},3670,3470,{"$f":"R420+R420*Титул.лист!$A$1","v":3817},{"$f":"S420+S420*Титул.лист!$P$2","v":3817},3820,3680,{"$f":"V420+V420*Титул.лист!$A$1","v":4048},{"$f":"W420+W420*Титул.лист!$P$2","v":4048},4050,3810,{"$f":"Z420+Z420*Титул.лист!$A$1","v":4191},{"$f":"AA420+AA420*Титул.лист!$P$2","v":4191},4190,3250,{"$f":"AD420+AD420*Титул.лист!$A$1","v":3575},{"$f":"AE420+AE420*Титул.лист!$P$2","v":3575},3580,3400,{"$f":"AH420+AH420*Титул.лист!$A$1","v":3740},{"$f":"AI420+AI420*Титул.лист!$P$2","v":3740},3740,3460,{"$f":"AL420+AL420*Титул.лист!$A$1","v":3806},{"$f":"AM420+AM420*Титул.лист!$P$2","v":3806},3810]
[null,null,800,"h 720","2121-80",3880,{"$f":"F421+F421*Титул.лист!$A$1","v":4268},{"$f":"G421+G421*Титул.лист!$P$2","v":4268},4270,4060,{"$f":"J421+J421*Титул.лист!$A$1","v":4466},{"$f":"K421+K421*Титул.лист!$P$2","v":4466},4470,4500,{"$f":"N421+N421*Титул.лист!$A$1","v":4950},{"$f":"O421+O421*Титул.лист!$P$2","v":4950},4950,4670,{"$f":"R421+R421*Титул.лист!$A$1","v":5137},{"$f":"S421+S421*Титул.лист!$P$2","v":5137},5140,4970,{"$f":"V421+V421*Титул.лист!$A$1","v":5467},{"$f":"W421+W421*Титул.лист!$P$2","v":5467},5470,5150,{"$f":"Z421+Z421*Титул.лист!$A$1","v":5665},{"$f":"AA421+AA421*Титул.лист!$P$2","v":5665},5670,4400,{"$f":"AD421+AD421*Титул.лист!$A$1","v":4840},{"$f":"AE421+AE421*Титул.лист!$P$2","v":4840},4840,4590,{"$f":"AH421+AH421*Титул.лист!$A$1","v":5049},{"$f":"AI421+AI421*Титул.лист!$P$2","v":5049},5050,4670,{"$f":"AL421+AL421*Титул.лист!$A$1","v":5137},{"$f":"AM421+AM421*Титул.лист!$P$2","v":5137},5140]
[null,"Шкаф с ажурной вставкой 2 дв ",800,"h 720","2102-80",4014,{"$f":"F422+F422*Титул.лист!$A$1","v":4415.3999999999996},{"$f":"G422+G422*Титул.лист!$P$2","v":4415.3999999999996},4420,4194,{"$f":"J422+J422*Титул.лист!$A$1","v":4613.3999999999996},{"$f":"K422+K422*Титул.лист!$P$2","v":4613.3999999999996},4610,4634,{"$f":"N422+N422*Титул.лист!$A$1","v":5097.3999999999996},{"$f":"O422+O422*Титул.лист!$P$2","v":5097.3999999999996},5100,4804,{"$f":"R422+R422*Титул.лист!$A$1","v":5284.4},{"$f":"S422+S422*Титул.лист!$P$2","v":5284.4},5280,5104,{"$f":"V422+V422*Титул.лист!$A$1","v":5614.4},{"$f":"W422+W422*Титул.лист!$P$2","v":5614.4},5610,5284,{"$f":"Z422+Z422*Титул.лист!$A$1","v":5812.4},{"$f":"AA422+AA422*Титул.лист!$P$2","v":5812.4},5810,4554,{"$f":"AD422+AD422*Титул.лист!$A$1","v":5009.3999999999996},{"$f":"AE422+AE422*Титул.лист!$P$2","v":5009.3999999999996},5010,4744,{"$f":"AH422+AH422*Титул.лист!$A$1","v":5218.3999999999996},{"$f":"AI422+AI422*Титул.лист!$P$2","v":5218.3999999999996},5220,4824,{"$f":"AL422+AL422*Титул.лист!$A$1","v":5306.4},{"$f":"AM422+AM422*Титул.лист!$P$2","v":5306.4},5310]
[null,null,800,"h 920","2103-80",5100,{"$f":"F423+F423*Титул.лист!$A$1","v":5610},{"$f":"G423+G423*Титул.лист!$P$2","v":5610},5610,5310,{"$f":"J423+J423*Титул.лист!$A$1","v":5841},{"$f":"K423+K423*Титул.лист!$P$2","v":5841},5840,5870,{"$f":"N423+N423*Титул.лист!$A$1","v":6457},{"$f":"O423+O423*Титул.лист!$P$2","v":6457},6460,6080,{"$f":"R423+R423*Титул.лист!$A$1","v":6688},{"$f":"S423+S423*Титул.лист!$P$2","v":6688},6690,6470,{"$f":"V423+V423*Титул.лист!$A$1","v":7117},{"$f":"W423+W423*Титул.лист!$P$2","v":7117},7120,6680,{"$f":"Z423+Z423*Титул.лист!$A$1","v":7348},{"$f":"AA423+AA423*Титул.лист!$P$2","v":7348},7350,5760,{"$f":"AD423+AD423*Титул.лист!$A$1","v":6336},{"$f":"AE423+AE423*Титул.лист!$P$2","v":6336},6340,6020,{"$f":"AH423+AH423*Титул.лист!$A$1","v":6622},{"$f":"AI423+AI423*Титул.лист!$P$2","v":6622},6620,6110,{"$f":"AL423+AL423*Титул.лист!$A$1","v":6721},{"$f":"AM423+AM423*Титул.лист!$P$2","v":6721},6720]
[null,"Шкаф с ажурной вставкой 1 дв ",600,"h 540","2104-54",2490,{"$f":"F424+F424*Титул.лист!$A$1","v":2739},{"$f":"G424+G424*Титул.лист!$P$2","v":2739},2740,2600,{"$f":"J424+J424*Титул.лист!$A$1","v":2860},{"$f":"K424+K424*Титул.лист!$P$2","v":2860},2860,2950,{"$f":"N424+N424*Титул.лист!$A$1","v":3245},{"$f":"O424+O424*Титул.лист!$P$2","v":3245},3250,2990,{"$f":"R424+R424*Титул.лист!$A$1","v":3289},{"$f":"S424+S424*Титул.лист!$P$2","v":3289},3290,3170,{"$f":"V424+V424*Титул.лист!$A$1","v":3487},{"$f":"W424+W424*Титул.лист!$P$2","v":3487},3490,3350,{"$f":"Z424+Z424*Титул.лист!$A$1","v":3685},{"$f":"AA424+AA424*Титул.лист!$P$2","v":3685},3690,2800,{"$f":"AD424+AD424*Титул.лист!$A$1","v":3080},{"$f":"AE424+AE424*Титул.лист!$P$2","v":3080},3080,2900,{"$f":"AH424+AH424*Титул.лист!$A$1","v":3190},{"$f":"AI424+AI424*Титул.лист!$P$2","v":3190},3190,3000,{"$f":"AL424+AL424*Титул.лист!$A$1","v":3300},{"$f":"AM424+AM424*Титул.лист!$P$2","v":3300},3300]
[null,null,600,"h 600","2104-60",2650,{"$f":"F425+F425*Титул.лист!$A$1","v":2915},{"$f":"G425+G425*Титул.лист!$P$2","v":2915},2920,2740,{"$f":"J425+J425*Титул.лист!$A$1","v":3014},{"$f":"K425+K425*Титул.лист!$P$2","v":3014},3010,3030,{"$f":"N425+N425*Титул.лист!$A$1","v":3333},{"$f":"O425+O425*Титул.лист!$P$2","v":3333},3330,3110,{"$f":"R425+R425*Титул.лист!$A$1","v":3421},{"$f":"S425+S425*Титул.лист!$P$2","v":3421},3420,3320,{"$f":"V425+V425*Титул.лист!$A$1","v":3652},{"$f":"W425+W425*Титул.лист!$P$2","v":3652},3650,3410,{"$f":"Z425+Z425*Титул.лист!$A$1","v":3751},{"$f":"AA425+AA425*Титул.лист!$P$2","v":3751},3750,2990,{"$f":"AD425+AD425*Титул.лист!$A$1","v":3289},{"$f":"AE425+AE425*Титул.лист!$P$2","v":3289},3290,3110,{"$f":"AH425+AH425*Титул.лист!$A$1","v":3421},{"$f":"AI425+AI425*Титул.лист!$P$2","v":3421},3420,3160,{"$f":"AL425+AL425*Титул.лист!$A$1","v":3476},{"$f":"AM425+AM425*Титул.лист!$P$2","v":3476},3480]
[null,null,600,"h 920","2105-60",3910,{"$f":"F426+F426*Титул.лист!$A$1","v":4301},{"$f":"G426+G426*Титул.лист!$P$2","v":4301},4300,4030,{"$f":"J426+J426*Титул.лист!$A$1","v":4433},{"$f":"K426+K426*Титул.лист!$P$2","v":4433},4430,4480,{"$f":"N426+N426*Титул.лист!$A$1","v":4928},{"$f":"O426+O426*Титул.лист!$P$2","v":4928},4930,4600,{"$f":"R426+R426*Титул.лист!$A$1","v":5060},{"$f":"S426+S426*Титул.лист!$P$2","v":5060},5060,4930,{"$f":"V426+V426*Титул.лист!$A$1","v":5423},{"$f":"W426+W426*Титул.лист!$P$2","v":5423},5420,5050,{"$f":"Z426+Z426*Титул.лист!$A$1","v":5555},{"$f":"AA426+AA426*Титул.лист!$P$2","v":5555},5560,4440,{"$f":"AD426+AD426*Титул.лист!$A$1","v":4884},{"$f":"AE426+AE426*Титул.лист!$P$2","v":4884},4880,4620,{"$f":"AH426+AH426*Титул.лист!$A$1","v":5082},{"$f":"AI426+AI426*Титул.лист!$P$2","v":5082},5080,4710,{"$f":"AL426+AL426*Титул.лист!$A$1","v":5181},{"$f":"AM426+AM426*Титул.лист!$P$2","v":5181},5180]
[null,"Шкаф с ажурной вставкой 1 дв ниша",400,"h 720","2106-40",2402.4,{"$f":"F427+F427*Титул.лист!$A$1","v":2642.6400000000003},{"$f":"G427+G427*Титул.лист!$P$2","v":2642.6400000000003},2640,2490.4,{"$f":"J427+J427*Титул.лист!$A$1","v":2739.44},{"$f":"K427+K427*Титул.лист!$P$2","v":2739.44},2740,2721.4,{"$f":"N427+N427*Титул.лист!$A$1","v":2993.54},{"$f":"O427+O427*Титул.лист!$P$2","v":2993.54},2990,2820.4,{"$f":"R427+R427*Титул.лист!$A$1","v":3102.44},{"$f":"S427+S427*Титул.лист!$P$2","v":3102.44},3100,2974.4,{"$f":"V427+V427*Титул.лист!$A$1","v":3271.84},{"$f":"W427+W427*Титул.лист!$P$2","v":3271.84},3270,3073.4,{"$f":"Z427+Z427*Титул.лист!$A$1","v":3380.7400000000002},{"$f":"AA427+AA427*Титул.лист!$P$2","v":3380.7400000000002},3380,2699.4,{"$f":"AD427+AD427*Титул.лист!$A$1","v":2969.34},{"$f":"AE427+AE427*Титул.лист!$P$2","v":2969.34},2970,2809.4,{"$f":"AH427+AH427*Титул.лист!$A$1","v":3090.34},{"$f":"AI427+AI427*Титул.лист!$P$2","v":3090.34},3090,2842.4,{"$f":"AL427+AL427*Титул.лист!$A$1","v":3126.6400000000003},{"$f":"AM427+AM427*Титул.лист!$P$2","v":3126.6400000000003},3130]
[null,"Шкаф с ажурной вставкой 1 дв ниша",400,"h 920","2108-40",3020,{"$f":"F428+F428*Титул.лист!$A$1","v":3322},{"$f":"G428+G428*Титул.лист!$P$2","v":3322},3320,3141,{"$f":"J428+J428*Титул.лист!$A$1","v":3455.1},{"$f":"K428+K428*Титул.лист!$P$2","v":3455.1},3460,3438,{"$f":"N428+N428*Титул.лист!$A$1","v":3781.8},{"$f":"O428+O428*Титул.лист!$P$2","v":3781.8},3780,3559,{"$f":"R428+R428*Титул.лист!$A$1","v":3914.9},{"$f":"S428+S428*Титул.лист!$P$2","v":3914.9},3910,3768,{"$f":"V428+V428*Титул.лист!$A$1","v":4144.8},{"$f":"W428+W428*Титул.лист!$P$2","v":4144.8},4140,3889,{"$f":"Z428+Z428*Титул.лист!$A$1","v":4277.8999999999996},{"$f":"AA428+AA428*Титул.лист!$P$2","v":4277.8999999999996},4280,3394,{"$f":"AD428+AD428*Титул.лист!$A$1","v":3733.4},{"$f":"AE428+AE428*Титул.лист!$P$2","v":3733.4},3730,3526,{"$f":"AH428+AH428*Титул.лист!$A$1","v":3878.6},{"$f":"AI428+AI428*Титул.лист!$P$2","v":3878.6},3880,3592,{"$f":"AL428+AL428*Титул.лист!$A$1","v":3951.2},{"$f":"AM428+AM428*Титул.лист!$P$2","v":3951.2},3950]
[null,"Шкаф с ажурной вставкой 1 дв ниша",600,"h 720","2107-60",2950,{"$f":"F429+F429*Титул.лист!$A$1","v":3245},{"$f":"G429+G429*Титул.лист!$P$2","v":3245},3250,3040,{"$f":"J429+J429*Титул.лист!$A$1","v":3344},{"$f":"K429+K429*Титул.лист!$P$2","v":3344},3340,3330,{"$f":"N429+N429*Титул.лист!$A$1","v":3663},{"$f":"O429+O429*Титул.лист!$P$2","v":3663},3660,3410,{"$f":"R429+R429*Титул.лист!$A$1","v":3751},{"$f":"S429+S429*Титул.лист!$P$2","v":3751},3750,3620,{"$f":"V429+V429*Титул.лист!$A$1","v":3982},{"$f":"W429+W429*Титул.лист!$P$2","v":3982},3980,3710,{"$f":"Z429+Z429*Титул.лист!$A$1","v":4081},{"$f":"AA429+AA429*Титул.лист!$P$2","v":4081},4080,3290,{"$f":"AD429+AD429*Титул.лист!$A$1","v":3619},{"$f":"AE429+AE429*Титул.лист!$P$2","v":3619},3620,3410,{"$f":"AH429+AH429*Титул.лист!$A$1","v":3751},{"$f":"AI429+AI429*Титул.лист!$P$2","v":3751},3750,3460,{"$f":"AL429+AL429*Титул.лист!$A$1","v":3806},{"$f":"AM429+AM429*Титул.лист!$P$2","v":3806},3810]
[null,"Шкаф с ажурной вставкой 2 дв  ниша",800,"h 720","2109-80",4415.3999999999996,{"$f":"F430+F430*Титул.лист!$A$1","v":4856.9399999999996},{"$f":"G430+G430*Титул.лист!$P$2","v":4856.9399999999996},4860,4613.3999999999996,{"$f":"J430+J430*Титул.лист!$A$1","v":5074.74},{"$f":"K430+K430*Титул.лист!$P$2","v":5074.74},5070,5097.3999999999996,{"$f":"N430+N430*Титул.лист!$A$1","v":5607.1399999999994},{"$f":"O430+O430*Титул.лист!$P$2","v":5607.1399999999994},5610,5284.4,{"$f":"R430+R430*Титул.лист!$A$1","v":5812.8399999999992},{"$f":"S430+S430*Титул.лист!$P$2","v":5812.8399999999992},5810,5614.4,{"$f":"V430+V430*Титул.лист!$A$1","v":6175.8399999999992},{"$f":"W430+W430*Титул.лист!$P$2","v":6175.8399999999992},6180,5812.4,{"$f":"Z430+Z430*Титул.лист!$A$1","v":6393.6399999999994},{"$f":"AA430+AA430*Титул.лист!$P$2","v":6393.6399999999994},6390,5009.3999999999996,{"$f":"AD430+AD430*Титул.лист!$A$1","v":5510.3399999999992},{"$f":"AE430+AE430*Титул.лист!$P$2","v":5510.3399999999992},5510,5218.3999999999996,{"$f":"AH430+AH430*Титул.лист!$A$1","v":5740.24},{"$f":"AI430+AI430*Титул.лист!$P$2","v":5740.24},5740,5306.4,{"$f":"AL430+AL430*Титул.лист!$A$1","v":5837.04},{"$f":"AM430+AM430*Титул.лист!$P$2","v":5837.04},5840]
[null,null,800,"h 920","2110-80",5610,{"$f":"F431+F431*Титул.лист!$A$1","v":6171},{"$f":"G431+G431*Титул.лист!$P$2","v":6171},6170,5841,{"$f":"J431+J431*Титул.лист!$A$1","v":6425.1},{"$f":"K431+K431*Титул.лист!$P$2","v":6425.1},6430,6457,{"$f":"N431+N431*Титул.лист!$A$1","v":7102.7},{"$f":"O431+O431*Титул.лист!$P$2","v":7102.7},7100,6688,{"$f":"R431+R431*Титул.лист!$A$1","v":7356.8},{"$f":"S431+S431*Титул.лист!$P$2","v":7356.8},7360,7117,{"$f":"V431+V431*Титул.лист!$A$1","v":7828.7},{"$f":"W431+W431*Титул.лист!$P$2","v":7828.7},7830,7348,{"$f":"Z431+Z431*Титул.лист!$A$1","v":8082.8},{"$f":"AA431+AA431*Титул.лист!$P$2","v":8082.8},8080,6336,{"$f":"AD431+AD431*Титул.лист!$A$1","v":6969.6},{"$f":"AE431+AE431*Титул.лист!$P$2","v":6969.6},6970,6622,{"$f":"AH431+AH431*Титул.лист!$A$1","v":7284.2},{"$f":"AI431+AI431*Титул.лист!$P$2","v":7284.2},7280,6721,{"$f":"AL431+AL431*Титул.лист!$A$1","v":7393.1},{"$f":"AM431+AM431*Титул.лист!$P$2","v":7393.1},7390]
[null,"Шкаф с ажурной вставкой 1 дв ниша",400,"h 720","2111-40",2484,{"$f":"F432+F432*Титул.лист!$A$1","v":2732.4},{"$f":"G432+G432*Титул.лист!$P$2","v":2732.4},2730,2564,{"$f":"J432+J432*Титул.лист!$A$1","v":2820.4},{"$f":"K432+K432*Титул.лист!$P$2","v":2820.4},2820,2774,{"$f":"N432+N432*Титул.лист!$A$1","v":3051.4},{"$f":"O432+O432*Титул.лист!$P$2","v":3051.4},3050,2864,{"$f":"R432+R432*Титул.лист!$A$1","v":3150.4},{"$f":"S432+S432*Титул.лист!$P$2","v":3150.4},3150,3004,{"$f":"V432+V432*Титул.лист!$A$1","v":3304.4},{"$f":"W432+W432*Титул.лист!$P$2","v":3304.4},3300,3094,{"$f":"Z432+Z432*Титул.лист!$A$1","v":3403.4},{"$f":"AA432+AA432*Титул.лист!$P$2","v":3403.4},3400,2754,{"$f":"AD432+AD432*Титул.лист!$A$1","v":3029.4},{"$f":"AE432+AE432*Титул.лист!$P$2","v":3029.4},3030,2854,{"$f":"AH432+AH432*Титул.лист!$A$1","v":3139.4},{"$f":"AI432+AI432*Титул.лист!$P$2","v":3139.4},3140,2884,{"$f":"AL432+AL432*Титул.лист!$A$1","v":3172.4},{"$f":"AM432+AM432*Титул.лист!$P$2","v":3172.4},3170]
[null,"Шкаф с ажурной вставкой 1 дв ниша",600,"h 720","2112-60",2950,{"$f":"F433+F433*Титул.лист!$A$1","v":3245},{"$f":"G433+G433*Титул.лист!$P$2","v":3245},3250,3040,{"$f":"J433+J433*Титул.лист!$A$1","v":3344},{"$f":"K433+K433*Титул.лист!$P$2","v":3344},3340,3330,{"$f":"N433+N433*Титул.лист!$A$1","v":3663},{"$f":"O433+O433*Титул.лист!$P$2","v":3663},3660,3410,{"$f":"R433+R433*Титул.лист!$A$1","v":3751},{"$f":"S433+S433*Титул.лист!$P$2","v":3751},3750,3620,{"$f":"V433+V433*Титул.лист!$A$1","v":3982},{"$f":"W433+W433*Титул.лист!$P$2","v":3982},3980,3710,{"$f":"Z433+Z433*Титул.лист!$A$1","v":4081},{"$f":"AA433+AA433*Титул.лист!$P$2","v":4081},4080,3290,{"$f":"AD433+AD433*Титул.лист!$A$1","v":3619},{"$f":"AE433+AE433*Титул.лист!$P$2","v":3619},3620,3410,{"$f":"AH433+AH433*Титул.лист!$A$1","v":3751},{"$f":"AI433+AI433*Титул.лист!$P$2","v":3751},3750,3460,{"$f":"AL433+AL433*Титул.лист!$A$1","v":3806},{"$f":"AM433+AM433*Титул.лист!$P$2","v":3806},3810]
[null,"Шкаф с ажурной вставкой 1 дв ниша",400,"h 920","2113-40",3020,{"$f":"F434+F434*Титул.лист!$A$1","v":3322},{"$f":"G434+G434*Титул.лист!$P$2","v":3322},3320,3141,{"$f":"J434+J434*Титул.лист!$A$1","v":3455.1},{"$f":"K434+K434*Титул.лист!$P$2","v":3455.1},3460,3438,{"$f":"N434+N434*Титул.лист!$A$1","v":3781.8},{"$f":"O434+O434*Титул.лист!$P$2","v":3781.8},3780,3559,{"$f":"R434+R434*Титул.лист!$A$1","v":3914.9},{"$f":"S434+S434*Титул.лист!$P$2","v":3914.9},3910,3768,{"$f":"V434+V434*Титул.лист!$A$1","v":4144.8},{"$f":"W434+W434*Титул.лист!$P$2","v":4144.8},4140,3889,{"$f":"Z434+Z434*Титул.лист!$A$1","v":4277.8999999999996},{"$f":"AA434+AA434*Титул.лист!$P$2","v":4277.8999999999996},4280,3394,{"$f":"AD434+AD434*Титул.лист!$A$1","v":3733.4},{"$f":"AE434+AE434*Титул.лист!$P$2","v":3733.4},3730,3526,{"$f":"AH434+AH434*Титул.лист!$A$1","v":3878.6},{"$f":"AI434+AI434*Титул.лист!$P$2","v":3878.6},3880,3592,{"$f":"AL434+AL434*Титул.лист!$A$1","v":3951.2},{"$f":"AM434+AM434*Титул.лист!$P$2","v":3951.2},3950]
[null,"Шкаф с ажурной вставкой 2 дв  ниша",800,"h 720","2114-80",4415.3999999999996,{"$f":"F435+F435*Титул.лист!$A$1","v":4856.9399999999996},{"$f":"G435+G435*Титул.лист!$P$2","v":4856.9399999999996},4860,4613.3999999999996,{"$f":"J435+J435*Титул.лист!$A$1","v":5074.74},{"$f":"K435+K435*Титул.лист!$P$2","v":5074.74},5070,5097.3999999999996,{"$f":"N435+N435*Титул.лист!$A$1","v":5607.1399999999994},{"$f":"O435+O435*Титул.лист!$P$2","v":5607.1399999999994},5610,5284.4,{"$f":"R435+R435*Титул.лист!$A$1","v":5812.8399999999992},{"$f":"S435+S435*Титул.лист!$P$2","v":5812.8399999999992},5810,5614.4,{"$f":"V435+V435*Титул.лист!$A$1","v":6175.8399999999992},{"$f":"W435+W435*Титул.лист!$P$2","v":6175.8399999999992},6180,5812.4,{"$f":"Z435+Z435*Титул.лист!$A$1","v":6393.6399999999994},{"$f":"AA435+AA435*Титул.лист!$P$2","v":6393.6399999999994},6390,5009.3999999999996,{"$f":"AD435+AD435*Титул.лист!$A$1","v":5510.3399999999992},{"$f":"AE435+AE435*Титул.лист!$P$2","v":5510.3399999999992},5510,5218.3999999999996,{"$f":"AH435+AH435*Титул.лист!$A$1","v":5740.24},{"$f":"AI435+AI435*Титул.лист!$P$2","v":5740.24},5740,5306.4,{"$f":"AL435+AL435*Титул.лист!$A$1","v":5837.04},{"$f":"AM435+AM435*Титул.лист!$P$2","v":5837.04},5840]
[null,null,800,"h 920","2115-80",5610,{"$f":"F436+F436*Титул.лист!$A$1","v":6171},{"$f":"G436+G436*Титул.лист!$P$2","v":6171},6170,5841,{"$f":"J436+J436*Титул.лист!$A$1","v":6425.1},{"$f":"K436+K436*Титул.лист!$P$2","v":6425.1},6430,6457,{"$f":"N436+N436*Титул.лист!$A$1","v":7102.7},{"$f":"O436+O436*Титул.лист!$P$2","v":7102.7},7100,6688,{"$f":"R436+R436*Титул.лист!$A$1","v":7356.8},{"$f":"S436+S436*Титул.лист!$P$2","v":7356.8},7360,7117,{"$f":"V436+V436*Титул.лист!$A$1","v":7828.7},{"$f":"W436+W436*Титул.лист!$P$2","v":7828.7},7830,7348,{"$f":"Z436+Z436*Титул.лист!$A$1","v":8082.8},{"$f":"AA436+AA436*Титул.лист!$P$2","v":8082.8},8080,6336,{"$f":"AD436+AD436*Титул.лист!$A$1","v":6969.6},{"$f":"AE436+AE436*Титул.лист!$P$2","v":6969.6},6970,6622,{"$f":"AH436+AH436*Титул.лист!$A$1","v":7284.2},{"$f":"AI436+AI436*Титул.лист!$P$2","v":7284.2},7280,6721,{"$f":"AL436+AL436*Титул.лист!$A$1","v":7393.1},{"$f":"AM436+AM436*Титул.лист!$P$2","v":7393.1},7390]

{"sheet":"Пеналы","index":4,"n_rows":95,"n_cols":61,"rows_kept":95,"cut":false,"hidden":false,"merged":[[0,57,0,60],[1,0,1,60],[26,0,26,60],[55,0,55,60],[0,41,0,44],[0,45,0,48],[0,49,0,52],[0,53,0,56],[0,17,0,20],[0,13,0,16],[0,9,0,12],[0,5,0,8],[0,37,0,40],[0,33,0,36],[0,29,0,32],[0,25,0,28],[0,21,0,24],[38,0,43,0],[38,1,43,1],[38,3,43,3],[14,0,19,0],[14,1,19,1],[14,3,16,3],[17,3,19,3],[20,0,25,0],[20,1,25,1],[20,3,22,3],[23,3,25,3],[56,0,62,0],[56,1,62,1],[56,3,62,3],[2,0,7,0],[2,1,7,1],[2,3,4,3],[5,3,7,3],[8,0,13,0],[8,1,13,1],[8,3,10,3],[11,3,13,3],[27,0,37,0],[27,1,32,1],[27,3,32,3],[33,1,37,1],[33,3,37,3],[44,0,54,0],[44,1,49,1],[44,3,49,3],[50,1,54,1],[50,3,54,3],[63,0,69,0],[63,1,69,1],[63,3,69,3],[70,0,72,0],[70,1,72,1],[70,3,72,3],[87,1,88,1],[79,0,81,0],[79,1,81,1],[79,3,81,3],[73,0,75,0],[73,1,75,1],[73,3,75,3],[76,0,78,0],[76,1,78,1],[76,3,78,3],[93,0,94,0],[93,1,94,1],[91,0,92,0],[91,1,92,1],[89,0,90,0],[89,1,90,1]]}
[null,null,"Размер","Высота  \nмодуля","Код изделия","ЛДСП\nПВХ 0,45мм",null,null,null,"ЛДСП\nПВХ 2мм",null,null,null,"Пластик 1к\nПВХ 0,45мм",null,null,null,"Пластик 1к\nПВХ 2мм",null,null,null,"Пластик 2к\nПВХ 0,45мм",null,null,null,"Пластик 2к\nПВХ 2мм",null,null,null,"МДФ\nмат.",null,null,null,"МДФ\nглян.",null,null,null,"МДФ\nметалл.",null,null,null,"МДФ+ПАТИНА",null,null,null,"БАГЕТНАЯ",null,null,null,"БОСТОН\nПВХ/фот.печ.",null,null,null,"БОСТОН ЛАК",null,null,null,"БОСТОН ЭМАЛЬ"]
["Пеналы"]
[null,"Пенал 2140 без ящ 3дв ",400,"h 2140","1702-40",3230,{"$f":"F3+F3*Титул.лист!$A$1","v":3553},{"$f":"G3+G3*Титул.лист!$P$2","v":3553},{"$f":"ROUND(H3,-1)","v":3550},3390,{"$f":"J3+J3*Титул.лист!$A$1","v":3729},{"$f":"K3+K3*Титул.лист!$P$2","v":3729},{"$f":"ROUND(L3,-1)","v":3730},4100,{"$f":"N3+N3*Титул.лист!$A$1","v":4510},{"$f":"O3+O3*Титул.лист!$P$2","v":4510},{"$f":"ROUND(P3,-1)","v":4510},4260,{"$f":"R3+R3*Титул.лист!$A$1","v":4686},{"$f":"S3+S3*Титул.лист!$P$2","v":4686},{"$f":"ROUND(T3,-1)","v":4690},4760,{"$f":"V3+V3*Титул.лист!$A$1","v":5236},{"$f":"W3+W3*Титул.лист!$P$2","v":5236},{"$f":"ROUND(X3,-1)","v":5240},4920,{"$f":"Z3+Z3*Титул.лист!$A$1","v":5412},{"$f":"AA3+AA3*Титул.лист!$P$2","v":5412},{"$f":"ROUND(AB3,-1)","v":5410},4170,{"$f":"AD3+AD3*Титул.лист!$A$1","v":4587},{"$f":"AE3+AE3*Титул.лист!$P$2","v":4587},{"$f":"ROUND(AF3,-1)","v":4590},4440,{"$f":"AH3+AH3*Титул.лист!$A$1","v":4884},{"$f":"AI3+AI3*Титул.лист!$P$2","v":4884},{"$f":"ROUND(AJ3,-1)","v":4880},4550,{"$f":"AL3+AL3*Титул.лист!$A$1","v":5005},{"$f":"AM3+AM3*Титул.лист!$P$2","v":5005},{"$f":"ROUND(AN3,-1)","v":5010},7360.56,{"$f":"AP3+AP3*Титул.лист!$A$1","v":8096.616},{"$f":"AQ3+AQ3*Титул.лист!$P$2","v":8096.616},{"$f":"ROUND(AR3,-1)","v":8100},8258.16,{"$f":"AT3+AT3*Титул.лист!$A$1","v":9083.9760000000006},{"$f":"AU3+AU3*Титул.лист!$P$2","v":9083.9760000000006},{"$f":"ROUND(AV3,-1)","v":9080},6724.08,{"$f":"AX3+AX3*Титул.лист!$A$1","v":7396.4880000000003},{"$f":"AY3+AY3*Титул.лист!$P$2","v":7396.4880000000003},{"$f":"ROUND(AZ3,-1)","v":7400},8339.76,{"$f":"BB3+BB3*Титул.лист!$A$1","v":9173.7360000000008},{"$f":"BC3+BC3*Титул.лист!$P$2","v":9173.7360000000008},{"$f":"ROUND(BD3,-1)","v":9170},11440.560000000001,{"$f":"BF3+BF3*Титул.лист!$A$1","v":12584.616000000002},{"$f":"BG3+BG3*Титул.лист!$P$2","v":12584.616000000002},{"$f":"ROUND(BH3,-1)","v":12580}]
[null,null,500,null,"1702-50",3620,{"$f":"F4+F4*Титул.лист!$A$1","v":3982},{"$f":"G4+G4*Титул.лист!$P$2","v":3982},{"$f":"ROUND(H4,-1)","v":3980},3780,{"$f":"J4+J4*Титул.лист!$A$1","v":4158},{"$f":"K4+K4*Титул.лист!$P$2","v":4158},{"$f":"ROUND(L4,-1)","v":4160},4700,{"$f":"N4+N4*Титул.лист!$A$1","v":5170},{"$f":"O4+O4*Титул.лист!$P$2","v":5170},{"$f":"ROUND(P4,-1)","v":5170},4860,{"$f":"R4+R4*Титул.лист!$A$1","v":5346},{"$f":"S4+S4*Титул.лист!$P$2","v":5346},{"$f":"ROUND(T4,-1)","v":5350},5520,{"$f":"V4+V4*Титул.лист!$A$1","v":6072},{"$f":"W4+W4*Титул.лист!$P$2","v":6072},{"$f":"ROUND(X4,-1)","v":6070},5690,{"$f":"Z4+Z4*Титул.лист!$A$1","v":6259},{"$f":"AA4+AA4*Титул.лист!$P$2","v":6259},{"$f":"ROUND(AB4,-1)","v":6260},4800,{"$f":"AD4+AD4*Титул.лист!$A$1","v":5280},{"$f":"AE4+AE4*Титул.лист!$P$2","v":5280},{"$f":"ROUND(AF4,-1)","v":5280},5140,{"$f":"AH4+AH4*Титул.лист!$A$1","v":5654},{"$f":"AI4+AI4*Титул.лист!$P$2","v":5654},{"$f":"ROUND(AJ4,-1)","v":5650},5290,{"$f":"AL4+AL4*Титул.лист!$A$1","v":5819},{"$f":"AM4+AM4*Титул.лист!$P$2","v":5819},{"$f":"ROUND(AN4,-1)","v":5820},8788.2000000000007,{"$f":"AP4+AP4*Титул.лист!$A$1","v":9667.02},{"$f":"AQ4+AQ4*Титул.лист!$P$2","v":9667.02},{"$f":"ROUND(AR4,-1)","v":9670},9910.2000000000007,{"$f":"AT4+AT4*Титул.лист!$A$1","v":10901.220000000001},{"$f":"AU4+AU4*Титул.лист!$P$2","v":10901.220000000001},{"$f":"ROUND(AV4,-1)","v":10900},7992.6,{"$f":"AX4+AX4*Титул.лист!$A$1","v":8791.86},{"$f":"AY4+AY4*Титул.лист!$P$2","v":8791.86},{"$f":"ROUND(AZ4,-1)","v":8790},10012.200000000001,{"$f":"BB4+BB4*Титул.лист!$A$1","v":11013.42},{"$f":"BC4+BC4*Титул.лист!$P$2","v":11013.42},{"$f":"ROUND(BD4,-1)","v":11010},13888.2,{"$f":"BF4+BF4*Титул.лист!$A$1","v":15277.02},{"$f":"BG4+BG4*Титул.лист!$P$2","v":15277.02},{"$f":"ROUND(BH4,-1)","v":15280}]
[null,null,600,null,"1702-60",4010,{"$f":"F5+F5*Титул.лист!$A$1","v":4411},{"$f":"G5+G5*Титул.лист!$P$2","v":4411},4410,4200,{"$f":"J5+J5*Титул.лист!$A$1","v":4620},{"$f":"K5+K5*Титул.лист!$P$2","v":4620},4620,5300,{"$f":"N5+N5*Титул.лист!$A$1","v":5830},{"$f":"O5+O5*Титул.лист!$P$2","v":5830},5830,5490,{"$f":"R5+R5*Титул.лист!$A$1","v":6039},{"$f":"S5+S5*Титул.лист!$P$2","v":6039},6040,6300,{"$f":"V5+V5*Титул.лист!$A$1","v":6930},{"$f":"W5+W5*Титул.лист!$P$2","v":6930},6930,6490.0000000000009,{"$f":"Z5+Z5*Титул.лист!$A$1","v":7139.0000000000009},{"$f":"AA5+AA5*Титул.лист!$P$2","v":7139.0000000000009},7140,5430,{"$f":"AD5+AD5*Титул.лист!$A$1","v":5973},{"$f":"AE5+AE5*Титул.лист!$P$2","v":5973},5970,5840,{"$f":"AH5+AH5*Титул.лист!$A$1","v":6424},{"$f":"AI5+AI5*Титул.лист!$P$2","v":6424},6420,6030,{"$f":"AL5+AL5*Титул.лист!$A$1","v":6633},{"$f":"AM5+AM5*Титул.лист!$P$2","v":6633},6630,10215.84,{"$f":"AP5+AP5*Титул.лист!$A$1","v":11237.424000000001},{"$f":"AQ5+AQ5*Титул.лист!$P$2","v":11237.424000000001},11240,11562.240000000002,{"$f":"AT5+AT5*Титул.лист!$A$1","v":12718.464000000002},{"$f":"AU5+AU5*Титул.лист!$P$2","v":12718.464000000002},12720,9261.1200000000008,{"$f":"AX5+AX5*Титул.лист!$A$1","v":10187.232},{"$f":"AY5+AY5*Титул.лист!$P$2","v":10187.232},10190,11684.640000000001,{"$f":"BB5+BB5*Титул.лист!$A$1","v":12853.104000000001},{"$f":"BC5+BC5*Титул.лист!$P$2","v":12853.104000000001},12850,16335.840000000002,{"$f":"BF5+BF5*Титул.лист!$A$1","v":17969.424000000003},{"$f":"BG5+BG5*Титул.лист!$P$2","v":17969.424000000003},17970]
[null,null,400,"h 2340","1703-40",3553,{"$f":"F6+F6*Титул.лист!$A$1","v":3908.3},{"$f":"G6+G6*Титул.лист!$P$2","v":3908.3},3910,3729,{"$f":"J6+J6*Титул.лист!$A$1","v":4101.8999999999996},{"$f":"K6+K6*Титул.лист!$P$2","v":4101.8999999999996},4100,4510,{"$f":"N6+N6*Титул.лист!$A$1","v":4961},{"$f":"O6+O6*Титул.лист!$P$2","v":4961},4960,4686,{"$f":"R6+R6*Титул.лист!$A$1","v":5154.6000000000004},{"$f":"S6+S6*Титул.лист!$P$2","v":5154.6000000000004},5150,5236,{"$f":"V6+V6*Титул.лист!$A$1","v":5759.6},{"$f":"W6+W6*Титул.лист!$P$2","v":5759.6},5760,5412,{"$f":"Z6+Z6*Титул.лист!$A$1","v":5953.2},{"$f":"AA6+AA6*Титул.лист!$P$2","v":5953.2},5950,4587,{"$f":"AD6+AD6*Титул.лист!$A$1","v":5045.7},{"$f":"AE6+AE6*Титул.лист!$P$2","v":5045.7},5050,4884,{"$f":"AH6+AH6*Титул.лист!$A$1","v":5372.4},{"$f":"AI6+AI6*Титул.лист!$P$2","v":5372.4},5370,5005,{"$f":"AL6+AL6*Титул.лист!$A$1","v":5505.5},{"$f":"AM6+AM6*Титул.лист!$P$2","v":5505.5},5510,8090.36,{"$f":"AP6+AP6*Титул.лист!$A$1","v":8899.3960000000006},{"$f":"AQ6+AQ6*Титул.лист!$P$2","v":8899.3960000000006},8900,9075.9599999999991,{"$f":"AT6+AT6*Титул.лист!$A$1","v":9983.5559999999987},{"$f":"AU6+AU6*Титул.лист!$P$2","v":9983.5559999999987},9980,7391.48,{"$f":"AX6+AX6*Титул.лист!$A$1","v":8130.6279999999997},{"$f":"AY6+AY6*Титул.лист!$P$2","v":8130.6279999999997},8130,9165.56,{"$f":"BB6+BB6*Титул.лист!$A$1","v":10082.116},{"$f":"BC6+BC6*Титул.лист!$P$2","v":10082.116},10080,12570.359999999999,{"$f":"BF6+BF6*Титул.лист!$A$1","v":13827.395999999999},{"$f":"BG6+BG6*Титул.лист!$P$2","v":13827.395999999999},13830]
[null,null,500,null,"1703-50",3982,{"$f":"F7+F7*Титул.лист!$A$1","v":4380.2},{"$f":"G7+G7*Титул.лист!$P$2","v":4380.2},4380,4158,{"$f":"J7+J7*Титул.лист!$A$1","v":4573.8},{"$f":"K7+K7*Титул.лист!$P$2","v":4573.8},4570,5170,{"$f":"N7+N7*Титул.лист!$A$1","v":5687},{"$f":"O7+O7*Титул.лист!$P$2","v":5687},5690,5346,{"$f":"R7+R7*Титул.лист!$A$1","v":5880.6},{"$f":"S7+S7*Титул.лист!$P$2","v":5880.6},5880,6072,{"$f":"V7+V7*Титул.лист!$A$1","v":6679.2},{"$f":"W7+W7*Титул.лист!$P$2","v":6679.2},6680,6259,{"$f":"Z7+Z7*Титул.лист!$A$1","v":6884.9},{"$f":"AA7+AA7*Титул.лист!$P$2","v":6884.9},6880,5280,{"$f":"AD7+AD7*Титул.лист!$A$1","v":5808},{"$f":"AE7+AE7*Титул.лист!$P$2","v":5808},5810,5654,{"$f":"AH7+AH7*Титул.лист!$A$1","v":6219.4},{"$f":"AI7+AI7*Титул.лист!$P$2","v":6219.4},6220,5819,{"$f":"AL7+AL7*Титул.лист!$A$1","v":6400.9},{"$f":"AM7+AM7*Титул.лист!$P$2","v":6400.9},6400,9659.2000000000007,{"$f":"AP7+AP7*Титул.лист!$A$1","v":10625.12},{"$f":"AQ7+AQ7*Титул.лист!$P$2","v":10625.12},10630,10891.2,{"$f":"AT7+AT7*Титул.лист!$A$1","v":11980.320000000002},{"$f":"AU7+AU7*Титул.лист!$P$2","v":11980.320000000002},11980,8785.5999999999985,{"$f":"AX7+AX7*Титул.лист!$A$1","v":9664.159999999998},{"$f":"AY7+AY7*Титул.лист!$P$2","v":9664.159999999998},9660,11003.2,{"$f":"BB7+BB7*Титул.лист!$A$1","v":12103.52},{"$f":"BC7+BC7*Титул.лист!$P$2","v":12103.52},12100,15259.199999999999,{"$f":"BF7+BF7*Титул.лист!$A$1","v":16785.12},{"$f":"BG7+BG7*Титул.лист!$P$2","v":16785.12},16790]
[null,null,600,null,"1703-60",4411,{"$f":"F8+F8*Титул.лист!$A$1","v":4852.1000000000004},{"$f":"G8+G8*Титул.лист!$P$2","v":4852.1000000000004},4850,4620,{"$f":"J8+J8*Титул.лист!$A$1","v":5082},{"$f":"K8+K8*Титул.лист!$P$2","v":5082},5080,5830,{"$f":"N8+N8*Титул.лист!$A$1","v":6413},{"$f":"O8+O8*Титул.лист!$P$2","v":6413},6410,6039,{"$f":"R8+R8*Титул.лист!$A$1","v":6642.9},{"$f":"S8+S8*Титул.лист!$P$2","v":6642.9},6640,6930,{"$f":"V8+V8*Титул.лист!$A$1","v":7623},{"$f":"W8+W8*Титул.лист!$P$2","v":7623},7620,7139.0000000000009,{"$f":"Z8+Z8*Титул.лист!$A$1","v":7852.9000000000015},{"$f":"AA8+AA8*Титул.лист!$P$2","v":7852.9000000000015},7850,5973,{"$f":"AD8+AD8*Титул.лист!$A$1","v":6570.3},{"$f":"AE8+AE8*Титул.лист!$P$2","v":6570.3},6570,6424,{"$f":"AH8+AH8*Титул.лист!$A$1","v":7066.4},{"$f":"AI8+AI8*Титул.лист!$P$2","v":7066.4},7070,6633,{"$f":"AL8+AL8*Титул.лист!$A$1","v":7296.3},{"$f":"AM8+AM8*Титул.лист!$P$2","v":7296.3},7300,11228.039999999999,{"$f":"AP8+AP8*Титул.лист!$A$1","v":12350.843999999999},{"$f":"AQ8+AQ8*Титул.лист!$P$2","v":12350.843999999999},12350,12706.439999999999,{"$f":"AT8+AT8*Титул.лист!$A$1","v":13977.083999999999},{"$f":"AU8+AU8*Титул.лист!$P$2","v":13977.083999999999},13980,10179.719999999999,{"$f":"AX8+AX8*Титул.лист!$A$1","v":11197.691999999999},{"$f":"AY8+AY8*Титул.лист!$P$2","v":11197.691999999999},11200,12840.84,{"$f":"BB8+BB8*Титул.лист!$A$1","v":14124.924000000001},{"$f":"BC8+BC8*Титул.лист!$P$2","v":14124.924000000001},14120,17948.04,{"$f":"BF8+BF8*Титул.лист!$A$1","v":19742.844000000001},{"$f":"BG8+BG8*Титул.лист!$P$2","v":19742.844000000001},19740]
[null,"Пенал 2140 без ящ 3дв",400,"h 2140","1702-40",3876,{"$f":"F9+F9*Титул.лист!$A$1","v":4263.6000000000004},{"$f":"G9+G9*Титул.лист!$P$2","v":4263.6000000000004},4260,4068,{"$f":"J9+J9*Титул.лист!$A$1","v":4474.8},{"$f":"K9+K9*Титул.лист!$P$2","v":4474.8},4470,4920,{"$f":"N9+N9*Титул.лист!$A$1","v":5412},{"$f":"O9+O9*Титул.лист!$P$2","v":5412},5410,5112,{"$f":"R9+R9*Титул.лист!$A$1","v":5623.2},{"$f":"S9+S9*Титул.лист!$P$2","v":5623.2},5620,5712,{"$f":"V9+V9*Титул.лист!$A$1","v":6283.2},{"$f":"W9+W9*Титул.лист!$P$2","v":6283.2},6280,5904,{"$f":"Z9+Z9*Титул.лист!$A$1","v":6494.4},{"$f":"AA9+AA9*Титул.лист!$P$2","v":6494.4},6490,5004,{"$f":"AD9+AD9*Титул.лист!$A$1","v":5504.4},{"$f":"AE9+AE9*Титул.лист!$P$2","v":5504.4},5500,5328,{"$f":"AH9+AH9*Титул.лист!$A$1","v":5860.8},{"$f":"AI9+AI9*Титул.лист!$P$2","v":5860.8},5860,5460,{"$f":"AL9+AL9*Титул.лист!$A$1","v":6006},{"$f":"AM9+AM9*Титул.лист!$P$2","v":6006},6010,8194.5600000000013,{"$f":"AP9+AP9*Титул.лист!$A$1","v":9014.0160000000014},{"$f":"AQ9+AQ9*Титул.лист!$P$2","v":9014.0160000000014},9010,9092.16,{"$f":"AT9+AT9*Титул.лист!$A$1","v":10001.376},{"$f":"AU9+AU9*Титул.лист!$P$2","v":10001.376},10000,7558.08,{"$f":"AX9+AX9*Титул.лист!$A$1","v":8313.887999999999},{"$f":"AY9+AY9*Титул.лист!$P$2","v":8313.887999999999},8310,9173.76,{"$f":"BB9+BB9*Титул.лист!$A$1","v":10091.136},{"$f":"BC9+BC9*Титул.лист!$P$2","v":10091.136},10090,12274.560000000001,{"$f":"BF9+BF9*Титул.лист!$A$1","v":13502.016000000001},{"$f":"BG9+BG9*Титул.лист!$P$2","v":13502.016000000001},13500]
[null,null,500,null,"1702-50",4344,{"$f":"F10+F10*Титул.лист!$A$1","v":4778.3999999999996},{"$f":"G10+G10*Титул.лист!$P$2","v":4778.3999999999996},4780,4536,{"$f":"J10+J10*Титул.лист!$A$1","v":4989.6000000000004},{"$f":"K10+K10*Титул.лист!$P$2","v":4989.6000000000004},4990,5640,{"$f":"N10+N10*Титул.лист!$A$1","v":6204},{"$f":"O10+O10*Титул.лист!$P$2","v":6204},6200,5832,{"$f":"R10+R10*Титул.лист!$A$1","v":6415.2},{"$f":"S10+S10*Титул.лист!$P$2","v":6415.2},6420,6624,{"$f":"V10+V10*Титул.лист!$A$1","v":7286.4},{"$f":"W10+W10*Титул.лист!$P$2","v":7286.4},7290,6828,{"$f":"Z10+Z10*Титул.лист!$A$1","v":7510.8},{"$f":"AA10+AA10*Титул.лист!$P$2","v":7510.8},7510,5760,{"$f":"AD10+AD10*Титул.лист!$A$1","v":6336},{"$f":"AE10+AE10*Титул.лист!$P$2","v":6336},6340,6168,{"$f":"AH10+AH10*Титул.лист!$A$1","v":6784.8},{"$f":"AI10+AI10*Титул.лист!$P$2","v":6784.8},6780,6348,{"$f":"AL10+AL10*Титул.лист!$A$1","v":6982.8},{"$f":"AM10+AM10*Титул.лист!$P$2","v":6982.8},6980,9748.2000000000007,{"$f":"AP10+AP10*Титул.лист!$A$1","v":10723.02},{"$f":"AQ10+AQ10*Титул.лист!$P$2","v":10723.02},10720,10870.2,{"$f":"AT10+AT10*Титул.лист!$A$1","v":11957.220000000001},{"$f":"AU10+AU10*Титул.лист!$P$2","v":11957.220000000001},11960,8952.6,{"$f":"AX10+AX10*Титул.лист!$A$1","v":9847.86},{"$f":"AY10+AY10*Титул.лист!$P$2","v":9847.86},9850,10972.2,{"$f":"BB10+BB10*Титул.лист!$A$1","v":12069.42},{"$f":"BC10+BC10*Титул.лист!$P$2","v":12069.42},12070,14848.2,{"$f":"BF10+BF10*Титул.лист!$A$1","v":16333.02},{"$f":"BG10+BG10*Титул.лист!$P$2","v":16333.02},16330]
[null,null,600,null,"1702-60",4812,{"$f":"F11+F11*Титул.лист!$A$1","v":5293.2},{"$f":"G11+G11*Титул.лист!$P$2","v":5293.2},5290,5040,{"$f":"J11+J11*Титул.лист!$A$1","v":5544},{"$f":"K11+K11*Титул.лист!$P$2","v":5544},5540,6360,{"$f":"N11+N11*Титул.лист!$A$1","v":6996},{"$f":"O11+O11*Титул.лист!$P$2","v":6996},7000,6588,{"$f":"R11+R11*Титул.лист!$A$1","v":7246.8},{"$f":"S11+S11*Титул.лист!$P$2","v":7246.8},7250,7560,{"$f":"V11+V11*Титул.лист!$A$1","v":8316},{"$f":"W11+W11*Титул.лист!$P$2","v":8316},8320,7788.0000000000009,{"$f":"Z11+Z11*Титул.лист!$A$1","v":8566.8000000000011},{"$f":"AA11+AA11*Титул.лист!$P$2","v":8566.8000000000011},8570,6516,{"$f":"AD11+AD11*Титул.лист!$A$1","v":7167.6},{"$f":"AE11+AE11*Титул.лист!$P$2","v":7167.6},7170,7008,{"$f":"AH11+AH11*Титул.лист!$A$1","v":7708.8},{"$f":"AI11+AI11*Титул.лист!$P$2","v":7708.8},7710,7236,{"$f":"AL11+AL11*Титул.лист!$A$1","v":7959.6},{"$f":"AM11+AM11*Титул.лист!$P$2","v":7959.6},7960,11301.84,{"$f":"AP11+AP11*Титул.лист!$A$1","v":12432.023999999999},{"$f":"AQ11+AQ11*Титул.лист!$P$2","v":12432.023999999999},12430,12648.240000000002,{"$f":"AT11+AT11*Титул.лист!$A$1","v":13913.064000000002},{"$f":"AU11+AU11*Титул.лист!$P$2","v":13913.064000000002},13910,10347.120000000001,{"$f":"AX11+AX11*Титул.лист!$A$1","v":11381.832},{"$f":"AY11+AY11*Титул.лист!$P$2","v":11381.832},11380,12770.640000000001,{"$f":"BB11+BB11*Титул.лист!$A$1","v":14047.704000000002},{"$f":"BC11+BC11*Титул.лист!$P$2","v":14047.704000000002},14050,17421.840000000004,{"$f":"BF11+BF11*Титул.лист!$A$1","v":19164.024000000005},{"$f":"BG11+BG11*Титул.лист!$P$2","v":19164.024000000005},19160]
[null,null,400,"h 2340","1703-40с",4263.6000000000004,{"$f":"F12+F12*Титул.лист!$A$1","v":4689.96},{"$f":"G12+G12*Титул.лист!$P$2","v":4689.96},4690,4474.8,{"$f":"J12+J12*Титул.лист!$A$1","v":4922.2800000000007},{"$f":"K12+K12*Титул.лист!$P$2","v":4922.2800000000007},4920,5412,{"$f":"N12+N12*Титул.лист!$A$1","v":5953.2},{"$f":"O12+O12*Титул.лист!$P$2","v":5953.2},5950,5623.2,{"$f":"R12+R12*Титул.лист!$A$1","v":6185.5199999999995},{"$f":"S12+S12*Титул.лист!$P$2","v":6185.5199999999995},6190,6283.2,{"$f":"V12+V12*Титул.лист!$A$1","v":6911.5199999999995},{"$f":"W12+W12*Титул.лист!$P$2","v":6911.5199999999995},6910,6494.4,{"$f":"Z12+Z12*Титул.лист!$A$1","v":7143.84},{"$f":"AA12+AA12*Титул.лист!$P$2","v":7143.84},7140,5504.4,{"$f":"AD12+AD12*Титул.лист!$A$1","v":6054.8399999999992},{"$f":"AE12+AE12*Титул.лист!$P$2","v":6054.8399999999992},6050,5860.8,{"$f":"AH12+AH12*Титул.лист!$A$1","v":6446.88},{"$f":"AI12+AI12*Титул.лист!$P$2","v":6446.88},6450,6006,{"$f":"AL12+AL12*Титул.лист!$A$1","v":6606.6},{"$f":"AM12+AM12*Титул.лист!$P$2","v":6606.6},6610,9007.7599999999984,{"$f":"AP12+AP12*Титул.лист!$A$1","v":9908.5359999999982},{"$f":"AQ12+AQ12*Титул.лист!$P$2","v":9908.5359999999982},9910,9993.3599999999988,{"$f":"AT12+AT12*Титул.лист!$A$1","v":10992.695999999998},{"$f":"AU12+AU12*Титул.лист!$P$2","v":10992.695999999998},10990,8308.8799999999992,{"$f":"AX12+AX12*Титул.лист!$A$1","v":9139.768},{"$f":"AY12+AY12*Титул.лист!$P$2","v":9139.768},9140,10082.959999999999,{"$f":"BB12+BB12*Титул.лист!$A$1","v":11091.255999999999},{"$f":"BC12+BC12*Титул.лист!$P$2","v":11091.255999999999},11090,13487.759999999998,{"$f":"BF12+BF12*Титул.лист!$A$1","v":14836.535999999998},{"$f":"BG12+BG12*Титул.лист!$P$2","v":14836.535999999998},14840]
[null,null,500,null,"1703-50с",4778.3999999999996,{"$f":"F13+F13*Титул.лист!$A$1","v":5256.24},{"$f":"G13+G13*Титул.лист!$P$2","v":5256.24},5260,4989.6000000000004,{"$f":"J13+J13*Титул.лист!$A$1","v":5488.56},{"$f":"K13+K13*Титул.лист!$P$2","v":5488.56},5490,6204,{"$f":"N13+N13*Титул.лист!$A$1","v":6824.4},{"$f":"O13+O13*Титул.лист!$P$2","v":6824.4},6820,6415.2,{"$f":"R13+R13*Титул.лист!$A$1","v":7056.7199999999993},{"$f":"S13+S13*Титул.лист!$P$2","v":7056.7199999999993},7060,7286.4,{"$f":"V13+V13*Титул.лист!$A$1","v":8015.04},{"$f":"W13+W13*Титул.лист!$P$2","v":8015.04},8020,7510.8,{"$f":"Z13+Z13*Титул.лист!$A$1","v":8261.880000000001},{"$f":"AA13+AA13*Титул.лист!$P$2","v":8261.880000000001},8260,6336,{"$f":"AD13+AD13*Титул.лист!$A$1","v":6969.6},{"$f":"AE13+AE13*Титул.лист!$P$2","v":6969.6},6970,6784.8,{"$f":"AH13+AH13*Титул.лист!$A$1","v":7463.2800000000007},{"$f":"AI13+AI13*Титул.лист!$P$2","v":7463.2800000000007},7460,6982.8,{"$f":"AL13+AL13*Титул.лист!$A$1","v":7681.08},{"$f":"AM13+AM13*Титул.лист!$P$2","v":7681.08},7680,10715.2,{"$f":"AP13+AP13*Титул.лист!$A$1","v":11786.720000000001},{"$f":"AQ13+AQ13*Титул.лист!$P$2","v":11786.720000000001},11790,11947.2,{"$f":"AT13+AT13*Титул.лист!$A$1","v":13141.92},{"$f":"AU13+AU13*Титул.лист!$P$2","v":13141.92},13140,9841.5999999999985,{"$f":"AX13+AX13*Титул.лист!$A$1","v":10825.759999999998},{"$f":"AY13+AY13*Титул.лист!$P$2","v":10825.759999999998},10830,12059.2,{"$f":"BB13+BB13*Титул.лист!$A$1","v":13265.12},{"$f":"BC13+BC13*Титул.лист!$P$2","v":13265.12},13270,16315.199999999999,{"$f":"BF13+BF13*Титул.лист!$A$1","v":17946.719999999998},{"$f":"BG13+BG13*Титул.лист!$P$2","v":17946.719999999998},17950]
[null,null,600,null,"1703-60с",5293.2,{"$f":"F14+F14*Титул.лист!$A$1","v":5822.5199999999995},{"$f":"G14+G14*Титул.лист!$P$2","v":5822.5199999999995},5820,5544,{"$f":"J14+J14*Титул.лист!$A$1","v":6098.4},{"$f":"K14+K14*Титул.лист!$P$2","v":6098.4},6100,6996,{"$f":"N14+N14*Титул.лист!$A$1","v":7695.6},{"$f":"O14+O14*Титул.лист!$P$2","v":7695.6},7700,7246.8,{"$f":"R14+R14*Титул.лист!$A$1","v":7971.4800000000005},{"$f":"S14+S14*Титул.лист!$P$2","v":7971.4800000000005},7970,8316,{"$f":"V14+V14*Титул.лист!$A$1","v":9147.6},{"$f":"W14+W14*Титул.лист!$P$2","v":9147.6},9150,8566.8000000000011,{"$f":"Z14+Z14*Титул.лист!$A$1","v":9423.4800000000014},{"$f":"AA14+AA14*Титул.лист!$P$2","v":9423.4800000000014},9420,7167.6,{"$f":"AD14+AD14*Титул.лист!$A$1","v":7884.3600000000006},{"$f":"AE14+AE14*Титул.лист!$P$2","v":7884.3600000000006},7880,7708.8,{"$f":"AH14+AH14*Титул.лист!$A$1","v":8479.68},{"$f":"AI14+AI14*Титул.лист!$P$2","v":8479.68},8480,7959.6,{"$f":"AL14+AL14*Титул.лист!$A$1","v":8755.5600000000013},{"$f":"AM14+AM14*Титул.лист!$P$2","v":8755.5600000000013},8760,12422.64,{"$f":"AP14+AP14*Титул.лист!$A$1","v":13664.903999999999},{"$f":"AQ14+AQ14*Титул.лист!$P$2","v":13664.903999999999},13660,13901.04,{"$f":"AT14+AT14*Титул.лист!$A$1","v":15291.144},{"$f":"AU14+AU14*Титул.лист!$P$2","v":15291.144},15290,11374.32,{"$f":"AX14+AX14*Титул.лист!$A$1","v":12511.752},{"$f":"AY14+AY14*Титул.лист!$P$2","v":12511.752},12510,14035.439999999999,{"$f":"BB14+BB14*Титул.лист!$A$1","v":15438.983999999999},{"$f":"BC14+BC14*Титул.лист!$P$2","v":15438.983999999999},15440,19142.64,{"$f":"BF14+BF14*Титул.лист!$A$1","v":21056.903999999999},{"$f":"BG14+BG14*Титул.лист!$P$2","v":21056.903999999999},21060]
[null,"Пенал 2140 3ящ 2дв ",400,"h 2140","1700-40",3870,{"$f":"F15+F15*Титул.лист!$A$1","v":4257},{"$f":"G15+G15*Титул.лист!$P$2","v":4257},4260,4070.0000000000005,{"$f":"J15+J15*Титул.лист!$A$1","v":4477.0000000000009},{"$f":"K15+K15*Титул.лист!$P$2","v":4477.0000000000009},4480,4730,{"$f":"N15+N15*Титул.лист!$A$1","v":5203},{"$f":"O15+O15*Титул.лист!$P$2","v":5203},5200,4930,{"$f":"R15+R15*Титул.лист!$A$1","v":5423},{"$f":"S15+S15*Титул.лист!$P$2","v":5423},5420,5390,{"$f":"V15+V15*Титул.лист!$A$1","v":5929},{"$f":"W15+W15*Титул.лист!$P$2","v":5929},5930,5590,{"$f":"Z15+Z15*Титул.лист!$A$1","v":6149},{"$f":"AA15+AA15*Титул.лист!$P$2","v":6149},6150,4780,{"$f":"AD15+AD15*Титул.лист!$A$1","v":5258},{"$f":"AE15+AE15*Титул.лист!$P$2","v":5258},5260,5060,{"$f":"AH15+AH15*Титул.лист!$A$1","v":5566},{"$f":"AI15+AI15*Титул.лист!$P$2","v":5566},5570,5180,{"$f":"AL15+AL15*Титул.лист!$A$1","v":5698},{"$f":"AM15+AM15*Титул.лист!$P$2","v":5698},5700,7970.56,{"$f":"AP15+AP15*Титул.лист!$A$1","v":8767.616},{"$f":"AQ15+AQ15*Титул.лист!$P$2","v":8767.616},8770,8868.16,{"$f":"AT15+AT15*Титул.лист!$A$1","v":9754.9760000000006},{"$f":"AU15+AU15*Титул.лист!$P$2","v":9754.9760000000006},9750,7334.08,{"$f":"AX15+AX15*Титул.лист!$A$1","v":8067.4880000000003},{"$f":"AY15+AY15*Титул.лист!$P$2","v":8067.4880000000003},8070,8949.76,{"$f":"BB15+BB15*Титул.лист!$A$1","v":9844.7360000000008},{"$f":"BC15+BC15*Титул.лист!$P$2","v":9844.7360000000008},9840,12050.560000000001,{"$f":"BF15+BF15*Титул.лист!$A$1","v":13255.616000000002},{"$f":"BG15+BG15*Титул.лист!$P$2","v":13255.616000000002},13260]
[null,null,500,null,"1700-50",4235.3999999999996,{"$f":"F16+F16*Титул.лист!$A$1","v":4658.9399999999996},{"$f":"G16+G16*Титул.лист!$P$2","v":4658.9399999999996},4660,4422.6000000000004,{"$f":"J16+J16*Титул.лист!$A$1","v":4864.8600000000006},{"$f":"K16+K16*Титул.лист!$P$2","v":4864.8600000000006},4860,5499,{"$f":"N16+N16*Титул.лист!$A$1","v":6048.9},{"$f":"O16+O16*Титул.лист!$P$2","v":6048.9},6050,5686.2,{"$f":"R16+R16*Титул.лист!$A$1","v":6254.82},{"$f":"S16+S16*Титул.лист!$P$2","v":6254.82},6250,6458.4,{"$f":"V16+V16*Титул.лист!$A$1","v":7104.24},{"$f":"W16+W16*Титул.лист!$P$2","v":7104.24},7100,6657.3,{"$f":"Z16+Z16*Титул.лист!$A$1","v":7323.0300000000007},{"$f":"AA16+AA16*Титул.лист!$P$2","v":7323.0300000000007},7320,5616,{"$f":"AD16+AD16*Титул.лист!$A$1","v":6177.6},{"$f":"AE16+AE16*Титул.лист!$P$2","v":6177.6},6180,6013.8,{"$f":"AH16+AH16*Титул.лист!$A$1","v":6615.18},{"$f":"AI16+AI16*Титул.лист!$P$2","v":6615.18},6620,6189.3,{"$f":"AL16+AL16*Титул.лист!$A$1","v":6808.2300000000005},{"$f":"AM16+AM16*Титул.лист!$P$2","v":6808.2300000000005},6810,9604.2000000000007,{"$f":"AP16+AP16*Титул.лист!$A$1","v":10564.62},{"$f":"AQ16+AQ16*Титул.лист!$P$2","v":10564.62},10560,10726.2,{"$f":"AT16+AT16*Титул.лист!$A$1","v":11798.820000000002},{"$f":"AU16+AU16*Титул.лист!$P$2","v":11798.820000000002},11800,8808.6,{"$f":"AX16+AX16*Титул.лист!$A$1","v":9689.4600000000009},{"$f":"AY16+AY16*Титул.лист!$P$2","v":9689.4600000000009},9690,10828.2,{"$f":"BB16+BB16*Титул.лист!$A$1","v":11911.02},{"$f":"BC16+BC16*Титул.лист!$P$2","v":11911.02},11910,14704.2,{"$f":"BF16+BF16*Титул.лист!$A$1","v":16174.62},{"$f":"BG16+BG16*Титул.лист!$P$2","v":16174.62},16170]
[null,null,600,null,"1700-60",4691.7,{"$f":"F17+F17*Титул.лист!$A$1","v":5160.87},{"$f":"G17+G17*Титул.лист!$P$2","v":5160.87},5160,4914,{"$f":"J17+J17*Титул.лист!$A$1","v":5405.4},{"$f":"K17+K17*Титул.лист!$P$2","v":5405.4},5410,6201,{"$f":"N17+N17*Титул.лист!$A$1","v":6821.1},{"$f":"O17+O17*Титул.лист!$P$2","v":6821.1},6820,6423.3,{"$f":"R17+R17*Титул.лист!$A$1","v":7065.63},{"$f":"S17+S17*Титул.лист!$P$2","v":7065.63},7070,7371,{"$f":"V17+V17*Титул.лист!$A$1","v":8108.1},{"$f":"W17+W17*Титул.лист!$P$2","v":8108.1},8110,7593.3000000000011,{"$f":"Z17+Z17*Титул.лист!$A$1","v":8352.630000000001},{"$f":"AA17+AA17*Титул.лист!$P$2","v":8352.630000000001},8350,6353.1,{"$f":"AD17+AD17*Титул.лист!$A$1","v":6988.4100000000008},{"$f":"AE17+AE17*Титул.лист!$P$2","v":6988.4100000000008},6990,6832.8,{"$f":"AH17+AH17*Титул.лист!$A$1","v":7516.08},{"$f":"AI17+AI17*Титул.лист!$P$2","v":7516.08},7520,7055.1,{"$f":"AL17+AL17*Титул.лист!$A$1","v":7760.6100000000006},{"$f":"AM17+AM17*Титул.лист!$P$2","v":7760.6100000000006},7760,11138.940000000002,{"$f":"AP17+AP17*Титул.лист!$A$1","v":12252.834000000003},{"$f":"AQ17+AQ17*Титул.лист!$P$2","v":12252.834000000003},12250,12485.34,{"$f":"AT17+AT17*Титул.лист!$A$1","v":13733.874},{"$f":"AU17+AU17*Титул.лист!$P$2","v":13733.874},13730,10184.220000000001,{"$f":"AX17+AX17*Титул.лист!$A$1","v":11202.642000000002},{"$f":"AY17+AY17*Титул.лист!$P$2","v":11202.642000000002},11200,12607.740000000002,{"$f":"BB17+BB17*Титул.лист!$A$1","v":13868.514000000003},{"$f":"BC17+BC17*Титул.лист!$P$2","v":13868.514000000003},13870,17258.940000000002,{"$f":"BF17+BF17*Титул.лист!$A$1","v":18984.834000000003},{"$f":"BG17+BG17*Титул.лист!$P$2","v":18984.834000000003},18980]
[null,null,400,"h 2340","1701-40",4157.01,{"$f":"F18+F18*Титул.лист!$A$1","v":4572.7110000000002},{"$f":"G18+G18*Титул.лист!$P$2","v":4572.7110000000002},4570,4362.93,{"$f":"J18+J18*Титул.лист!$A$1","v":4799.223},{"$f":"K18+K18*Титул.лист!$P$2","v":4799.223},4800,5276.7,{"$f":"N18+N18*Титул.лист!$A$1","v":5804.37},{"$f":"O18+O18*Титул.лист!$P$2","v":5804.37},5800,5482.62,{"$f":"R18+R18*Титул.лист!$A$1","v":6030.8819999999996},{"$f":"S18+S18*Титул.лист!$P$2","v":6030.8819999999996},6030,6126.12,{"$f":"V18+V18*Титул.лист!$A$1","v":6738.732},{"$f":"W18+W18*Титул.лист!$P$2","v":6738.732},6740,6332.04,{"$f":"Z18+Z18*Титул.лист!$A$1","v":6965.2439999999997},{"$f":"AA18+AA18*Титул.лист!$P$2","v":6965.2439999999997},6970,5366.79,{"$f":"AD18+AD18*Титул.лист!$A$1","v":5903.4690000000001},{"$f":"AE18+AE18*Титул.лист!$P$2","v":5903.4690000000001},5900,5714.28,{"$f":"AH18+AH18*Титул.лист!$A$1","v":6285.7079999999996},{"$f":"AI18+AI18*Титул.лист!$P$2","v":6285.7079999999996},6290,5855.85,{"$f":"AL18+AL18*Титул.лист!$A$1","v":6441.4350000000004},{"$f":"AM18+AM18*Титул.лист!$P$2","v":6441.4350000000004},6440,8870.15,{"$f":"AP18+AP18*Титул.лист!$A$1","v":9757.1649999999991},{"$f":"AQ18+AQ18*Титул.лист!$P$2","v":9757.1649999999991},9760,9855.75,{"$f":"AT18+AT18*Титул.лист!$A$1","v":10841.325000000001},{"$f":"AU18+AU18*Титул.лист!$P$2","v":10841.325000000001},10840,8171.2699999999995,{"$f":"AX18+AX18*Титул.лист!$A$1","v":8988.396999999999},{"$f":"AY18+AY18*Титул.лист!$P$2","v":8988.396999999999},8990,9945.3499999999985,{"$f":"BB18+BB18*Титул.лист!$A$1","v":10939.884999999998},{"$f":"BC18+BC18*Титул.лист!$P$2","v":10939.884999999998},10940,13350.149999999998,{"$f":"BF18+BF18*Титул.лист!$A$1","v":14685.164999999997},{"$f":"BG18+BG18*Титул.лист!$P$2","v":14685.164999999997},14690]
[null,null,500,null,"1701-50",4658.9400000000005,{"$f":"F19+F19*Титул.лист!$A$1","v":5124.8340000000007},{"$f":"G19+G19*Титул.лист!$P$2","v":5124.8340000000007},5120,4864.8599999999997,{"$f":"J19+J19*Титул.лист!$A$1","v":5351.3459999999995},{"$f":"K19+K19*Титул.лист!$P$2","v":5351.3459999999995},5350,6048.9,{"$f":"N19+N19*Титул.лист!$A$1","v":6653.79},{"$f":"O19+O19*Титул.лист!$P$2","v":6653.79},6650,6254.82,{"$f":"R19+R19*Титул.лист!$A$1","v":6880.3019999999997},{"$f":"S19+S19*Титул.лист!$P$2","v":6880.3019999999997},6880,7104.24,{"$f":"V19+V19*Титул.лист!$A$1","v":7814.6639999999998},{"$f":"W19+W19*Титул.лист!$P$2","v":7814.6639999999998},7810,7323.03,{"$f":"Z19+Z19*Титул.лист!$A$1","v":8055.3329999999996},{"$f":"AA19+AA19*Титул.лист!$P$2","v":8055.3329999999996},8060,6177.6,{"$f":"AD19+AD19*Титул.лист!$A$1","v":6795.3600000000006},{"$f":"AE19+AE19*Титул.лист!$P$2","v":6795.3600000000006},6800,6615.18,{"$f":"AH19+AH19*Титул.лист!$A$1","v":7276.6980000000003},{"$f":"AI19+AI19*Титул.лист!$P$2","v":7276.6980000000003},7280,6808.23,{"$f":"AL19+AL19*Титул.лист!$A$1","v":7489.0529999999999},{"$f":"AM19+AM19*Титул.лист!$P$2","v":7489.0529999999999},7490,10556.8,{"$f":"AP19+AP19*Титул.лист!$A$1","v":11612.48},{"$f":"AQ19+AQ19*Титул.лист!$P$2","v":11612.48},11610,11788.8,{"$f":"AT19+AT19*Титул.лист!$A$1","v":12967.679999999998},{"$f":"AU19+AU19*Титул.лист!$P$2","v":12967.679999999998},12970,9683.2000000000007,{"$f":"AX19+AX19*Титул.лист!$A$1","v":10651.52},{"$f":"AY19+AY19*Титул.лист!$P$2","v":10651.52},10650,11900.8,{"$f":"BB19+BB19*Титул.лист!$A$1","v":13090.88},{"$f":"BC19+BC19*Титул.лист!$P$2","v":13090.88},13090,16156.8,{"$f":"BF19+BF19*Титул.лист!$A$1","v":17772.48},{"$f":"BG19+BG19*Титул.лист!$P$2","v":17772.48},17770]
[null,null,600,null,"1701-60",5160.87,{"$f":"F20+F20*Титул.лист!$A$1","v":5676.9570000000003},{"$f":"G20+G20*Титул.лист!$P$2","v":5676.9570000000003},5680,5405.4,{"$f":"J20+J20*Титул.лист!$A$1","v":5945.94},{"$f":"K20+K20*Титул.лист!$P$2","v":5945.94},5950,6821.1,{"$f":"N20+N20*Титул.лист!$A$1","v":7503.2100000000009},{"$f":"O20+O20*Титул.лист!$P$2","v":7503.2100000000009},7500,7065.63,{"$f":"R20+R20*Титул.лист!$A$1","v":7772.1930000000002},{"$f":"S20+S20*Титул.лист!$P$2","v":7772.1930000000002},7770,8108.1,{"$f":"V20+V20*Титул.лист!$A$1","v":8918.91},{"$f":"W20+W20*Титул.лист!$P$2","v":8918.91},8920,8352.630000000001,{"$f":"Z20+Z20*Титул.лист!$A$1","v":9187.8930000000018},{"$f":"AA20+AA20*Титул.лист!$P$2","v":9187.8930000000018},9190,6988.41,{"$f":"AD20+AD20*Титул.лист!$A$1","v":7687.2510000000002},{"$f":"AE20+AE20*Титул.лист!$P$2","v":7687.2510000000002},7690,7516.08,{"$f":"AH20+AH20*Титул.лист!$A$1","v":8267.6880000000001},{"$f":"AI20+AI20*Титул.лист!$P$2","v":8267.6880000000001},8270,7760.6100000000006,{"$f":"AL20+AL20*Титул.лист!$A$1","v":8536.6710000000003},{"$f":"AM20+AM20*Титул.лист!$P$2","v":8536.6710000000003},8540,12243.449999999999,{"$f":"AP20+AP20*Титул.лист!$A$1","v":13467.794999999998},{"$f":"AQ20+AQ20*Титул.лист!$P$2","v":13467.794999999998},13470,13721.849999999999,{"$f":"AT20+AT20*Титул.лист!$A$1","v":15094.034999999998},{"$f":"AU20+AU20*Титул.лист!$P$2","v":15094.034999999998},15090,11195.13,{"$f":"AX20+AX20*Титул.лист!$A$1","v":12314.643},{"$f":"AY20+AY20*Титул.лист!$P$2","v":12314.643},12310,13856.25,{"$f":"BB20+BB20*Титул.лист!$A$1","v":15241.875},{"$f":"BC20+BC20*Титул.лист!$P$2","v":15241.875},15240,18963.449999999997,{"$f":"BF20+BF20*Титул.лист!$A$1","v":20859.794999999998},{"$f":"BG20+BG20*Титул.лист!$P$2","v":20859.794999999998},20860]
[null,"Пенал 2140 3ящ 2дв ",400,"h 2140","1700-40с",4837.5,{"$f":"F21+F21*Титул.лист!$A$1","v":5321.25},{"$f":"G21+G21*Титул.лист!$P$2","v":5321.25},5320,5087.5000000000009,{"$f":"J21+J21*Титул.лист!$A$1","v":5596.2500000000009},{"$f":"K21+K21*Титул.лист!$P$2","v":5596.2500000000009},5600,5912.5,{"$f":"N21+N21*Титул.лист!$A$1","v":6503.75},{"$f":"O21+O21*Титул.лист!$P$2","v":6503.75},6500,6162.5,{"$f":"R21+R21*Титул.лист!$A$1","v":6778.75},{"$f":"S21+S21*Титул.лист!$P$2","v":6778.75},6780,6737.5,{"$f":"V21+V21*Титул.лист!$A$1","v":7411.25},{"$f":"W21+W21*Титул.лист!$P$2","v":7411.25},7410,6987.5,{"$f":"Z21+Z21*Титул.лист!$A$1","v":7686.25},{"$f":"AA21+AA21*Титул.лист!$P$2","v":7686.25},7690,5975,{"$f":"AD21+AD21*Титул.лист!$A$1","v":6572.5},{"$f":"AE21+AE21*Титул.лист!$P$2","v":6572.5},6570,6325,{"$f":"AH21+AH21*Титул.лист!$A$1","v":6957.5},{"$f":"AI21+AI21*Титул.лист!$P$2","v":6957.5},6960,6475,{"$f":"AL21+AL21*Титул.лист!$A$1","v":7122.5},{"$f":"AM21+AM21*Титул.лист!$P$2","v":7122.5},7120,9165.5600000000013,{"$f":"AP21+AP21*Титул.лист!$A$1","v":10082.116000000002},{"$f":"AQ21+AQ21*Титул.лист!$P$2","v":10082.116000000002},10080,10063.16,{"$f":"AT21+AT21*Титул.лист!$A$1","v":11069.476000000001},{"$f":"AU21+AU21*Титул.лист!$P$2","v":11069.476000000001},11070,8529.08,{"$f":"AX21+AX21*Титул.лист!$A$1","v":9381.9879999999994},{"$f":"AY21+AY21*Титул.лист!$P$2","v":9381.9879999999994},9380,10144.76,{"$f":"BB21+BB21*Титул.лист!$A$1","v":11159.236000000001},{"$f":"BC21+BC21*Титул.лист!$P$2","v":11159.236000000001},11160,13245.560000000001,{"$f":"BF21+BF21*Титул.лист!$A$1","v":14570.116000000002},{"$f":"BG21+BG21*Титул.лист!$P$2","v":14570.116000000002},14570]
[null,null,500,null,"1700-50с",5294.25,{"$f":"F22+F22*Титул.лист!$A$1","v":5823.6750000000002},{"$f":"G22+G22*Титул.лист!$P$2","v":5823.6750000000002},5820,5528.25,{"$f":"J22+J22*Титул.лист!$A$1","v":6081.0749999999998},{"$f":"K22+K22*Титул.лист!$P$2","v":6081.0749999999998},6080,6873.75,{"$f":"N22+N22*Титул.лист!$A$1","v":7561.125},{"$f":"O22+O22*Титул.лист!$P$2","v":7561.125},7560,7107.75,{"$f":"R22+R22*Титул.лист!$A$1","v":7818.5249999999996},{"$f":"S22+S22*Титул.лист!$P$2","v":7818.5249999999996},7820,8073,{"$f":"V22+V22*Титул.лист!$A$1","v":8880.2999999999993},{"$f":"W22+W22*Титул.лист!$P$2","v":8880.2999999999993},8880,8321.625,{"$f":"Z22+Z22*Титул.лист!$A$1","v":9153.7875000000004},{"$f":"AA22+AA22*Титул.лист!$P$2","v":9153.7875000000004},9150,7020,{"$f":"AD22+AD22*Титул.лист!$A$1","v":7722},{"$f":"AE22+AE22*Титул.лист!$P$2","v":7722},7720,7517.25,{"$f":"AH22+AH22*Титул.лист!$A$1","v":8268.9750000000004},{"$f":"AI22+AI22*Титул.лист!$P$2","v":8268.9750000000004},8270,7736.625,{"$f":"AL22+AL22*Титул.лист!$A$1","v":8510.2875000000004},{"$f":"AM22+AM22*Титул.лист!$P$2","v":8510.2875000000004},8510,11008.2,{"$f":"AP22+AP22*Титул.лист!$A$1","v":12109.02},{"$f":"AQ22+AQ22*Титул.лист!$P$2","v":12109.02},12110,12130.2,{"$f":"AT22+AT22*Титул.лист!$A$1","v":13343.220000000001},{"$f":"AU22+AU22*Титул.лист!$P$2","v":13343.220000000001},13340,10212.6,{"$f":"AX22+AX22*Титул.лист!$A$1","v":11233.86},{"$f":"AY22+AY22*Титул.лист!$P$2","v":11233.86},11230,12232.2,{"$f":"BB22+BB22*Титул.лист!$A$1","v":13455.42},{"$f":"BC22+BC22*Титул.лист!$P$2","v":13455.42},13460,16108.2,{"$f":"BF22+BF22*Титул.лист!$A$1","v":17719.02},{"$f":"BG22+BG22*Титул.лист!$P$2","v":17719.02},17720]
[null,null,600,null,"1700-60с",5864.625,{"$f":"F23+F23*Титул.лист!$A$1","v":6451.0874999999996},{"$f":"G23+G23*Титул.лист!$P$2","v":6451.0874999999996},6450,6142.5,{"$f":"J23+J23*Титул.лист!$A$1","v":6756.75},{"$f":"K23+K23*Титул.лист!$P$2","v":6756.75},6760,7751.25,{"$f":"N23+N23*Титул.лист!$A$1","v":8526.375},{"$f":"O23+O23*Титул.лист!$P$2","v":8526.375},8530,8029.125,{"$f":"R23+R23*Титул.лист!$A$1","v":8832.0375000000004},{"$f":"S23+S23*Титул.лист!$P$2","v":8832.0375000000004},8830,9213.75,{"$f":"V23+V23*Титул.лист!$A$1","v":10135.125},{"$f":"W23+W23*Титул.лист!$P$2","v":10135.125},10140,9491.6250000000018,{"$f":"Z23+Z23*Титул.лист!$A$1","v":10440.787500000002},{"$f":"AA23+AA23*Титул.лист!$P$2","v":10440.787500000002},10440,7941.375,{"$f":"AD23+AD23*Титул.лист!$A$1","v":8735.5125000000007},{"$f":"AE23+AE23*Титул.лист!$P$2","v":8735.5125000000007},8740,8541,{"$f":"AH23+AH23*Титул.лист!$A$1","v":9395.1},{"$f":"AI23+AI23*Титул.лист!$P$2","v":9395.1},9400,8818.875,{"$f":"AL23+AL23*Титул.лист!$A$1","v":9700.7625000000007},{"$f":"AM23+AM23*Титул.лист!$P$2","v":9700.7625000000007},9700,12727.215,{"$f":"AP23+AP23*Титул.лист!$A$1","v":13999.9365},{"$f":"AQ23+AQ23*Титул.лист!$P$2","v":13999.9365},14000,14073.615000000002,{"$f":"AT23+AT23*Титул.лист!$A$1","v":15480.976500000002},{"$f":"AU23+AU23*Титул.лист!$P$2","v":15480.976500000002},15480,11772.495000000001,{"$f":"AX23+AX23*Титул.лист!$A$1","v":12949.744500000001},{"$f":"AY23+AY23*Титул.лист!$P$2","v":12949.744500000001},12950,14196.015000000001,{"$f":"BB23+BB23*Титул.лист!$A$1","v":15615.616500000002},{"$f":"BC23+BC23*Титул.лист!$P$2","v":15615.616500000002},15620,18847.215000000004,{"$f":"BF23+BF23*Титул.лист!$A$1","v":20731.936500000003},{"$f":"BG23+BG23*Титул.лист!$P$2","v":20731.936500000003},20730]
[null,null,400,"h 2340","1701-40с",5196.2625000000007,{"$f":"F24+F24*Титул.лист!$A$1","v":5715.888750000001},{"$f":"G24+G24*Титул.лист!$P$2","v":5715.888750000001},5720,5453.6625000000004,{"$f":"J24+J24*Титул.лист!$A$1","v":5999.0287500000004},{"$f":"K24+K24*Титул.лист!$P$2","v":5999.0287500000004},6000,6595.875,{"$f":"N24+N24*Титул.лист!$A$1","v":7255.4624999999996},{"$f":"O24+O24*Титул.лист!$P$2","v":7255.4624999999996},7260,6853.2749999999996,{"$f":"R24+R24*Титул.лист!$A$1","v":7538.6025},{"$f":"S24+S24*Титул.лист!$P$2","v":7538.6025},7540,7657.65,{"$f":"V24+V24*Титул.лист!$A$1","v":8423.4149999999991},{"$f":"W24+W24*Титул.лист!$P$2","v":8423.4149999999991},8420,7915.05,{"$f":"Z24+Z24*Титул.лист!$A$1","v":8706.5550000000003},{"$f":"AA24+AA24*Титул.лист!$P$2","v":8706.5550000000003},8710,6708.4875000000002,{"$f":"AD24+AD24*Титул.лист!$A$1","v":7379.3362500000003},{"$f":"AE24+AE24*Титул.лист!$P$2","v":7379.3362500000003},7380,7142.8499999999995,{"$f":"AH24+AH24*Титул.лист!$A$1","v":7857.1349999999993},{"$f":"AI24+AI24*Титул.лист!$P$2","v":7857.1349999999993},7860,7319.8125,{"$f":"AL24+AL24*Титул.лист!$A$1","v":8051.7937499999998},{"$f":"AM24+AM24*Титул.лист!$P$2","v":8051.7937499999998},8050,10211.8475,{"$f":"AP24+AP24*Титул.лист!$A$1","v":11233.03225},{"$f":"AQ24+AQ24*Титул.лист!$P$2","v":11233.03225},11230,11197.447499999998,{"$f":"AT24+AT24*Титул.лист!$A$1","v":12317.192249999998},{"$f":"AU24+AU24*Титул.лист!$P$2","v":12317.192249999998},12320,9512.9674999999988,{"$f":"AX24+AX24*Титул.лист!$A$1","v":10464.264249999998},{"$f":"AY24+AY24*Титул.лист!$P$2","v":10464.264249999998},10460,11287.047500000001,{"$f":"BB24+BB24*Титул.лист!$A$1","v":12415.752250000001},{"$f":"BC24+BC24*Титул.лист!$P$2","v":12415.752250000001},12420,13979.047500000001,{"$f":"BF24+BF24*Титул.лист!$A$1","v":15376.95225},{"$f":"BG24+BG24*Титул.лист!$P$2","v":15376.95225},15380]
[null,null,500,null,"1701-50с",5823.6750000000011,{"$f":"F25+F25*Титул.лист!$A$1","v":6406.0425000000014},{"$f":"G25+G25*Титул.лист!$P$2","v":6406.0425000000014},6410,6081.0749999999998,{"$f":"J25+J25*Титул.лист!$A$1","v":6689.1824999999999},{"$f":"K25+K25*Титул.лист!$P$2","v":6689.1824999999999},6690,7561.125,{"$f":"N25+N25*Титул.лист!$A$1","v":8317.2374999999993},{"$f":"O25+O25*Титул.лист!$P$2","v":8317.2374999999993},8320,7818.5249999999996,{"$f":"R25+R25*Титул.лист!$A$1","v":8600.3774999999987},{"$f":"S25+S25*Титул.лист!$P$2","v":8600.3774999999987},8600,8880.2999999999993,{"$f":"V25+V25*Титул.лист!$A$1","v":9768.33},{"$f":"W25+W25*Титул.лист!$P$2","v":9768.33},9770,9153.7875000000004,{"$f":"Z25+Z25*Титул.лист!$A$1","v":10069.16625},{"$f":"AA25+AA25*Титул.лист!$P$2","v":10069.16625},10070,7722,{"$f":"AD25+AD25*Титул.лист!$A$1","v":8494.2000000000007},{"$f":"AE25+AE25*Титул.лист!$P$2","v":8494.2000000000007},8490,8268.9750000000004,{"$f":"AH25+AH25*Титул.лист!$A$1","v":9095.8725000000013},{"$f":"AI25+AI25*Титул.лист!$P$2","v":9095.8725000000013},9100,8510.2874999999985,{"$f":"AL25+AL25*Титул.лист!$A$1","v":9361.316249999998},{"$f":"AM25+AM25*Титул.лист!$P$2","v":9361.316249999998},9360,12101.2,{"$f":"AP25+AP25*Титул.лист!$A$1","v":13311.320000000002},{"$f":"AQ25+AQ25*Титул.лист!$P$2","v":13311.320000000002},13310,13333.2,{"$f":"AT25+AT25*Титул.лист!$A$1","v":14666.52},{"$f":"AU25+AU25*Титул.лист!$P$2","v":14666.52},14670,11227.599999999999,{"$f":"AX25+AX25*Титул.лист!$A$1","v":12350.359999999999},{"$f":"AY25+AY25*Титул.лист!$P$2","v":12350.359999999999},12350,13445.2,{"$f":"BB25+BB25*Титул.лист!$A$1","v":14789.720000000001},{"$f":"BC25+BC25*Титул.лист!$P$2","v":14789.720000000001},14790,16810.2,{"$f":"BF25+BF25*Титул.лист!$A$1","v":18491.22},{"$f":"BG25+BG25*Титул.лист!$P$2","v":18491.22},18490]
[null,null,600,null,"1701-60с",6451.0874999999996,{"$f":"F26+F26*Титул.лист!$A$1","v":7096.19625},{"$f":"G26+G26*Титул.лист!$P$2","v":7096.19625},7100,6756.75,{"$f":"J26+J26*Титул.лист!$A$1","v":7432.4250000000002},{"$f":"K26+K26*Титул.лист!$P$2","v":7432.4250000000002},7430,8526.375,{"$f":"N26+N26*Титул.лист!$A$1","v":9379.0125000000007},{"$f":"O26+O26*Титул.лист!$P$2","v":9379.0125000000007},9380,8832.0375000000004,{"$f":"R26+R26*Титул.лист!$A$1","v":9715.2412500000009},{"$f":"S26+S26*Титул.лист!$P$2","v":9715.2412500000009},9720,10135.125,{"$f":"V26+V26*Титул.лист!$A$1","v":11148.637500000001},{"$f":"W26+W26*Титул.лист!$P$2","v":11148.637500000001},11150,10440.787500000002,{"$f":"Z26+Z26*Титул.лист!$A$1","v":11484.866250000003},{"$f":"AA26+AA26*Титул.лист!$P$2","v":11484.866250000003},11480,8735.5125000000007,{"$f":"AD26+AD26*Титул.лист!$A$1","v":9609.0637500000012},{"$f":"AE26+AE26*Титул.лист!$P$2","v":9609.0637500000012},9610,9395.1,{"$f":"AH26+AH26*Титул.лист!$A$1","v":10334.61},{"$f":"AI26+AI26*Титул.лист!$P$2","v":10334.61},10330,9700.7625000000007,{"$f":"AL26+AL26*Титул.лист!$A$1","v":10670.838750000001},{"$f":"AM26+AM26*Титул.лист!$P$2","v":10670.838750000001},10670,13990.5525,{"$f":"AP26+AP26*Титул.лист!$A$1","v":15389.607749999999},{"$f":"AQ26+AQ26*Титул.лист!$P$2","v":15389.607749999999},15390,15468.952499999999,{"$f":"AT26+AT26*Титул.лист!$A$1","v":17015.847750000001},{"$f":"AU26+AU26*Титул.лист!$P$2","v":17015.847750000001},17020,12942.2325,{"$f":"AX26+AX26*Титул.лист!$A$1","v":14236.455750000001},{"$f":"AY26+AY26*Титул.лист!$P$2","v":14236.455750000001},14240,15603.352500000001,{"$f":"BB26+BB26*Титул.лист!$A$1","v":17163.687750000001},{"$f":"BC26+BC26*Титул.лист!$P$2","v":17163.687750000001},17160,19641.352500000001,{"$f":"BF26+BF26*Титул.лист!$A$1","v":21605.48775},{"$f":"BG26+BG26*Титул.лист!$P$2","v":21605.48775},21610]
["Шкафы навесные Н=1200"]
[null,"Полупенал 2дв",300,"h 1200","1605-30",1140,{"$f":"F28+F28*Титул.лист!$A$1","v":1254},{"$f":"G28+G28*Титул.лист!$P$2","v":1254},1250,1230,{"$f":"J28+J28*Титул.лист!$A$1","v":1353},{"$f":"K28+K28*Титул.лист!$P$2","v":1353},1350,1530,{"$f":"N28+N28*Титул.лист!$A$1","v":1683},{"$f":"O28+O28*Титул.лист!$P$2","v":1683},1680,1620,{"$f":"R28+R28*Титул.лист!$A$1","v":1782},{"$f":"S28+S28*Титул.лист!$P$2","v":1782},1780,1830,{"$f":"V28+V28*Титул.лист!$A$1","v":2013},{"$f":"W28+W28*Титул.лист!$P$2","v":2013},2010,1910,{"$f":"Z28+Z28*Титул.лист!$A$1","v":2101},{"$f":"AA28+AA28*Титул.лист!$P$2","v":2101},2100,1550,{"$f":"AD28+AD28*Титул.лист!$A$1","v":1705},{"$f":"AE28+AE28*Титул.лист!$P$2","v":1705},1710,1670,{"$f":"AH28+AH28*Титул.лист!$A$1","v":1837},{"$f":"AI28+AI28*Титул.лист!$P$2","v":1837},1840,1720,{"$f":"AL28+AL28*Титул.лист!$A$1","v":1892},{"$f":"AM28+AM28*Титул.лист!$P$2","v":1892},1890,2957.6,{"$f":"AP28+AP28*Титул.лист!$A$1","v":3253.3599999999997},{"$f":"AQ28+AQ28*Титул.лист!$P$2","v":3253.3599999999997},3250,3353.6,{"$f":"AT28+AT28*Титул.лист!$A$1","v":3688.96},{"$f":"AU28+AU28*Титул.лист!$P$2","v":3688.96},3690,2676.8,{"$f":"AX28+AX28*Титул.лист!$A$1","v":2944.48},{"$f":"AY28+AY28*Титул.лист!$P$2","v":2944.48},2940,3389.6,{"$f":"BB28+BB28*Титул.лист!$A$1","v":3728.56},{"$f":"BC28+BC28*Титул.лист!$P$2","v":3728.56},3730,4757.6000000000004,{"$f":"BF28+BF28*Титул.лист!$A$1","v":5233.3600000000006},{"$f":"BG28+BG28*Титул.лист!$P$2","v":5233.3600000000006},5230]
[null,null,350,null,"1605-35",1240,{"$f":"F29+F29*Титул.лист!$A$1","v":1364},{"$f":"G29+G29*Титул.лист!$P$2","v":1364},1360,1330,{"$f":"J29+J29*Титул.лист!$A$1","v":1463},{"$f":"K29+K29*Титул.лист!$P$2","v":1463},1460,1680,{"$f":"N29+N29*Титул.лист!$A$1","v":1848},{"$f":"O29+O29*Титул.лист!$P$2","v":1848},1850,1770,{"$f":"R29+R29*Титул.лист!$A$1","v":1947},{"$f":"S29+S29*Титул.лист!$P$2","v":1947},1950,2020,{"$f":"V29+V29*Титул.лист!$A$1","v":2222},{"$f":"W29+W29*Титул.лист!$P$2","v":2222},2220,2110,{"$f":"Z29+Z29*Титул.лист!$A$1","v":2321},{"$f":"AA29+AA29*Титул.лист!$P$2","v":2321},2320,1720,{"$f":"AD29+AD29*Титул.лист!$A$1","v":1892},{"$f":"AE29+AE29*Титул.лист!$P$2","v":1892},1890,1860,{"$f":"AH29+AH29*Титул.лист!$A$1","v":2046},{"$f":"AI29+AI29*Титул.лист!$P$2","v":2046},2050,1920,{"$f":"AL29+AL29*Титул.лист!$A$1","v":2112},{"$f":"AM29+AM29*Титул.лист!$P$2","v":2112},2110,3362.2,{"$f":"AP29+AP29*Титул.лист!$A$1","v":3698.42},{"$f":"AQ29+AQ29*Титул.лист!$P$2","v":3698.42},3700,3824.2,{"$f":"AT29+AT29*Титул.лист!$A$1","v":4206.62},{"$f":"AU29+AU29*Титул.лист!$P$2","v":4206.62},4210,3034.6,{"$f":"AX29+AX29*Титул.лист!$A$1","v":3338.06},{"$f":"AY29+AY29*Титул.лист!$P$2","v":3338.06},3340,3866.2,{"$f":"BB29+BB29*Титул.лист!$A$1","v":4252.82},{"$f":"BC29+BC29*Титул.лист!$P$2","v":4252.82},4250,5462.2,{"$f":"BF29+BF29*Титул.лист!$A$1","v":6008.42},{"$f":"BG29+BG29*Титул.лист!$P$2","v":6008.42},6010]
[null,null,400,null,"1605-40",1330,{"$f":"F30+F30*Титул.лист!$A$1","v":1463},{"$f":"G30+G30*Титул.лист!$P$2","v":1463},1460,1430.0000000000002,{"$f":"J30+J30*Титул.лист!$A$1","v":1573.0000000000002},{"$f":"K30+K30*Титул.лист!$P$2","v":1573.0000000000002},1570,1830,{"$f":"N30+N30*Титул.лист!$A$1","v":2013},{"$f":"O30+O30*Титул.лист!$P$2","v":2013},2010,1920,{"$f":"R30+R30*Титул.лист!$A$1","v":2112},{"$f":"S30+S30*Титул.лист!$P$2","v":2112},2110,2210,{"$f":"V30+V30*Титул.лист!$A$1","v":2431},{"$f":"W30+W30*Титул.лист!$P$2","v":2431},2430,2310,{"$f":"Z30+Z30*Титул.лист!$A$1","v":2541},{"$f":"AA30+AA30*Титул.лист!$P$2","v":2541},2540,1870.0000000000002,{"$f":"AD30+AD30*Титул.лист!$A$1","v":2057.0000000000005},{"$f":"AE30+AE30*Титул.лист!$P$2","v":2057.0000000000005},2060,2030,{"$f":"AH30+AH30*Титул.лист!$A$1","v":2233},{"$f":"AI30+AI30*Титул.лист!$P$2","v":2233},2230,2100,{"$f":"AL30+AL30*Титул.лист!$A$1","v":2310},{"$f":"AM30+AM30*Титул.лист!$P$2","v":2310},2310,3746.8,{"$f":"AP30+AP30*Титул.лист!$A$1","v":4121.4800000000005},{"$f":"AQ30+AQ30*Титул.лист!$P$2","v":4121.4800000000005},4120,4274.8,{"$f":"AT30+AT30*Титул.лист!$A$1","v":4702.2800000000007},{"$f":"AU30+AU30*Титул.лист!$P$2","v":4702.2800000000007},4700,3372.4,{"$f":"AX30+AX30*Титул.лист!$A$1","v":3709.6400000000003},{"$f":"AY30+AY30*Титул.лист!$P$2","v":3709.6400000000003},3710,4322.8,{"$f":"BB30+BB30*Титул.лист!$A$1","v":4755.08},{"$f":"BC30+BC30*Титул.лист!$P$2","v":4755.08},4760,6146.8,{"$f":"BF30+BF30*Титул.лист!$A$1","v":6761.4800000000005},{"$f":"BG30+BG30*Титул.лист!$P$2","v":6761.4800000000005},6760]
[null,null,450,null,"1605-45",1420,{"$f":"F31+F31*Титул.лист!$A$1","v":1562},{"$f":"G31+G31*Титул.лист!$P$2","v":1562},1560,1520,{"$f":"J31+J31*Титул.лист!$A$1","v":1672},{"$f":"K31+K31*Титул.лист!$P$2","v":1672},1670,1980.0000000000002,{"$f":"N31+N31*Титул.лист!$A$1","v":2178.0000000000005},{"$f":"O31+O31*Титул.лист!$P$2","v":2178.0000000000005},2180,2080,{"$f":"R31+R31*Титул.лист!$A$1","v":2288},{"$f":"S31+S31*Титул.лист!$P$2","v":2288},2290,2420,{"$f":"V31+V31*Титул.лист!$A$1","v":2662},{"$f":"W31+W31*Титул.лист!$P$2","v":2662},2660,2520,{"$f":"Z31+Z31*Титул.лист!$A$1","v":2772},{"$f":"AA31+AA31*Титул.лист!$P$2","v":2772},2770,2050,{"$f":"AD31+AD31*Титул.лист!$A$1","v":2255},{"$f":"AE31+AE31*Титул.лист!$P$2","v":2255},2260,2220,{"$f":"AH31+AH31*Титул.лист!$A$1","v":2442},{"$f":"AI31+AI31*Титул.лист!$P$2","v":2442},2440,2300,{"$f":"AL31+AL31*Титул.лист!$A$1","v":2530},{"$f":"AM31+AM31*Титул.лист!$P$2","v":2530},2530,4161.3999999999996,{"$f":"AP31+AP31*Титул.лист!$A$1","v":4577.54},{"$f":"AQ31+AQ31*Титул.лист!$P$2","v":4577.54},4580,4755.3999999999996,{"$f":"AT31+AT31*Титул.лист!$A$1","v":5230.9399999999996},{"$f":"AU31+AU31*Титул.лист!$P$2","v":5230.9399999999996},5230,3740.2,{"$f":"AX31+AX31*Титул.лист!$A$1","v":4114.2199999999993},{"$f":"AY31+AY31*Титул.лист!$P$2","v":4114.2199999999993},4110,4809.3999999999996,{"$f":"BB31+BB31*Титул.лист!$A$1","v":5290.3399999999992},{"$f":"BC31+BC31*Титул.лист!$P$2","v":5290.3399999999992},5290,6861.4,{"$f":"BF31+BF31*Титул.лист!$A$1","v":7547.54},{"$f":"BG31+BG31*Титул.лист!$P$2","v":7547.54},7550]
[null,null,500,null,"1605-50",1510,{"$f":"F32+F32*Титул.лист!$A$1","v":1661},{"$f":"G32+G32*Титул.лист!$P$2","v":1661},1660,1610,{"$f":"J32+J32*Титул.лист!$A$1","v":1771},{"$f":"K32+K32*Титул.лист!$P$2","v":1771},1770,2140,{"$f":"N32+N32*Титул.лист!$A$1","v":2354},{"$f":"O32+O32*Титул.лист!$P$2","v":2354},2350,2240,{"$f":"R32+R32*Титул.лист!$A$1","v":2464},{"$f":"S32+S32*Титул.лист!$P$2","v":2464},2460,2630,{"$f":"V32+V32*Титул.лист!$A$1","v":2893},{"$f":"W32+W32*Титул.лист!$P$2","v":2893},2890,2730,{"$f":"Z32+Z32*Титул.лист!$A$1","v":3003},{"$f":"AA32+AA32*Титул.лист!$P$2","v":3003},3000,2180,{"$f":"AD32+AD32*Титул.лист!$A$1","v":2398},{"$f":"AE32+AE32*Титул.лист!$P$2","v":2398},2400,2390,{"$f":"AH32+AH32*Титул.лист!$A$1","v":2629},{"$f":"AI32+AI32*Титул.лист!$P$2","v":2629},2630,2470,{"$f":"AL32+AL32*Титул.лист!$A$1","v":2717},{"$f":"AM32+AM32*Титул.лист!$P$2","v":2717},2720,4526,{"$f":"AP32+AP32*Титул.лист!$A$1","v":4978.6000000000004},{"$f":"AQ32+AQ32*Титул.лист!$P$2","v":4978.6000000000004},4980,5186,{"$f":"AT32+AT32*Титул.лист!$A$1","v":5704.6},{"$f":"AU32+AU32*Титул.лист!$P$2","v":5704.6},5700,4058,{"$f":"AX32+AX32*Титул.лист!$A$1","v":4463.8},{"$f":"AY32+AY32*Титул.лист!$P$2","v":4463.8},4460,5246,{"$f":"BB32+BB32*Титул.лист!$A$1","v":5770.6},{"$f":"BC32+BC32*Титул.лист!$P$2","v":5770.6},5770,7526,{"$f":"BF32+BF32*Титул.лист!$A$1","v":8278.6},{"$f":"BG32+BG32*Титул.лист!$P$2","v":8278.6},8280]
[null,null,600,null,"1605-60",1750,{"$f":"F33+F33*Титул.лист!$A$1","v":1925},{"$f":"G33+G33*Титул.лист!$P$2","v":1925},1930,1900,{"$f":"J33+J33*Титул.лист!$A$1","v":2090},{"$f":"K33+K33*Титул.лист!$P$2","v":2090},2090,2390,{"$f":"N33+N33*Титул.лист!$A$1","v":2629},{"$f":"O33+O33*Титул.лист!$P$2","v":2629},2630,2450,{"$f":"R33+R33*Титул.лист!$A$1","v":2695},{"$f":"S33+S33*Титул.лист!$P$2","v":2695},2700,2750,{"$f":"V33+V33*Титул.лист!$A$1","v":3025},{"$f":"W33+W33*Титул.лист!$P$2","v":3025},3030,2900,{"$f":"Z33+Z33*Титул.лист!$A$1","v":3190},{"$f":"AA33+AA33*Титул.лист!$P$2","v":3190},3190,2400,{"$f":"AD33+AD33*Титул.лист!$A$1","v":2640},{"$f":"AE33+AE33*Титул.лист!$P$2","v":2640},2640,2600,{"$f":"AH33+AH33*Титул.лист!$A$1","v":2860},{"$f":"AI33+AI33*Титул.лист!$P$2","v":2860},2860,2800,{"$f":"AL33+AL33*Титул.лист!$A$1","v":3080},{"$f":"AM33+AM33*Титул.лист!$P$2","v":3080},3080,5215.2,{"$f":"AP33+AP33*Титул.лист!$A$1","v":5736.7199999999993},{"$f":"AQ33+AQ33*Титул.лист!$P$2","v":5736.7199999999993},5740,6007.2,{"$f":"AT33+AT33*Титул.лист!$A$1","v":6607.92},{"$f":"AU33+AU33*Титул.лист!$P$2","v":6607.92},6610,4653.6000000000004,{"$f":"AX33+AX33*Титул.лист!$A$1","v":5118.96},{"$f":"AY33+AY33*Титул.лист!$P$2","v":5118.96},5120,6079.2,{"$f":"BB33+BB33*Титул.лист!$A$1","v":6687.12},{"$f":"BC33+BC33*Титул.лист!$P$2","v":6687.12},6690,8815.2000000000007,{"$f":"BF33+BF33*Титул.лист!$A$1","v":9696.7200000000012},{"$f":"BG33+BG33*Титул.лист!$P$2","v":9696.7200000000012},9700]
[null,"Полупенал 2дв",300,"h 1320 ","1606-30",1220,{"$f":"F34+F34*Титул.лист!$A$1","v":1342},{"$f":"G34+G34*Титул.лист!$P$2","v":1342},1340,1310,{"$f":"J34+J34*Титул.лист!$A$1","v":1441},{"$f":"K34+K34*Титул.лист!$P$2","v":1441},1440,1640,{"$f":"N34+N34*Титул.лист!$A$1","v":1804},{"$f":"O34+O34*Титул.лист!$P$2","v":1804},1800,1730,{"$f":"R34+R34*Титул.лист!$A$1","v":1903},{"$f":"S34+S34*Титул.лист!$P$2","v":1903},1900,1960,{"$f":"V34+V34*Титул.лист!$A$1","v":2156},{"$f":"W34+W34*Титул.лист!$P$2","v":2156},2160,2050,{"$f":"Z34+Z34*Титул.лист!$A$1","v":2255},{"$f":"AA34+AA34*Титул.лист!$P$2","v":2255},2260,1670,{"$f":"AD34+AD34*Титул.лист!$A$1","v":1837},{"$f":"AE34+AE34*Титул.лист!$P$2","v":1837},1840,1800,{"$f":"AH34+AH34*Титул.лист!$A$1","v":1980},{"$f":"AI34+AI34*Титул.лист!$P$2","v":1980},1980,1860,{"$f":"AL34+AL34*Титул.лист!$A$1","v":2046},{"$f":"AM34+AM34*Титул.лист!$P$2","v":2046},2050,3218.36,{"$f":"AP34+AP34*Титул.лист!$A$1","v":3540.1959999999999},{"$f":"AQ34+AQ34*Титул.лист!$P$2","v":3540.1959999999999},3540,3653.96,{"$f":"AT34+AT34*Титул.лист!$A$1","v":4019.3560000000002},{"$f":"AU34+AU34*Титул.лист!$P$2","v":4019.3560000000002},4020,2909.48,{"$f":"AX34+AX34*Титул.лист!$A$1","v":3200.4279999999999},{"$f":"AY34+AY34*Титул.лист!$P$2","v":3200.4279999999999},3200,3693.5600000000004,{"$f":"BB34+BB34*Титул.лист!$A$1","v":4062.9160000000006},{"$f":"BC34+BC34*Титул.лист!$P$2","v":4062.9160000000006},4060,5198.3600000000006,{"$f":"BF34+BF34*Титул.лист!$A$1","v":5718.1960000000008},{"$f":"BG34+BG34*Титул.лист!$P$2","v":5718.1960000000008},5720]
[null,null,350,null,"1606-35",1320,{"$f":"F35+F35*Титул.лист!$A$1","v":1452},{"$f":"G35+G35*Титул.лист!$P$2","v":1452},1450,1410,{"$f":"J35+J35*Титул.лист!$A$1","v":1551},{"$f":"K35+K35*Титул.лист!$P$2","v":1551},1550,1800,{"$f":"N35+N35*Титул.лист!$A$1","v":1980},{"$f":"O35+O35*Титул.лист!$P$2","v":1980},1980,1890,{"$f":"R35+R35*Титул.лист!$A$1","v":2079},{"$f":"S35+S35*Титул.лист!$P$2","v":2079},2080,2180,{"$f":"V35+V35*Титул.лист!$A$1","v":2398},{"$f":"W35+W35*Титул.лист!$P$2","v":2398},2400,2270,{"$f":"Z35+Z35*Титул.лист!$A$1","v":2497},{"$f":"AA35+AA35*Титул.лист!$P$2","v":2497},2500,1840,{"$f":"AD35+AD35*Титул.лист!$A$1","v":2024},{"$f":"AE35+AE35*Титул.лист!$P$2","v":2024},2020,1990,{"$f":"AH35+AH35*Титул.лист!$A$1","v":2189},{"$f":"AI35+AI35*Титул.лист!$P$2","v":2189},2190,2060,{"$f":"AL35+AL35*Титул.лист!$A$1","v":2266},{"$f":"AM35+AM35*Титул.лист!$P$2","v":2266},2270,3646.42,{"$f":"AP35+AP35*Титул.лист!$A$1","v":4011.0619999999999},{"$f":"AQ35+AQ35*Титул.лист!$P$2","v":4011.0619999999999},4010,4154.62,{"$f":"AT35+AT35*Титул.лист!$A$1","v":4570.0820000000003},{"$f":"AU35+AU35*Титул.лист!$P$2","v":4570.0820000000003},4570,3286.0600000000004,{"$f":"AX35+AX35*Титул.лист!$A$1","v":3614.6660000000006},{"$f":"AY35+AY35*Титул.лист!$P$2","v":3614.6660000000006},3610,4200.82,{"$f":"BB35+BB35*Титул.лист!$A$1","v":4620.902},{"$f":"BC35+BC35*Титул.лист!$P$2","v":4620.902},4620,5956.42,{"$f":"BF35+BF35*Титул.лист!$A$1","v":6552.0619999999999},{"$f":"BG35+BG35*Титул.лист!$P$2","v":6552.0619999999999},6550]
[null,null,400,null,"1606-40",1410,{"$f":"F36+F36*Титул.лист!$A$1","v":1551},{"$f":"G36+G36*Титул.лист!$P$2","v":1551},1550,1520,{"$f":"J36+J36*Титул.лист!$A$1","v":1672},{"$f":"K36+K36*Титул.лист!$P$2","v":1672},1670,1970,{"$f":"N36+N36*Титул.лист!$A$1","v":2167},{"$f":"O36+O36*Титул.лист!$P$2","v":2167},2170,2080,{"$f":"R36+R36*Титул.лист!$A$1","v":2288},{"$f":"S36+S36*Титул.лист!$P$2","v":2288},2290,2400,{"$f":"V36+V36*Титул.лист!$A$1","v":2640},{"$f":"W36+W36*Титул.лист!$P$2","v":2640},2640,2510,{"$f":"Z36+Z36*Титул.лист!$A$1","v":2761},{"$f":"AA36+AA36*Титул.лист!$P$2","v":2761},2760,2010,{"$f":"AD36+AD36*Титул.лист!$A$1","v":2211},{"$f":"AE36+AE36*Титул.лист!$P$2","v":2211},2210,2190,{"$f":"AH36+AH36*Титул.лист!$A$1","v":2409},{"$f":"AI36+AI36*Титул.лист!$P$2","v":2409},2410,2270,{"$f":"AL36+AL36*Титул.лист!$A$1","v":2497},{"$f":"AM36+AM36*Титул.лист!$P$2","v":2497},2500,4074.48,{"$f":"AP36+AP36*Титул.лист!$A$1","v":4481.9279999999999},{"$f":"AQ36+AQ36*Титул.лист!$P$2","v":4481.9279999999999},4480,4655.2800000000007,{"$f":"AT36+AT36*Титул.лист!$A$1","v":5120.8080000000009},{"$f":"AU36+AU36*Титул.лист!$P$2","v":5120.8080000000009},5120,3662.6400000000003,{"$f":"AX36+AX36*Титул.лист!$A$1","v":4028.9040000000005},{"$f":"AY36+AY36*Титул.лист!$P$2","v":4028.9040000000005},4030,4708.08,{"$f":"BB36+BB36*Титул.лист!$A$1","v":5178.8879999999999},{"$f":"BC36+BC36*Титул.лист!$P$2","v":5178.8879999999999},5180,6714.4800000000005,{"$f":"BF36+BF36*Титул.лист!$A$1","v":7385.9280000000008},{"$f":"BG36+BG36*Титул.лист!$P$2","v":7385.9280000000008},7390]
[null,null,450,null,"1606-45",1500,{"$f":"F37+F37*Титул.лист!$A$1","v":1650},{"$f":"G37+G37*Титул.лист!$P$2","v":1650},1650,1590,{"$f":"J37+J37*Титул.лист!$A$1","v":1749},{"$f":"K37+K37*Титул.лист!$P$2","v":1749},1750,2120,{"$f":"N37+N37*Титул.лист!$A$1","v":2332},{"$f":"O37+O37*Титул.лист!$P$2","v":2332},2330,2220,{"$f":"R37+R37*Титул.лист!$A$1","v":2442},{"$f":"S37+S37*Титул.лист!$P$2","v":2442},2440,2610,{"$f":"V37+V37*Титул.лист!$A$1","v":2871},{"$f":"W37+W37*Титул.лист!$P$2","v":2871},2870,2710,{"$f":"Z37+Z37*Титул.лист!$A$1","v":2981},{"$f":"AA37+AA37*Титул.лист!$P$2","v":2981},2980,2170,{"$f":"AD37+AD37*Титул.лист!$A$1","v":2387},{"$f":"AE37+AE37*Титул.лист!$P$2","v":2387},2390,2360,{"$f":"AH37+AH37*Титул.лист!$A$1","v":2596},{"$f":"AI37+AI37*Титул.лист!$P$2","v":2596},2600,2450,{"$f":"AL37+AL37*Титул.лист!$A$1","v":2695},{"$f":"AM37+AM37*Титул.лист!$P$2","v":2695},2700,4492.54,{"$f":"AP37+AP37*Титул.лист!$A$1","v":4941.7939999999999},{"$f":"AQ37+AQ37*Титул.лист!$P$2","v":4941.7939999999999},4940,5145.9400000000005,{"$f":"AT37+AT37*Титул.лист!$A$1","v":5660.5340000000006},{"$f":"AU37+AU37*Титул.лист!$P$2","v":5660.5340000000006},5660,4029.2200000000003,{"$f":"AX37+AX37*Титул.лист!$A$1","v":4432.1419999999998},{"$f":"AY37+AY37*Титул.лист!$P$2","v":4432.1419999999998},4430,5205.34,{"$f":"BB37+BB37*Титул.лист!$A$1","v":5725.8739999999998},{"$f":"BC37+BC37*Титул.лист!$P$2","v":5725.8739999999998},5730,7462.54,{"$f":"BF37+BF37*Титул.лист!$A$1","v":8208.7939999999999},{"$f":"BG37+BG37*Титул.лист!$P$2","v":8208.7939999999999},8210]
[null,null,500,null,"1606-50",1580,{"$f":"F38+F38*Титул.лист!$A$1","v":1738},{"$f":"G38+G38*Титул.лист!$P$2","v":1738},1740,1690,{"$f":"J38+J38*Титул.лист!$A$1","v":1859},{"$f":"K38+K38*Титул.лист!$P$2","v":1859},1860,2280,{"$f":"N38+N38*Титул.лист!$A$1","v":2508},{"$f":"O38+O38*Титул.лист!$P$2","v":2508},2510,2390,{"$f":"R38+R38*Титул.лист!$A$1","v":2629},{"$f":"S38+S38*Титул.лист!$P$2","v":2629},2630,2800,{"$f":"V38+V38*Титул.лист!$A$1","v":3080},{"$f":"W38+W38*Титул.лист!$P$2","v":3080},3080,2915.0000000000005,{"$f":"Z38+Z38*Титул.лист!$A$1","v":3206.5000000000005},{"$f":"AA38+AA38*Титул.лист!$P$2","v":3206.5000000000005},3210,2330,{"$f":"AD38+AD38*Титул.лист!$A$1","v":2563},{"$f":"AE38+AE38*Титул.лист!$P$2","v":2563},2560,2550,{"$f":"AH38+AH38*Титул.лист!$A$1","v":2805},{"$f":"AI38+AI38*Титул.лист!$P$2","v":2805},2810,2650,{"$f":"AL38+AL38*Титул.лист!$A$1","v":2915},{"$f":"AM38+AM38*Титул.лист!$P$2","v":2915},2920,4910.6000000000004,{"$f":"AP38+AP38*Титул.лист!$A$1","v":5401.6600000000008},{"$f":"AQ38+AQ38*Титул.лист!$P$2","v":5401.6600000000008},5400,5636.6,{"$f":"AT38+AT38*Титул.лист!$A$1","v":6200.26},{"$f":"AU38+AU38*Титул.лист!$P$2","v":6200.26},6200,4395.8,{"$f":"AX38+AX38*Титул.лист!$A$1","v":4835.38},{"$f":"AY38+AY38*Титул.лист!$P$2","v":4835.38},4840,5702.6,{"$f":"BB38+BB38*Титул.лист!$A$1","v":6272.8600000000006},{"$f":"BC38+BC38*Титул.лист!$P$2","v":6272.8600000000006},6270,8210.6,{"$f":"BF38+BF38*Титул.лист!$A$1","v":9031.66},{"$f":"BG38+BG38*Титул.лист!$P$2","v":9031.66},9030]
[null,"Полупенал 2д (1д стекло)",300,"h 1200","1605-30гс",1368,{"$f":"F39+F39*Титул.лист!$A$1","v":1504.8},{"$f":"G39+G39*Титул.лист!$P$2","v":1504.8},1500,1476,{"$f":"J39+J39*Титул.лист!$A$1","v":1623.6},{"$f":"K39+K39*Титул.лист!$P$2","v":1623.6},1620,1836,{"$f":"N39+N39*Титул.лист!$A$1","v":2019.6},{"$f":"O39+O39*Титул.лист!$P$2","v":2019.6},2020,1944,{"$f":"R39+R39*Титул.лист!$A$1","v":2138.4},{"$f":"S39+S39*Титул.лист!$P$2","v":2138.4},2140,2196,{"$f":"V39+V39*Титул.лист!$A$1","v":2415.6},{"$f":"W39+W39*Титул.лист!$P$2","v":2415.6},2420,2292,{"$f":"Z39+Z39*Титул.лист!$A$1","v":2521.1999999999998},{"$f":"AA39+AA39*Титул.лист!$P$2","v":2521.1999999999998},2520,1860,{"$f":"AD39+AD39*Титул.лист!$A$1","v":2046},{"$f":"AE39+AE39*Титул.лист!$P$2","v":2046},2050,2004,{"$f":"AH39+AH39*Титул.лист!$A$1","v":2204.4},{"$f":"AI39+AI39*Титул.лист!$P$2","v":2204.4},2200,2064,{"$f":"AL39+AL39*Титул.лист!$A$1","v":2270.4},{"$f":"AM39+AM39*Титул.лист!$P$2","v":2270.4},2270,3267.6,{"$f":"AP39+AP39*Титул.лист!$A$1","v":3594.3599999999997},{"$f":"AQ39+AQ39*Титул.лист!$P$2","v":3594.3599999999997},3590,3663.6,{"$f":"AT39+AT39*Титул.лист!$A$1","v":4029.96},{"$f":"AU39+AU39*Титул.лист!$P$2","v":4029.96},4030,2986.8,{"$f":"AX39+AX39*Титул.лист!$A$1","v":3285.48},{"$f":"AY39+AY39*Титул.лист!$P$2","v":3285.48},3290,3699.6,{"$f":"BB39+BB39*Титул.лист!$A$1","v":4069.56},{"$f":"BC39+BC39*Титул.лист!$P$2","v":4069.56},4070,5067.6000000000004,{"$f":"BF39+BF39*Титул.лист!$A$1","v":5574.3600000000006},{"$f":"BG39+BG39*Титул.лист!$P$2","v":5574.3600000000006},5570]
[null,null,350,null,"1605-35гс",1488,{"$f":"F40+F40*Титул.лист!$A$1","v":1636.8},{"$f":"G40+G40*Титул.лист!$P$2","v":1636.8},1640,1596,{"$f":"J40+J40*Титул.лист!$A$1","v":1755.6},{"$f":"K40+K40*Титул.лист!$P$2","v":1755.6},1760,2016,{"$f":"N40+N40*Титул.лист!$A$1","v":2217.6},{"$f":"O40+O40*Титул.лист!$P$2","v":2217.6},2220,2124,{"$f":"R40+R40*Титул.лист!$A$1","v":2336.4},{"$f":"S40+S40*Титул.лист!$P$2","v":2336.4},2340,2424,{"$f":"V40+V40*Титул.лист!$A$1","v":2666.4},{"$f":"W40+W40*Титул.лист!$P$2","v":2666.4},2670,2532,{"$f":"Z40+Z40*Титул.лист!$A$1","v":2785.2},{"$f":"AA40+AA40*Титул.лист!$P$2","v":2785.2},2790,2064,{"$f":"AD40+AD40*Титул.лист!$A$1","v":2270.4},{"$f":"AE40+AE40*Титул.лист!$P$2","v":2270.4},2270,2232,{"$f":"AH40+AH40*Титул.лист!$A$1","v":2455.1999999999998},{"$f":"AI40+AI40*Титул.лист!$P$2","v":2455.1999999999998},2460,2304,{"$f":"AL40+AL40*Титул.лист!$A$1","v":2534.4},{"$f":"AM40+AM40*Титул.лист!$P$2","v":2534.4},2530,3706.2,{"$f":"AP40+AP40*Титул.лист!$A$1","v":4076.8199999999997},{"$f":"AQ40+AQ40*Титул.лист!$P$2","v":4076.8199999999997},4080,4168.2,{"$f":"AT40+AT40*Титул.лист!$A$1","v":4585.0199999999995},{"$f":"AU40+AU40*Титул.лист!$P$2","v":4585.0199999999995},4590,3378.6,{"$f":"AX40+AX40*Титул.лист!$A$1","v":3716.46},{"$f":"AY40+AY40*Титул.лист!$P$2","v":3716.46},3720,4210.2,{"$f":"BB40+BB40*Титул.лист!$A$1","v":4631.2199999999993},{"$f":"BC40+BC40*Титул.лист!$P$2","v":4631.2199999999993},4630,5806.2,{"$f":"BF40+BF40*Титул.лист!$A$1","v":6386.82},{"$f":"BG40+BG40*Титул.лист!$P$2","v":6386.82},6390]
[null,null,400,null,"1605-40гс",1596,{"$f":"F41+F41*Титул.лист!$A$1","v":1755.6},{"$f":"G41+G41*Титул.лист!$P$2","v":1755.6},1760,1716.0000000000002,{"$f":"J41+J41*Титул.лист!$A$1","v":1887.6000000000004},{"$f":"K41+K41*Титул.лист!$P$2","v":1887.6000000000004},1890,2196,{"$f":"N41+N41*Титул.лист!$A$1","v":2415.6},{"$f":"O41+O41*Титул.лист!$P$2","v":2415.6},2420,2304,{"$f":"R41+R41*Титул.лист!$A$1","v":2534.4},{"$f":"S41+S41*Титул.лист!$P$2","v":2534.4},2530,2652,{"$f":"V41+V41*Титул.лист!$A$1","v":2917.2},{"$f":"W41+W41*Титул.лист!$P$2","v":2917.2},2920,2772,{"$f":"Z41+Z41*Титул.лист!$A$1","v":3049.2},{"$f":"AA41+AA41*Титул.лист!$P$2","v":3049.2},3050,2244.0000000000005,{"$f":"AD41+AD41*Титул.лист!$A$1","v":2468.4000000000005},{"$f":"AE41+AE41*Титул.лист!$P$2","v":2468.4000000000005},2470,2436,{"$f":"AH41+AH41*Титул.лист!$A$1","v":2679.6},{"$f":"AI41+AI41*Титул.лист!$P$2","v":2679.6},2680,2520,{"$f":"AL41+AL41*Титул.лист!$A$1","v":2772},{"$f":"AM41+AM41*Титул.лист!$P$2","v":2772},2770,4120.8,{"$f":"AP41+AP41*Титул.лист!$A$1","v":4532.88},{"$f":"AQ41+AQ41*Титул.лист!$P$2","v":4532.88},4530,4648.8,{"$f":"AT41+AT41*Титул.лист!$A$1","v":5113.68},{"$f":"AU41+AU41*Титул.лист!$P$2","v":5113.68},5110,3746.4000000000005,{"$f":"AX41+AX41*Титул.лист!$A$1","v":4121.0400000000009},{"$f":"AY41+AY41*Титул.лист!$P$2","v":4121.0400000000009},4120,4696.8,{"$f":"BB41+BB41*Титул.лист!$A$1","v":5166.4800000000005},{"$f":"BC41+BC41*Титул.лист!$P$2","v":5166.4800000000005},5170,6520.8000000000011,{"$f":"BF41+BF41*Титул.лист!$A$1","v":7172.880000000001},{"$f":"BG41+BG41*Титул.лист!$P$2","v":7172.880000000001},7170]
[null,null,450,null,"1605-45гс",1704,{"$f":"F42+F42*Титул.лист!$A$1","v":1874.4},{"$f":"G42+G42*Титул.лист!$P$2","v":1874.4},1870,1824,{"$f":"J42+J42*Титул.лист!$A$1","v":2006.4},{"$f":"K42+K42*Титул.лист!$P$2","v":2006.4},2010,2376.0000000000005,{"$f":"N42+N42*Титул.лист!$A$1","v":2613.6000000000004},{"$f":"O42+O42*Титул.лист!$P$2","v":2613.6000000000004},2610,2496,{"$f":"R42+R42*Титул.лист!$A$1","v":2745.6},{"$f":"S42+S42*Титул.лист!$P$2","v":2745.6},2750,2904,{"$f":"V42+V42*Титул.лист!$A$1","v":3194.4},{"$f":"W42+W42*Титул.лист!$P$2","v":3194.4},3190,3024,{"$f":"Z42+Z42*Титул.лист!$A$1","v":3326.4},{"$f":"AA42+AA42*Титул.лист!$P$2","v":3326.4},3330,2460,{"$f":"AD42+AD42*Титул.лист!$A$1","v":2706},{"$f":"AE42+AE42*Титул.лист!$P$2","v":2706},2710,2664,{"$f":"AH42+AH42*Титул.лист!$A$1","v":2930.4},{"$f":"AI42+AI42*Титул.лист!$P$2","v":2930.4},2930,2760,{"$f":"AL42+AL42*Титул.лист!$A$1","v":3036},{"$f":"AM42+AM42*Титул.лист!$P$2","v":3036},3040,4571.3999999999996,{"$f":"AP42+AP42*Титул.лист!$A$1","v":5028.54},{"$f":"AQ42+AQ42*Титул.лист!$P$2","v":5028.54},5030,5165.3999999999996,{"$f":"AT42+AT42*Титул.лист!$A$1","v":5681.94},{"$f":"AU42+AU42*Титул.лист!$P$2","v":5681.94},5680,4150.2,{"$f":"AX42+AX42*Титул.лист!$A$1","v":4565.2199999999993},{"$f":"AY42+AY42*Титул.лист!$P$2","v":4565.2199999999993},4570,5219.3999999999996,{"$f":"BB42+BB42*Титул.лист!$A$1","v":5741.3399999999992},{"$f":"BC42+BC42*Титул.лист!$P$2","v":5741.3399999999992},5740,7271.4,{"$f":"BF42+BF42*Титул.лист!$A$1","v":7998.54},{"$f":"BG42+BG42*Титул.лист!$P$2","v":7998.54},8000]
[null,null,500,null,"1605-50гс",1812,{"$f":"F43+F43*Титул.лист!$A$1","v":1993.2},{"$f":"G43+G43*Титул.лист!$P$2","v":1993.2},1990,1932,{"$f":"J43+J43*Титул.лист!$A$1","v":2125.1999999999998},{"$f":"K43+K43*Титул.лист!$P$2","v":2125.1999999999998},2130,2568,{"$f":"N43+N43*Титул.лист!$A$1","v":2824.8},{"$f":"O43+O43*Титул.лист!$P$2","v":2824.8},2820,2688,{"$f":"R43+R43*Титул.лист!$A$1","v":2956.8},{"$f":"S43+S43*Титул.лист!$P$2","v":2956.8},2960,3156,{"$f":"V43+V43*Титул.лист!$A$1","v":3471.6},{"$f":"W43+W43*Титул.лист!$P$2","v":3471.6},3470,3276,{"$f":"Z43+Z43*Титул.лист!$A$1","v":3603.6},{"$f":"AA43+AA43*Титул.лист!$P$2","v":3603.6},3600,2616,{"$f":"AD43+AD43*Титул.лист!$A$1","v":2877.6},{"$f":"AE43+AE43*Титул.лист!$P$2","v":2877.6},2880,2868,{"$f":"AH43+AH43*Титул.лист!$A$1","v":3154.8},{"$f":"AI43+AI43*Титул.лист!$P$2","v":3154.8},3150,2964,{"$f":"AL43+AL43*Титул.лист!$A$1","v":3260.4},{"$f":"AM43+AM43*Титул.лист!$P$2","v":3260.4},3260,4962,{"$f":"AP43+AP43*Титул.лист!$A$1","v":5458.2},{"$f":"AQ43+AQ43*Титул.лист!$P$2","v":5458.2},5460,5622,{"$f":"AT43+AT43*Титул.лист!$A$1","v":6184.2},{"$f":"AU43+AU43*Титул.лист!$P$2","v":6184.2},6180,4494,{"$f":"AX43+AX43*Титул.лист!$A$1","v":4943.3999999999996},{"$f":"AY43+AY43*Титул.лист!$P$2","v":4943.3999999999996},4940,5682,{"$f":"BB43+BB43*Титул.лист!$A$1","v":6250.2},{"$f":"BC43+BC43*Титул.лист!$P$2","v":6250.2},6250,7962,{"$f":"BF43+BF43*Титул.лист!$A$1","v":8758.2000000000007},{"$f":"BG43+BG43*Титул.лист!$P$2","v":8758.2000000000007},8760]
[null,null,600,null,"1605-60гс",2100,{"$f":"F44+F44*Титул.лист!$A$1","v":2310},{"$f":"G44+G44*Титул.лист!$P$2","v":2310},2310,2280,{"$f":"J44+J44*Титул.лист!$A$1","v":2508},{"$f":"K44+K44*Титул.лист!$P$2","v":2508},2510,2868,{"$f":"N44+N44*Титул.лист!$A$1","v":3154.8},{"$f":"O44+O44*Титул.лист!$P$2","v":3154.8},3150,2940,{"$f":"R44+R44*Титул.лист!$A$1","v":3234},{"$f":"S44+S44*Титул.лист!$P$2","v":3234},3230,3300,{"$f":"V44+V44*Титул.лист!$A$1","v":3630},{"$f":"W44+W44*Титул.лист!$P$2","v":3630},3630,3480,{"$f":"Z44+Z44*Титул.лист!$A$1","v":3828},{"$f":"AA44+AA44*Титул.лист!$P$2","v":3828},3830,2880,{"$f":"AD44+AD44*Титул.лист!$A$1","v":3168},{"$f":"AE44+AE44*Титул.лист!$P$2","v":3168},3170,3120,{"$f":"AH44+AH44*Титул.лист!$A$1","v":3432},{"$f":"AI44+AI44*Титул.лист!$P$2","v":3432},3430,3360,{"$f":"AL44+AL44*Титул.лист!$A$1","v":3696},{"$f":"AM44+AM44*Титул.лист!$P$2","v":3696},3700,5695.2,{"$f":"AP44+AP44*Титул.лист!$A$1","v":6264.7199999999993},{"$f":"AQ44+AQ44*Титул.лист!$P$2","v":6264.7199999999993},6260,6487.2,{"$f":"AT44+AT44*Титул.лист!$A$1","v":7135.92},{"$f":"AU44+AU44*Титул.лист!$P$2","v":7135.92},7140,5133.6000000000004,{"$f":"AX44+AX44*Титул.лист!$A$1","v":5646.96},{"$f":"AY44+AY44*Титул.лист!$P$2","v":5646.96},5650,6559.2,{"$f":"BB44+BB44*Титул.лист!$A$1","v":7215.12},{"$f":"BC44+BC44*Титул.лист!$P$2","v":7215.12},7220,9295.2000000000007,{"$f":"BF44+BF44*Титул.лист!$A$1","v":10224.720000000001},{"$f":"BG44+BG44*Титул.лист!$P$2","v":10224.720000000001},10220]
[null,"Полупенал 2д стекло",300,"h 1200","1605-30с",1430.0000000000002,{"$f":"F45+F45*Титул.лист!$A$1","v":1573.0000000000002},{"$f":"G45+G45*Титул.лист!$P$2","v":1573.0000000000002},1570,1560,{"$f":"J45+J45*Титул.лист!$A$1","v":1716},{"$f":"K45+K45*Титул.лист!$P$2","v":1716},1720,1810,{"$f":"N45+N45*Титул.лист!$A$1","v":1991},{"$f":"O45+O45*Титул.лист!$P$2","v":1991},1990,1950,{"$f":"R45+R45*Титул.лист!$A$1","v":2145},{"$f":"S45+S45*Титул.лист!$P$2","v":2145},2150,2110,{"$f":"V45+V45*Титул.лист!$A$1","v":2321},{"$f":"W45+W45*Титул.лист!$P$2","v":2321},2320,2240,{"$f":"Z45+Z45*Титул.лист!$A$1","v":2464},{"$f":"AA45+AA45*Титул.лист!$P$2","v":2464},2460,1740,{"$f":"AD45+AD45*Титул.лист!$A$1","v":1914},{"$f":"AE45+AE45*Титул.лист!$P$2","v":1914},1910,1860,{"$f":"AH45+AH45*Титул.лист!$A$1","v":2046},{"$f":"AI45+AI45*Титул.лист!$P$2","v":2046},2050,1900,{"$f":"AL45+AL45*Титул.лист!$A$1","v":2090},{"$f":"AM45+AM45*Титул.лист!$P$2","v":2090},2090,3147.6,{"$f":"AP45+AP45*Титул.лист!$A$1","v":3462.3599999999997},{"$f":"AQ45+AQ45*Титул.лист!$P$2","v":3462.3599999999997},3460,3543.6,{"$f":"AT45+AT45*Титул.лист!$A$1","v":3897.96},{"$f":"AU45+AU45*Титул.лист!$P$2","v":3897.96},3900,2866.8,{"$f":"AX45+AX45*Титул.лист!$A$1","v":3153.48},{"$f":"AY45+AY45*Титул.лист!$P$2","v":3153.48},3150,3579.6,{"$f":"BB45+BB45*Титул.лист!$A$1","v":3937.56},{"$f":"BC45+BC45*Титул.лист!$P$2","v":3937.56},3940,4947.6000000000004,{"$f":"BF45+BF45*Титул.лист!$A$1","v":5442.3600000000006},{"$f":"BG45+BG45*Титул.лист!$P$2","v":5442.3600000000006},5440]
[null,null,350,null,"1605-35с",1580,{"$f":"F46+F46*Титул.лист!$A$1","v":1738},{"$f":"G46+G46*Титул.лист!$P$2","v":1738},1740,1720,{"$f":"J46+J46*Титул.лист!$A$1","v":1892},{"$f":"K46+K46*Титул.лист!$P$2","v":1892},1890,2020,{"$f":"N46+N46*Титул.лист!$A$1","v":2222},{"$f":"O46+O46*Титул.лист!$P$2","v":2222},2220,2160,{"$f":"R46+R46*Титул.лист!$A$1","v":2376},{"$f":"S46+S46*Титул.лист!$P$2","v":2376},2380,2360,{"$f":"V46+V46*Титул.лист!$A$1","v":2596},{"$f":"W46+W46*Титул.лист!$P$2","v":2596},2600,2500,{"$f":"Z46+Z46*Титул.лист!$A$1","v":2750},{"$f":"AA46+AA46*Титул.лист!$P$2","v":2750},2750,1950,{"$f":"AD46+AD46*Титул.лист!$A$1","v":2145},{"$f":"AE46+AE46*Титул.лист!$P$2","v":2145},2150,2090,{"$f":"AH46+AH46*Титул.лист!$A$1","v":2299},{"$f":"AI46+AI46*Титул.лист!$P$2","v":2299},2300,2160,{"$f":"AL46+AL46*Титул.лист!$A$1","v":2376},{"$f":"AM46+AM46*Титул.лист!$P$2","v":2376},2380,3592.2,{"$f":"AP46+AP46*Титул.лист!$A$1","v":3951.42},{"$f":"AQ46+AQ46*Титул.лист!$P$2","v":3951.42},3950,4054.2,{"$f":"AT46+AT46*Титул.лист!$A$1","v":4459.62},{"$f":"AU46+AU46*Титул.лист!$P$2","v":4459.62},4460,3264.6,{"$f":"AX46+AX46*Титул.лист!$A$1","v":3591.06},{"$f":"AY46+AY46*Титул.лист!$P$2","v":3591.06},3590,4096.2,{"$f":"BB46+BB46*Титул.лист!$A$1","v":4505.82},{"$f":"BC46+BC46*Титул.лист!$P$2","v":4505.82},4510,5692.2,{"$f":"BF46+BF46*Титул.лист!$A$1","v":6261.42},{"$f":"BG46+BG46*Титул.лист!$P$2","v":6261.42},6260]
[null,null,400,null,"1605-40с",1720,{"$f":"F47+F47*Титул.лист!$A$1","v":1892},{"$f":"G47+G47*Титул.лист!$P$2","v":1892},1890,1870.0000000000002,{"$f":"J47+J47*Титул.лист!$A$1","v":2057.0000000000005},{"$f":"K47+K47*Титул.лист!$P$2","v":2057.0000000000005},2060,2210,{"$f":"N47+N47*Титул.лист!$A$1","v":2431},{"$f":"O47+O47*Титул.лист!$P$2","v":2431},2430,2360,{"$f":"R47+R47*Титул.лист!$A$1","v":2596},{"$f":"S47+S47*Титул.лист!$P$2","v":2596},2600,2600,{"$f":"V47+V47*Титул.лист!$A$1","v":2860},{"$f":"W47+W47*Титул.лист!$P$2","v":2860},2860,2750,{"$f":"Z47+Z47*Титул.лист!$A$1","v":3025},{"$f":"AA47+AA47*Титул.лист!$P$2","v":3025},3030,2140,{"$f":"AD47+AD47*Титул.лист!$A$1","v":2354},{"$f":"AE47+AE47*Титул.лист!$P$2","v":2354},2350,2310,{"$f":"AH47+AH47*Титул.лист!$A$1","v":2541},{"$f":"AI47+AI47*Титул.лист!$P$2","v":2541},2540,2380,{"$f":"AL47+AL47*Титул.лист!$A$1","v":2618},{"$f":"AM47+AM47*Титул.лист!$P$2","v":2618},2620,4016.8,{"$f":"AP47+AP47*Титул.лист!$A$1","v":4418.4800000000005},{"$f":"AQ47+AQ47*Титул.лист!$P$2","v":4418.4800000000005},4420,4544.7999999999993,{"$f":"AT47+AT47*Титул.лист!$A$1","v":4999.2799999999988},{"$f":"AU47+AU47*Титул.лист!$P$2","v":4999.2799999999988},5000,3642.3999999999996,{"$f":"AX47+AX47*Титул.лист!$A$1","v":4006.6399999999994},{"$f":"AY47+AY47*Титул.лист!$P$2","v":4006.6399999999994},4010,4592.7999999999993,{"$f":"BB47+BB47*Титул.лист!$A$1","v":5052.079999999999},{"$f":"BC47+BC47*Титул.лист!$P$2","v":5052.079999999999},5050,6416.8,{"$f":"BF47+BF47*Титул.лист!$A$1","v":7058.4800000000005},{"$f":"BG47+BG47*Титул.лист!$P$2","v":7058.4800000000005},7060]
[null,null,450,null,"1605-45с",1870.0000000000002,{"$f":"F48+F48*Титул.лист!$A$1","v":2057.0000000000005},{"$f":"G48+G48*Титул.лист!$P$2","v":2057.0000000000005},2060,2020,{"$f":"J48+J48*Титул.лист!$A$1","v":2222},{"$f":"K48+K48*Титул.лист!$P$2","v":2222},2220,2430,{"$f":"N48+N48*Титул.лист!$A$1","v":2673},{"$f":"O48+O48*Титул.лист!$P$2","v":2673},2670,2580,{"$f":"R48+R48*Титул.лист!$A$1","v":2838},{"$f":"S48+S48*Титул.лист!$P$2","v":2838},2840,2870,{"$f":"V48+V48*Титул.лист!$A$1","v":3157},{"$f":"W48+W48*Титул.лист!$P$2","v":3157},3160,3025.0000000000005,{"$f":"Z48+Z48*Титул.лист!$A$1","v":3327.5000000000005},{"$f":"AA48+AA48*Титул.лист!$P$2","v":3327.5000000000005},3330,2360,{"$f":"AD48+AD48*Титул.лист!$A$1","v":2596},{"$f":"AE48+AE48*Титул.лист!$P$2","v":2596},2600,2540,{"$f":"AH48+AH48*Титул.лист!$A$1","v":2794},{"$f":"AI48+AI48*Титул.лист!$P$2","v":2794},2790,2620,{"$f":"AL48+AL48*Титул.лист!$A$1","v":2882},{"$f":"AM48+AM48*Титул.лист!$P$2","v":2882},2880,4471.3999999999996,{"$f":"AP48+AP48*Титул.лист!$A$1","v":4918.54},{"$f":"AQ48+AQ48*Титул.лист!$P$2","v":4918.54},4920,5065.3999999999996,{"$f":"AT48+AT48*Титул.лист!$A$1","v":5571.94},{"$f":"AU48+AU48*Титул.лист!$P$2","v":5571.94},5570,4050.2,{"$f":"AX48+AX48*Титул.лист!$A$1","v":4455.2199999999993},{"$f":"AY48+AY48*Титул.лист!$P$2","v":4455.2199999999993},4460,5119.3999999999996,{"$f":"BB48+BB48*Титул.лист!$A$1","v":5631.3399999999992},{"$f":"BC48+BC48*Титул.лист!$P$2","v":5631.3399999999992},5630,7171.4,{"$f":"BF48+BF48*Титул.лист!$A$1","v":7888.54},{"$f":"BG48+BG48*Титул.лист!$P$2","v":7888.54},7890]
[null,null,500,null,"1605-50с",2000,{"$f":"F49+F49*Титул.лист!$A$1","v":2200},{"$f":"G49+G49*Титул.лист!$P$2","v":2200},2200,2160,{"$f":"J49+J49*Титул.лист!$A$1","v":2376},{"$f":"K49+K49*Титул.лист!$P$2","v":2376},2380,2640,{"$f":"N49+N49*Титул.лист!$A$1","v":2904},{"$f":"O49+O49*Титул.лист!$P$2","v":2904},2900,2790,{"$f":"R49+R49*Титул.лист!$A$1","v":3069},{"$f":"S49+S49*Титул.лист!$P$2","v":3069},3070,3120,{"$f":"V49+V49*Титул.лист!$A$1","v":3432},{"$f":"W49+W49*Титул.лист!$P$2","v":3432},3430,3280,{"$f":"Z49+Z49*Титул.лист!$A$1","v":3608},{"$f":"AA49+AA49*Титул.лист!$P$2","v":3608},3610,2540,{"$f":"AD49+AD49*Титул.лист!$A$1","v":2794},{"$f":"AE49+AE49*Титул.лист!$P$2","v":2794},2790,2750,{"$f":"AH49+AH49*Титул.лист!$A$1","v":3025},{"$f":"AI49+AI49*Титул.лист!$P$2","v":3025},3030,2840,{"$f":"AL49+AL49*Титул.лист!$A$1","v":3124},{"$f":"AM49+AM49*Титул.лист!$P$2","v":3124},3120,4886,{"$f":"AP49+AP49*Титул.лист!$A$1","v":5374.6},{"$f":"AQ49+AQ49*Титул.лист!$P$2","v":5374.6},5370,5546,{"$f":"AT49+AT49*Титул.лист!$A$1","v":6100.6},{"$f":"AU49+AU49*Титул.лист!$P$2","v":6100.6},6100,4418,{"$f":"AX49+AX49*Титул.лист!$A$1","v":4859.8},{"$f":"AY49+AY49*Титул.лист!$P$2","v":4859.8},4860,5606,{"$f":"BB49+BB49*Титул.лист!$A$1","v":6166.6},{"$f":"BC49+BC49*Титул.лист!$P$2","v":6166.6},6170,7886,{"$f":"BF49+BF49*Титул.лист!$A$1","v":8674.6},{"$f":"BG49+BG49*Титул.лист!$P$2","v":8674.6},8670]
[null,null,600,null,"1605-60с",2310,{"$f":"F50+F50*Титул.лист!$A$1","v":2541},{"$f":"G50+G50*Титул.лист!$P$2","v":2541},2540,2508,{"$f":"J50+J50*Титул.лист!$A$1","v":2758.8},{"$f":"K50+K50*Титул.лист!$P$2","v":2758.8},2760,3154.8,{"$f":"N50+N50*Титул.лист!$A$1","v":3470.28},{"$f":"O50+O50*Титул.лист!$P$2","v":3470.28},3470,3234,{"$f":"R50+R50*Титул.лист!$A$1","v":3557.4},{"$f":"S50+S50*Титул.лист!$P$2","v":3557.4},3560,3630,{"$f":"V50+V50*Титул.лист!$A$1","v":3993},{"$f":"W50+W50*Титул.лист!$P$2","v":3993},3990,3828,{"$f":"Z50+Z50*Титул.лист!$A$1","v":4210.8},{"$f":"AA50+AA50*Титул.лист!$P$2","v":4210.8},4210,3168,{"$f":"AD50+AD50*Титул.лист!$A$1","v":3484.8},{"$f":"AE50+AE50*Титул.лист!$P$2","v":3484.8},3480,3432,{"$f":"AH50+AH50*Титул.лист!$A$1","v":3775.2},{"$f":"AI50+AI50*Титул.лист!$P$2","v":3775.2},3780,3696,{"$f":"AL50+AL50*Титул.лист!$A$1","v":4065.6},{"$f":"AM50+AM50*Титул.лист!$P$2","v":4065.6},4070,5983.2,{"$f":"AP50+AP50*Титул.лист!$A$1","v":6581.5199999999995},{"$f":"AQ50+AQ50*Титул.лист!$P$2","v":6581.5199999999995},6580,6775.2,{"$f":"AT50+AT50*Титул.лист!$A$1","v":7452.7199999999993},{"$f":"AU50+AU50*Титул.лист!$P$2","v":7452.7199999999993},7450,5421.6,{"$f":"AX50+AX50*Титул.лист!$A$1","v":5963.76},{"$f":"AY50+AY50*Титул.лист!$P$2","v":5963.76},5960,6847.2,{"$f":"BB50+BB50*Титул.лист!$A$1","v":7531.92},{"$f":"BC50+BC50*Титул.лист!$P$2","v":7531.92},7530,9583.2000000000007,{"$f":"BF50+BF50*Титул.лист!$A$1","v":10541.52},{"$f":"BG50+BG50*Титул.лист!$P$2","v":10541.52},10540]
[null,"Полупенал 2 дв. Стекло",300,"h 1320 ","1606-30с",1540.0000000000002,{"$f":"F51+F51*Титул.лист!$A$1","v":1694.0000000000002},{"$f":"G51+G51*Титул.лист!$P$2","v":1694.0000000000002},1690,1670,{"$f":"J51+J51*Титул.лист!$A$1","v":1837},{"$f":"K51+K51*Титул.лист!$P$2","v":1837},1840,1960,{"$f":"N51+N51*Титул.лист!$A$1","v":2156},{"$f":"O51+O51*Титул.лист!$P$2","v":2156},2160,2090,{"$f":"R51+R51*Титул.лист!$A$1","v":2299},{"$f":"S51+S51*Титул.лист!$P$2","v":2299},2300,2280,{"$f":"V51+V51*Титул.лист!$A$1","v":2508},{"$f":"W51+W51*Титул.лист!$P$2","v":2508},2510,2410,{"$f":"Z51+Z51*Титул.лист!$A$1","v":2651},{"$f":"AA51+AA51*Титул.лист!$P$2","v":2651},2650,1880,{"$f":"AD51+AD51*Титул.лист!$A$1","v":2068},{"$f":"AE51+AE51*Титул.лист!$P$2","v":2068},2070,2010,{"$f":"AH51+AH51*Титул.лист!$A$1","v":2211},{"$f":"AI51+AI51*Титул.лист!$P$2","v":2211},2210,2070,{"$f":"AL51+AL51*Титул.лист!$A$1","v":2277},{"$f":"AM51+AM51*Титул.лист!$P$2","v":2277},2280,3428.36,{"$f":"AP51+AP51*Титул.лист!$A$1","v":3771.1959999999999},{"$f":"AQ51+AQ51*Титул.лист!$P$2","v":3771.1959999999999},3770,3863.96,{"$f":"AT51+AT51*Титул.лист!$A$1","v":4250.3559999999998},{"$f":"AU51+AU51*Титул.лист!$P$2","v":4250.3559999999998},4250,3119.48,{"$f":"AX51+AX51*Титул.лист!$A$1","v":3431.4279999999999},{"$f":"AY51+AY51*Титул.лист!$P$2","v":3431.4279999999999},3430,3903.5600000000004,{"$f":"BB51+BB51*Титул.лист!$A$1","v":4293.9160000000002},{"$f":"BC51+BC51*Титул.лист!$P$2","v":4293.9160000000002},4290,5408.3600000000006,{"$f":"BF51+BF51*Титул.лист!$A$1","v":5949.1960000000008},{"$f":"BG51+BG51*Титул.лист!$P$2","v":5949.1960000000008},5950]
[null,null,350,null,"1606-35с",1680,{"$f":"F52+F52*Титул.лист!$A$1","v":1848},{"$f":"G52+G52*Титул.лист!$P$2","v":1848},1850,1830,{"$f":"J52+J52*Титул.лист!$A$1","v":2013},{"$f":"K52+K52*Титул.лист!$P$2","v":2013},2010,2170,{"$f":"N52+N52*Титул.лист!$A$1","v":2387},{"$f":"O52+O52*Титул.лист!$P$2","v":2387},2390,2310,{"$f":"R52+R52*Титул.лист!$A$1","v":2541},{"$f":"S52+S52*Титул.лист!$P$2","v":2541},2540,2540,{"$f":"V52+V52*Титул.лист!$A$1","v":2794},{"$f":"W52+W52*Титул.лист!$P$2","v":2794},2790,2680,{"$f":"Z52+Z52*Титул.лист!$A$1","v":2948},{"$f":"AA52+AA52*Титул.лист!$P$2","v":2948},2950,2090,{"$f":"AD52+AD52*Титул.лист!$A$1","v":2299},{"$f":"AE52+AE52*Титул.лист!$P$2","v":2299},2300,2240,{"$f":"AH52+AH52*Титул.лист!$A$1","v":2464},{"$f":"AI52+AI52*Титул.лист!$P$2","v":2464},2460,2310,{"$f":"AL52+AL52*Титул.лист!$A$1","v":2541},{"$f":"AM52+AM52*Титул.лист!$P$2","v":2541},2540,3896.42,{"$f":"AP52+AP52*Титул.лист!$A$1","v":4286.0619999999999},{"$f":"AQ52+AQ52*Титул.лист!$P$2","v":4286.0619999999999},4290,4404.62,{"$f":"AT52+AT52*Титул.лист!$A$1","v":4845.0820000000003},{"$f":"AU52+AU52*Титул.лист!$P$2","v":4845.0820000000003},4850,3536.0600000000004,{"$f":"AX52+AX52*Титул.лист!$A$1","v":3889.6660000000006},{"$f":"AY52+AY52*Титул.лист!$P$2","v":3889.6660000000006},3890,4450.82,{"$f":"BB52+BB52*Титул.лист!$A$1","v":4895.902},{"$f":"BC52+BC52*Титул.лист!$P$2","v":4895.902},4900,6206.42,{"$f":"BF52+BF52*Титул.лист!$A$1","v":6827.0619999999999},{"$f":"BG52+BG52*Титул.лист!$P$2","v":6827.0619999999999},6830]
[null,null,400,null,"1606-40с",1850,{"$f":"F53+F53*Титул.лист!$A$1","v":2035},{"$f":"G53+G53*Титул.лист!$P$2","v":2035},2040,2010,{"$f":"J53+J53*Титул.лист!$A$1","v":2211},{"$f":"K53+K53*Титул.лист!$P$2","v":2211},2210,2410,{"$f":"N53+N53*Титул.лист!$A$1","v":2651},{"$f":"O53+O53*Титул.лист!$P$2","v":2651},2650,2570,{"$f":"R53+R53*Титул.лист!$A$1","v":2827},{"$f":"S53+S53*Титул.лист!$P$2","v":2827},2830,2840,{"$f":"V53+V53*Титул.лист!$A$1","v":3124},{"$f":"W53+W53*Титул.лист!$P$2","v":3124},3120,3000,{"$f":"Z53+Z53*Титул.лист!$A$1","v":3300},{"$f":"AA53+AA53*Титул.лист!$P$2","v":3300},3300,2322,{"$f":"AD53+AD53*Титул.лист!$A$1","v":2554.1999999999998},{"$f":"AE53+AE53*Титул.лист!$P$2","v":2554.1999999999998},2550,2500,{"$f":"AH53+AH53*Титул.лист!$A$1","v":2750},{"$f":"AI53+AI53*Титул.лист!$P$2","v":2750},2750,2570,{"$f":"AL53+AL53*Титул.лист!$A$1","v":2827},{"$f":"AM53+AM53*Титул.лист!$P$2","v":2827},2830,4386.4799999999996,{"$f":"AP53+AP53*Титул.лист!$A$1","v":4825.1279999999997},{"$f":"AQ53+AQ53*Титул.лист!$P$2","v":4825.1279999999997},4830,4967.2800000000007,{"$f":"AT53+AT53*Титул.лист!$A$1","v":5464.0080000000007},{"$f":"AU53+AU53*Титул.лист!$P$2","v":5464.0080000000007},5460,3974.6400000000003,{"$f":"AX53+AX53*Титул.лист!$A$1","v":4372.1040000000003},{"$f":"AY53+AY53*Титул.лист!$P$2","v":4372.1040000000003},4370,5020.08,{"$f":"BB53+BB53*Титул.лист!$A$1","v":5522.0879999999997},{"$f":"BC53+BC53*Титул.лист!$P$2","v":5522.0879999999997},5520,7026.4800000000005,{"$f":"BF53+BF53*Титул.лист!$A$1","v":7729.1280000000006},{"$f":"BG53+BG53*Титул.лист!$P$2","v":7729.1280000000006},7730]
[null,null,450,null,"1606-45с",1980.0000000000002,{"$f":"F54+F54*Титул.лист!$A$1","v":2178.0000000000005},{"$f":"G54+G54*Титул.лист!$P$2","v":2178.0000000000005},2180,2140,{"$f":"J54+J54*Титул.лист!$A$1","v":2354},{"$f":"K54+K54*Титул.лист!$P$2","v":2354},2350,2607,{"$f":"N54+N54*Титул.лист!$A$1","v":2867.7},{"$f":"O54+O54*Титул.лист!$P$2","v":2867.7},2870,2770,{"$f":"R54+R54*Титул.лист!$A$1","v":3047},{"$f":"S54+S54*Титул.лист!$P$2","v":3047},3050,3090,{"$f":"V54+V54*Титул.лист!$A$1","v":3399},{"$f":"W54+W54*Титул.лист!$P$2","v":3399},3400,3260,{"$f":"Z54+Z54*Титул.лист!$A$1","v":3586},{"$f":"AA54+AA54*Титул.лист!$P$2","v":3586},3590,2520,{"$f":"AD54+AD54*Титул.лист!$A$1","v":2772},{"$f":"AE54+AE54*Титул.лист!$P$2","v":2772},2770,2720,{"$f":"AH54+AH54*Титул.лист!$A$1","v":2992},{"$f":"AI54+AI54*Титул.лист!$P$2","v":2992},2990,2800,{"$f":"AL54+AL54*Титул.лист!$A$1","v":3080},{"$f":"AM54+AM54*Титул.лист!$P$2","v":3080},3080,4842.54,{"$f":"AP54+AP54*Титул.лист!$A$1","v":5326.7939999999999},{"$f":"AQ54+AQ54*Титул.лист!$P$2","v":5326.7939999999999},5330,5495.9400000000005,{"$f":"AT54+AT54*Титул.лист!$A$1","v":6045.5340000000006},{"$f":"AU54+AU54*Титул.лист!$P$2","v":6045.5340000000006},6050,4379.22,{"$f":"AX54+AX54*Титул.лист!$A$1","v":4817.1419999999998},{"$f":"AY54+AY54*Титул.лист!$P$2","v":4817.1419999999998},4820,5555.34,{"$f":"BB54+BB54*Титул.лист!$A$1","v":6110.8739999999998},{"$f":"BC54+BC54*Титул.лист!$P$2","v":6110.8739999999998},6110,7812.54,{"$f":"BF54+BF54*Титул.лист!$A$1","v":8593.7939999999999},{"$f":"BG54+BG54*Титул.лист!$P$2","v":8593.7939999999999},8590]
[null,null,500,null,"1606-50с",2120,{"$f":"F55+F55*Титул.лист!$A$1","v":2332},{"$f":"G55+G55*Титул.лист!$P$2","v":2332},2330,2300,{"$f":"J55+J55*Титул.лист!$A$1","v":2530},{"$f":"K55+K55*Титул.лист!$P$2","v":2530},2530,2820,{"$f":"N55+N55*Титул.лист!$A$1","v":3102},{"$f":"O55+O55*Титул.лист!$P$2","v":3102},3100,2990,{"$f":"R55+R55*Титул.лист!$A$1","v":3289},{"$f":"S55+S55*Титул.лист!$P$2","v":3289},3290,3340,{"$f":"V55+V55*Титул.лист!$A$1","v":3674},{"$f":"W55+W55*Титул.лист!$P$2","v":3674},3670,3520.0000000000005,{"$f":"Z55+Z55*Титул.лист!$A$1","v":3872.0000000000005},{"$f":"AA55+AA55*Титул.лист!$P$2","v":3872.0000000000005},3870,2730,{"$f":"AD55+AD55*Титул.лист!$A$1","v":3003},{"$f":"AE55+AE55*Титул.лист!$P$2","v":3003},3000,2950,{"$f":"AH55+AH55*Титул.лист!$A$1","v":3245},{"$f":"AI55+AI55*Титул.лист!$P$2","v":3245},3250,3050,{"$f":"AL55+AL55*Титул.лист!$A$1","v":3355},{"$f":"AM55+AM55*Титул.лист!$P$2","v":3355},3360,5310.6,{"$f":"AP55+AP55*Титул.лист!$A$1","v":5841.6600000000008},{"$f":"AQ55+AQ55*Титул.лист!$P$2","v":5841.6600000000008},5840,6036.6,{"$f":"AT55+AT55*Титул.лист!$A$1","v":6640.26},{"$f":"AU55+AU55*Титул.лист!$P$2","v":6640.26},6640,4795.8,{"$f":"AX55+AX55*Титул.лист!$A$1","v":5275.38},{"$f":"AY55+AY55*Титул.лист!$P$2","v":5275.38},5280,6102.6,{"$f":"BB55+BB55*Титул.лист!$A$1","v":6712.8600000000006},{"$f":"BC55+BC55*Титул.лист!$P$2","v":6712.8600000000006},6710,8610.6,{"$f":"BF55+BF55*Титул.лист!$A$1","v":9471.66},{"$f":"BG55+BG55*Титул.лист!$P$2","v":9471.66},9470]
["Шкафы навесные Н=1280"]
[null,"Полупенал 2я 1д",300,"h 1280","1643-30",1410,{"$f":"F57+F57*Титул.лист!$A$1","v":1551},{"$f":"G57+G57*Титул.лист!$P$2","v":1551},1550,1510,{"$f":"J57+J57*Титул.лист!$A$1","v":1661},{"$f":"K57+K57*Титул.лист!$P$2","v":1661},1660,1830,{"$f":"N57+N57*Титул.лист!$A$1","v":2013},{"$f":"O57+O57*Титул.лист!$P$2","v":2013},2010,1920,{"$f":"R57+R57*Титул.лист!$A$1","v":2112},{"$f":"S57+S57*Титул.лист!$P$2","v":2112},2110,2130,{"$f":"V57+V57*Титул.лист!$A$1","v":2343},{"$f":"W57+W57*Титул.лист!$P$2","v":2343},2340,2230,{"$f":"Z57+Z57*Титул.лист!$A$1","v":2453},{"$f":"AA57+AA57*Титул.лист!$P$2","v":2453},2450,1830,{"$f":"AD57+AD57*Титул.лист!$A$1","v":2013},{"$f":"AE57+AE57*Титул.лист!$P$2","v":2013},2010,1960,{"$f":"AH57+AH57*Титул.лист!$A$1","v":2156},{"$f":"AI57+AI57*Титул.лист!$P$2","v":2156},2160,2010,{"$f":"AL57+AL57*Титул.лист!$A$1","v":2211},{"$f":"AM57+AM57*Титул.лист!$P$2","v":2211},2210,3331.44,{"$f":"AP57+AP57*Титул.лист!$A$1","v":3664.5839999999998},{"$f":"AQ57+AQ57*Титул.лист!$P$2","v":3664.5839999999998},3660,3753.84,{"$f":"AT57+AT57*Титул.лист!$A$1","v":4129.2240000000002},{"$f":"AU57+AU57*Титул.лист!$P$2","v":4129.2240000000002},4130,3031.92,{"$f":"AX57+AX57*Титул.лист!$A$1","v":3335.1120000000001},{"$f":"AY57+AY57*Титул.лист!$P$2","v":3335.1120000000001},3340,3792.24,{"$f":"BB57+BB57*Титул.лист!$A$1","v":4171.4639999999999},{"$f":"BC57+BC57*Титул.лист!$P$2","v":4171.4639999999999},4170,5251.4400000000005,{"$f":"BF57+BF57*Титул.лист!$A$1","v":5776.5840000000007},{"$f":"BG57+BG57*Титул.лист!$P$2","v":5776.5840000000007},5780]
[null,null,350,null,"1643-35",1530,{"$f":"F58+F58*Титул.лист!$A$1","v":1683},{"$f":"G58+G58*Титул.лист!$P$2","v":1683},1680,1650.0000000000002,{"$f":"J58+J58*Титул.лист!$A$1","v":1815.0000000000002},{"$f":"K58+K58*Титул.лист!$P$2","v":1815.0000000000002},1820,1990,{"$f":"N58+N58*Титул.лист!$A$1","v":2189},{"$f":"O58+O58*Титул.лист!$P$2","v":2189},2190,2110,{"$f":"R58+R58*Титул.лист!$A$1","v":2321},{"$f":"S58+S58*Титул.лист!$P$2","v":2321},2320,2350,{"$f":"V58+V58*Титул.лист!$A$1","v":2585},{"$f":"W58+W58*Титул.лист!$P$2","v":2585},2590,2470,{"$f":"Z58+Z58*Титул.лист!$A$1","v":2717},{"$f":"AA58+AA58*Титул.лист!$P$2","v":2717},2720,2030,{"$f":"AD58+AD58*Титул.лист!$A$1","v":2233},{"$f":"AE58+AE58*Титул.лист!$P$2","v":2233},2230,2190,{"$f":"AH58+AH58*Титул.лист!$A$1","v":2409},{"$f":"AI58+AI58*Титул.лист!$P$2","v":2409},2410,2250,{"$f":"AL58+AL58*Титул.лист!$A$1","v":2475},{"$f":"AM58+AM58*Титул.лист!$P$2","v":2475},2480,3781.6800000000003,{"$f":"AP58+AP58*Титул.лист!$A$1","v":4159.848},{"$f":"AQ58+AQ58*Титул.лист!$P$2","v":4159.848},4160,4274.4799999999996,{"$f":"AT58+AT58*Титул.лист!$A$1","v":4701.9279999999999},{"$f":"AU58+AU58*Титул.лист!$P$2","v":4701.9279999999999},4700,3432.24,{"$f":"AX58+AX58*Титул.лист!$A$1","v":3775.4639999999999},{"$f":"AY58+AY58*Титул.лист!$P$2","v":3775.4639999999999},3780,4319.2800000000007,{"$f":"BB58+BB58*Титул.лист!$A$1","v":4751.2080000000005},{"$f":"BC58+BC58*Титул.лист!$P$2","v":4751.2080000000005},4750,6021.68,{"$f":"BF58+BF58*Титул.лист!$A$1","v":6623.848},{"$f":"BG58+BG58*Титул.лист!$P$2","v":6623.848},6620]
[null,null,400,null,"1643-40",1630,{"$f":"F59+F59*Титул.лист!$A$1","v":1793},{"$f":"G59+G59*Титул.лист!$P$2","v":1793},1790,1750,{"$f":"J59+J59*Титул.лист!$A$1","v":1925},{"$f":"K59+K59*Титул.лист!$P$2","v":1925},1930,2170,{"$f":"N59+N59*Титул.лист!$A$1","v":2387},{"$f":"O59+O59*Титул.лист!$P$2","v":2387},2390,2290,{"$f":"R59+R59*Титул.лист!$A$1","v":2519},{"$f":"S59+S59*Титул.лист!$P$2","v":2519},2520,2580,{"$f":"V59+V59*Титул.лист!$A$1","v":2838},{"$f":"W59+W59*Титул.лист!$P$2","v":2838},2840,2710,{"$f":"Z59+Z59*Титул.лист!$A$1","v":2981},{"$f":"AA59+AA59*Титул.лист!$P$2","v":2981},2980,2210,{"$f":"AD59+AD59*Титул.лист!$A$1","v":2431},{"$f":"AE59+AE59*Титул.лист!$P$2","v":2431},2430,2380,{"$f":"AH59+AH59*Титул.лист!$A$1","v":2618},{"$f":"AI59+AI59*Титул.лист!$P$2","v":2618},2620,2450,{"$f":"AL59+AL59*Титул.лист!$A$1","v":2695},{"$f":"AM59+AM59*Титул.лист!$P$2","v":2695},2700,4211.92,{"$f":"AP59+AP59*Титул.лист!$A$1","v":4633.1120000000001},{"$f":"AQ59+AQ59*Титул.лист!$P$2","v":4633.1120000000001},4630,4775.12,{"$f":"AT59+AT59*Титул.лист!$A$1","v":5252.6319999999996},{"$f":"AU59+AU59*Титул.лист!$P$2","v":5252.6319999999996},5250,3812.56,{"$f":"AX59+AX59*Титул.лист!$A$1","v":4193.8159999999998},{"$f":"AY59+AY59*Титул.лист!$P$2","v":4193.8159999999998},4190,4826.32,{"$f":"BB59+BB59*Титул.лист!$A$1","v":5308.9519999999993},{"$f":"BC59+BC59*Титул.лист!$P$2","v":5308.9519999999993},5310,6771.92,{"$f":"BF59+BF59*Титул.лист!$A$1","v":7449.1120000000001},{"$f":"BG59+BG59*Титул.лист!$P$2","v":7449.1120000000001},7450]
[null,null,450,null,"1643-45",1740,{"$f":"F60+F60*Титул.лист!$A$1","v":1914},{"$f":"G60+G60*Титул.лист!$P$2","v":1914},1910,1860,{"$f":"J60+J60*Титул.лист!$A$1","v":2046},{"$f":"K60+K60*Титул.лист!$P$2","v":2046},2050,2350,{"$f":"N60+N60*Титул.лист!$A$1","v":2585},{"$f":"O60+O60*Титул.лист!$P$2","v":2585},2590,2470,{"$f":"R60+R60*Титул.лист!$A$1","v":2717},{"$f":"S60+S60*Титул.лист!$P$2","v":2717},2720,2830,{"$f":"V60+V60*Титул.лист!$A$1","v":3113},{"$f":"W60+W60*Титул.лист!$P$2","v":3113},3110,2950,{"$f":"Z60+Z60*Титул.лист!$A$1","v":3245},{"$f":"AA60+AA60*Титул.лист!$P$2","v":3245},3250,2400,{"$f":"AD60+AD60*Титул.лист!$A$1","v":2640},{"$f":"AE60+AE60*Титул.лист!$P$2","v":2640},2640,2580,{"$f":"AH60+AH60*Титул.лист!$A$1","v":2838},{"$f":"AI60+AI60*Титул.лист!$P$2","v":2838},2840,2670,{"$f":"AL60+AL60*Титул.лист!$A$1","v":2937},{"$f":"AM60+AM60*Титул.лист!$P$2","v":2937},2940,4652.16,{"$f":"AP60+AP60*Титул.лист!$A$1","v":5117.3760000000002},{"$f":"AQ60+AQ60*Титул.лист!$P$2","v":5117.3760000000002},5120,5285.76,{"$f":"AT60+AT60*Титул.лист!$A$1","v":5814.3360000000002},{"$f":"AU60+AU60*Титул.лист!$P$2","v":5814.3360000000002},5810,4202.88,{"$f":"AX60+AX60*Титул.лист!$A$1","v":4623.1679999999997},{"$f":"AY60+AY60*Титул.лист!$P$2","v":4623.1679999999997},4620,5343.3600000000006,{"$f":"BB60+BB60*Титул.лист!$A$1","v":5877.6960000000008},{"$f":"BC60+BC60*Титул.лист!$P$2","v":5877.6960000000008},5880,7532.1600000000008,{"$f":"BF60+BF60*Титул.лист!$A$1","v":8285.3760000000002},{"$f":"BG60+BG60*Титул.лист!$P$2","v":8285.3760000000002},8290]
[null,null,500,null,"1643-50",1860,{"$f":"F61+F61*Титул.лист!$A$1","v":2046},{"$f":"G61+G61*Титул.лист!$P$2","v":2046},2050,1990,{"$f":"J61+J61*Титул.лист!$A$1","v":2189},{"$f":"K61+K61*Титул.лист!$P$2","v":2189},2190,2530,{"$f":"N61+N61*Титул.лист!$A$1","v":2783},{"$f":"O61+O61*Титул.лист!$P$2","v":2783},2780,2660,{"$f":"R61+R61*Титул.лист!$A$1","v":2926},{"$f":"S61+S61*Титул.лист!$P$2","v":2926},2930,3050,{"$f":"V61+V61*Титул.лист!$A$1","v":3355},{"$f":"W61+W61*Титул.лист!$P$2","v":3355},3360,3180,{"$f":"Z61+Z61*Титул.лист!$A$1","v":3498},{"$f":"AA61+AA61*Титул.лист!$P$2","v":3498},3500,2580,{"$f":"AD61+AD61*Титул.лист!$A$1","v":2838},{"$f":"AE61+AE61*Титул.лист!$P$2","v":2838},2840,2790,{"$f":"AH61+AH61*Титул.лист!$A$1","v":3069},{"$f":"AI61+AI61*Титул.лист!$P$2","v":3069},3070,2890,{"$f":"AL61+AL61*Титул.лист!$A$1","v":3179},{"$f":"AM61+AM61*Титул.лист!$P$2","v":3179},3180,5082.3999999999996,{"$f":"AP61+AP61*Титул.лист!$A$1","v":5590.6399999999994},{"$f":"AQ61+AQ61*Титул.лист!$P$2","v":5590.6399999999994},5590,5786.4,{"$f":"AT61+AT61*Титул.лист!$A$1","v":6365.04},{"$f":"AU61+AU61*Титул.лист!$P$2","v":6365.04},6370,4583.2,{"$f":"AX61+AX61*Титул.лист!$A$1","v":5041.5199999999995},{"$f":"AY61+AY61*Титул.лист!$P$2","v":5041.5199999999995},5040,5850.4,{"$f":"BB61+BB61*Титул.лист!$A$1","v":6435.44},{"$f":"BC61+BC61*Титул.лист!$P$2","v":6435.44},6440,8282.4000000000015,{"$f":"BF61+BF61*Титул.лист!$A$1","v":9110.6400000000012},{"$f":"BG61+BG61*Титул.лист!$P$2","v":9110.6400000000012},9110]
[null,null,550,null,"1643-55",1920,{"$f":"F62+F62*Титул.лист!$A$1","v":2112},{"$f":"G62+G62*Титул.лист!$P$2","v":2112},2110,2100,{"$f":"J62+J62*Титул.лист!$A$1","v":2310},{"$f":"K62+K62*Титул.лист!$P$2","v":2310},2310,2750,{"$f":"N62+N62*Титул.лист!$A$1","v":3025},{"$f":"O62+O62*Титул.лист!$P$2","v":3025},3030,2800,{"$f":"R62+R62*Титул.лист!$A$1","v":3080},{"$f":"S62+S62*Титул.лист!$P$2","v":3080},3080,3200,{"$f":"V62+V62*Титул.лист!$A$1","v":3520},{"$f":"W62+W62*Титул.лист!$P$2","v":3520},3520,3350,{"$f":"Z62+Z62*Титул.лист!$A$1","v":3685},{"$f":"AA62+AA62*Титул.лист!$P$2","v":3685},3690,2700,{"$f":"AD62+AD62*Титул.лист!$A$1","v":2970},{"$f":"AE62+AE62*Титул.лист!$P$2","v":2970},2970,2900,{"$f":"AH62+AH62*Титул.лист!$A$1","v":3190},{"$f":"AI62+AI62*Титул.лист!$P$2","v":3190},3190,3030,{"$f":"AL62+AL62*Титул.лист!$A$1","v":3333},{"$f":"AM62+AM62*Титул.лист!$P$2","v":3333},3330,5452.64,{"$f":"AP62+AP62*Титул.лист!$A$1","v":5997.9040000000005},{"$f":"AQ62+AQ62*Титул.лист!$P$2","v":5997.9040000000005},6000,6227.0400000000009,{"$f":"AT62+AT62*Титул.лист!$A$1","v":6849.7440000000006},{"$f":"AU62+AU62*Титул.лист!$P$2","v":6849.7440000000006},6850,4903.5200000000004,{"$f":"AX62+AX62*Титул.лист!$A$1","v":5393.8720000000003},{"$f":"AY62+AY62*Титул.лист!$P$2","v":5393.8720000000003},5390,6297.4400000000005,{"$f":"BB62+BB62*Титул.лист!$A$1","v":6927.1840000000011},{"$f":"BC62+BC62*Титул.лист!$P$2","v":6927.1840000000011},6930,8972.64,{"$f":"BF62+BF62*Титул.лист!$A$1","v":9869.9039999999986},{"$f":"BG62+BG62*Титул.лист!$P$2","v":9869.9039999999986},9870]
[null,null,600,null,"1643-60",2050,{"$f":"F63+F63*Титул.лист!$A$1","v":2255},{"$f":"G63+G63*Титул.лист!$P$2","v":2255},2260,2250,{"$f":"J63+J63*Титул.лист!$A$1","v":2475},{"$f":"K63+K63*Титул.лист!$P$2","v":2475},2480,2900,{"$f":"N63+N63*Титул.лист!$A$1","v":3190},{"$f":"O63+O63*Титул.лист!$P$2","v":3190},3190,2950,{"$f":"R63+R63*Титул.лист!$A$1","v":3245},{"$f":"S63+S63*Титул.лист!$P$2","v":3245},3250,3400,{"$f":"V63+V63*Титул.лист!$A$1","v":3740},{"$f":"W63+W63*Титул.лист!$P$2","v":3740},3740,3550,{"$f":"Z63+Z63*Титул.лист!$A$1","v":3905},{"$f":"AA63+AA63*Титул.лист!$P$2","v":3905},3910,2900,{"$f":"AD63+AD63*Титул.лист!$A$1","v":3190},{"$f":"AE63+AE63*Титул.лист!$P$2","v":3190},3190,3100,{"$f":"AH63+AH63*Титул.лист!$A$1","v":3410},{"$f":"AI63+AI63*Титул.лист!$P$2","v":3410},3410,3200,{"$f":"AL63+AL63*Титул.лист!$A$1","v":3520},{"$f":"AM63+AM63*Титул.лист!$P$2","v":3520},3520,5902.88,{"$f":"AP63+AP63*Титул.лист!$A$1","v":6493.1679999999997},{"$f":"AQ63+AQ63*Титул.лист!$P$2","v":6493.1679999999997},6490,6747.68,{"$f":"AT63+AT63*Титул.лист!$A$1","v":7422.4480000000003},{"$f":"AU63+AU63*Титул.лист!$P$2","v":7422.4480000000003},7420,5303.84,{"$f":"AX63+AX63*Титул.лист!$A$1","v":5834.2240000000002},{"$f":"AY63+AY63*Титул.лист!$P$2","v":5834.2240000000002},5830,6824.48,{"$f":"BB63+BB63*Титул.лист!$A$1","v":7506.9279999999999},{"$f":"BC63+BC63*Титул.лист!$P$2","v":7506.9279999999999},7510,9742.880000000001,{"$f":"BF63+BF63*Титул.лист!$A$1","v":10717.168000000001},{"$f":"BG63+BG63*Титул.лист!$P$2","v":10717.168000000001},10720]
[null,"Полупенал 2я 1д стекло",300,"h 1280","1643-30с",1640,{"$f":"F64+F64*Титул.лист!$A$1","v":1804},{"$f":"G64+G64*Титул.лист!$P$2","v":1804},1800,1770,{"$f":"J64+J64*Титул.лист!$A$1","v":1947},{"$f":"K64+K64*Титул.лист!$P$2","v":1947},1950,2060,{"$f":"N64+N64*Титул.лист!$A$1","v":2266},{"$f":"O64+O64*Титул.лист!$P$2","v":2266},2270,2190,{"$f":"R64+R64*Титул.лист!$A$1","v":2409},{"$f":"S64+S64*Титул.лист!$P$2","v":2409},2410,2360,{"$f":"V64+V64*Титул.лист!$A$1","v":2596},{"$f":"W64+W64*Титул.лист!$P$2","v":2596},2600,2500,{"$f":"Z64+Z64*Титул.лист!$A$1","v":2750},{"$f":"AA64+AA64*Титул.лист!$P$2","v":2750},2750,1980.0000000000002,{"$f":"AD64+AD64*Титул.лист!$A$1","v":2178.0000000000005},{"$f":"AE64+AE64*Титул.лист!$P$2","v":2178.0000000000005},2180,2110,{"$f":"AH64+AH64*Титул.лист!$A$1","v":2321},{"$f":"AI64+AI64*Титул.лист!$P$2","v":2321},2320,2170,{"$f":"AL64+AL64*Титул.лист!$A$1","v":2387},{"$f":"AM64+AM64*Титул.лист!$P$2","v":2387},2390,3481.4400000000005,{"$f":"AP64+AP64*Титул.лист!$A$1","v":3829.5840000000007},{"$f":"AQ64+AQ64*Титул.лист!$P$2","v":3829.5840000000007},3830,3903.84,{"$f":"AT64+AT64*Титул.лист!$A$1","v":4294.2240000000002},{"$f":"AU64+AU64*Титул.лист!$P$2","v":4294.2240000000002},4290,3181.92,{"$f":"AX64+AX64*Титул.лист!$A$1","v":3500.1120000000001},{"$f":"AY64+AY64*Титул.лист!$P$2","v":3500.1120000000001},3500,3942.2400000000002,{"$f":"BB64+BB64*Титул.лист!$A$1","v":4336.4639999999999},{"$f":"BC64+BC64*Титул.лист!$P$2","v":4336.4639999999999},4340,5401.4400000000005,{"$f":"BF64+BF64*Титул.лист!$A$1","v":5941.5840000000007},{"$f":"BG64+BG64*Титул.лист!$P$2","v":5941.5840000000007},5940]
[null,null,350,null,"1643-35с",1810,{"$f":"F65+F65*Титул.лист!$A$1","v":1991},{"$f":"G65+G65*Титул.лист!$P$2","v":1991},1990,1960,{"$f":"J65+J65*Титул.лист!$A$1","v":2156},{"$f":"K65+K65*Титул.лист!$P$2","v":2156},2160,2280,{"$f":"N65+N65*Титул.лист!$A$1","v":2508},{"$f":"O65+O65*Титул.лист!$P$2","v":2508},2510,2420,{"$f":"R65+R65*Титул.лист!$A$1","v":2662},{"$f":"S65+S65*Титул.лист!$P$2","v":2662},2660,2640,{"$f":"V65+V65*Титул.лист!$A$1","v":2904},{"$f":"W65+W65*Титул.лист!$P$2","v":2904},2900,2780,{"$f":"Z65+Z65*Титул.лист!$A$1","v":3058},{"$f":"AA65+AA65*Титул.лист!$P$2","v":3058},3060,2230,{"$f":"AD65+AD65*Титул.лист!$A$1","v":2453},{"$f":"AE65+AE65*Титул.лист!$P$2","v":2453},2450,2390,{"$f":"AH65+AH65*Титул.лист!$A$1","v":2629},{"$f":"AI65+AI65*Титул.лист!$P$2","v":2629},2630,2450,{"$f":"AL65+AL65*Титул.лист!$A$1","v":2695},{"$f":"AM65+AM65*Титул.лист!$P$2","v":2695},2700,3981.6800000000003,{"$f":"AP65+AP65*Титул.лист!$A$1","v":4379.848},{"$f":"AQ65+AQ65*Титул.лист!$P$2","v":4379.848},4380,4474.4799999999996,{"$f":"AT65+AT65*Титул.лист!$A$1","v":4921.9279999999999},{"$f":"AU65+AU65*Титул.лист!$P$2","v":4921.9279999999999},4920,3632.24,{"$f":"AX65+AX65*Титул.лист!$A$1","v":3995.4639999999999},{"$f":"AY65+AY65*Титул.лист!$P$2","v":3995.4639999999999},4000,4519.2800000000007,{"$f":"BB65+BB65*Титул.лист!$A$1","v":4971.2080000000005},{"$f":"BC65+BC65*Титул.лист!$P$2","v":4971.2080000000005},4970,6221.68,{"$f":"BF65+BF65*Титул.лист!$A$1","v":6843.848},{"$f":"BG65+BG65*Титул.лист!$P$2","v":6843.848},6840]
[null,null,400,null,"1643-40с",1920,{"$f":"F66+F66*Титул.лист!$A$1","v":2112},{"$f":"G66+G66*Титул.лист!$P$2","v":2112},2110,2090,{"$f":"J66+J66*Титул.лист!$A$1","v":2299},{"$f":"K66+K66*Титул.лист!$P$2","v":2299},2300,2460,{"$f":"N66+N66*Титул.лист!$A$1","v":2706},{"$f":"O66+O66*Титул.лист!$P$2","v":2706},2710,2630,{"$f":"R66+R66*Титул.лист!$A$1","v":2893},{"$f":"S66+S66*Титул.лист!$P$2","v":2893},2890,2880,{"$f":"V66+V66*Титул.лист!$A$1","v":3168},{"$f":"W66+W66*Титул.лист!$P$2","v":3168},3170,3050,{"$f":"Z66+Z66*Титул.лист!$A$1","v":3355},{"$f":"AA66+AA66*Титул.лист!$P$2","v":3355},3360,2430,{"$f":"AD66+AD66*Титул.лист!$A$1","v":2673},{"$f":"AE66+AE66*Титул.лист!$P$2","v":2673},2670,2600,{"$f":"AH66+AH66*Титул.лист!$A$1","v":2860},{"$f":"AI66+AI66*Титул.лист!$P$2","v":2860},2860,2670,{"$f":"AL66+AL66*Титул.лист!$A$1","v":2937},{"$f":"AM66+AM66*Титул.лист!$P$2","v":2937},2940,4431.92,{"$f":"AP66+AP66*Титул.лист!$A$1","v":4875.1120000000001},{"$f":"AQ66+AQ66*Титул.лист!$P$2","v":4875.1120000000001},4880,4995.12,{"$f":"AT66+AT66*Титул.лист!$A$1","v":5494.6319999999996},{"$f":"AU66+AU66*Титул.лист!$P$2","v":5494.6319999999996},5490,4032.56,{"$f":"AX66+AX66*Титул.лист!$A$1","v":4435.8159999999998},{"$f":"AY66+AY66*Титул.лист!$P$2","v":4435.8159999999998},4440,5046.32,{"$f":"BB66+BB66*Титул.лист!$A$1","v":5550.9519999999993},{"$f":"BC66+BC66*Титул.лист!$P$2","v":5550.9519999999993},5550,6991.92,{"$f":"BF66+BF66*Титул.лист!$A$1","v":7691.1120000000001},{"$f":"BG66+BG66*Титул.лист!$P$2","v":7691.1120000000001},7690]
[null,null,450,null,"1643-45с",2100,{"$f":"F67+F67*Титул.лист!$A$1","v":2310},{"$f":"G67+G67*Титул.лист!$P$2","v":2310},2310,2280,{"$f":"J67+J67*Титул.лист!$A$1","v":2508},{"$f":"K67+K67*Титул.лист!$P$2","v":2508},2510,2720,{"$f":"N67+N67*Титул.лист!$A$1","v":2992},{"$f":"O67+O67*Титул.лист!$P$2","v":2992},2990,2890,{"$f":"R67+R67*Титул.лист!$A$1","v":3179},{"$f":"S67+S67*Титул.лист!$P$2","v":3179},3180,3190.0000000000005,{"$f":"V67+V67*Титул.лист!$A$1","v":3509.0000000000005},{"$f":"W67+W67*Титул.лист!$P$2","v":3509.0000000000005},3510,3366.0000000000005,{"$f":"Z67+Z67*Титул.лист!$A$1","v":3702.6000000000004},{"$f":"AA67+AA67*Титул.лист!$P$2","v":3702.6000000000004},3700,2670,{"$f":"AD67+AD67*Титул.лист!$A$1","v":2937},{"$f":"AE67+AE67*Титул.лист!$P$2","v":2937},2940,2860.0000000000005,{"$f":"AH67+AH67*Титул.лист!$A$1","v":3146.0000000000005},{"$f":"AI67+AI67*Титул.лист!$P$2","v":3146.0000000000005},3150,2948.0000000000005,{"$f":"AL67+AL67*Титул.лист!$A$1","v":3242.8000000000006},{"$f":"AM67+AM67*Титул.лист!$P$2","v":3242.8000000000006},3240,4922.16,{"$f":"AP67+AP67*Титул.лист!$A$1","v":5414.3760000000002},{"$f":"AQ67+AQ67*Титул.лист!$P$2","v":5414.3760000000002},5410,5555.76,{"$f":"AT67+AT67*Титул.лист!$A$1","v":6111.3360000000002},{"$f":"AU67+AU67*Титул.лист!$P$2","v":6111.3360000000002},6110,4472.88,{"$f":"AX67+AX67*Титул.лист!$A$1","v":4920.1679999999997},{"$f":"AY67+AY67*Титул.лист!$P$2","v":4920.1679999999997},4920,5613.3600000000006,{"$f":"BB67+BB67*Титул.лист!$A$1","v":6174.6960000000008},{"$f":"BC67+BC67*Титул.лист!$P$2","v":6174.6960000000008},6170,7802.1600000000008,{"$f":"BF67+BF67*Титул.лист!$A$1","v":8582.3760000000002},{"$f":"BG67+BG67*Титул.лист!$P$2","v":8582.3760000000002},8580]
[null,null,500,null,"1643-50с",2270,{"$f":"F68+F68*Титул.лист!$A$1","v":2497},{"$f":"G68+G68*Титул.лист!$P$2","v":2497},{"$f":"ROUND(H68,-1)","v":2500},2440,{"$f":"J68+J68*Титул.лист!$A$1","v":2684},{"$f":"K68+K68*Титул.лист!$P$2","v":2684},{"$f":"ROUND(L68,-1)","v":2680},2940,{"$f":"N68+N68*Титул.лист!$A$1","v":3234},{"$f":"O68+O68*Титул.лист!$P$2","v":3234},{"$f":"ROUND(P68,-1)","v":3230},3110,{"$f":"R68+R68*Титул.лист!$A$1","v":3421},{"$f":"S68+S68*Титул.лист!$P$2","v":3421},{"$f":"ROUND(T68,-1)","v":3420},3450,{"$f":"V68+V68*Титул.лист!$A$1","v":3795},{"$f":"W68+W68*Титул.лист!$P$2","v":3795},{"$f":"ROUND(X68,-1)","v":3800},3630.0000000000005,{"$f":"Z68+Z68*Титул.лист!$A$1","v":3993.0000000000005},{"$f":"AA68+AA68*Титул.лист!$P$2","v":3993.0000000000005},{"$f":"ROUND(AB68,-1)","v":3990},2890,{"$f":"AD68+AD68*Титул.лист!$A$1","v":3179},{"$f":"AE68+AE68*Титул.лист!$P$2","v":3179},{"$f":"ROUND(AF68,-1)","v":3180},3100,{"$f":"AH68+AH68*Титул.лист!$A$1","v":3410},{"$f":"AI68+AI68*Титул.лист!$P$2","v":3410},{"$f":"ROUND(AJ68,-1)","v":3410},3200,{"$f":"AL68+AL68*Титул.лист!$A$1","v":3520},{"$f":"AM68+AM68*Титул.лист!$P$2","v":3520},{"$f":"ROUND(AN68,-1)","v":3520},5392.4,{"$f":"AP68+AP68*Титул.лист!$A$1","v":5931.6399999999994},{"$f":"AQ68+AQ68*Титул.лист!$P$2","v":5931.6399999999994},{"$f":"ROUND(AR68,-1)","v":5930},6096.4,{"$f":"AT68+AT68*Титул.лист!$A$1","v":6706.04},{"$f":"AU68+AU68*Титул.лист!$P$2","v":6706.04},{"$f":"ROUND(AV68,-1)","v":6710},4893.2,{"$f":"AX68+AX68*Титул.лист!$A$1","v":5382.5199999999995},{"$f":"AY68+AY68*Титул.лист!$P$2","v":5382.5199999999995},{"$f":"ROUND(AZ68,-1)","v":5380},6160.4,{"$f":"BB68+BB68*Титул.лист!$A$1","v":6776.44},{"$f":"BC68+BC68*Титул.лист!$P$2","v":6776.44},{"$f":"ROUND(BD68,-1)","v":6780},8592.4000000000015,{"$f":"BF68+BF68*Титул.лист!$A$1","v":9451.6400000000012},{"$f":"BG68+BG68*Титул.лист!$P$2","v":9451.6400000000012},{"$f":"ROUND(BH68,-1)","v":9450}]
[null,null,550,null,"1643-55с",2208,{"$f":"F69+F69*Титул.лист!$A$1","v":2428.8000000000002},{"$f":"G69+G69*Титул.лист!$P$2","v":2428.8000000000002},2430,2415,{"$f":"J69+J69*Титул.лист!$A$1","v":2656.5},{"$f":"K69+K69*Титул.лист!$P$2","v":2656.5},2660,3162.5,{"$f":"N69+N69*Титул.лист!$A$1","v":3478.75},{"$f":"O69+O69*Титул.лист!$P$2","v":3478.75},3480,3220,{"$f":"R69+R69*Титул.лист!$A$1","v":3542},{"$f":"S69+S69*Титул.лист!$P$2","v":3542},3540,3680,{"$f":"V69+V69*Титул.лист!$A$1","v":4048},{"$f":"W69+W69*Титул.лист!$P$2","v":4048},4050,3852.5,{"$f":"Z69+Z69*Титул.лист!$A$1","v":4237.75},{"$f":"AA69+AA69*Титул.лист!$P$2","v":4237.75},4240,3105,{"$f":"AD69+AD69*Титул.лист!$A$1","v":3415.5},{"$f":"AE69+AE69*Титул.лист!$P$2","v":3415.5},3420,3335,{"$f":"AH69+AH69*Титул.лист!$A$1","v":3668.5},{"$f":"AI69+AI69*Титул.лист!$P$2","v":3668.5},3670,3484.5,{"$f":"AL69+AL69*Титул.лист!$A$1","v":3832.95},{"$f":"AM69+AM69*Титул.лист!$P$2","v":3832.95},3830,5857.64,{"$f":"AP69+AP69*Титул.лист!$A$1","v":6443.4040000000005},{"$f":"AQ69+AQ69*Титул.лист!$P$2","v":6443.4040000000005},6440,6632.0400000000009,{"$f":"AT69+AT69*Титул.лист!$A$1","v":7295.2440000000006},{"$f":"AU69+AU69*Титул.лист!$P$2","v":7295.2440000000006},7300,5308.52,{"$f":"AX69+AX69*Титул.лист!$A$1","v":5839.3720000000003},{"$f":"AY69+AY69*Титул.лист!$P$2","v":5839.3720000000003},5840,6702.4400000000005,{"$f":"BB69+BB69*Титул.лист!$A$1","v":7372.6840000000011},{"$f":"BC69+BC69*Титул.лист!$P$2","v":7372.6840000000011},7370,9377.64,{"$f":"BF69+BF69*Титул.лист!$A$1","v":10315.403999999999},{"$f":"BG69+BG69*Титул.лист!$P$2","v":10315.403999999999},10320]
[null,null,600,null,"1643-60с",2357.5,{"$f":"F70+F70*Титул.лист!$A$1","v":2593.25},{"$f":"G70+G70*Титул.лист!$P$2","v":2593.25},2590,2587.5,{"$f":"J70+J70*Титул.лист!$A$1","v":2846.25},{"$f":"K70+K70*Титул.лист!$P$2","v":2846.25},2850,3335,{"$f":"N70+N70*Титул.лист!$A$1","v":3668.5},{"$f":"O70+O70*Титул.лист!$P$2","v":3668.5},3670,3392.5,{"$f":"R70+R70*Титул.лист!$A$1","v":3731.75},{"$f":"S70+S70*Титул.лист!$P$2","v":3731.75},3730,3910,{"$f":"V70+V70*Титул.лист!$A$1","v":4301},{"$f":"W70+W70*Титул.лист!$P$2","v":4301},4300,4082.5,{"$f":"Z70+Z70*Титул.лист!$A$1","v":4490.75},{"$f":"AA70+AA70*Титул.лист!$P$2","v":4490.75},4490,3335,{"$f":"AD70+AD70*Титул.лист!$A$1","v":3668.5},{"$f":"AE70+AE70*Титул.лист!$P$2","v":3668.5},3670,3565,{"$f":"AH70+AH70*Титул.лист!$A$1","v":3921.5},{"$f":"AI70+AI70*Титул.лист!$P$2","v":3921.5},3920,3680,{"$f":"AL70+AL70*Титул.лист!$A$1","v":4048},{"$f":"AM70+AM70*Титул.лист!$P$2","v":4048},4050,6337.88,{"$f":"AP70+AP70*Титул.лист!$A$1","v":6971.6679999999997},{"$f":"AQ70+AQ70*Титул.лист!$P$2","v":6971.6679999999997},6970,7182.68,{"$f":"AT70+AT70*Титул.лист!$A$1","v":7900.9480000000003},{"$f":"AU70+AU70*Титул.лист!$P$2","v":7900.9480000000003},7900,5738.84,{"$f":"AX70+AX70*Титул.лист!$A$1","v":6312.7240000000002},{"$f":"AY70+AY70*Титул.лист!$P$2","v":6312.7240000000002},6310,7259.48,{"$f":"BB70+BB70*Титул.лист!$A$1","v":7985.4279999999999},{"$f":"BC70+BC70*Титул.лист!$P$2","v":7985.4279999999999},7990,10177.880000000001,{"$f":"BF70+BF70*Титул.лист!$A$1","v":11195.668000000001},{"$f":"BG70+BG70*Титул.лист!$P$2","v":11195.668000000001},11200]
[null,"Полупенал 2я 2д",600,"h 1280","1653-60",2357.5,{"$f":"F71+F71*Титул.лист!$A$1","v":2593.25},{"$f":"G71+G71*Титул.лист!$P$2","v":2593.25},2590,2587.5,{"$f":"J71+J71*Титул.лист!$A$1","v":2846.25},{"$f":"K71+K71*Титул.лист!$P$2","v":2846.25},2850,3335,{"$f":"N71+N71*Титул.лист!$A$1","v":3668.5},{"$f":"O71+O71*Титул.лист!$P$2","v":3668.5},3670,3392.5,{"$f":"R71+R71*Титул.лист!$A$1","v":3731.75},{"$f":"S71+S71*Титул.лист!$P$2","v":3731.75},3730,3910,{"$f":"V71+V71*Титул.лист!$A$1","v":4301},{"$f":"W71+W71*Титул.лист!$P$2","v":4301},4300,4082.5,{"$f":"Z71+Z71*Титул.лист!$A$1","v":4490.75},{"$f":"AA71+AA71*Титул.лист!$P$2","v":4490.75},4490,3335,{"$f":"AD71+AD71*Титул.лист!$A$1","v":3668.5},{"$f":"AE71+AE71*Титул.лист!$P$2","v":3668.5},3670,3565,{"$f":"AH71+AH71*Титул.лист!$A$1","v":3921.5},{"$f":"AI71+AI71*Титул.лист!$P$2","v":3921.5},3920,3680,{"$f":"AL71+AL71*Титул.лист!$A$1","v":4048},{"$f":"AM71+AM71*Титул.лист!$P$2","v":4048},4050,6337.88,{"$f":"AP71+AP71*Титул.лист!$A$1","v":6971.6679999999997},{"$f":"AQ71+AQ71*Титул.лист!$P$2","v":6971.6679999999997},6970,7182.68,{"$f":"AT71+AT71*Титул.лист!$A$1","v":7900.9480000000003},{"$f":"AU71+AU71*Титул.лист!$P$2","v":7900.9480000000003},7900,5738.84,{"$f":"AX71+AX71*Титул.лист!$A$1","v":6312.7240000000002},{"$f":"AY71+AY71*Титул.лист!$P$2","v":6312.7240000000002},6310,7259.48,{"$f":"BB71+BB71*Титул.лист!$A$1","v":7985.4279999999999},{"$f":"BC71+BC71*Титул.лист!$P$2","v":7985.4279999999999},7990,10177.880000000001,{"$f":"BF71+BF71*Титул.лист!$A$1","v":11195.668000000001},{"$f":"BG71+BG71*Титул.лист!$P$2","v":11195.668000000001},11200]
[null,null,700,null,"1653-70",2711.125,{"$f":"F72+F72*Титул.лист!$A$1","v":2982.2375000000002},{"$f":"G72+G72*Титул.лист!$P$2","v":2982.2375000000002},2980,2975.625,{"$f":"J72+J72*Титул.лист!$A$1","v":3273.1875},{"$f":"K72+K72*Титул.лист!$P$2","v":3273.1875},3270,3835.25,{"$f":"N72+N72*Титул.лист!$A$1","v":4218.7749999999996},{"$f":"O72+O72*Титул.лист!$P$2","v":4218.7749999999996},4220,3901.375,{"$f":"R72+R72*Титул.лист!$A$1","v":4291.5124999999998},{"$f":"S72+S72*Титул.лист!$P$2","v":4291.5124999999998},4290,4496.5,{"$f":"V72+V72*Титул.лист!$A$1","v":4946.1499999999996},{"$f":"W72+W72*Титул.лист!$P$2","v":4946.1499999999996},4950,4694.875,{"$f":"Z72+Z72*Титул.лист!$A$1","v":5164.3625000000002},{"$f":"AA72+AA72*Титул.лист!$P$2","v":5164.3625000000002},5160,3835.25,{"$f":"AD72+AD72*Титул.лист!$A$1","v":4218.7749999999996},{"$f":"AE72+AE72*Титул.лист!$P$2","v":4218.7749999999996},4220,4099.75,{"$f":"AH72+AH72*Титул.лист!$A$1","v":4509.7250000000004},{"$f":"AI72+AI72*Титул.лист!$P$2","v":4509.7250000000004},4510,4232,{"$f":"AL72+AL72*Титул.лист!$A$1","v":4655.2},{"$f":"AM72+AM72*Титул.лист!$P$2","v":4655.2},4660,7338.6100000000006,{"$f":"AP72+AP72*Титул.лист!$A$1","v":8072.4710000000005},{"$f":"AQ72+AQ72*Титул.лист!$P$2","v":8072.4710000000005},8070,8324.2099999999991,{"$f":"AT72+AT72*Титул.лист!$A$1","v":9156.6309999999994},{"$f":"AU72+AU72*Титул.лист!$P$2","v":9156.6309999999994},9160,6639.73,{"$f":"AX72+AX72*Титул.лист!$A$1","v":7303.7029999999995},{"$f":"AY72+AY72*Титул.лист!$P$2","v":7303.7029999999995},7300,8413.8100000000013,{"$f":"BB72+BB72*Титул.лист!$A$1","v":9255.1910000000007},{"$f":"BC72+BC72*Титул.лист!$P$2","v":9255.1910000000007},9260,11818.61,{"$f":"BF72+BF72*Титул.лист!$A$1","v":13000.471000000001},{"$f":"BG72+BG72*Титул.лист!$P$2","v":13000.471000000001},13000]
[null,null,800,null,"1653-80",3117.7937499999998,{"$f":"F73+F73*Титул.лист!$A$1","v":3429.5731249999999},{"$f":"G73+G73*Титул.лист!$P$2","v":3429.5731249999999},3430,3421.96875,{"$f":"J73+J73*Титул.лист!$A$1","v":3764.1656250000001},{"$f":"K73+K73*Титул.лист!$P$2","v":3764.1656250000001},3760,4410.5375000000004,{"$f":"N73+N73*Титул.лист!$A$1","v":4851.5912500000004},{"$f":"O73+O73*Титул.лист!$P$2","v":4851.5912500000004},4850,4486.5812500000002,{"$f":"R73+R73*Титул.лист!$A$1","v":4935.2393750000001},{"$f":"S73+S73*Титул.лист!$P$2","v":4935.2393750000001},4940,5170.9750000000004,{"$f":"V73+V73*Титул.лист!$A$1","v":5688.0725000000002},{"$f":"W73+W73*Титул.лист!$P$2","v":5688.0725000000002},5690,5399.1062499999998,{"$f":"Z73+Z73*Титул.лист!$A$1","v":5939.0168749999993},{"$f":"AA73+AA73*Титул.лист!$P$2","v":5939.0168749999993},5940,4410.5375000000004,{"$f":"AD73+AD73*Титул.лист!$A$1","v":4851.5912500000004},{"$f":"AE73+AE73*Титул.лист!$P$2","v":4851.5912500000004},4850,4714.7124999999996,{"$f":"AH73+AH73*Титул.лист!$A$1","v":5186.1837499999992},{"$f":"AI73+AI73*Титул.лист!$P$2","v":5186.1837499999992},5190,4866.8,{"$f":"AL73+AL73*Титул.лист!$A$1","v":5353.4800000000005},{"$f":"AM73+AM73*Титул.лист!$P$2","v":5353.4800000000005},5350,8414.3775000000005,{"$f":"AP73+AP73*Титул.лист!$A$1","v":9255.8152499999997},{"$f":"AQ73+AQ73*Титул.лист!$P$2","v":9255.8152499999997},9260,9540.7775000000001,{"$f":"AT73+AT73*Титул.лист!$A$1","v":10494.855250000001},{"$f":"AU73+AU73*Титул.лист!$P$2","v":10494.855250000001},10490,7615.6575000000003,{"$f":"AX73+AX73*Титул.лист!$A$1","v":8377.2232500000009},{"$f":"AY73+AY73*Титул.лист!$P$2","v":8377.2232500000009},8380,9643.1775000000016,{"$f":"BB73+BB73*Титул.лист!$A$1","v":10607.495250000002},{"$f":"BC73+BC73*Титул.лист!$P$2","v":10607.495250000002},10610,13534.377500000001,{"$f":"BF73+BF73*Титул.лист!$A$1","v":14887.81525},{"$f":"BG73+BG73*Титул.лист!$P$2","v":14887.81525},14890]
[null,"Полупенал 4я 2д",600,"h 1280","1665-60",2475.375,{"$f":"F74+F74*Титул.лист!$A$1","v":2722.9124999999999},{"$f":"G74+G74*Титул.лист!$P$2","v":2722.9124999999999},2720,2716.875,{"$f":"J74+J74*Титул.лист!$A$1","v":2988.5625},{"$f":"K74+K74*Титул.лист!$P$2","v":2988.5625},2990,3501.75,{"$f":"N74+N74*Титул.лист!$A$1","v":3851.9250000000002},{"$f":"O74+O74*Титул.лист!$P$2","v":3851.9250000000002},3850,3562.125,{"$f":"R74+R74*Титул.лист!$A$1","v":3918.3375000000001},{"$f":"S74+S74*Титул.лист!$P$2","v":3918.3375000000001},3920,4105.5,{"$f":"V74+V74*Титул.лист!$A$1","v":4516.05},{"$f":"W74+W74*Титул.лист!$P$2","v":4516.05},4520,4286.625,{"$f":"Z74+Z74*Титул.лист!$A$1","v":4715.2875000000004},{"$f":"AA74+AA74*Титул.лист!$P$2","v":4715.2875000000004},4720,3501.75,{"$f":"AD74+AD74*Титул.лист!$A$1","v":3851.9250000000002},{"$f":"AE74+AE74*Титул.лист!$P$2","v":3851.9250000000002},3850,3743.25,{"$f":"AH74+AH74*Титул.лист!$A$1","v":4117.5749999999998},{"$f":"AI74+AI74*Титул.лист!$P$2","v":4117.5749999999998},4120,3864,{"$f":"AL74+AL74*Титул.лист!$A$1","v":4250.3999999999996},{"$f":"AM74+AM74*Титул.лист!$P$2","v":4250.3999999999996},4250,6504.63,{"$f":"AP74+AP74*Титул.лист!$A$1","v":7155.0929999999998},{"$f":"AQ74+AQ74*Титул.лист!$P$2","v":7155.0929999999998},7160,7349.43,{"$f":"AT74+AT74*Титул.лист!$A$1","v":8084.3730000000005},{"$f":"AU74+AU74*Титул.лист!$P$2","v":8084.3730000000005},8080,5905.59,{"$f":"AX74+AX74*Титул.лист!$A$1","v":6496.1490000000003},{"$f":"AY74+AY74*Титул.лист!$P$2","v":6496.1490000000003},6500,7426.23,{"$f":"BB74+BB74*Титул.лист!$A$1","v":8168.8529999999992},{"$f":"BC74+BC74*Титул.лист!$P$2","v":8168.8529999999992},8170,10344.630000000001,{"$f":"BF74+BF74*Титул.лист!$A$1","v":11379.093000000001},{"$f":"BG74+BG74*Титул.лист!$P$2","v":11379.093000000001},11380]
[null,null,700,null,"1665-70",2846.6812500000001,{"$f":"F75+F75*Титул.лист!$A$1","v":3131.3493750000002},{"$f":"G75+G75*Титул.лист!$P$2","v":3131.3493750000002},3130,3124.40625,{"$f":"J75+J75*Титул.лист!$A$1","v":3436.8468750000002},{"$f":"K75+K75*Титул.лист!$P$2","v":3436.8468750000002},3440,4027.0124999999998,{"$f":"N75+N75*Титул.лист!$A$1","v":4429.7137499999999},{"$f":"O75+O75*Титул.лист!$P$2","v":4429.7137499999999},4430,4096.4437500000004,{"$f":"R75+R75*Титул.лист!$A$1","v":4506.0881250000002},{"$f":"S75+S75*Титул.лист!$P$2","v":4506.0881250000002},4510,4721.3249999999998,{"$f":"V75+V75*Титул.лист!$A$1","v":5193.4574999999995},{"$f":"W75+W75*Титул.лист!$P$2","v":5193.4574999999995},5190,4929.6187499999996,{"$f":"Z75+Z75*Титул.лист!$A$1","v":5422.5806249999996},{"$f":"AA75+AA75*Титул.лист!$P$2","v":5422.5806249999996},5420,4027.0124999999998,{"$f":"AD75+AD75*Титул.лист!$A$1","v":4429.7137499999999},{"$f":"AE75+AE75*Титул.лист!$P$2","v":4429.7137499999999},4430,4304.7375000000002,{"$f":"AH75+AH75*Титул.лист!$A$1","v":4735.2112500000003},{"$f":"AI75+AI75*Титул.лист!$P$2","v":4735.2112500000003},4740,4443.6000000000004,{"$f":"AL75+AL75*Титул.лист!$A$1","v":4887.96},{"$f":"AM75+AM75*Титул.лист!$P$2","v":4887.96},4890,7530.3724999999995,{"$f":"AP75+AP75*Титул.лист!$A$1","v":8283.4097499999989},{"$f":"AQ75+AQ75*Титул.лист!$P$2","v":8283.4097499999989},8280,8515.9724999999999,{"$f":"AT75+AT75*Титул.лист!$A$1","v":9367.5697500000006},{"$f":"AU75+AU75*Титул.лист!$P$2","v":9367.5697500000006},9370,6831.4925000000003,{"$f":"AX75+AX75*Титул.лист!$A$1","v":7514.6417500000007},{"$f":"AY75+AY75*Титул.лист!$P$2","v":7514.6417500000007},7510,8605.5725000000002,{"$f":"BB75+BB75*Титул.лист!$A$1","v":9466.1297500000001},{"$f":"BC75+BC75*Титул.лист!$P$2","v":9466.1297500000001},9470,12010.372500000001,{"$f":"BF75+BF75*Титул.лист!$A$1","v":13211.409750000001},{"$f":"BG75+BG75*Титул.лист!$P$2","v":13211.409750000001},13210]
[null,null,800,null,"1665-80",3273.6834374999999,{"$f":"F76+F76*Титул.лист!$A$1","v":3601.0517812499997},{"$f":"G76+G76*Титул.лист!$P$2","v":3601.0517812499997},3600,3593.0671874999998,{"$f":"J76+J76*Титул.лист!$A$1","v":3952.3739062499999},{"$f":"K76+K76*Титул.лист!$P$2","v":3952.3739062499999},3950,4631.0643749999999,{"$f":"N76+N76*Титул.лист!$A$1","v":5094.1708124999996},{"$f":"O76+O76*Титул.лист!$P$2","v":5094.1708124999996},5090,4710.9103125000001,{"$f":"R76+R76*Титул.лист!$A$1","v":5182.0013437500002},{"$f":"S76+S76*Титул.лист!$P$2","v":5182.0013437500002},5180,5429.5237500000003,{"$f":"V76+V76*Титул.лист!$A$1","v":5972.4761250000001},{"$f":"W76+W76*Титул.лист!$P$2","v":5972.4761250000001},5970,5669.0615625,{"$f":"Z76+Z76*Титул.лист!$A$1","v":6235.9677187500001},{"$f":"AA76+AA76*Титул.лист!$P$2","v":6235.9677187500001},6240,4631.0643749999999,{"$f":"AD76+AD76*Титул.лист!$A$1","v":5094.1708124999996},{"$f":"AE76+AE76*Титул.лист!$P$2","v":5094.1708124999996},5090,4950.4481249999999,{"$f":"AH76+AH76*Титул.лист!$A$1","v":5445.4929375000002},{"$f":"AI76+AI76*Титул.лист!$P$2","v":5445.4929375000002},5450,5110.1400000000003,{"$f":"AL76+AL76*Титул.лист!$A$1","v":5621.1540000000005},{"$f":"AM76+AM76*Титул.лист!$P$2","v":5621.1540000000005},5620,8634.9043750000001,{"$f":"AP76+AP76*Титул.лист!$A$1","v":9498.3948125000006},{"$f":"AQ76+AQ76*Титул.лист!$P$2","v":9498.3948125000006},9500,9761.3043749999997,{"$f":"AT76+AT76*Титул.лист!$A$1","v":10737.4348125},{"$f":"AU76+AU76*Титул.лист!$P$2","v":10737.4348125},10740,7836.1843749999998,{"$f":"AX76+AX76*Титул.лист!$A$1","v":8619.8028125000001},{"$f":"AY76+AY76*Титул.лист!$P$2","v":8619.8028125000001},8620,9863.7043750000012,{"$f":"BB76+BB76*Титул.лист!$A$1","v":10850.074812500001},{"$f":"BC76+BC76*Титул.лист!$P$2","v":10850.074812500001},10850,13754.904375,{"$f":"BF76+BF76*Титул.лист!$A$1","v":15130.394812500001},{"$f":"BG76+BG76*Титул.лист!$P$2","v":15130.394812500001},15130]
[null,"Полупенал 2я 2д стекло",600,"h 1280","1653-60c",2946.875,{"$f":"F77+F77*Титул.лист!$A$1","v":3241.5625},{"$f":"G77+G77*Титул.лист!$P$2","v":3241.5625},3240,3234.375,{"$f":"J77+J77*Титул.лист!$A$1","v":3557.8125},{"$f":"K77+K77*Титул.лист!$P$2","v":3557.8125},3560,4168.75,{"$f":"N77+N77*Титул.лист!$A$1","v":4585.625},{"$f":"O77+O77*Титул.лист!$P$2","v":4585.625},4590,4240.625,{"$f":"R77+R77*Титул.лист!$A$1","v":4664.6875},{"$f":"S77+S77*Титул.лист!$P$2","v":4664.6875},4660,4887.5,{"$f":"V77+V77*Титул.лист!$A$1","v":5376.25},{"$f":"W77+W77*Титул.лист!$P$2","v":5376.25},5380,5103.125,{"$f":"Z77+Z77*Титул.лист!$A$1","v":5613.4375},{"$f":"AA77+AA77*Титул.лист!$P$2","v":5613.4375},5610,4168.75,{"$f":"AD77+AD77*Титул.лист!$A$1","v":4585.625},{"$f":"AE77+AE77*Титул.лист!$P$2","v":4585.625},4590,4456.25,{"$f":"AH77+AH77*Титул.лист!$A$1","v":4901.875},{"$f":"AI77+AI77*Титул.лист!$P$2","v":4901.875},4900,4600,{"$f":"AL77+AL77*Титул.лист!$A$1","v":5060},{"$f":"AM77+AM77*Титул.лист!$P$2","v":5060},5060,7171.63,{"$f":"AP77+AP77*Титул.лист!$A$1","v":7888.7929999999997},{"$f":"AQ77+AQ77*Титул.лист!$P$2","v":7888.7929999999997},7890,8016.43,{"$f":"AT77+AT77*Титул.лист!$A$1","v":8818.0730000000003},{"$f":"AU77+AU77*Титул.лист!$P$2","v":8818.0730000000003},8820,6572.59,{"$f":"AX77+AX77*Титул.лист!$A$1","v":7229.8490000000002},{"$f":"AY77+AY77*Титул.лист!$P$2","v":7229.8490000000002},7230,8093.23,{"$f":"BB77+BB77*Титул.лист!$A$1","v":8902.5529999999999},{"$f":"BC77+BC77*Титул.лист!$P$2","v":8902.5529999999999},8900,4180.1548000000003,{"$f":"BF77+BF77*Титул.лист!$A$1","v":4598.1702800000003},{"$f":"BG77+BG77*Титул.лист!$P$2","v":4598.1702800000003},4600]
[null,null,700,null,"1653-70c",3388.90625,{"$f":"F78+F78*Титул.лист!$A$1","v":3727.796875},{"$f":"G78+G78*Титул.лист!$P$2","v":3727.796875},3730,3719.53125,{"$f":"J78+J78*Титул.лист!$A$1","v":4091.484375},{"$f":"K78+K78*Титул.лист!$P$2","v":4091.484375},4090,4794.0625,{"$f":"N78+N78*Титул.лист!$A$1","v":5273.46875},{"$f":"O78+O78*Титул.лист!$P$2","v":5273.46875},5270,4876.71875,{"$f":"R78+R78*Титул.лист!$A$1","v":5364.390625},{"$f":"S78+S78*Титул.лист!$P$2","v":5364.390625},5360,5620.625,{"$f":"V78+V78*Титул.лист!$A$1","v":6182.6875},{"$f":"W78+W78*Титул.лист!$P$2","v":6182.6875},6180,5868.59375,{"$f":"Z78+Z78*Титул.лист!$A$1","v":6455.453125},{"$f":"AA78+AA78*Титул.лист!$P$2","v":6455.453125},6460,4794.0625,{"$f":"AD78+AD78*Титул.лист!$A$1","v":5273.46875},{"$f":"AE78+AE78*Титул.лист!$P$2","v":5273.46875},5270,5124.6875,{"$f":"AH78+AH78*Титул.лист!$A$1","v":5637.15625},{"$f":"AI78+AI78*Титул.лист!$P$2","v":5637.15625},5640,5290,{"$f":"AL78+AL78*Титул.лист!$A$1","v":5819},{"$f":"AM78+AM78*Титул.лист!$P$2","v":5819},5820,8297.4225000000006,{"$f":"AP78+AP78*Титул.лист!$A$1","v":9127.1647499999999},{"$f":"AQ78+AQ78*Титул.лист!$P$2","v":9127.1647499999999},9130,9283.0224999999991,{"$f":"AT78+AT78*Титул.лист!$A$1","v":10211.32475},{"$f":"AU78+AU78*Титул.лист!$P$2","v":10211.32475},10210,7598.5424999999996,{"$f":"AX78+AX78*Титул.лист!$A$1","v":8358.3967499999999},{"$f":"AY78+AY78*Титул.лист!$P$2","v":8358.3967499999999},8360,9372.6225000000013,{"$f":"BB78+BB78*Титул.лист!$A$1","v":10309.884750000001},{"$f":"BC78+BC78*Титул.лист!$P$2","v":10309.884750000001},10310,4805.4673000000003,{"$f":"BF78+BF78*Титул.лист!$A$1","v":5286.0140300000003},{"$f":"BG78+BG78*Титул.лист!$P$2","v":5286.0140300000003},5290]
[null,null,800,null,"1653-80c",3897.2421875,{"$f":"F79+F79*Титул.лист!$A$1","v":4286.9664062499996},{"$f":"G79+G79*Титул.лист!$P$2","v":4286.9664062499996},4290,4277.4609375,{"$f":"J79+J79*Титул.лист!$A$1","v":4705.20703125},{"$f":"K79+K79*Титул.лист!$P$2","v":4705.20703125},4710,5513.171875,{"$f":"N79+N79*Титул.лист!$A$1","v":6064.4890624999998},{"$f":"O79+O79*Титул.лист!$P$2","v":6064.4890624999998},6060,5608.2265625,{"$f":"R79+R79*Титул.лист!$A$1","v":6169.0492187500004},{"$f":"S79+S79*Титул.лист!$P$2","v":6169.0492187500004},6170,6463.71875,{"$f":"V79+V79*Титул.лист!$A$1","v":7110.0906249999998},{"$f":"W79+W79*Титул.лист!$P$2","v":7110.0906249999998},7110,6748.8828125,{"$f":"Z79+Z79*Титул.лист!$A$1","v":7423.7710937499996},{"$f":"AA79+AA79*Титул.лист!$P$2","v":7423.7710937499996},7420,5513.171875,{"$f":"AD79+AD79*Титул.лист!$A$1","v":6064.4890624999998},{"$f":"AE79+AE79*Титул.лист!$P$2","v":6064.4890624999998},6060,5893.390625,{"$f":"AH79+AH79*Титул.лист!$A$1","v":6482.7296875000002},{"$f":"AI79+AI79*Титул.лист!$P$2","v":6482.7296875000002},6480,6083.5,{"$f":"AL79+AL79*Титул.лист!$A$1","v":6691.85},{"$f":"AM79+AM79*Титул.лист!$P$2","v":6691.85},6690,9517.0118750000001,{"$f":"AP79+AP79*Титул.лист!$A$1","v":10468.713062500001},{"$f":"AQ79+AQ79*Титул.лист!$P$2","v":10468.713062500001},10470,10643.411875,{"$f":"AT79+AT79*Титул.лист!$A$1","v":11707.7530625},{"$f":"AU79+AU79*Титул.лист!$P$2","v":11707.7530625},11710,8718.291874999999,{"$f":"AX79+AX79*Титул.лист!$A$1","v":9590.1210624999985},{"$f":"AY79+AY79*Титул.лист!$P$2","v":9590.1210624999985},9590,10745.811874999999,{"$f":"BB79+BB79*Титул.лист!$A$1","v":11820.393062499999},{"$f":"BC79+BC79*Титул.лист!$P$2","v":11820.393062499999},11820,5524.5766750000003,{"$f":"BF79+BF79*Титул.лист!$A$1","v":6077.0343425000001},{"$f":"BG79+BG79*Титул.лист!$P$2","v":6077.0343425000001},6080]
[null,"Полупенал 4я 2д стекло",600,"h 1280","1665-60c",3094.21875,{"$f":"F80+F80*Титул.лист!$A$1","v":3403.640625},{"$f":"G80+G80*Титул.лист!$P$2","v":3403.640625},3400,3396.09375,{"$f":"J80+J80*Титул.лист!$A$1","v":3735.703125},{"$f":"K80+K80*Титул.лист!$P$2","v":3735.703125},3740,4377.1875,{"$f":"N80+N80*Титул.лист!$A$1","v":4814.90625},{"$f":"O80+O80*Титул.лист!$P$2","v":4814.90625},4810,4452.65625,{"$f":"R80+R80*Титул.лист!$A$1","v":4897.921875},{"$f":"S80+S80*Титул.лист!$P$2","v":4897.921875},4900,5131.875,{"$f":"V80+V80*Титул.лист!$A$1","v":5645.0625},{"$f":"W80+W80*Титул.лист!$P$2","v":5645.0625},5650,5358.28125,{"$f":"Z80+Z80*Титул.лист!$A$1","v":5894.109375},{"$f":"AA80+AA80*Титул.лист!$P$2","v":5894.109375},5890,4377.1875,{"$f":"AD80+AD80*Титул.лист!$A$1","v":4814.90625},{"$f":"AE80+AE80*Титул.лист!$P$2","v":4814.90625},4810,4679.0625,{"$f":"AH80+AH80*Титул.лист!$A$1","v":5146.96875},{"$f":"AI80+AI80*Титул.лист!$P$2","v":5146.96875},5150,4830,{"$f":"AL80+AL80*Титул.лист!$A$1","v":5313},{"$f":"AM80+AM80*Титул.лист!$P$2","v":5313},5310,7380.0675000000001,{"$f":"AP80+AP80*Титул.лист!$A$1","v":8118.0742499999997},{"$f":"AQ80+AQ80*Титул.лист!$P$2","v":8118.0742499999997},8120,8224.8675000000003,{"$f":"AT80+AT80*Титул.лист!$A$1","v":9047.3542500000003},{"$f":"AU80+AU80*Титул.лист!$P$2","v":9047.3542500000003},9050,6781.0275000000001,{"$f":"AX80+AX80*Титул.лист!$A$1","v":7459.1302500000002},{"$f":"AY80+AY80*Титул.лист!$P$2","v":7459.1302500000002},7460,8301.6674999999996,{"$f":"BB80+BB80*Титул.лист!$A$1","v":9131.8342499999999},{"$f":"BC80+BC80*Титул.лист!$P$2","v":9131.8342499999999},9130,11220.067500000001,{"$f":"BF80+BF80*Титул.лист!$A$1","v":12342.074250000001},{"$f":"BG80+BG80*Титул.лист!$P$2","v":12342.074250000001},12340]
[null,null,700,null,"1665-70c",3558.3515625,{"$f":"F81+F81*Титул.лист!$A$1","v":3914.1867187500002},{"$f":"G81+G81*Титул.лист!$P$2","v":3914.1867187500002},3910,3905.5078125,{"$f":"J81+J81*Титул.лист!$A$1","v":4296.05859375},{"$f":"K81+K81*Титул.лист!$P$2","v":4296.05859375},4300,5033.765625,{"$f":"N81+N81*Титул.лист!$A$1","v":5537.1421874999996},{"$f":"O81+O81*Титул.лист!$P$2","v":5537.1421874999996},5540,5120.5546875,{"$f":"R81+R81*Титул.лист!$A$1","v":5632.6101562499998},{"$f":"S81+S81*Титул.лист!$P$2","v":5632.6101562499998},5630,5901.65625,{"$f":"V81+V81*Титул.лист!$A$1","v":6491.8218749999996},{"$f":"W81+W81*Титул.лист!$P$2","v":6491.8218749999996},6490,6162.0234375,{"$f":"Z81+Z81*Титул.лист!$A$1","v":6778.2257812500002},{"$f":"AA81+AA81*Титул.лист!$P$2","v":6778.2257812500002},6780,5033.765625,{"$f":"AD81+AD81*Титул.лист!$A$1","v":5537.1421874999996},{"$f":"AE81+AE81*Титул.лист!$P$2","v":5537.1421874999996},5540,5380.921875,{"$f":"AH81+AH81*Титул.лист!$A$1","v":5919.0140625000004},{"$f":"AI81+AI81*Титул.лист!$P$2","v":5919.0140625000004},5920,5554.5,{"$f":"AL81+AL81*Титул.лист!$A$1","v":6109.95},{"$f":"AM81+AM81*Титул.лист!$P$2","v":6109.95},6110,8537.1256250000006,{"$f":"AP81+AP81*Титул.лист!$A$1","v":9390.8381875000014},{"$f":"AQ81+AQ81*Титул.лист!$P$2","v":9390.8381875000014},9390,9522.7256249999991,{"$f":"AT81+AT81*Титул.лист!$A$1","v":10474.998187499999},{"$f":"AU81+AU81*Титул.лист!$P$2","v":10474.998187499999},10470,7838.2456249999996,{"$f":"AX81+AX81*Титул.лист!$A$1","v":8622.0701874999995},{"$f":"AY81+AY81*Титул.лист!$P$2","v":8622.0701874999995},8620,9612.3256250000013,{"$f":"BB81+BB81*Титул.лист!$A$1","v":10573.558187500001},{"$f":"BC81+BC81*Титул.лист!$P$2","v":10573.558187500001},10570,13017.125625000001,{"$f":"BF81+BF81*Титул.лист!$A$1","v":14318.838187500001},{"$f":"BG81+BG81*Титул.лист!$P$2","v":14318.838187500001},14320]
[null,null,800,null,"1665-80c",4092.1042968749998,{"$f":"F82+F82*Титул.лист!$A$1","v":4501.3147265624993},{"$f":"G82+G82*Титул.лист!$P$2","v":4501.3147265624993},4500,4491.333984375,{"$f":"J82+J82*Титул.лист!$A$1","v":4940.4673828124996},{"$f":"K82+K82*Титул.лист!$P$2","v":4940.4673828124996},4940,5788.8304687500004,{"$f":"N82+N82*Титул.лист!$A$1","v":6367.7135156250006},{"$f":"O82+O82*Титул.лист!$P$2","v":6367.7135156250006},6370,5888.6378906250002,{"$f":"R82+R82*Титул.лист!$A$1","v":6477.5016796875007},{"$f":"S82+S82*Титул.лист!$P$2","v":6477.5016796875007},6480,6786.9046875000004,{"$f":"V82+V82*Титул.лист!$A$1","v":7465.5951562500004},{"$f":"W82+W82*Титул.лист!$P$2","v":7465.5951562500004},7470,7086.3269531249998,{"$f":"Z82+Z82*Титул.лист!$A$1","v":7794.9596484374997},{"$f":"AA82+AA82*Титул.лист!$P$2","v":7794.9596484374997},7790,5788.8304687500004,{"$f":"AD82+AD82*Титул.лист!$A$1","v":6367.7135156250006},{"$f":"AE82+AE82*Титул.лист!$P$2","v":6367.7135156250006},6370,6188.0601562499996,{"$f":"AH82+AH82*Титул.лист!$A$1","v":6806.866171875},{"$f":"AI82+AI82*Титул.лист!$P$2","v":6806.866171875},6810,6387.6750000000002,{"$f":"AL82+AL82*Титул.лист!$A$1","v":7026.4425000000001},{"$f":"AM82+AM82*Титул.лист!$P$2","v":7026.4425000000001},7030,9792.6704687500005,{"$f":"AP82+AP82*Титул.лист!$A$1","v":10771.937515625001},{"$f":"AQ82+AQ82*Титул.лист!$P$2","v":10771.937515625001},10770,10919.07046875,{"$f":"AT82+AT82*Титул.лист!$A$1","v":12010.977515625},{"$f":"AU82+AU82*Титул.лист!$P$2","v":12010.977515625},12010,8993.9504687500012,{"$f":"AX82+AX82*Титул.лист!$A$1","v":9893.345515625002},{"$f":"AY82+AY82*Титул.лист!$P$2","v":9893.345515625002},9890,11021.470468750002,{"$f":"BB82+BB82*Титул.лист!$A$1","v":12123.617515625001},{"$f":"BC82+BC82*Титул.лист!$P$2","v":12123.617515625001},12120,14912.670468750002,{"$f":"BF82+BF82*Титул.лист!$A$1","v":16403.937515625003},{"$f":"BG82+BG82*Титул.лист!$P$2","v":16403.937515625003},16400]
[null,"полупенал под встр. технику 1ящ.\nМЕТАБОКС",600,"h 1085","2001-60",2100,{"$f":"F83+F83*Титул.лист!$A$1","v":2310},{"$f":"G83+G83*Титул.лист!$P$2","v":2310},2310,2200,{"$f":"J83+J83*Титул.лист!$A$1","v":2420},{"$f":"K83+K83*Титул.лист!$P$2","v":2420},2420,2550,{"$f":"N83+N83*Титул.лист!$A$1","v":2805},{"$f":"O83+O83*Титул.лист!$P$2","v":2805},2810,2650,{"$f":"R83+R83*Титул.лист!$A$1","v":2915},{"$f":"S83+S83*Титул.лист!$P$2","v":2915},2920,2800,{"$f":"V83+V83*Титул.лист!$A$1","v":3080},{"$f":"W83+W83*Титул.лист!$P$2","v":3080},3080,3000,{"$f":"Z83+Z83*Титул.лист!$A$1","v":3300},{"$f":"AA83+AA83*Титул.лист!$P$2","v":3300},3300,2500,{"$f":"AD83+AD83*Титул.лист!$A$1","v":2750},{"$f":"AE83+AE83*Титул.лист!$P$2","v":2750},2750,2600,{"$f":"AH83+AH83*Титул.лист!$A$1","v":2860},{"$f":"AI83+AI83*Титул.лист!$P$2","v":2860},2860,2700,{"$f":"AL83+AL83*Титул.лист!$A$1","v":2970},{"$f":"AM83+AM83*Титул.лист!$P$2","v":2970},2970,3335.1759999999999,{"$f":"AP83+AP83*Титул.лист!$A$1","v":3668.6936000000001},{"$f":"AQ83+AQ83*Титул.лист!$P$2","v":3668.6936000000001},3670,3570.136,{"$f":"AT83+AT83*Титул.лист!$A$1","v":3927.1495999999997},{"$f":"AU83+AU83*Титул.лист!$P$2","v":3927.1495999999997},3930,9185.68,{"$f":"AX83+AX83*Титул.лист!$A$1","v":10104.248},{"$f":"AY83+AY83*Титул.лист!$P$2","v":10104.248},10100,3591.4960000000001,{"$f":"BB83+BB83*Титул.лист!$A$1","v":3950.6456000000003},{"$f":"BC83+BC83*Титул.лист!$P$2","v":3950.6456000000003},3950,4403.1759999999995,{"$f":"BF83+BF83*Титул.лист!$A$1","v":4843.4935999999998},{"$f":"BG83+BG83*Титул.лист!$P$2","v":4843.4935999999998},4840]
[null,"полупенал под встр. технику 2ящ.\nМЕТАБОКС",600,"h1420","2002-60",3440,{"$f":"F84+F84*Титул.лист!$A$1","v":3784},{"$f":"G84+G84*Титул.лист!$P$2","v":3784},3780,3640,{"$f":"J84+J84*Титул.лист!$A$1","v":4004},{"$f":"K84+K84*Титул.лист!$P$2","v":4004},4000,4450,{"$f":"N84+N84*Титул.лист!$A$1","v":4895},{"$f":"O84+O84*Титул.лист!$P$2","v":4895},4900,4660,{"$f":"R84+R84*Титул.лист!$A$1","v":5126},{"$f":"S84+S84*Титул.лист!$P$2","v":5126},5130,4890,{"$f":"V84+V84*Титул.лист!$A$1","v":5379},{"$f":"W84+W84*Титул.лист!$P$2","v":5379},5380,5160,{"$f":"Z84+Z84*Титул.лист!$A$1","v":5676},{"$f":"AA84+AA84*Титул.лист!$P$2","v":5676},5680,4300,{"$f":"AD84+AD84*Титул.лист!$A$1","v":4730},{"$f":"AE84+AE84*Титул.лист!$P$2","v":4730},4730,4400,{"$f":"AH84+AH84*Титул.лист!$A$1","v":4840},{"$f":"AI84+AI84*Титул.лист!$P$2","v":4840},4840,4500,{"$f":"AL84+AL84*Титул.лист!$A$1","v":4950},{"$f":"AM84+AM84*Титул.лист!$P$2","v":4950},4950,5979.7359999999999,{"$f":"AP84+AP84*Титул.лист!$A$1","v":6577.7096000000001},{"$f":"AQ84+AQ84*Титул.лист!$P$2","v":6577.7096000000001},6580,6464.32,{"$f":"AT84+AT84*Титул.лист!$A$1","v":7110.7519999999995},{"$f":"AU84+AU84*Титул.лист!$P$2","v":7110.7519999999995},7110,5652.16,{"$f":"AX84+AX84*Титул.лист!$A$1","v":6217.3760000000002},{"$f":"AY84+AY84*Титул.лист!$P$2","v":6217.3760000000002},6220,6507.52,{"$f":"BB84+BB84*Титул.лист!$A$1","v":7158.2720000000008},{"$f":"BC84+BC84*Титул.лист!$P$2","v":7158.2720000000008},7160,6203.1759999999995,{"$f":"BF84+BF84*Титул.лист!$A$1","v":6823.4935999999998},{"$f":"BG84+BG84*Титул.лист!$P$2","v":6823.4935999999998},6820]
[null,"полупенал под встр. технику 1дв.",600,"h1420","2001-60",2120,{"$f":"F85+F85*Титул.лист!$A$1","v":2332},{"$f":"G85+G85*Титул.лист!$P$2","v":2332},2330,2320,{"$f":"J85+J85*Титул.лист!$A$1","v":2552},{"$f":"K85+K85*Титул.лист!$P$2","v":2552},2550,2720,{"$f":"N85+N85*Титул.лист!$A$1","v":2992},{"$f":"O85+O85*Титул.лист!$P$2","v":2992},2990,2820,{"$f":"R85+R85*Титул.лист!$A$1","v":3102},{"$f":"S85+S85*Титул.лист!$P$2","v":3102},3100,3000,{"$f":"V85+V85*Титул.лист!$A$1","v":3300},{"$f":"W85+W85*Титул.лист!$P$2","v":3300},3300,3180,{"$f":"Z85+Z85*Титул.лист!$A$1","v":3498},{"$f":"AA85+AA85*Титул.лист!$P$2","v":3498},3500,2650,{"$f":"AD85+AD85*Титул.лист!$A$1","v":2915},{"$f":"AE85+AE85*Титул.лист!$P$2","v":2915},2920,2800,{"$f":"AH85+AH85*Титул.лист!$A$1","v":3080},{"$f":"AI85+AI85*Титул.лист!$P$2","v":3080},3080,3150,{"$f":"AL85+AL85*Титул.лист!$A$1","v":3465},{"$f":"AM85+AM85*Титул.лист!$P$2","v":3465},3470,4329.7359999999999,{"$f":"AP85+AP85*Титул.лист!$A$1","v":4762.7096000000001},{"$f":"AQ85+AQ85*Титул.лист!$P$2","v":4762.7096000000001},4760,4814.32,{"$f":"AT85+AT85*Титул.лист!$A$1","v":5295.7519999999995},{"$f":"AU85+AU85*Титул.лист!$P$2","v":5295.7519999999995},5300,4002.16,{"$f":"AX85+AX85*Титул.лист!$A$1","v":4402.3760000000002},{"$f":"AY85+AY85*Титул.лист!$P$2","v":4402.3760000000002},4400,4857.5200000000004,{"$f":"BB85+BB85*Титул.лист!$A$1","v":5343.2720000000008},{"$f":"BC85+BC85*Титул.лист!$P$2","v":5343.2720000000008},5340,6499.1200000000008,{"$f":"BF85+BF85*Титул.лист!$A$1","v":7149.0320000000011},{"$f":"BG85+BG85*Титул.лист!$P$2","v":7149.0320000000011},7150]
[null,"полупенал 2дв.",600,"h1420","2003-60",2930,{"$f":"F86+F86*Титул.лист!$A$1","v":3223},{"$f":"G86+G86*Титул.лист!$P$2","v":3223},3220,3100,{"$f":"J86+J86*Титул.лист!$A$1","v":3410},{"$f":"K86+K86*Титул.лист!$P$2","v":3410},3410,3800,{"$f":"N86+N86*Титул.лист!$A$1","v":4180},{"$f":"O86+O86*Титул.лист!$P$2","v":4180},4180,3950,{"$f":"R86+R86*Титул.лист!$A$1","v":4345},{"$f":"S86+S86*Титул.лист!$P$2","v":4345},4350,4200,{"$f":"V86+V86*Титул.лист!$A$1","v":4620},{"$f":"W86+W86*Титул.лист!$P$2","v":4620},4620,4400,{"$f":"Z86+Z86*Титул.лист!$A$1","v":4840},{"$f":"AA86+AA86*Титул.лист!$P$2","v":4840},4840,3670,{"$f":"AD86+AD86*Титул.лист!$A$1","v":4037},{"$f":"AE86+AE86*Титул.лист!$P$2","v":4037},4040,4000,{"$f":"AH86+AH86*Титул.лист!$A$1","v":4400},{"$f":"AI86+AI86*Титул.лист!$P$2","v":4400},4400,4200,{"$f":"AL86+AL86*Титул.лист!$A$1","v":4620},{"$f":"AM86+AM86*Титул.лист!$P$2","v":4620},4620,6766.72,{"$f":"AP86+AP86*Титул.лист!$A$1","v":7443.3919999999998},{"$f":"AQ86+AQ86*Титул.лист!$P$2","v":7443.3919999999998},7440,7637.92,{"$f":"AT86+AT86*Титул.лист!$A$1","v":8401.7119999999995},{"$f":"AU86+AU86*Титул.лист!$P$2","v":8401.7119999999995},8400,6148.96,{"$f":"AX86+AX86*Титул.лист!$A$1","v":6763.8559999999998},{"$f":"AY86+AY86*Титул.лист!$P$2","v":6763.8559999999998},6760,7717.1200000000008,{"$f":"BB86+BB86*Титул.лист!$A$1","v":8488.8320000000003},{"$f":"BC86+BC86*Титул.лист!$P$2","v":8488.8320000000003},8490,10726.720000000001,{"$f":"BF86+BF86*Титул.лист!$A$1","v":11799.392000000002},{"$f":"BG86+BG86*Титул.лист!$P$2","v":11799.392000000002},11800]
[null,"Пенал 2 двери Н=2140",600,"h2140","1704-60",4320,{"$f":"F87+F87*Титул.лист!$A$1","v":4752},{"$f":"G87+G87*Титул.лист!$P$2","v":4752},4750,4520,{"$f":"J87+J87*Титул.лист!$A$1","v":4972},{"$f":"K87+K87*Титул.лист!$P$2","v":4972},4970,5700,{"$f":"N87+N87*Титул.лист!$A$1","v":6270},{"$f":"O87+O87*Титул.лист!$P$2","v":6270},6270,5900,{"$f":"R87+R87*Титул.лист!$A$1","v":6490},{"$f":"S87+S87*Титул.лист!$P$2","v":6490},6490,6280,{"$f":"V87+V87*Титул.лист!$A$1","v":6908},{"$f":"W87+W87*Титул.лист!$P$2","v":6908},6910,6480,{"$f":"Z87+Z87*Титул.лист!$A$1","v":7128},{"$f":"AA87+AA87*Титул.лист!$P$2","v":7128},7130,5400,{"$f":"AD87+AD87*Титул.лист!$A$1","v":5940},{"$f":"AE87+AE87*Титул.лист!$P$2","v":5940},5940,5900,{"$f":"AH87+AH87*Титул.лист!$A$1","v":6490},{"$f":"AI87+AI87*Титул.лист!$P$2","v":6490},6490,6100,{"$f":"AL87+AL87*Титул.лист!$A$1","v":6710},{"$f":"AM87+AM87*Титул.лист!$P$2","v":6710},6710,10185.84,{"$f":"AP87+AP87*Титул.лист!$A$1","v":11204.424000000001},{"$f":"AQ87+AQ87*Титул.лист!$P$2","v":11204.424000000001},11200,11532.240000000002,{"$f":"AT87+AT87*Титул.лист!$A$1","v":12685.464000000002},{"$f":"AU87+AU87*Титул.лист!$P$2","v":12685.464000000002},12690,9231.1200000000008,{"$f":"AX87+AX87*Титул.лист!$A$1","v":10154.232},{"$f":"AY87+AY87*Титул.лист!$P$2","v":10154.232},10150,11654.640000000001,{"$f":"BB87+BB87*Титул.лист!$A$1","v":12820.104000000001},{"$f":"BC87+BC87*Титул.лист!$P$2","v":12820.104000000001},12820,16305.840000000002,{"$f":"BF87+BF87*Титул.лист!$A$1","v":17936.424000000003},{"$f":"BG87+BG87*Титул.лист!$P$2","v":17936.424000000003},17940]
[null,"Пенал 6 дверей  ",600,"h2140","1705-60",4880,{"$f":"F88+F88*Титул.лист!$A$1","v":5368},{"$f":"G88+G88*Титул.лист!$P$2","v":5368},5370,5020,{"$f":"J88+J88*Титул.лист!$A$1","v":5522},{"$f":"K88+K88*Титул.лист!$P$2","v":5522},5520,6650,{"$f":"N88+N88*Титул.лист!$A$1","v":7315},{"$f":"O88+O88*Титул.лист!$P$2","v":7315},7320,6850,{"$f":"R88+R88*Титул.лист!$A$1","v":7535},{"$f":"S88+S88*Титул.лист!$P$2","v":7535},7540,7120,{"$f":"V88+V88*Титул.лист!$A$1","v":7832},{"$f":"W88+W88*Титул.лист!$P$2","v":7832},7830,7320,{"$f":"Z88+Z88*Титул.лист!$A$1","v":8052},{"$f":"AA88+AA88*Титул.лист!$P$2","v":8052},8050,6100,{"$f":"AD88+AD88*Титул.лист!$A$1","v":6710},{"$f":"AE88+AE88*Титул.лист!$P$2","v":6710},6710,6300,{"$f":"AH88+AH88*Титул.лист!$A$1","v":6930},{"$f":"AI88+AI88*Титул.лист!$P$2","v":6930},6930,6500,{"$f":"AL88+AL88*Титул.лист!$A$1","v":7150},{"$f":"AM88+AM88*Титул.лист!$P$2","v":7150},7150,10885.84,{"$f":"AP88+AP88*Титул.лист!$A$1","v":11974.424000000001},{"$f":"AQ88+AQ88*Титул.лист!$P$2","v":11974.424000000001},11970,12232.240000000002,{"$f":"AT88+AT88*Титул.лист!$A$1","v":13455.464000000002},{"$f":"AU88+AU88*Титул.лист!$P$2","v":13455.464000000002},13460,9931.1200000000008,{"$f":"AX88+AX88*Титул.лист!$A$1","v":10924.232},{"$f":"AY88+AY88*Титул.лист!$P$2","v":10924.232},10920,12354.640000000001,{"$f":"BB88+BB88*Титул.лист!$A$1","v":13590.104000000001},{"$f":"BC88+BC88*Титул.лист!$P$2","v":13590.104000000001},13590,17005.840000000004,{"$f":"BF88+BF88*Титул.лист!$A$1","v":18706.424000000003},{"$f":"BG88+BG88*Титул.лист!$P$2","v":18706.424000000003},18710]
[null,null,600,"h2340","1706-60",5040,{"$f":"F89+F89*Титул.лист!$A$1","v":5544},{"$f":"G89+G89*Титул.лист!$P$2","v":5544},5540,5240,{"$f":"J89+J89*Титул.лист!$A$1","v":5764},{"$f":"K89+K89*Титул.лист!$P$2","v":5764},5760,6700,{"$f":"N89+N89*Титул.лист!$A$1","v":7370},{"$f":"O89+O89*Титул.лист!$P$2","v":7370},7370,6990,{"$f":"R89+R89*Титул.лист!$A$1","v":7689},{"$f":"S89+S89*Титул.лист!$P$2","v":7689},7690,7320,{"$f":"V89+V89*Титул.лист!$A$1","v":8052},{"$f":"W89+W89*Титул.лист!$P$2","v":8052},8050,7560,{"$f":"Z89+Z89*Титул.лист!$A$1","v":8316},{"$f":"AA89+AA89*Титул.лист!$P$2","v":8316},8320,6300,{"$f":"AD89+AD89*Титул.лист!$A$1","v":6930},{"$f":"AE89+AE89*Титул.лист!$P$2","v":6930},6930,6500,{"$f":"AH89+AH89*Титул.лист!$A$1","v":7150},{"$f":"AI89+AI89*Титул.лист!$P$2","v":7150},7150,6700,{"$f":"AL89+AL89*Титул.лист!$A$1","v":7370},{"$f":"AM89+AM89*Титул.лист!$P$2","v":7370},7370,11555.039999999999,{"$f":"AP89+AP89*Титул.лист!$A$1","v":12710.543999999998},{"$f":"AQ89+AQ89*Титул.лист!$P$2","v":12710.543999999998},12710,13033.439999999999,{"$f":"AT89+AT89*Титул.лист!$A$1","v":14336.784},{"$f":"AU89+AU89*Титул.лист!$P$2","v":14336.784},14340,10506.72,{"$f":"AX89+AX89*Титул.лист!$A$1","v":11557.392},{"$f":"AY89+AY89*Титул.лист!$P$2","v":11557.392},11560,13167.84,{"$f":"BB89+BB89*Титул.лист!$A$1","v":14484.624},{"$f":"BC89+BC89*Титул.лист!$P$2","v":14484.624},14480,18275.04,{"$f":"BF89+BF89*Титул.лист!$A$1","v":20102.544000000002},{"$f":"BG89+BG89*Титул.лист!$P$2","v":20102.544000000002},20100]
[null,"Пенал под встр технику 2 двери ",600,"h2140","1707-60",3520,{"$f":"F90+F90*Титул.лист!$A$1","v":3872},{"$f":"G90+G90*Титул.лист!$P$2","v":3872},3870,3720,{"$f":"J90+J90*Титул.лист!$A$1","v":4092},{"$f":"K90+K90*Титул.лист!$P$2","v":4092},4090,4550,{"$f":"N90+N90*Титул.лист!$A$1","v":5005},{"$f":"O90+O90*Титул.лист!$P$2","v":5005},5010,4700,{"$f":"R90+R90*Титул.лист!$A$1","v":5170},{"$f":"S90+S90*Титул.лист!$P$2","v":5170},5170,5000,{"$f":"V90+V90*Титул.лист!$A$1","v":5500},{"$f":"W90+W90*Титул.лист!$P$2","v":5500},5500,5280,{"$f":"Z90+Z90*Титул.лист!$A$1","v":5808},{"$f":"AA90+AA90*Титул.лист!$P$2","v":5808},5810,4400,{"$f":"AD90+AD90*Титул.лист!$A$1","v":4840},{"$f":"AE90+AE90*Титул.лист!$P$2","v":4840},4840,4500,{"$f":"AH90+AH90*Титул.лист!$A$1","v":4950},{"$f":"AI90+AI90*Титул.лист!$P$2","v":4950},4950,4600,{"$f":"AL90+AL90*Титул.лист!$A$1","v":5060},{"$f":"AM90+AM90*Титул.лист!$P$2","v":5060},5060,7778.24,{"$f":"AP90+AP90*Титул.лист!$A$1","v":8556.0640000000003},{"$f":"AQ90+AQ90*Титул.лист!$P$2","v":8556.0640000000003},8560,9029.24,{"$f":"AT90+AT90*Титул.лист!$A$1","v":9932.1640000000007},{"$f":"AU90+AU90*Титул.лист!$P$2","v":9932.1640000000007},9930,7104.32,{"$f":"AX90+AX90*Титул.лист!$A$1","v":7814.7519999999995},{"$f":"AY90+AY90*Титул.лист!$P$2","v":7814.7519999999995},7810,8815.0400000000009,{"$f":"BB90+BB90*Титул.лист!$A$1","v":9696.5440000000017},{"$f":"BC90+BC90*Титул.лист!$P$2","v":9696.5440000000017},9700,12098.240000000002,{"$f":"BF90+BF90*Титул.лист!$A$1","v":13308.064000000002},{"$f":"BG90+BG90*Титул.лист!$P$2","v":13308.064000000002},13310]
[null,null,600,"h2340","1708-60",4000,{"$f":"F91+F91*Титул.лист!$A$1","v":4400},{"$f":"G91+G91*Титул.лист!$P$2","v":4400},4400,4200,{"$f":"J91+J91*Титул.лист!$A$1","v":4620},{"$f":"K91+K91*Титул.лист!$P$2","v":4620},4620,4700,{"$f":"N91+N91*Титул.лист!$A$1","v":5170},{"$f":"O91+O91*Титул.лист!$P$2","v":5170},5170,5000,{"$f":"R91+R91*Титул.лист!$A$1","v":5500},{"$f":"S91+S91*Титул.лист!$P$2","v":5500},5500,5800,{"$f":"V91+V91*Титул.лист!$A$1","v":6380},{"$f":"W91+W91*Титул.лист!$P$2","v":6380},6380,6000,{"$f":"Z91+Z91*Титул.лист!$A$1","v":6600},{"$f":"AA91+AA91*Титул.лист!$P$2","v":6600},6600,5000,{"$f":"AD91+AD91*Титул.лист!$A$1","v":5500},{"$f":"AE91+AE91*Титул.лист!$P$2","v":5500},5500,5100,{"$f":"AH91+AH91*Титул.лист!$A$1","v":5610},{"$f":"AI91+AI91*Титул.лист!$P$2","v":5610},5610,5200,{"$f":"AL91+AL91*Титул.лист!$A$1","v":5720},{"$f":"AM91+AM91*Титул.лист!$P$2","v":5720},5720,8847.44,{"$f":"AP91+AP91*Титул.лист!$A$1","v":9732.1840000000011},{"$f":"AQ91+AQ91*Титул.лист!$P$2","v":9732.1840000000011},9730,10230.44,{"$f":"AT91+AT91*Титул.лист!$A$1","v":11253.484},{"$f":"AU91+AU91*Титул.лист!$P$2","v":11253.484},11250,8079.92,{"$f":"AX91+AX91*Титул.лист!$A$1","v":8887.9120000000003},{"$f":"AY91+AY91*Титул.лист!$P$2","v":8887.9120000000003},8890,10028.24,{"$f":"BB91+BB91*Титул.лист!$A$1","v":11031.064},{"$f":"BC91+BC91*Титул.лист!$P$2","v":11031.064},11030,13767.44,{"$f":"BF91+BF91*Титул.лист!$A$1","v":15144.184000000001},{"$f":"BG91+BG91*Титул.лист!$P$2","v":15144.184000000001},15140]
[null,"Пенал под встр технику 1 дверь 2 ящ.\nМЕТАБОКС ",600,"h2140","1709-60",4800,{"$f":"F92+F92*Титул.лист!$A$1","v":5280},{"$f":"G92+G92*Титул.лист!$P$2","v":5280},5280,5000,{"$f":"J92+J92*Титул.лист!$A$1","v":5500},{"$f":"K92+K92*Титул.лист!$P$2","v":5500},5500,6000,{"$f":"N92+N92*Титул.лист!$A$1","v":6600},{"$f":"O92+O92*Титул.лист!$P$2","v":6600},6600,6300,{"$f":"R92+R92*Титул.лист!$A$1","v":6930},{"$f":"S92+S92*Титул.лист!$P$2","v":6930},6930,6800,{"$f":"V92+V92*Титул.лист!$A$1","v":7480},{"$f":"W92+W92*Титул.лист!$P$2","v":7480},7480,7200,{"$f":"Z92+Z92*Титул.лист!$A$1","v":7920},{"$f":"AA92+AA92*Титул.лист!$P$2","v":7920},7920,6000,{"$f":"AD92+AD92*Титул.лист!$A$1","v":6600},{"$f":"AE92+AE92*Титул.лист!$P$2","v":6600},6600,6100,{"$f":"AH92+AH92*Титул.лист!$A$1","v":6710},{"$f":"AI92+AI92*Титул.лист!$P$2","v":6710},6710,6300,{"$f":"AL92+AL92*Титул.лист!$A$1","v":6930},{"$f":"AM92+AM92*Титул.лист!$P$2","v":6930},6930,9378.24,{"$f":"AP92+AP92*Титул.лист!$A$1","v":10316.064},{"$f":"AQ92+AQ92*Титул.лист!$P$2","v":10316.064},10320,10629.24,{"$f":"AT92+AT92*Титул.лист!$A$1","v":11692.164000000001},{"$f":"AU92+AU92*Титул.лист!$P$2","v":11692.164000000001},11690,8704.32,{"$f":"AX92+AX92*Титул.лист!$A$1","v":9574.7520000000004},{"$f":"AY92+AY92*Титул.лист!$P$2","v":9574.7520000000004},9570,10415.040000000001,{"$f":"BB92+BB92*Титул.лист!$A$1","v":11456.544000000002},{"$f":"BC92+BC92*Титул.лист!$P$2","v":11456.544000000002},11460,13698.240000000002,{"$f":"BF92+BF92*Титул.лист!$A$1","v":15068.064000000002},{"$f":"BG92+BG92*Титул.лист!$P$2","v":15068.064000000002},15070]
[null,null,600,"h2340","1710-60",5200,{"$f":"F93+F93*Титул.лист!$A$1","v":5720},{"$f":"G93+G93*Титул.лист!$P$2","v":5720},5720,5500,{"$f":"J93+J93*Титул.лист!$A$1","v":6050},{"$f":"K93+K93*Титул.лист!$P$2","v":6050},6050,6500,{"$f":"N93+N93*Титул.лист!$A$1","v":7150},{"$f":"O93+O93*Титул.лист!$P$2","v":7150},7150,6800,{"$f":"R93+R93*Титул.лист!$A$1","v":7480},{"$f":"S93+S93*Титул.лист!$P$2","v":7480},7480,7220,{"$f":"V93+V93*Титул.лист!$A$1","v":7942},{"$f":"W93+W93*Титул.лист!$P$2","v":7942},7940,7500,{"$f":"Z93+Z93*Титул.лист!$A$1","v":8250},{"$f":"AA93+AA93*Титул.лист!$P$2","v":8250},8250,6500,{"$f":"AD93+AD93*Титул.лист!$A$1","v":7150},{"$f":"AE93+AE93*Титул.лист!$P$2","v":7150},7150,6600,{"$f":"AH93+AH93*Титул.лист!$A$1","v":7260},{"$f":"AI93+AI93*Титул.лист!$P$2","v":7260},7260,6800,{"$f":"AL93+AL93*Титул.лист!$A$1","v":7480},{"$f":"AM93+AM93*Титул.лист!$P$2","v":7480},7480,10347.44,{"$f":"AP93+AP93*Титул.лист!$A$1","v":11382.184000000001},{"$f":"AQ93+AQ93*Титул.лист!$P$2","v":11382.184000000001},11380,11730.44,{"$f":"AT93+AT93*Титул.лист!$A$1","v":12903.484},{"$f":"AU93+AU93*Титул.лист!$P$2","v":12903.484},12900,9579.92,{"$f":"AX93+AX93*Титул.лист!$A$1","v":10537.912},{"$f":"AY93+AY93*Титул.лист!$P$2","v":10537.912},10540,11528.24,{"$f":"BB93+BB93*Титул.лист!$A$1","v":12681.064},{"$f":"BC93+BC93*Титул.лист!$P$2","v":12681.064},12680,15267.44,{"$f":"BF93+BF93*Титул.лист!$A$1","v":16794.184000000001},{"$f":"BG93+BG93*Титул.лист!$P$2","v":16794.184000000001},16790]
[null,"Пенал под встр технику 2 дверь 2 ящ.\nМЕТАБОКС ",600,"h2140","1711-60",5100,{"$f":"F94+F94*Титул.лист!$A$1","v":5610},{"$f":"G94+G94*Титул.лист!$P$2","v":5610},5610,5400,{"$f":"J94+J94*Титул.лист!$A$1","v":5940},{"$f":"K94+K94*Титул.лист!$P$2","v":5940},5940,6750,{"$f":"N94+N94*Титул.лист!$A$1","v":7425},{"$f":"O94+O94*Титул.лист!$P$2","v":7425},7430,6950,{"$f":"R94+R94*Титул.лист!$A$1","v":7645},{"$f":"S94+S94*Титул.лист!$P$2","v":7645},7650,7250,{"$f":"V94+V94*Титул.лист!$A$1","v":7975},{"$f":"W94+W94*Титул.лист!$P$2","v":7975},7980,7600,{"$f":"Z94+Z94*Титул.лист!$A$1","v":8360},{"$f":"AA94+AA94*Титул.лист!$P$2","v":8360},8360,6500,{"$f":"AD94+AD94*Титул.лист!$A$1","v":7150},{"$f":"AE94+AE94*Титул.лист!$P$2","v":7150},7150,6700,{"$f":"AH94+AH94*Титул.лист!$A$1","v":7370},{"$f":"AI94+AI94*Титул.лист!$P$2","v":7370},7370,6900,{"$f":"AL94+AL94*Титул.лист!$A$1","v":7590},{"$f":"AM94+AM94*Титул.лист!$P$2","v":7590},7590,9878.24,{"$f":"AP94+AP94*Титул.лист!$A$1","v":10866.064},{"$f":"AQ94+AQ94*Титул.лист!$P$2","v":10866.064},10870,11129.24,{"$f":"AT94+AT94*Титул.лист!$A$1","v":12242.164000000001},{"$f":"AU94+AU94*Титул.лист!$P$2","v":12242.164000000001},12240,9204.32,{"$f":"AX94+AX94*Титул.лист!$A$1","v":10124.752},{"$f":"AY94+AY94*Титул.лист!$P$2","v":10124.752},10120,10915.04,{"$f":"BB94+BB94*Титул.лист!$A$1","v":12006.544000000002},{"$f":"BC94+BC94*Титул.лист!$P$2","v":12006.544000000002},12010,14198.240000000002,{"$f":"BF94+BF94*Титул.лист!$A$1","v":15618.064000000002},{"$f":"BG94+BG94*Титул.лист!$P$2","v":15618.064000000002},15620]
[null,null,600,"h2340","1712-60",5450,{"$f":"F95+F95*Титул.лист!$A$1","v":5995},{"$f":"G95+G95*Титул.лист!$P$2","v":5995},6000,5750,{"$f":"J95+J95*Титул.лист!$A$1","v":6325},{"$f":"K95+K95*Титул.лист!$P$2","v":6325},6330,7100,{"$f":"N95+N95*Титул.лист!$A$1","v":7810},{"$f":"O95+O95*Титул.лист!$P$2","v":7810},7810,7300,{"$f":"R95+R95*Титул.лист!$A$1","v":8030},{"$f":"S95+S95*Титул.лист!$P$2","v":8030},8030,7500,{"$f":"V95+V95*Титул.лист!$A$1","v":8250},{"$f":"W95+W95*Титул.лист!$P$2","v":8250},8250,7900,{"$f":"Z95+Z95*Титул.лист!$A$1","v":8690},{"$f":"AA95+AA95*Титул.лист!$P$2","v":8690},8690,7000,{"$f":"AD95+AD95*Титул.лист!$A$1","v":7700},{"$f":"AE95+AE95*Титул.лист!$P$2","v":7700},7700,7200,{"$f":"AH95+AH95*Титул.лист!$A$1","v":7920},{"$f":"AI95+AI95*Титул.лист!$P$2","v":7920},7920,7300,{"$f":"AL95+AL95*Титул.лист!$A$1","v":8030},{"$f":"AM95+AM95*Титул.лист!$P$2","v":8030},8030,10847.44,{"$f":"AP95+AP95*Титул.лист!$A$1","v":11932.184000000001},{"$f":"AQ95+AQ95*Титул.лист!$P$2","v":11932.184000000001},11930,12230.44,{"$f":"AT95+AT95*Титул.лист!$A$1","v":13453.484},{"$f":"AU95+AU95*Титул.лист!$P$2","v":13453.484},13450,10079.92,{"$f":"AX95+AX95*Титул.лист!$A$1","v":11087.912},{"$f":"AY95+AY95*Титул.лист!$P$2","v":11087.912},11090,12028.24,{"$f":"BB95+BB95*Титул.лист!$A$1","v":13231.064},{"$f":"BC95+BC95*Титул.лист!$P$2","v":13231.064},13230,15767.439999999999,{"$f":"BF95+BF95*Титул.лист!$A$1","v":17344.183999999997},{"$f":"BG95+BG95*Титул.лист!$P$2","v":17344.183999999997},17340]

{"sheet":"Ручки","index":5,"n_rows":33,"n_cols":6,"rows_kept":33,"cut":false,"hidden":false,"merged":[[1,0,8,0],[23,3,24,3],[20,1,21,1],[3,2,7,2],[10,1,12,1],[23,0,24,0],[23,1,24,1],[13,1,14,1],[15,1,16,1],[18,1,19,1],[20,0,21,0],[18,0,19,0],[15,0,16,0],[13,0,14,0],[10,0,12,0]]}
[null,"Вид","Название","Цвет","ДОПЛАТА к базовой","Цена, шт."]
["Базовая комплектация",null,"Рейлинг пластик 96 (базовая)"," хром",0,25]
[null,null,"Ручка скоба 96 (базовая)","золото, хром",0,25]
[null,null,"С-18 пластик, металл 96, 128, 160 мм","черный",0,25]
[null,null,null,"белый",0,25]
[null,null,null,"Ясень шимо св.",0,25]
[null,null,null,"клен",0,25]
[null,null,null,"ольха",0,25]
[null,null,"С-17пластик 96 мм","Металл-металл,                         металл-черный,                           металл-белый          ",0,25]
["Доплата, руб.",null,"Ручка ОФК белый+бронза","старая медь",80,105]
["Доплата, руб.",null,"Рейлинг 96\n","хром глянец",40,65]
[null,null,"\nРейлинг 128\n","хром глянец",40,65]
[null,null,"\nРейлинг 162","хром глянец",50,75]
["Доплата, руб.",null,"FS-040-128","хром матовый",100,125]
["Доплата, руб.",null,"FS-040-160","хром матовый",135,160]
["Доплата, руб.",null,"Скоба RS-006-96","бронза",30,55]
["Доплата, руб.",null,"Скоба RS-006-128","бронза",45,70]
["Доплата, руб.",null,"Кнопка RK-001 BA","бронза",25,50]
["Доплата, руб.",null,"Скоба RS-008-96","бронза",40,65]
["Доплата, руб.",null,"Скоба RS-008-128","бронза",45,70]
["Доплата, руб.",null,"Скоба RS-016-96","бронза",50,75]
[null,null,"Скоба RS-016-128","бронза",70,95]
[null,null,"Un9408, мат. 128 мм ","хром",80,105]
["Доплата, руб.",null,"Скоба 1016, 96 мм","мат. хром                                                        мат.никель ",98,123]
[null,null,"Скоба 1016, 128 мм",null,120,145]
["Доплата, руб.",null,"Скоба,  224 мм","Хром",120,145]
["Доплата, руб.",null,"Скоба Модерн, 160 мм","Хром",150,175]
["Доплата, руб.",null,"Скоба GM 21-4, 128 мм ","Хром",130,155]
["Доплата, руб.",null,"Скоба RS 43, белый+золото","128 мм",120,145]
["Доплата, руб.",null,"Скоба fs 144, 96 мм ","белый+золото",210,235]
["Доплата, руб.",null,"Скоба fs 144,  96 мм","белый+серебро",210,235]
["Доплата, руб.",null,"Скоба fs 129, 128 мм"," белый+золото",250,275]
["Доплата, руб.",null,"Скоба fs 129, 128 мм  ","белый+серебро",250,275]

{"sheet":"Витраж","index":6,"n_rows":1,"n_cols":10,"rows_kept":1,"cut":false,"hidden":false,"merged":[[0,0,1,7],[0,9,1,20]]}
["1 кат. - 2620 ",null,null,null,null,null,null,null,null,"2 кат. - 3740"]

{"sheet":"столешницы и т.д.","index":7,"n_rows":98,"n_cols":7,"rows_kept":98,"cut":false,"hidden":false,"merged":[[46,2,46,3],[58,2,58,3],[59,2,59,3],[60,2,60,3],[61,2,61,3],[49,1,49,6],[50,1,51,3],[50,4,50,6],[52,1,52,3],[53,1,53,3],[55,1,55,6],[56,1,57,3],[56,4,56,6],[36,2,36,3],[43,2,43,3],[44,2,44,3],[45,2,45,3],[38,0,38,6],[40,1,40,6],[41,1,42,3],[41,4,41,6],[43,4,44,4],[2,0,36,0],[31,2,31,3],[32,2,32,3],[33,2,33,3],[34,2,34,3],[35,2,35,3],[26,2,26,3],[20,2,20,3],[27,2,27,3],[28,2,28,3],[29,2,29,3],[30,2,30,3],[21,2,21,3],[22,2,22,3],[23,2,23,3],[24,2,24,3],[25,2,25,3],[14,2,14,3],[15,2,15,3],[16,2,16,3],[17,2,17,3],[19,2,19,3],[18,2,18,3],[84,0,88,0],[91,0,92,0],[97,0,97,3],[1,2,1,3],[2,2,2,3],[3,2,3,3],[4,2,4,3],[5,2,5,3],[6,2,6,3],[7,2,7,3],[8,2,8,3],[9,2,9,3],[10,2,10,3],[11,2,11,3],[12,2,12,3],[13,2,13,3]]}
["Доплаты на столешницы                                                                                                                                  "]
[null,"Толщина постформинга","Цвет",null,"Толщина постформинга 26","Толщина постформинга 38в.","Замена \nугловой 26 на 38в."]
["Категория пластика(руб./п.м.)","1 ц.к.","2338 Лунный металл",null,0,530," -"]
[null,"1 ц.к.","2236 Семолина бежевая",null,0,530," -"]
[null,"1 ц.к.","2235 Семолина серая",null,0,530," -"]
[null,"1 ц.к.","5004 Цветочный сатин",null,0,530," -"]
[null,"1 ц.к.","2424 Мрамор  каррара",null,0,530," -"]
[null,"1 ц.к.","905 Белые камни",null,0,530," -"]
[null,"1 ц.к.","3842 Дуглас светлый",null,0,530," -"]
[null,"1 ц.к.","3842 Дуглас светлый",null,0,530," -"]
[null,"1 ц.к.","4026 аламбра светлая",null,0,530," -"]
[null,"1 ц.к.","3521 Тростник",null,0,530," -"]
[null,"1 ц.к.","2369 Ракушки",null,0,530," -"]
[null,"1 ц.к.","3844 Дуглас темный",null,0,530," -"]
[null,"1 ц.к.","5022 дуб беленый",null,0,530," -"]
[null,"1 ц.к.","2430 Антарес",null,0,530," -"]
[null,"1 ц.к.","2182 Мейсон ваниль",null,0,530," -"]
[null,"1 ц.к.","4011 Алеппо",null,0,530," -"]
[null,"1 ц.к.","3029 марквина черный",null,0,530," -"]
[null,"2 ц.к.","700 Роза Альба",null,270,960," -"]
[null,"2 ц.к.","3845 Дуглас мокко",null,270,960," -"]
[null,"2 ц.к.","713 Черный гранит",null,270,960," -"]
[null,"2 ц.к.","715 Карамельная роза",null,270,960," -"]
[null,"2 ц.к.","2237 Семолина \nкарамельная",null,270,960," -"]
[null,"2 ц.к.","1021Q черный",null,270,960," -"]
[null,"2 ц.к.","1111Q белый",null,270,960," -"]
[null,"2 ц.к.","2013 \nюрский камень",null,270,960," -"]
[null,"2 ц.к. на стен панели планка 6мм","400Б бриллиант белый",null,270,960," -"]
[null,"2 ц.к. на стен панели планка 6мм","401 Бриллиант черный",null,270,960," -"]
[null,"2 ц.к. на стен панели планка 6мм","1 венге",null,270,960," -"]
[null,"2 ц.к. на стен панели планка 6мм","120 олива жемчужная",null,270,960," -"]
[null,"3 ц.к.","707Г королевский опал светлый\n",null,470,1240," -"]
[null,"3 ц.к.","708Г лабрадор",null,470,1240," -"]
[null,"3 ц.к.","905Г белые камни",null,470,1240," -"]
[null,"3 ц.к.","905Г белые",null,470,1240," -"]
[null,"3 ц.к.","909Г красный гранит",null,470,1240," -"]
[null,"3 ц.к.","713Г черный гранит\n",null,470,1240," -"]
[]
["Столешницы 400Б брилиант белый, 401 Бриллиант черный, 1 венге,                                                                                  120 олива жемчужная трапеции не могут быть выполнены "]
[]
[null,"Доплата на столы трапеции 800*800 и 900*900"]
[null,"Толщина постформинга",null,null,"Категория пластика(руб./п.м.)"]
[null,null,null,null,"1 ц.к.","2ц.к.","3ц.к."]
[null,"26 мм","размер 800*800",null,"база",1610,1800]
[null,"26 мм","размер 900*900",null,null,2160,2400]
[null,"38 мм","размер 800*800",null,2230,2980,3520]
[null,"38 мм","размер 900*900",null,2830,3800,4520]
[]
[]
[null,"Отдельные столешницы прямые , радиусные"]
[null,"Толщина постформинга",null,null,"Категория пластика(руб./п.м.)"]
[null,null,null,null,"1 ц.к.","2ц.к.","3ц.к."]
[null,"26 мм",null,null,920,1100,1250]
[null,"38 мм ",null,null,1410,1740,2020]
[]
[null,"Отдельные столешницы на столы трапеции 800*800 и 900*900"]
[null,"Толщина постформинга",null,null,"Категория пластика(руб./п.м.)"]
[null,null,null,null,"1 ц.к.","2ц.к.","3ц.к."]
[null,"26 мм","размер 800*800",null,2460,2980,3170]
[null,"26 мм","размер 900*900",null,3280,3980,4220]
[null,"38 мм","размер 800*800",null,3600,4350,4890]
[null,"38 мм","размер 900*900",null,4660,5620,6340]
[]
[]
["Козырьки"]
["Наименование","цена"]
["Козырек глубиной 300 мм. р\\м.п.",170]
["Козырек глубиной 300 мм. радиусный, л\\пр. р\\м.п.",250]
["Козырек глубиной 500мм. р\\м.п.",300]
["Козырек глубиной 500мм. радиусный, л\\пр. р\\м.п.",300]
["Козырек глубиной 500мм. скошенный л\\пр. р\\м.п.",300]
["Козырек глубиной 500мм. угловой трапециевидный",250]
[]
[]
["БАРНАЯ СТОЙКА","Цена Барной стойки за шт. максимальная длина 3000мм, глубина 400/600"]
["Рисунок","Наименование","1 ц.к.","2 ц.к.","3 ц.к."]
[null,"Барная стойка, толщина 26",1950,2650,3100]
[null,"Барная стойка, толщина 38в.",3150,4390,5090]
[]
["ДЕКОРАТИВНЫЕ ЭЛЕМЕНТЫ (отдельно заказывать нельзя!!!только к кухонному гарнитуру)ДОЗАКАЗЫ НЕ ПРИНИМАЕМ!"]
["Рисунок","Наименование","цена МДФ ПВХ","цена МДФ ПВХ с патиной"]
[null,"Багет 16мм 2000мм",630,990]
[null,"Багет составной Н= 32    , L=2000*",900,1620]
[null,"Радиусные элементы БАГЕТ, шт.",1080,1440]
["*Фото ниже","Колонны 1 (А;Б;В;Г) на 50 мм,шт.**",540,810]
[null,"Колонны 2 (А;В;) на 100 мм,шт.**",720,1080]
[null,"Колонны 2 ( Б; Г) на 100 мм,шт.**",1080,1260]
[null,"Колонны 3 (А;В) на 146 мм, шт.**",1260,1710]
[null,"Колонны 3 (Б;Г) на 146 мм,шт.**",900,1350]
[null,"Залицовка (А,Б,В)                                               H=200, L=596, шт.",360,720]
[null,"Залицовка (Г,Д)                                               H=200, L=596, шт.",1260,1800]
[null,"Решетка (1010х535) руб/шт. матовая\nХДФ 4(ПЛАСТИК С ОБРАТНОЙ СТОРОНЫ,ПЛЕНКА ПВХ)",1820,2940]
[null,"Решетка (1010х535) руб/шт. глянец",1960,3080]
[]
["* Багеты не изготавливаются отдельно. "]
["**Колонны так же не изготавливаются отдельно. Заказы принимаются на кол-во кратное двум."]
[]
["колонны"]

{"sheet":"доп.хар+мойки","index":8,"n_rows":92,"n_cols":6,"rows_kept":92,"cut":false,"hidden":false,"merged":[[37,0,37,1],[38,0,38,1],[39,0,39,1],[40,0,40,1],[41,0,41,1],[59,0,59,1],[59,9,59,10],[59,11,59,12],[57,0,57,1],[58,9,58,10],[58,11,58,12],[69,0,69,1],[70,0,70,1],[61,9,61,10],[61,11,61,12],[62,0,62,1],[62,9,62,10],[62,11,62,12],[64,0,64,1],[64,9,64,10],[64,11,64,12],[65,0,65,1],[65,9,65,10],[65,11,65,12],[73,0,73,1],[74,0,74,1],[75,0,75,1],[76,0,76,1],[77,0,77,1],[91,0,91,1],[79,0,79,1],[80,0,80,1],[81,0,81,1],[82,0,82,1],[83,0,83,1],[84,0,84,1],[85,0,85,1],[87,0,87,1],[88,0,88,1],[89,0,89,1],[90,0,90,1],[71,0,71,1],[72,0,72,1],[86,0,86,1],[48,0,48,1],[60,0,60,1],[58,0,58,1],[66,0,66,1],[67,0,67,1],[68,0,68,1],[63,0,63,1],[61,0,61,1],[49,0,49,1],[50,0,50,1],[51,0,51,1],[52,0,52,1],[78,0,78,1],[34,0,35,5],[36,0,36,1],[54,9,54,10],[54,11,54,12],[57,9,57,10],[57,11,57,12],[56,0,56,1],[53,0,53,1],[54,0,54,1],[55,0,55,1],[47,0,47,1],[46,0,46,1],[42,0,42,1],[43,0,43,1],[44,0,44,1],[45,0,45,1],[60,9,60,10],[60,11,60,12],[66,9,66,10],[66,11,66,12],[67,9,67,10],[67,11,67,12],[63,9,63,10],[63,11,63,12],[71,9,71,10],[71,11,71,12],[68,9,68,10],[68,11,68,12],[69,9,69,10],[69,11,69,12],[70,9,70,10],[70,11,70,12]]}
["Мойки и посудосушители \nВНИМАНИЕ!!!ВЫРЕЗ ПОД МОЙКУ ПЛАТНЫЙ-?????руб.",null,"цена, руб"]
["Мойка 500  накладная",null,1100]
["Мойка 800 накладная",null,1400]
["Мойка 600 накладная ",null,1250]
["Мойка овал врезная \n50*77",null,1900]
["Посудосушитель 400 мм. ",null,176]
["Посудосушитель 500 мм.",null,186]
["Посудосушитель 600 мм.",null,215]
["Посудосушитель 700 мм.\nКОМПЛЕКТУЕТСЯ ПОДДОНОМ\nНА 600",null,220]
["Посудосушитель 800 мм.",null,240]
["Посудосушитель 500 мм.(WARIANT)",null,530]
["Посудосушитель 600 мм. (WARIANT)",null,670]
["Посудосушитель 700 мм.(WARIANT)",null,750]
["Посудосушитель 800 мм.(WARIANT)",null,860]
["Мойка врезная ø490мм.  ",null,1070]
["Посудосушитель в стол без доводчика  600 мм",null,3400]
["Посудосушитель в стол с доводчиком  600 мм",null,3900]
[]
[]
[]
[]
[]
[]
[]
[]
[]
[]
[]
[]
[]
[]
[]
[]
[]
["Стеновая панель ФОТОПЕЧАТЬ 2800х600х6 мм       (SP, FM)                                          3500 руб."]
[]
["Наименование",null,"Доп. информация","формула","Стоимость"]
["Крепежная полоса \n(шина)",null,"2 метра",{"$f":"A38&\". \"&C38","v":"Крепежная полоса \n(шина). 2 метра"},120,"руб./шт."]
["Метабокс (малый)",null,"h=86мм","Метабокс (малый). h=86мм",250,"руб./компл."]
["Метабокс (большой)",null,"h=150мм","Метабокс (большой). h=150мм",350,"руб./компл."]
["Доводчик для \nметабокса",null,null,"Доводчик для \nметабокса. ",250,"руб./шт."]
["Регулируемые навесы",null,null,"Регулируемые навесы. ",50,"руб./компл."]
["Тандембокс (малый)",null,"h=86мм","Тандембокс (малый). h=86мм",2000,"руб./компл."]
["Тандембокс (большой) ",null,"h=164мм","Тандембокс (большой) . h=164мм",2350,"руб./компл."]
["Туканы",null,null,"Туканы. ",90,"руб./шт."]
["Ал.планки п/ф 26мм",null," Т-обр\nторцевая\nугловая","Ал.планки п/ф 26мм.  Т-обр\nторцевая\nугловая",90,"руб./шт."]
["Ал.планки п/ф 38 мм",null," Т-обр\nторцевая\nугловая","Ал.планки п/ф 38 мм.  Т-обр\nторцевая\nугловая",90,"руб./шт."]
["Стеновая панель Фотопечать 2800х600х6 мм       (SP, FM)           ",null,"2,8 м (1 шт)","Стеновая панель Фотопечать 2800х600х6 мм       (SP, FM)           . 2,8 м (1 шт)",3500,"руб./шт."]
["Стеновая панель 1ц.кат",null,"3м ( 0,5шт. для 1.5м)","Стеновая панель 1ц.кат. 3м ( 0,5шт. для 1.5м)",2400,"руб./шт."]
["Стеновая панель 2ц.кат",null,"3м ( 0,5шт. для 1.5м)","Стеновая панель 2ц.кат. 3м ( 0,5шт. для 1.5м)",2900,"руб./шт."]
["Стеновая панель 3ц.кат.\n",null,"3м ( 0,5шт. для 1.5м)","Стеновая панель 3ц.кат.\n. 3м ( 0,5шт. для 1.5м)",3100,"руб./шт."]
["Профиля для стеновой\nпанели(4ММ, 6ММ-ФОТОПЕЧАТЬ) УКАЗАТЬ В БЛАНКЕ",null,"Торцевой\nщелевой\nугловой","Профиля для стеновой\nпанели(4ММ, 6ММ-ФОТОПЕЧАТЬ) УКАЗАТЬ В БЛАНКЕ. Торцевой\nщелевой\nугловой",70,"руб./шт."]
["Заглушки ",null,"комплект","Заглушки . комплект",20,"руб./шт."]
["Отбортовка(плинтус)",null,"3м (заглушки заказываем дополнительно)","Отбортовка(плинтус). 3м (заглушки заказываем дополнительно)",200,"руб./шт."]
["Вставка 1ц.к.",null,"3м","Вставка 1ц.к.. 3м",120,"руб./шт."]
["Вставка 2ц.к.",null,"3м","Вставка 2ц.к.. 3м",200,"руб./шт."]
["Вставка 3 ц.к.",null,"3м","Вставка 3 ц.к.. 3м",260,"руб./шт."]
["Аллюминиевый плинтус",null,"3м","Аллюминиевый плинтус. 3м",600,"руб./шт."]
["Отбортовка- плинтус KORNER LB37",null,"3м","Отбортовка- плинтус KORNER LB37. 3м",600,"руб./шт."]
["Заглушки к  плинтусу KORNER LB37\nЦВЕТ: СЕРЫЙ, БЕЛЫЙ, ЧЕРНЫЙ, КОРИЧНЕВЫЙ, БЕЖЕВЫЙ",null,"компл.","Заглушки к  плинтусу KORNER LB37\nЦВЕТ: СЕРЫЙ, БЕЛЫЙ, ЧЕРНЫЙ, КОРИЧНЕВЫЙ, БЕЖЕВЫЙ. компл.",90,"руб./шт."]
["Цоколь H=100",null,"4м","Цоколь H=100. 4м",700,"руб./шт."]
["Угол 90° для цоколя H=100",null,null,"Угол 90° для цоколя H=100. ",20,"руб./шт."]
["Соединительный элемент H=100\n для цоколя",null,null,"Соединительный элемент H=100\n для цоколя. ",20,"руб./шт."]
["Угол 135⁰ для цоколя H=100",null,null,"Угол 135⁰ для цоколя H=100. ",30,"руб./шт."]
["Заглушка торцевая для цоколя H=100",null,null,"Заглушка торцевая для цоколя H=100. ",20,"руб./шт."]
["Цоколь радиусный H=100",null,null,"Цоколь радиусный H=100. ",320,"руб./шт."]
["Цоколь H=150",null,"4м","Цоколь H=150. 4м",800,"руб./шт."]
["Угол 90° для цоколя H=150",null,null,"Угол 90° для цоколя H=150. ",30,"руб./шт."]
["Соединительный элемент \n для цоколя H=150",null,null,"Соединительный элемент \n для цоколя H=150. ",30,"руб./шт."]
["Угол 135⁰ для цоколя",null,null,"Угол 135⁰ для цоколя. ",40,"руб./шт."]
["Заглушка торцевая для цоколя",null,null,"Заглушка торцевая для цоколя. ",20,"руб./шт."]
["Цоколь радиусный",null,null,"Цоколь радиусный. ",480,"руб./шт."]
["Шариковые направляющие",null,null,"Шариковые направляющие. ",170,"руб./компл."]
["Шариковые направляющие BOYARD",null,"с довод-ом","Шариковые направляющие BOYARD. с довод-ом",650,"руб./компл."]
["Петля с доводчиком",null,null,"Петля с доводчиком. ",60,"руб./шт."]
["Бутылочница",null,null,"Бутылочница. ",1200,"руб./компл."]
["Бутылочница с доводчиком",null,null,"Бутылочница с доводчиком. ",3500,"руб./компл."]
["Бокальница,фруктовница",null,null,"Бокальница,фруктовница. ",700,"руб./шт."]
["Ножки хром ",null,"h=100мм","Ножки хром . h=100мм",60,"руб./шт."]
["Ножки хром ",null,"h=150мм","Ножки хром . h=150мм",60,"руб./шт."]
["Светильник (комплект)",null,"комплект","Светильник (комплект). комплект",650,"руб./шт."]
["Вырез под светильник",null,null,"Вырез под светильник. ",100,"руб./шт."]
["Нога хром D 50",null,"h=850мм","Нога хром D 50. h=850мм",300,"руб./шт."]
["Фланцы ",null,"D50","Фланцы . D50",45,"руб./шт."]
["Стойки хром  D 50",null,"3м","Стойки хром  D 50. 3м",600,"руб./шт."]
["Стойки хром  D 50",null,"1,5м ","Стойки хром  D 50. 1,5м ",300,"руб./шт."]
["Лоток для столовых приборов\n400\n500\n600 (для метабоксов\\тандембоксов)",null,"шт","Лоток для столовых приборов\n400\n500\n600 (для метабоксов\\тандембоксов). шт",320,"руб./шт."]
["Газ.лифт",null,"60N (рекомендуеться для шкафов больше 600мм. Шириной)","Газ.лифт. 60N (рекомендуеться для шкафов больше 600мм. Шириной)",80,"руб./шт."]
["Газ.лифт",null,"80N (рекомендуеться для шкафов больше 600мм. Шириной)","Газ.лифт. 80N (рекомендуеться для шкафов больше 600мм. Шириной)",80,"руб./шт."]
["Балясина, Lmax-2000мм. р\\м.п.",null,null,"Балясина, Lmax-2000мм. р\\м.п.. ",1300,"руб./м.п."]
["Балясина (В) шкаф торц откр R. р.шт.",null,null,"Балясина (В) шкаф торц откр R. р.шт.. ",1300,"руб./шт."]
["Балясина (НА) шкаф торц откр R р.шт.",null,null,"Балясина (НА) шкаф торц откр R р.шт.. ",1300,"руб./шт."]

{"sheet":"ПЛИНТУС KORNER","index":9,"n_rows":44,"n_cols":13,"rows_kept":44,"cut":false,"hidden":false,"merged":[[10,0,10,2],[10,3,10,5],[10,6,10,8],[10,9,10,11],[10,12,10,14],[0,0,0,14],[1,3,9,5],[1,6,9,8],[1,9,9,11],[1,12,9,14],[12,0,19,2],[12,3,19,5],[12,6,19,8],[12,9,19,11],[12,12,19,14],[11,0,11,2],[11,3,11,5],[11,6,11,8],[11,9,11,11],[11,12,11,14],[21,0,21,2],[21,3,21,5],[21,6,21,8],[21,9,21,11],[21,12,21,14],[20,0,20,2],[20,3,20,5],[20,6,20,8],[20,9,20,11],[20,12,20,14],[31,0,31,2],[31,3,31,5],[31,6,31,8],[31,9,31,11],[31,12,31,14],[22,0,30,2],[22,3,30,5],[22,6,30,8],[22,9,30,11],[22,12,30,14],[33,0,41,2],[33,3,41,5],[33,6,41,8],[33,9,41,11],[33,12,41,14],[32,0,32,2],[32,3,32,5],[32,6,32,8],[32,9,32,11],[32,12,32,14],[43,0,43,2],[43,3,43,5],[43,6,43,8],[43,9,43,11],[43,12,43,14],[42,0,42,2],[42,3,42,5],[42,6,42,8],[42,9,42,11],[42,12,42,14]]}
["ПЛИНТУСА KORNER"]
[]
[]
[]
[]
[]
[]
[]
[]
[]
["плинтус-ГРЕНОБЛЬ LB37-307",null,null,"плинтус-ДУГЛАС ТЕМНЫЙ LB37-309",null,null,"плинтус - ВЕНГЕ СВЕТЛЫЙ LB37-314",null,null,"плинтус - МЕЙСЕН ВАНИЛЬ LB37-317",null,null,"плинтус-АНТРАЦИТ LB37-318"]
["столешница - ракушки 2369",null,null,"столешница - дуглас темный 3844",null,null,"столешница - дуглас светлый 3842",null,null,"столешница - мейсен ваниль 2182",null,null,"столешница - лунный металл 2338"]
[]
[]
[]
[]
[]
[]
[]
[]
["плинтус - МРАМОР СВЕТЛЫЙ LB 37-320",null,null,"плинтус - ПЕТРО LB37-332",null,null,"плинтус - ТРОСТНИК LB37-338",null,null,"плинтус-ТРАВЕРТИН РИМСКИЙ LB37-347",null,null,"плинтус-ГРАНИТ ЧЕРНЫЙ LB37-375"]
["столешница - мрамор каррара 2424 и белые камни 905",null,null,"столешница - семолина карамельная 2237",null,null,"столешница - тросник 3521",null,null,"столешница - аламбра 4026 к",null,null,"столешница - гранит черный 713 и 713Г"]
[]
[]
[]
[]
[]
[]
[]
[]
[]
["плинтус - МАДРИД LB37-376",null,null,"плинтус - АЛЛЮМИНИЙ САТИНА LB37-450",null,null,"плинтус - САХАРА LB37-452",null,null,"плинтус - ДУБ БЕЛЫЙ                 LB37-453",null,null,"плинтус - ЧЕРНЫЙ LB37-459"]
["столешница - карамельная роза 715",null,null,"столешница - роза альба 700",null,null,"столешница - антарес 2430",null,null,"столешница - дуб выбеленный 5022 и алеппо 4011",null,null,"столешница - черный 1021 Q"]
[]
[]
[]
[]
[]
[]
[]
[]
[]
["плинтус - БРИЛЛИАНТ  БЕЛЫЙ LB 37-460",null,null,"плинтус - БРИЛЛИАНТ ФАНТАЗИЯ LB37-461",null,null,"плинтус - КАШЕМИР БЕЛЫЙ LB37-464",null,null,"плинтус - БРИЛЛИАНТ ЧЕРНЫЙ LB37-468",null,null,"плинтус - БЕЛЫЙ БЛЕСК           LB37-478"]
["столешница - семолина серая 2235",null,null,"столешница - семолина бежевая 2236",null,null,"столешница - королевский опал светлый 707Г",null,null,"столешница - лабрадор 708Г",null,null,"столешница - белый Q 1111 и цветочный сатин 5004"]

{"sheet":"Материалы","index":10,"n_rows":43,"n_cols":18,"rows_kept":43,"cut":false,"hidden":false,"merged":[[42,0,42,1],[42,4,42,5],[39,0,39,15],[40,0,40,1],[40,4,40,5],[40,8,40,9],[40,12,40,13],[41,0,41,1],[41,4,41,5],[41,8,41,9],[41,12,41,13],[37,0,37,1],[37,4,37,5],[37,8,37,9],[37,12,37,13],[38,0,38,1],[38,4,38,5],[38,8,38,9],[38,12,38,13],[34,0,34,15],[35,0,35,15],[36,0,36,1],[36,4,36,5],[36,8,36,9],[36,12,36,13],[32,0,32,1],[32,4,32,5],[32,8,32,9],[32,12,32,13],[33,0,33,1],[33,4,33,5],[30,0,30,1],[30,4,30,5],[30,8,30,9],[30,12,30,13],[31,0,31,1],[31,4,31,5],[31,8,31,9],[31,12,31,13],[28,0,28,1],[28,4,28,5],[28,8,28,9],[28,12,28,13],[29,0,29,1],[29,4,29,5],[29,8,29,9],[29,12,29,13],[23,0,23,15],[26,0,26,15],[25,0,25,15],[27,0,27,1],[27,4,27,5],[27,8,27,9],[27,12,27,13],[20,0,20,15],[6,0,6,13],[7,2,7,12],[12,0,12,2],[13,0,13,15],[5,10,5,11],[3,14,3,15],[4,0,4,1],[4,2,4,3],[4,4,4,5],[4,6,4,7],[4,8,4,9],[4,10,4,11],[4,12,4,13],[4,14,4,15],[5,0,5,1],[5,2,5,3],[5,4,5,5],[5,6,5,7],[5,8,5,9],[0,4,0,8],[1,0,1,12],[3,0,3,1],[3,2,3,3],[3,4,3,5],[3,6,3,7],[3,8,3,9],[3,10,3,11],[3,12,3,13]]}
[]
["Базовые цвета каркаса и фасадов из ЛДСП"]
[]
["Белый",null,"Серый",null,"Венге светлый",null,"Венге линум",null,"Ясень шимо-темный",null,"Ясень-шимо светлый",null,"Бук бавария\n",null,"Ноче экко",null,"Бежевый","Белое дерево"]
["ДВП-белое",null,"ДВП-белое",null,"ДВП-белое",null,"ДВП-белое",null,"ДВП-белое",null,"ДВП-белое",null,"ДВП-белое",null,"ДВП-белое",null,"ДВП-белое","ДВП-белое"]
[]
[]
[null,null,"Классификация цветов постформинга"]
[]
[]
[]
[null,null,null,26,"1к","цвет","пог.метр"]
[]
["1 кат (Базовая)"]
["2338 Лунный металл",null,null,null,"2236 Семолина бежевая",null,null,null,"2235 Семолина серая",null,null,null,"5004 Цветочный сатин"]
["2424 Мрамор  каррара",null,null,null,"905 Белые камни",null,null,null,"3842 Дуглас светлый",null,null,null,"4026 аламбра светлая"]
["3521 Тростник",null,null,null,"2369 Ракушки",null,null,null,"3844 Дуглас темный",null,null,null,"5022 дуб беленый"]
["2430 Антарес",null,null,null,"2182 Мейсон ваниль",null,null,null,"4011 Алеппо",null,null,null,"3029 марквина черный"]
["1 Венге",null,null,null,"120 Олива жемчужная",null,null,null,"400 Б Бриллиант белый",null,null,null,"401 Бриллиант черный"]
[]
["2 категория "]
["700 Роза Альба",null,null,null,"3845 Дуглас мокко",null,null,null,"713 Черный гранит",null,null,null,"715 Карамельная роза"]
["2237 Семолина \nкарамельная",null,null,null,"1021Q черный",null,null,null,"1111Q белый",null,null,null,"2013 \nюрский камень"]
["3 категория"]
["707Г королевский опал светлый\n",null,null,null,"708Г лабрадор",null,null,null,"905Г белые камни",null,null,null,"713Г черный гранит"]
["ПЛАСТИКИ на фасады кухонь"]
["1-я ценовая категория"]
["850 кожа",null,null,null,"4206 черные листья",null,null,null,"4257 зебрано легкий",null,null,null,"6870 вишня темная"]
["4136 осень",null,null,null,"4207 белые листья",null,null,null,"4259 дуб шато \nантрацит",null,null,null,"2022 кожа бежевый"]
["4203 белые \nлютики",null,null,null,"4217 хамелеон",null,null,null,"6114 ольха",null,null,null,"8513 кожа шоколад"]
["4204 голубые \nлютики",null,null,null,"4271 хамелеон\n золотой",null,null,null,"6280 латакция",null,null,null,"4058 карпинчо"]
["101 белый",null,null,null,"2007 красный",null,null,null,"8510 бежевый",null,null,null,"2024 каппучино"]
["2071 черный",null,null,null,"2093 салатовый",null,null,null,"2094 мята",null,null,null,"2683 сиреневый"]
["8508 оранжевый"]
["2-я ценовая категория"]
["ЦВЕТЫ ЛОТОСА"]
["0029 цветы лотоса \nбелые",null,null,null,"2055 цветы лотоса\n бирюзовые",null,null,null,"2683 цветы лотоса\nлиловые",null,null,null,"8510 цветы лотоса \nбежевые"]
["2007 цветы лотоса \nкрасные",null,null,null,"2071 цветы лотоса\nчерные",null,null,null,"8506 цветы лотоса\nсиние",null,null,null,"8514 цветы лотоса\nшоколад"]
["2024 цветы лотоса \nкапучино",null,null,null,"2093 цветы лотоса\nсалатовые",null,null,null,"8508 цветы лотоса \nоранжевые",null,null,null,"8608 цветы лотоса \nсерые"]
["ЛЕН"]
["0029 лен белый",null,null,null,"2093 лен салатовый",null,null,null,"8506-1 лен синий",null,null,null,"8510 лен бежевый"]
["2071 лен черный",null,null,null,"2094 лен мята",null,null,null,"8508 лен оранжевый",null,null,null,"8514 лен шоколад"]
["8608 лен серый",null,null,null,"лен 2007 красный"]

{"sheet":"ФРЕЗЕРОВКИ","index":11,"n_rows":138,"n_cols":17,"rows_kept":138,"cut":false,"hidden":false,"merged":[[137,0,138,3],[118,0,119,3],[118,4,119,7],[118,8,119,11],[118,12,119,15],[118,16,119,19],[120,0,121,18],[80,0,81,3],[80,4,81,7],[80,8,81,11],[80,12,81,15],[80,16,81,19],[99,0,100,3],[99,4,100,7],[99,8,100,11],[99,12,100,15],[99,16,100,19],[45,0,46,19],[62,0,63,3],[62,4,63,7],[62,8,63,11],[62,12,63,15],[62,16,63,19],[23,0,24,19],[40,0,41,3],[40,4,41,7],[40,8,41,11],[40,12,41,15],[40,16,41,19],[0,0,1,19],[18,0,19,4],[18,5,19,9],[18,10,19,14],[18,15,19,19]]}
["БАГЕТНАЯ СЕРИЯ"]
[]
[]
[]
[]
[]
[]
[]
[]
[]
[]
[]
[]
[]
[]
[]
[]
[]
["МЮНХЕН\n(декор:большая косичка)",null,null,null,null,"ПАЛЕРМО \n(декор:шарики)",null,null,null,null,"СОРЕНТО \n(декор:косичка малая)",null,null,null,null,"ФЛОРЕНЦИЯ \n(декор:косичка большая)"]
[]
[]
[]
[]
["МДФ ПАТИНА"]
[]
[]
[]
[]
[]
[]
[]
[]
[]
[]
[]
[]
[]
[]
[]
[]
["АНТИК ЛЮКС",null,null,null,"ЯНА",null,null,null,"ЛУВР",null,null,null,"МАДРИД",null,null,null,"ЦЕЗАРЬ"]
[]
[]
[]
[]
["ФРЕЗЕРОВКИ МДФ ПВХ"]
[]
[]
[]
[]
[]
[]
[]
[]
[]
[]
[]
[]
[]
[]
[]
[]
["АРКА",null,null,null,"АРКА -Р",null,null,null,"АРКА 2",null,null,null,"ВЕГА",null,null,null,"КАНТРИ"]
[]
[]
[]
[]
[]
[]
[]
[]
[]
[]
[]
[]
[]
[]
[]
[]
[]
["КВАДРО",null,null,null,"КЛАССИКА",null,null,null,"КОРВЕТ",null,null,null,"КУБ",null,null,null,"ИРБИС"]
[]
[]
[]
[]
[]
[]
[]
[]
[]
[]
[]
[]
[]
[]
[]
[]
[]
[]
["ЛЖЕВЫБОРКА",null,null,null,"МОДЕРН",null,null,null,"МЫЛО",null,null,null,"ПРЕМЬЕРА",null,null,null,"РАДУГА"]
[]
[]
[]
[]
[]
[]
[]
[]
[]
[]
[]
[]
[]
[]
[]
[]
[]
[]
["СТРАЙП",null,null,null,"ТЕХНО",null,null,null,"ФРИДА",null,null,null,"МЫЛО -2",null,null,null,"БОСТОН СТРАЙП"]
[]
[]
[]
[]
[]
[]
[]
[]
[]
[]
[]
[]
[]
[]
[]
[]
[]
[]
["БОСТОН"]